{"text_format":"1","workbook":"xlsx","n_sheets":4,"sheets":["契約の統計","参考資料","物品役務調達（競争入札）","物品役務調達（随意契約）"],"not_rendered":{"charts":0,"images":0,"macros":1,"external_links":2,"defined_names":8,"comments":1,"pivot_tables":0},"unopened":[],"bounds":{"document_bytes":16777216,"sheet_cells":100000,"rows_first":2000,"rows_last":500,"rows_between":2000,"halvings":0,"cell_chars":16384,"cell_head_chars":4096},"cells_cut":0,"cells_raw":0,"read":"whole","date_system":"1900"}

{"sheet":"契約の統計","index":0,"n_rows":48,"n_cols":24,"rows_kept":48,"cut":false,"hidden":true,"merged":[[43,13,43,14],[43,15,43,16],[43,17,43,18],[43,19,43,20],[2,1,3,2],[12,1,13,2],[22,1,23,2],[32,2,33,2],[43,2,44,2],[43,3,43,4],[43,5,43,6],[43,7,43,8],[43,9,43,10],[43,11,43,12],[32,11,32,12],[32,13,32,14],[32,15,32,16],[32,17,32,18],[32,19,32,20],[30,1,30,2],[32,3,32,4],[32,5,32,6],[32,7,32,8],[32,9,32,10],[26,1,26,2],[27,1,27,2],[28,1,28,2],[28,22,28,23],[29,1,29,2],[22,15,22,16],[22,17,22,18],[22,19,22,20],[24,1,24,2],[25,1,25,2],[22,5,22,6],[22,7,22,8],[22,9,22,10],[22,11,22,12],[22,13,22,14],[17,1,17,2],[18,1,18,2],[19,1,19,2],[20,1,20,2],[22,3,22,4],[12,19,12,20],[12,22,12,23],[14,1,14,2],[15,1,15,2],[16,1,16,2],[12,9,12,10],[12,11,12,12],[12,13,12,14],[12,15,12,16],[12,17,12,18],[9,1,9,2],[10,1,10,2],[12,3,12,4],[12,5,12,6],[12,7,12,8],[4,1,4,2],[5,1,5,2],[6,1,6,2],[7,1,7,2],[8,1,8,2],[0,3,0,5],[1,22,1,23],[2,3,2,4],[2,5,2,6],[2,7,2,8],[2,9,2,10],[2,11,2,12],[2,13,2,14],[2,15,2,16],[2,17,2,18],[2,19,2,20],[2,22,2,23]]}
[null,null,"部局：",{"$f":"参考資料!C1","v":"**"}]
["【一般競争】"]
[null,"競争参加資格区分",null,"所管公益法人",null,"その他の公益法人",null,"独立行政法人等",null,"特殊法人等",null,"特定民間法人等",null,"その他の法人等",null,"所管公益法人等",null,"所管公益法人等以外の法人等",null,"合計",null,null,"左記のうち、総合評価方式によるもの"]
[null,null,null,"件数","金額","件数","金額","件数","金額","件数","金額","件数","金額","件数","金額","件数","金額","件数","金額","件数","金額",null,"件数","金額"]
[null,"（物品役務等）",null,{"$f":"SUM(D6:D7)","v":{"$error":"#REF!"}},{"$error":"#REF!"},{"$error":"#REF!"},{"$error":"#REF!"},{"$error":"#REF!"},{"$error":"#REF!"},{"$error":"#REF!"},{"$error":"#REF!"},{"$error":"#REF!"},{"$error":"#REF!"},{"$error":"#REF!"},{"$error":"#REF!"},{"$error":"#REF!"},{"$error":"#REF!"},{"$error":"#REF!"},{"$error":"#REF!"},{"$f":"P5+R5","v":{"$error":"#REF!"}},{"$error":"#REF!"},null,{"$f":"SUM(W6:W7)","v":{"$error":"#REF!"}},{"$f":"SUM(X6:X7)","v":{"$error":"#REF!"}}]
[null,"　うち、物品関係",null,{"$f":"COUNTIFS(#REF!,\"一般競争\",#REF!,1,#REF!,1,#REF!,$D$1)","v":{"$error":"#REF!"}},{"$f":"SUMIFS(#REF!,#REF!,\"一般競争\",#REF!,1,#REF!,1,#REF!,$D$1)","v":{"$error":"#REF!"}},{"$f":"COUNTIFS(#REF!,\"一般競争\",#REF!,2,#REF!,1,#REF!,$D$1)","v":{"$error":"#REF!"}},{"$f":"SUMIFS(#REF!,#REF!,\"一般競争\",#REF!,2,#REF!,1,#REF!,$D$1)","v":{"$error":"#REF!"}},{"$f":"COUNTIFS(#REF!,\"一般競争\",#REF!,3,#REF!,1,#REF!,$D$1)","v":{"$error":"#REF!"}},{"$f":"SUMIFS(#REF!,#REF!,\"一般競争\",#REF!,3,#REF!,1,#REF!,$D$1)","v":{"$error":"#REF!"}},{"$f":"COUNTIFS(#REF!,\"一般競争\",#REF!,4,#REF!,1,#REF!,$D$1)","v":{"$error":"#REF!"}},{"$f":"SUMIFS(#REF!,#REF!,\"一般競争\",#REF!,4,#REF!,1,#REF!,$D$1)","v":{"$error":"#REF!"}},{"$f":"COUNTIFS(#REF!,\"一般競争\",#REF!,5,#REF!,1,#REF!,$D$1)","v":{"$error":"#REF!"}},{"$f":"SUMIFS(#REF!,#REF!,\"一般競争\",#REF!,5,#REF!,1,#REF!,$D$1)","v":{"$error":"#REF!"}},{"$f":"COUNTIFS(#REF!,\"一般競争\",#REF!,6,#REF!,1,#REF!,$D$1)","v":{"$error":"#REF!"}},{"$f":"SUMIFS(#REF!,#REF!,\"一般競争\",#REF!,6,#REF!,1,#REF!,$D$1)","v":{"$error":"#REF!"}},{"$f":"D6+H6+J6+L6","v":{"$error":"#REF!"}},{"$error":"#REF!"},{"$f":"F6+N6","v":{"$error":"#REF!"}},{"$error":"#REF!"},{"$error":"#REF!"},{"$error":"#REF!"},null,{"$f":"COUNTIFS(#REF!,\"一般競争\",#REF!,1,#REF!,1,#REF!,$D$1)","v":{"$error":"#REF!"}},{"$f":"SUMIFS(#REF!,#REF!,1,#REF!,\"一般競争\",#REF!,1,#REF!,$D$1)","v":{"$error":"#REF!"}}]
[null,"　うち、役務関係",null,{"$f":"COUNTIFS(#REF!,\"一般競争\",#REF!,1,#REF!,2,#REF!,$D$1)","v":{"$error":"#REF!"}},{"$f":"SUMIFS(#REF!,#REF!,\"一般競争\",#REF!,1,#REF!,2,#REF!,$D$1)","v":{"$error":"#REF!"}},{"$f":"COUNTIFS(#REF!,\"一般競争\",#REF!,2,#REF!,2,#REF!,$D$1)","v":{"$error":"#REF!"}},{"$f":"SUMIFS(#REF!,#REF!,\"一般競争\",#REF!,2,#REF!,2,#REF!,$D$1)","v":{"$error":"#REF!"}},{"$f":"COUNTIFS(#REF!,\"一般競争\",#REF!,3,#REF!,2,#REF!,$D$1)","v":{"$error":"#REF!"}},{"$f":"SUMIFS(#REF!,#REF!,\"一般競争\",#REF!,3,#REF!,2,#REF!,$D$1)","v":{"$error":"#REF!"}},{"$f":"COUNTIFS(#REF!,\"一般競争\",#REF!,4,#REF!,2,#REF!,$D$1)","v":{"$error":"#REF!"}},{"$f":"SUMIFS(#REF!,#REF!,\"一般競争\",#REF!,4,#REF!,2,#REF!,$D$1)","v":{"$error":"#REF!"}},{"$f":"COUNTIFS(#REF!,\"一般競争\",#REF!,5,#REF!,2,#REF!,$D$1)","v":{"$error":"#REF!"}},{"$f":"SUMIFS(#REF!,#REF!,\"一般競争\",#REF!,5,#REF!,2,#REF!,$D$1)","v":{"$error":"#REF!"}},{"$f":"COUNTIFS(#REF!,\"一般競争\",#REF!,6,#REF!,2,#REF!,$D$1)","v":{"$error":"#REF!"}},{"$f":"SUMIFS(#REF!,#REF!,\"一般競争\",#REF!,6,#REF!,2,#REF!,$D$1)","v":{"$error":"#REF!"}},{"$error":"#REF!"},{"$error":"#REF!"},{"$error":"#REF!"},{"$error":"#REF!"},{"$error":"#REF!"},{"$error":"#REF!"},null,{"$f":"COUNTIFS(#REF!,\"一般競争\",#REF!,1,#REF!,2,#REF!,$D$1)","v":{"$error":"#REF!"}},{"$f":"SUMIFS(#REF!,#REF!,1,#REF!,\"一般競争\",#REF!,2,#REF!,$D$1)","v":{"$error":"#REF!"}}]
[null,"（公共工事等）",null,{"$f":"SUM(D9:D10)","v":{"$error":"#REF!"}},{"$error":"#REF!"},{"$error":"#REF!"},{"$error":"#REF!"},{"$error":"#REF!"},{"$error":"#REF!"},{"$error":"#REF!"},{"$error":"#REF!"},{"$error":"#REF!"},{"$error":"#REF!"},{"$error":"#REF!"},{"$error":"#REF!"},{"$error":"#REF!"},{"$error":"#REF!"},{"$error":"#REF!"},{"$error":"#REF!"},{"$error":"#REF!"},{"$error":"#REF!"},null,{"$f":"SUM(W9:W10)","v":{"$error":"#REF!"}},{"$f":"SUM(X9:X10)","v":{"$error":"#REF!"}}]
[null,"　うち、建設工事",null,{"$f":"COUNTIFS(#REF!,\"一般競争\",#REF!,1,#REF!,3,#REF!,$D$1)","v":{"$error":"#REF!"}},{"$f":"SUMIFS(#REF!,#REF!,\"一般競争\",#REF!,1,#REF!,3,#REF!,$D$1)","v":{"$error":"#REF!"}},{"$f":"COUNTIFS(#REF!,\"一般競争\",#REF!,2,#REF!,3,#REF!,$D$1)","v":{"$error":"#REF!"}},{"$f":"SUMIFS(#REF!,#REF!,\"一般競争\",#REF!,2,#REF!,3,#REF!,$D$1)","v":{"$error":"#REF!"}},{"$f":"COUNTIFS(#REF!,\"一般競争\",#REF!,3,#REF!,3,#REF!,$D$1)","v":{"$error":"#REF!"}},{"$f":"SUMIFS(#REF!,#REF!,\"一般競争\",#REF!,3,#REF!,3,#REF!,$D$1)","v":{"$error":"#REF!"}},{"$f":"COUNTIFS(#REF!,\"一般競争\",#REF!,4,#REF!,3,#REF!,$D$1)","v":{"$error":"#REF!"}},{"$f":"SUMIFS(#REF!,#REF!,\"一般競争\",#REF!,4,#REF!,3,#REF!,$D$1)","v":{"$error":"#REF!"}},{"$f":"COUNTIFS(#REF!,\"一般競争\",#REF!,5,#REF!,3,#REF!,$D$1)","v":{"$error":"#REF!"}},{"$f":"SUMIFS(#REF!,#REF!,\"一般競争\",#REF!,5,#REF!,3,#REF!,$D$1)","v":{"$error":"#REF!"}},{"$f":"COUNTIFS(#REF!,\"一般競争\",#REF!,6,#REF!,3,#REF!,$D$1)","v":{"$error":"#REF!"}},{"$f":"SUMIFS(#REF!,#REF!,\"一般競争\",#REF!,6,#REF!,3,#REF!,$D$1)","v":{"$error":"#REF!"}},{"$error":"#REF!"},{"$error":"#REF!"},{"$error":"#REF!"},{"$error":"#REF!"},{"$error":"#REF!"},{"$error":"#REF!"},null,{"$f":"COUNTIFS(#REF!,\"一般競争\",#REF!,1,#REF!,3,#REF!,$D$1)","v":{"$error":"#REF!"}},{"$f":"SUMIFS(#REF!,#REF!,1,#REF!,\"一般競争\",#REF!,3,#REF!,$D$1)","v":{"$error":"#REF!"}}]
[null,"　うち、コンサル",null,{"$f":"COUNTIFS(#REF!,\"一般競争\",#REF!,1,#REF!,4,#REF!,$D$1)","v":{"$error":"#REF!"}},{"$f":"SUMIFS(#REF!,#REF!,\"一般競争\",#REF!,1,#REF!,4,#REF!,$D$1)","v":{"$error":"#REF!"}},{"$f":"COUNTIFS(#REF!,\"一般競争\",#REF!,2,#REF!,4,#REF!,$D$1)","v":{"$error":"#REF!"}},{"$f":"SUMIFS(#REF!,#REF!,\"一般競争\",#REF!,2,#REF!,4,#REF!,$D$1)","v":{"$error":"#REF!"}},{"$f":"COUNTIFS(#REF!,\"一般競争\",#REF!,3,#REF!,4,#REF!,$D$1)","v":{"$error":"#REF!"}},{"$f":"SUMIFS(#REF!,#REF!,\"一般競争\",#REF!,3,#REF!,4,#REF!,$D$1)","v":{"$error":"#REF!"}},{"$f":"COUNTIFS(#REF!,\"一般競争\",#REF!,4,#REF!,4,#REF!,$D$1)","v":{"$error":"#REF!"}},{"$f":"SUMIFS(#REF!,#REF!,\"一般競争\",#REF!,4,#REF!,4,#REF!,$D$1)","v":{"$error":"#REF!"}},{"$f":"COUNTIFS(#REF!,\"一般競争\",#REF!,5,#REF!,4,#REF!,$D$1)","v":{"$error":"#REF!"}},{"$f":"SUMIFS(#REF!,#REF!,\"一般競争\",#REF!,5,#REF!,4,#REF!,$D$1)","v":{"$error":"#REF!"}},{"$f":"COUNTIFS(#REF!,\"一般競争\",#REF!,6,#REF!,4,#REF!,$D$1)","v":{"$error":"#REF!"}},{"$f":"SUMIFS(#REF!,#REF!,\"一般競争\",#REF!,6,#REF!,4,#REF!,$D$1)","v":{"$error":"#REF!"}},{"$error":"#REF!"},{"$error":"#REF!"},{"$error":"#REF!"},{"$error":"#REF!"},{"$error":"#REF!"},{"$error":"#REF!"},null,{"$f":"COUNTIFS(#REF!,\"一般競争\",#REF!,1,#REF!,4,#REF!,$D$1)","v":{"$error":"#REF!"}},{"$f":"SUMIFS(#REF!,#REF!,1,#REF!,\"一般競争\",#REF!,4,#REF!,$D$1)","v":{"$error":"#REF!"}}]
[null,"合計",null,{"$f":"SUM(D5+D8)","v":{"$error":"#REF!"}},{"$error":"#REF!"},{"$error":"#REF!"},{"$error":"#REF!"},{"$error":"#REF!"},{"$error":"#REF!"},{"$error":"#REF!"},{"$error":"#REF!"},{"$error":"#REF!"},{"$error":"#REF!"},{"$error":"#REF!"},{"$error":"#REF!"},{"$error":"#REF!"},{"$error":"#REF!"},{"$error":"#REF!"},{"$error":"#REF!"},{"$error":"#REF!"},{"$error":"#REF!"},null,{"$f":"SUM(W5+W8)","v":{"$error":"#REF!"}},{"$f":"SUM(X5+X8)","v":{"$error":"#REF!"}}]
["【指名競争】"]
[null,"競争参加資格区分",null,"所管公益法人",null,"その他の公益法人",null,"独立行政法人等",null,"特殊法人等",null,"特定民間法人等",null,"その他の法人等",null,"所管公益法人等",null,"所管公益法人等以外の法人等",null,"合計",null,null,"左記のうち、総合評価方式によるもの"]
[null,null,null,"件数","金額","件数","金額","件数","金額","件数","金額","件数","金額","件数","金額","件数","金額","件数","金額","件数","金額",null,"件数","金額"]
[null,"（物品役務等）",null,{"$f":"SUM(D16:D17)","v":{"$error":"#REF!"}},{"$error":"#REF!"},{"$error":"#REF!"},{"$error":"#REF!"},{"$error":"#REF!"},{"$error":"#REF!"},{"$error":"#REF!"},{"$error":"#REF!"},{"$error":"#REF!"},{"$error":"#REF!"},{"$error":"#REF!"},{"$error":"#REF!"},{"$error":"#REF!"},{"$error":"#REF!"},{"$error":"#REF!"},{"$error":"#REF!"},{"$f":"P15+R15","v":{"$error":"#REF!"}},{"$error":"#REF!"},null,{"$f":"SUM(W16:W17)","v":{"$error":"#REF!"}},{"$f":"SUM(X16:X17)","v":{"$error":"#REF!"}}]
[null,"　うち、物品関係",null,{"$f":"COUNTIFS(#REF!,\"指名競争\",#REF!,1,#REF!,1,#REF!,$D$1)","v":{"$error":"#REF!"}},{"$f":"SUMIFS(#REF!,#REF!,\"指名競争\",#REF!,1,#REF!,1,#REF!,$D$1)","v":{"$error":"#REF!"}},{"$f":"COUNTIFS(#REF!,\"指名競争\",#REF!,2,#REF!,1,#REF!,$D$1)","v":{"$error":"#REF!"}},{"$f":"SUMIFS(#REF!,#REF!,\"指名競争\",#REF!,2,#REF!,1,#REF!,$D$1)","v":{"$error":"#REF!"}},{"$f":"COUNTIFS(#REF!,\"指名競争\",#REF!,3,#REF!,1,#REF!,$D$1)","v":{"$error":"#REF!"}},{"$f":"SUMIFS(#REF!,#REF!,\"指名競争\",#REF!,3,#REF!,1,#REF!,$D$1)","v":{"$error":"#REF!"}},{"$f":"COUNTIFS(#REF!,\"指名競争\",#REF!,4,#REF!,1,#REF!,$D$1)","v":{"$error":"#REF!"}},{"$f":"SUMIFS(#REF!,#REF!,\"指名競争\",#REF!,4,#REF!,1,#REF!,$D$1)","v":{"$error":"#REF!"}},{"$f":"COUNTIFS(#REF!,\"指名競争\",#REF!,5,#REF!,1,#REF!,$D$1)","v":{"$error":"#REF!"}},{"$f":"SUMIFS(#REF!,#REF!,\"指名競争\",#REF!,5,#REF!,1,#REF!,$D$1)","v":{"$error":"#REF!"}},{"$f":"COUNTIFS(#REF!,\"指名競争\",#REF!,6,#REF!,1,#REF!,$D$1)","v":{"$error":"#REF!"}},{"$f":"SUMIFS(#REF!,#REF!,\"指名競争\",#REF!,6,#REF!,1,#REF!,$D$1)","v":{"$error":"#REF!"}},{"$f":"D16+H16+J16+L16","v":{"$error":"#REF!"}},{"$error":"#REF!"},{"$f":"F16+N16","v":{"$error":"#REF!"}},{"$error":"#REF!"},{"$error":"#REF!"},{"$error":"#REF!"},null,{"$f":"COUNTIFS(#REF!,\"指名競争\",#REF!,1,#REF!,1,#REF!,$D$1)","v":{"$error":"#REF!"}},{"$f":"SUMIFS(#REF!,#REF!,1,#REF!,\"指名競争\",#REF!,1,#REF!,$D$1)","v":{"$error":"#REF!"}}]
[null,"　うち、役務関係",null,{"$f":"COUNTIFS(#REF!,\"指名競争\",#REF!,1,#REF!,2,#REF!,$D$1)","v":{"$error":"#REF!"}},{"$f":"SUMIFS(#REF!,#REF!,\"指名競争\",#REF!,1,#REF!,2,#REF!,$D$1)","v":{"$error":"#REF!"}},{"$f":"COUNTIFS(#REF!,\"指名競争\",#REF!,2,#REF!,2,#REF!,$D$1)","v":{"$error":"#REF!"}},{"$f":"SUMIFS(#REF!,#REF!,\"指名競争\",#REF!,2,#REF!,2,#REF!,$D$1)","v":{"$error":"#REF!"}},{"$f":"COUNTIFS(#REF!,\"指名競争\",#REF!,3,#REF!,2,#REF!,$D$1)","v":{"$error":"#REF!"}},{"$f":"SUMIFS(#REF!,#REF!,\"指名競争\",#REF!,3,#REF!,2,#REF!,$D$1)","v":{"$error":"#REF!"}},{"$f":"COUNTIFS(#REF!,\"指名競争\",#REF!,4,#REF!,2,#REF!,$D$1)","v":{"$error":"#REF!"}},{"$f":"SUMIFS(#REF!,#REF!,\"指名競争\",#REF!,4,#REF!,2,#REF!,$D$1)","v":{"$error":"#REF!"}},{"$f":"COUNTIFS(#REF!,\"指名競争\",#REF!,5,#REF!,2,#REF!,$D$1)","v":{"$error":"#REF!"}},{"$f":"SUMIFS(#REF!,#REF!,\"指名競争\",#REF!,5,#REF!,2,#REF!,$D$1)","v":{"$error":"#REF!"}},{"$f":"COUNTIFS(#REF!,\"指名競争\",#REF!,6,#REF!,2,#REF!,$D$1)","v":{"$error":"#REF!"}},{"$f":"SUMIFS(#REF!,#REF!,\"指名競争\",#REF!,6,#REF!,2,#REF!,$D$1)","v":{"$error":"#REF!"}},{"$error":"#REF!"},{"$error":"#REF!"},{"$error":"#REF!"},{"$error":"#REF!"},{"$error":"#REF!"},{"$error":"#REF!"},null,{"$f":"COUNTIFS(#REF!,\"指名競争\",#REF!,1,#REF!,2,#REF!,$D$1)","v":{"$error":"#REF!"}},{"$f":"SUMIFS(#REF!,#REF!,1,#REF!,\"指名競争\",#REF!,2,#REF!,$D$1)","v":{"$error":"#REF!"}}]
[null,"（公共工事等）",null,{"$f":"SUM(D19:D20)","v":{"$error":"#REF!"}},{"$error":"#REF!"},{"$error":"#REF!"},{"$error":"#REF!"},{"$error":"#REF!"},{"$error":"#REF!"},{"$error":"#REF!"},{"$error":"#REF!"},{"$error":"#REF!"},{"$error":"#REF!"},{"$error":"#REF!"},{"$error":"#REF!"},{"$error":"#REF!"},{"$error":"#REF!"},{"$error":"#REF!"},{"$error":"#REF!"},{"$error":"#REF!"},{"$error":"#REF!"},null,{"$f":"W19+W20","v":{"$error":"#REF!"}},{"$f":"X19+X20","v":{"$error":"#REF!"}}]
[null,"　うち、建設工事",null,{"$f":"COUNTIFS(#REF!,\"指名競争\",#REF!,1,#REF!,3,#REF!,$D$1)","v":{"$error":"#REF!"}},{"$f":"SUMIFS(#REF!,#REF!,\"指名競争\",#REF!,1,#REF!,3,#REF!,$D$1)","v":{"$error":"#REF!"}},{"$f":"COUNTIFS(#REF!,\"指名競争\",#REF!,2,#REF!,3,#REF!,$D$1)","v":{"$error":"#REF!"}},{"$f":"SUMIFS(#REF!,#REF!,\"指名競争\",#REF!,2,#REF!,3,#REF!,$D$1)","v":{"$error":"#REF!"}},{"$f":"COUNTIFS(#REF!,\"指名競争\",#REF!,3,#REF!,3,#REF!,$D$1)","v":{"$error":"#REF!"}},{"$f":"SUMIFS(#REF!,#REF!,\"指名競争\",#REF!,3,#REF!,3,#REF!,$D$1)","v":{"$error":"#REF!"}},{"$f":"COUNTIFS(#REF!,\"指名競争\",#REF!,4,#REF!,3,#REF!,$D$1)","v":{"$error":"#REF!"}},{"$f":"SUMIFS(#REF!,#REF!,\"指名競争\",#REF!,4,#REF!,3,#REF!,$D$1)","v":{"$error":"#REF!"}},{"$f":"COUNTIFS(#REF!,\"指名競争\",#REF!,5,#REF!,3,#REF!,$D$1)","v":{"$error":"#REF!"}},{"$f":"SUMIFS(#REF!,#REF!,\"指名競争\",#REF!,5,#REF!,3,#REF!,$D$1)","v":{"$error":"#REF!"}},{"$f":"COUNTIFS(#REF!,\"指名競争\",#REF!,6,#REF!,3,#REF!,$D$1)","v":{"$error":"#REF!"}},{"$f":"SUMIFS(#REF!,#REF!,\"指名競争\",#REF!,6,#REF!,3,#REF!,$D$1)","v":{"$error":"#REF!"}},{"$error":"#REF!"},{"$error":"#REF!"},{"$error":"#REF!"},{"$error":"#REF!"},{"$error":"#REF!"},{"$error":"#REF!"},null,{"$f":"COUNTIFS(#REF!,\"指名競争\",#REF!,1,#REF!,3,#REF!,$D$1)","v":{"$error":"#REF!"}},{"$f":"SUMIFS(#REF!,#REF!,1,#REF!,\"指名競争\",#REF!,3,#REF!,$D$1)","v":{"$error":"#REF!"}}]
[null,"　うち、コンサル",null,{"$f":"COUNTIFS(#REF!,\"指名競争\",#REF!,1,#REF!,4,#REF!,$D$1)","v":{"$error":"#REF!"}},{"$f":"SUMIFS(#REF!,#REF!,\"指名競争\",#REF!,1,#REF!,4,#REF!,$D$1)","v":{"$error":"#REF!"}},{"$f":"COUNTIFS(#REF!,\"指名競争\",#REF!,2,#REF!,4,#REF!,$D$1)","v":{"$error":"#REF!"}},{"$f":"SUMIFS(#REF!,#REF!,\"指名競争\",#REF!,2,#REF!,4,#REF!,$D$1)","v":{"$error":"#REF!"}},{"$f":"COUNTIFS(#REF!,\"指名競争\",#REF!,3,#REF!,4,#REF!,$D$1)","v":{"$error":"#REF!"}},{"$f":"SUMIFS(#REF!,#REF!,\"指名競争\",#REF!,3,#REF!,4,#REF!,$D$1)","v":{"$error":"#REF!"}},{"$f":"COUNTIFS(#REF!,\"指名競争\",#REF!,4,#REF!,4,#REF!,$D$1)","v":{"$error":"#REF!"}},{"$f":"SUMIFS(#REF!,#REF!,\"指名競争\",#REF!,4,#REF!,4,#REF!,$D$1)","v":{"$error":"#REF!"}},{"$f":"COUNTIFS(#REF!,\"指名競争\",#REF!,5,#REF!,4,#REF!,$D$1)","v":{"$error":"#REF!"}},{"$f":"SUMIFS(#REF!,#REF!,\"指名競争\",#REF!,5,#REF!,4,#REF!,$D$1)","v":{"$error":"#REF!"}},{"$f":"COUNTIFS(#REF!,\"指名競争\",#REF!,6,#REF!,4,#REF!,$D$1)","v":{"$error":"#REF!"}},{"$f":"SUMIFS(#REF!,#REF!,\"指名競争\",#REF!,6,#REF!,4,#REF!,$D$1)","v":{"$error":"#REF!"}},{"$error":"#REF!"},{"$error":"#REF!"},{"$error":"#REF!"},{"$error":"#REF!"},{"$error":"#REF!"},{"$error":"#REF!"},null,{"$f":"COUNTIFS(#REF!,\"指名競争\",#REF!,1,#REF!,4,#REF!,$D$1)","v":{"$error":"#REF!"}},{"$f":"SUMIFS(#REF!,#REF!,1,#REF!,\"指名競争\",#REF!,4,#REF!,$D$1)","v":{"$error":"#REF!"}}]
[null,"合計",null,{"$f":"SUM(D15+D18)","v":{"$error":"#REF!"}},{"$error":"#REF!"},{"$error":"#REF!"},{"$error":"#REF!"},{"$error":"#REF!"},{"$error":"#REF!"},{"$error":"#REF!"},{"$error":"#REF!"},{"$error":"#REF!"},{"$error":"#REF!"},{"$error":"#REF!"},{"$error":"#REF!"},{"$error":"#REF!"},{"$error":"#REF!"},{"$error":"#REF!"},{"$error":"#REF!"},{"$error":"#REF!"},{"$error":"#REF!"},null,{"$f":"SUM(W15+W18)","v":{"$error":"#REF!"}},{"$f":"SUM(X15+X18)","v":{"$error":"#REF!"}}]
["【随意契約】"]
[null,"競争参加資格区分",null,"所管公益法人",null,"その他の公益法人",null,"独立行政法人等",null,"特殊法人等",null,"特定民間法人等",null,"その他の法人等",null,"所管公益法人等",null,"所管公益法人等以外の法人等",null,"合計"]
[null,null,null,"件数","金額","件数","金額","件数","金額","件数","金額","件数","金額","件数","金額","件数","金額","件数","金額","件数","金額"]
[null,"（物品役務等）",null,{"$f":"SUM(D26:D27)","v":{"$error":"#REF!"}},{"$error":"#REF!"},{"$error":"#REF!"},{"$error":"#REF!"},{"$error":"#REF!"},{"$error":"#REF!"},{"$error":"#REF!"},{"$error":"#REF!"},{"$error":"#REF!"},{"$error":"#REF!"},{"$error":"#REF!"},{"$error":"#REF!"},{"$error":"#REF!"},{"$error":"#REF!"},{"$error":"#REF!"},{"$error":"#REF!"},{"$f":"P25+R25","v":{"$error":"#REF!"}},{"$error":"#REF!"}]
[null,"　うち、物品関係",null,{"$f":"COUNTIFS(#REF!,\"随意契約\",#REF!,1,#REF!,1,#REF!,$D$1)","v":{"$error":"#REF!"}},{"$f":"SUMIFS(#REF!,#REF!,\"随意契約\",#REF!,1,#REF!,1,#REF!,$D$1)","v":{"$error":"#REF!"}},{"$f":"COUNTIFS(#REF!,\"随意契約\",#REF!,2,#REF!,1,#REF!,$D$1)","v":{"$error":"#REF!"}},{"$f":"SUMIFS(#REF!,#REF!,\"随意契約\",#REF!,2,#REF!,1,#REF!,$D$1)","v":{"$error":"#REF!"}},{"$f":"COUNTIFS(#REF!,\"随意契約\",#REF!,3,#REF!,1,#REF!,$D$1)","v":{"$error":"#REF!"}},{"$f":"SUMIFS(#REF!,#REF!,\"随意契約\",#REF!,3,#REF!,1,#REF!,$D$1)","v":{"$error":"#REF!"}},{"$f":"COUNTIFS(#REF!,\"随意契約\",#REF!,4,#REF!,1,#REF!,$D$1)","v":{"$error":"#REF!"}},{"$f":"SUMIFS(#REF!,#REF!,\"随意契約\",#REF!,4,#REF!,1,#REF!,$D$1)","v":{"$error":"#REF!"}},{"$f":"COUNTIFS(#REF!,\"随意契約\",#REF!,5,#REF!,1,#REF!,$D$1)","v":{"$error":"#REF!"}},{"$f":"SUMIFS(#REF!,#REF!,\"随意契約\",#REF!,5,#REF!,1,#REF!,$D$1)","v":{"$error":"#REF!"}},{"$f":"COUNTIFS(#REF!,\"随意契約\",#REF!,6,#REF!,1,#REF!,$D$1)","v":{"$error":"#REF!"}},{"$f":"SUMIFS(#REF!,#REF!,\"随意契約\",#REF!,6,#REF!,1,#REF!,$D$1)","v":{"$error":"#REF!"}},{"$f":"D26+H26+J26+L26","v":{"$error":"#REF!"}},{"$error":"#REF!"},{"$f":"F26+N26","v":{"$error":"#REF!"}},{"$error":"#REF!"},{"$error":"#REF!"},{"$error":"#REF!"}]
[null,"　うち、役務関係",null,{"$f":"COUNTIFS(#REF!,\"随意契約\",#REF!,1,#REF!,2,#REF!,$D$1)","v":{"$error":"#REF!"}},{"$f":"SUMIFS(#REF!,#REF!,\"随意契約\",#REF!,1,#REF!,2,#REF!,$D$1)","v":{"$error":"#REF!"}},{"$f":"COUNTIFS(#REF!,\"随意契約\",#REF!,2,#REF!,2,#REF!,$D$1)","v":{"$error":"#REF!"}},{"$f":"SUMIFS(#REF!,#REF!,\"随意契約\",#REF!,2,#REF!,2,#REF!,$D$1)","v":{"$error":"#REF!"}},{"$f":"COUNTIFS(#REF!,\"随意契約\",#REF!,3,#REF!,2,#REF!,$D$1)","v":{"$error":"#REF!"}},{"$f":"SUMIFS(#REF!,#REF!,\"随意契約\",#REF!,3,#REF!,2,#REF!,$D$1)","v":{"$error":"#REF!"}},{"$f":"COUNTIFS(#REF!,\"随意契約\",#REF!,4,#REF!,2,#REF!,$D$1)","v":{"$error":"#REF!"}},{"$f":"SUMIFS(#REF!,#REF!,\"随意契約\",#REF!,4,#REF!,2,#REF!,$D$1)","v":{"$error":"#REF!"}},{"$f":"COUNTIFS(#REF!,\"随意契約\",#REF!,5,#REF!,2,#REF!,$D$1)","v":{"$error":"#REF!"}},{"$f":"SUMIFS(#REF!,#REF!,\"随意契約\",#REF!,5,#REF!,2,#REF!,$D$1)","v":{"$error":"#REF!"}},{"$f":"COUNTIFS(#REF!,\"随意契約\",#REF!,6,#REF!,2,#REF!,$D$1)","v":{"$error":"#REF!"}},{"$f":"SUMIFS(#REF!,#REF!,\"随意契約\",#REF!,6,#REF!,2,#REF!,$D$1)","v":{"$error":"#REF!"}},{"$error":"#REF!"},{"$error":"#REF!"},{"$error":"#REF!"},{"$error":"#REF!"},{"$error":"#REF!"},{"$error":"#REF!"}]
[null,"（公共工事等）",null,{"$f":"SUM(D29:D30)","v":{"$error":"#REF!"}},{"$error":"#REF!"},{"$error":"#REF!"},{"$error":"#REF!"},{"$error":"#REF!"},{"$error":"#REF!"},{"$error":"#REF!"},{"$error":"#REF!"},{"$error":"#REF!"},{"$error":"#REF!"},{"$error":"#REF!"},{"$error":"#REF!"},{"$error":"#REF!"},{"$error":"#REF!"},{"$error":"#REF!"},{"$error":"#REF!"},{"$error":"#REF!"},{"$error":"#REF!"}]
[null,"　うち、建設工事",null,{"$f":"COUNTIFS(#REF!,\"随意契約\",#REF!,1,#REF!,3,#REF!,$D$1)","v":{"$error":"#REF!"}},{"$f":"SUMIFS(#REF!,#REF!,\"随意契約\",#REF!,1,#REF!,3,#REF!,$D$1)","v":{"$error":"#REF!"}},{"$f":"COUNTIFS(#REF!,\"随意契約\",#REF!,2,#REF!,3,#REF!,$D$1)","v":{"$error":"#REF!"}},{"$f":"SUMIFS(#REF!,#REF!,\"随意契約\",#REF!,2,#REF!,3,#REF!,$D$1)","v":{"$error":"#REF!"}},{"$f":"COUNTIFS(#REF!,\"随意契約\",#REF!,3,#REF!,3,#REF!,$D$1)","v":{"$error":"#REF!"}},{"$f":"SUMIFS(#REF!,#REF!,\"随意契約\",#REF!,3,#REF!,3,#REF!,$D$1)","v":{"$error":"#REF!"}},{"$f":"COUNTIFS(#REF!,\"随意契約\",#REF!,4,#REF!,3,#REF!,$D$1)","v":{"$error":"#REF!"}},{"$f":"SUMIFS(#REF!,#REF!,\"随意契約\",#REF!,4,#REF!,3,#REF!,$D$1)","v":{"$error":"#REF!"}},{"$f":"COUNTIFS(#REF!,\"随意契約\",#REF!,5,#REF!,3,#REF!,$D$1)","v":{"$error":"#REF!"}},{"$f":"SUMIFS(#REF!,#REF!,\"随意契約\",#REF!,5,#REF!,3,#REF!,$D$1)","v":{"$error":"#REF!"}},{"$f":"COUNTIFS(#REF!,\"随意契約\",#REF!,6,#REF!,3,#REF!,$D$1)","v":{"$error":"#REF!"}},{"$f":"SUMIFS(#REF!,#REF!,\"随意契約\",#REF!,6,#REF!,3,#REF!,$D$1)","v":{"$error":"#REF!"}},{"$error":"#REF!"},{"$error":"#REF!"},{"$error":"#REF!"},{"$error":"#REF!"},{"$error":"#REF!"},{"$error":"#REF!"},null,"総合計"]
[null,"　うち、コンサル",null,{"$f":"COUNTIFS(#REF!,\"随意契約\",#REF!,1,#REF!,4,#REF!,$D$1)","v":{"$error":"#REF!"}},{"$f":"SUMIFS(#REF!,#REF!,\"随意契約\",#REF!,1,#REF!,4,#REF!,$D$1)","v":{"$error":"#REF!"}},{"$f":"COUNTIFS(#REF!,\"随意契約\",#REF!,2,#REF!,4,#REF!,$D$1)","v":{"$error":"#REF!"}},{"$f":"SUMIFS(#REF!,#REF!,\"随意契約\",#REF!,2,#REF!,4,#REF!,$D$1)","v":{"$error":"#REF!"}},{"$f":"COUNTIFS(#REF!,\"随意契約\",#REF!,3,#REF!,4,#REF!,$D$1)","v":{"$error":"#REF!"}},{"$f":"SUMIFS(#REF!,#REF!,\"随意契約\",#REF!,3,#REF!,4,#REF!,$D$1)","v":{"$error":"#REF!"}},{"$f":"COUNTIFS(#REF!,\"随意契約\",#REF!,4,#REF!,4,#REF!,$D$1)","v":{"$error":"#REF!"}},{"$f":"SUMIFS(#REF!,#REF!,\"随意契約\",#REF!,4,#REF!,4,#REF!,$D$1)","v":{"$error":"#REF!"}},{"$f":"COUNTIFS(#REF!,\"随意契約\",#REF!,5,#REF!,4,#REF!,$D$1)","v":{"$error":"#REF!"}},{"$f":"SUMIFS(#REF!,#REF!,\"随意契約\",#REF!,5,#REF!,4,#REF!,$D$1)","v":{"$error":"#REF!"}},{"$f":"COUNTIFS(#REF!,\"随意契約\",#REF!,6,#REF!,4,#REF!,$D$1)","v":{"$error":"#REF!"}},{"$f":"SUMIFS(#REF!,#REF!,\"随意契約\",#REF!,6,#REF!,4,#REF!,$D$1)","v":{"$error":"#REF!"}},{"$error":"#REF!"},{"$error":"#REF!"},{"$error":"#REF!"},{"$error":"#REF!"},{"$error":"#REF!"},{"$error":"#REF!"},null,"件数","金額"]
[null,"合計",null,{"$f":"SUM(D25+D28)","v":{"$error":"#REF!"}},{"$error":"#REF!"},{"$error":"#REF!"},{"$error":"#REF!"},{"$error":"#REF!"},{"$error":"#REF!"},{"$error":"#REF!"},{"$error":"#REF!"},{"$error":"#REF!"},{"$error":"#REF!"},{"$error":"#REF!"},{"$error":"#REF!"},{"$error":"#REF!"},{"$error":"#REF!"},{"$error":"#REF!"},{"$error":"#REF!"},{"$error":"#REF!"},{"$error":"#REF!"},null,{"$f":"T11+T21+T31","v":{"$error":"#REF!"}},{"$f":"U11+U21+U31","v":{"$error":"#REF!"}}]
[]
[null,null,"随意契約（根拠内訳）","所管公益法人",null,"その他の公益法人",null,"独立行政法人等",null,"特殊法人等",null,"特定民間法人等",null,"その他の法人等",null,"所管公益法人等",null,"所管公益法人等以外の法人等",null,"合計"]
[null,null,null,"件数","金額","件数","金額","件数","金額","件数","金額","件数","金額","件数","金額","件数","金額","件数","金額","件数","金額"]
[null,null,"契約の性質又は目的が競争を許さない場合",{"$f":"SUM(COUNTIFS(#REF!,1,#REF!,1,#REF!,$D$1))","v":{"$error":"#REF!"}},{"$f":"SUMIFS(#REF!,#REF!,1,#REF!,1,#REF!,$D$1)","v":{"$error":"#REF!"}},{"$f":"SUM(COUNTIFS(#REF!,2,#REF!,1,#REF!,$D$1))","v":{"$error":"#REF!"}},{"$f":"SUMIFS(#REF!,#REF!,2,#REF!,1,#REF!,$D$1)","v":{"$error":"#REF!"}},{"$f":"SUM(COUNTIFS(#REF!,3,#REF!,1,#REF!,$D$1))","v":{"$error":"#REF!"}},{"$f":"SUMIFS(#REF!,#REF!,3,#REF!,1,#REF!,$D$1)","v":{"$error":"#REF!"}},{"$f":"SUM(COUNTIFS(#REF!,4,#REF!,1,#REF!,$D$1))","v":{"$error":"#REF!"}},{"$f":"SUMIFS(#REF!,#REF!,4,#REF!,1,#REF!,$D$1)","v":{"$error":"#REF!"}},{"$f":"SUM(COUNTIFS(#REF!,5,#REF!,1,#REF!,$D$1))","v":{"$error":"#REF!"}},{"$f":"SUMIFS(#REF!,#REF!,5,#REF!,1,#REF!,$D$1)","v":{"$error":"#REF!"}},{"$f":"SUM(COUNTIFS(#REF!,6,#REF!,1,#REF!,$D$1))","v":{"$error":"#REF!"}},{"$f":"SUMIFS(#REF!,#REF!,6,#REF!,1,#REF!,$D$1)","v":{"$error":"#REF!"}},{"$f":"D35+H35+J35+L35","v":{"$error":"#REF!"}},{"$error":"#REF!"},{"$f":"F35+N35","v":{"$error":"#REF!"}},{"$error":"#REF!"},{"$f":"P35+R35","v":{"$error":"#REF!"}},{"$error":"#REF!"}]
[null,null,"緊急の必要により競争に付することができない場合",{"$f":"SUM(COUNTIFS(#REF!,1,#REF!,2,#REF!,$D$1))","v":{"$error":"#REF!"}},{"$f":"SUMIFS(#REF!,#REF!,1,#REF!,2,#REF!,$D$1)","v":{"$error":"#REF!"}},{"$f":"SUM(COUNTIFS(#REF!,2,#REF!,2,#REF!,$D$1))","v":{"$error":"#REF!"}},{"$f":"SUMIFS(#REF!,#REF!,2,#REF!,2,#REF!,$D$1)","v":{"$error":"#REF!"}},{"$f":"SUM(COUNTIFS(#REF!,3,#REF!,2,#REF!,$D$1))","v":{"$error":"#REF!"}},{"$f":"SUMIFS(#REF!,#REF!,3,#REF!,2,#REF!,$D$1)","v":{"$error":"#REF!"}},{"$f":"SUM(COUNTIFS(#REF!,4,#REF!,2,#REF!,$D$1))","v":{"$error":"#REF!"}},{"$f":"SUMIFS(#REF!,#REF!,4,#REF!,2,#REF!,$D$1)","v":{"$error":"#REF!"}},{"$f":"SUM(COUNTIFS(#REF!,5,#REF!,2,#REF!,$D$1))","v":{"$error":"#REF!"}},{"$f":"SUMIFS(#REF!,#REF!,5,#REF!,2,#REF!,$D$1)","v":{"$error":"#REF!"}},{"$f":"SUM(COUNTIFS(#REF!,6,#REF!,2,#REF!,$D$1))","v":{"$error":"#REF!"}},{"$f":"SUMIFS(#REF!,#REF!,6,#REF!,2,#REF!,$D$1)","v":{"$error":"#REF!"}},{"$error":"#REF!"},{"$error":"#REF!"},{"$error":"#REF!"},{"$error":"#REF!"},{"$error":"#REF!"},{"$error":"#REF!"}]
[null,null,"競争に付することが不利と認められる場合",{"$f":"SUM(COUNTIFS(#REF!,1,#REF!,3,#REF!,$D$1))","v":{"$error":"#REF!"}},{"$f":"SUMIFS(#REF!,#REF!,1,#REF!,3,#REF!,$D$1)","v":{"$error":"#REF!"}},{"$f":"SUM(COUNTIFS(#REF!,2,#REF!,3,#REF!,$D$1))","v":{"$error":"#REF!"}},{"$f":"SUMIFS(#REF!,#REF!,2,#REF!,3,#REF!,$D$1)","v":{"$error":"#REF!"}},{"$f":"SUM(COUNTIFS(#REF!,3,#REF!,3,#REF!,$D$1))","v":{"$error":"#REF!"}},{"$f":"SUMIFS(#REF!,#REF!,3,#REF!,3,#REF!,$D$1)","v":{"$error":"#REF!"}},{"$f":"SUM(COUNTIFS(#REF!,4,#REF!,3,#REF!,$D$1))","v":{"$error":"#REF!"}},{"$f":"SUMIFS(#REF!,#REF!,4,#REF!,3,#REF!,$D$1)","v":{"$error":"#REF!"}},{"$f":"SUM(COUNTIFS(#REF!,5,#REF!,3,#REF!,$D$1))","v":{"$error":"#REF!"}},{"$f":"SUMIFS(#REF!,#REF!,5,#REF!,3,#REF!,$D$1)","v":{"$error":"#REF!"}},{"$f":"SUM(COUNTIFS(#REF!,6,#REF!,3,#REF!,$D$1))","v":{"$error":"#REF!"}},{"$f":"SUMIFS(#REF!,#REF!,6,#REF!,3,#REF!,$D$1)","v":{"$error":"#REF!"}},{"$error":"#REF!"},{"$error":"#REF!"},{"$error":"#REF!"},{"$error":"#REF!"},{"$error":"#REF!"},{"$error":"#REF!"}]
[null,null,"予決令第99条の2又は第99条の3による随意契約（不落随意契約、不調随意契約）",{"$f":"SUM(COUNTIFS(#REF!,1,#REF!,4,#REF!,$D$1))","v":{"$error":"#REF!"}},{"$f":"SUMIFS(#REF!,#REF!,1,#REF!,4,#REF!,$D$1)","v":{"$error":"#REF!"}},{"$f":"SUM(COUNTIFS(#REF!,2,#REF!,4,#REF!,$D$1))","v":{"$error":"#REF!"}},{"$f":"SUMIFS(#REF!,#REF!,2,#REF!,4,#REF!,$D$1)","v":{"$error":"#REF!"}},{"$f":"SUM(COUNTIFS(#REF!,3,#REF!,4,#REF!,$D$1))","v":{"$error":"#REF!"}},{"$f":"SUMIFS(#REF!,#REF!,3,#REF!,4,#REF!,$D$1)","v":{"$error":"#REF!"}},{"$f":"SUM(COUNTIFS(#REF!,4,#REF!,4,#REF!,$D$1))","v":{"$error":"#REF!"}},{"$f":"SUMIFS(#REF!,#REF!,4,#REF!,4,#REF!,$D$1)","v":{"$error":"#REF!"}},{"$f":"SUM(COUNTIFS(#REF!,5,#REF!,4,#REF!,$D$1))","v":{"$error":"#REF!"}},{"$f":"SUMIFS(#REF!,#REF!,5,#REF!,4,#REF!,$D$1)","v":{"$error":"#REF!"}},{"$f":"SUM(COUNTIFS(#REF!,6,#REF!,4,#REF!,$D$1))","v":{"$error":"#REF!"}},{"$f":"SUMIFS(#REF!,#REF!,6,#REF!,4,#REF!,$D$1)","v":{"$error":"#REF!"}},{"$error":"#REF!"},{"$error":"#REF!"},{"$error":"#REF!"},{"$error":"#REF!"},{"$error":"#REF!"},{"$error":"#REF!"}]
[null,null,"特例政令に該当する場合",{"$f":"SUM(COUNTIFS(#REF!,1,#REF!,5,#REF!,$D$1))","v":{"$error":"#REF!"}},{"$f":"SUMIFS(#REF!,#REF!,1,#REF!,5,#REF!,$D$1)","v":{"$error":"#REF!"}},{"$f":"SUM(COUNTIFS(#REF!,2,#REF!,5,#REF!,$D$1))","v":{"$error":"#REF!"}},{"$f":"SUMIFS(#REF!,#REF!,2,#REF!,5,#REF!,$D$1)","v":{"$error":"#REF!"}},{"$f":"SUM(COUNTIFS(#REF!,3,#REF!,5,#REF!,$D$1))","v":{"$error":"#REF!"}},{"$f":"SUMIFS(#REF!,#REF!,3,#REF!,5,#REF!,$D$1)","v":{"$error":"#REF!"}},{"$f":"SUM(COUNTIFS(#REF!,4,#REF!,5,#REF!,$D$1))","v":{"$error":"#REF!"}},{"$f":"SUMIFS(#REF!,#REF!,4,#REF!,5,#REF!,$D$1)","v":{"$error":"#REF!"}},{"$f":"SUM(COUNTIFS(#REF!,5,#REF!,5,#REF!,$D$1))","v":{"$error":"#REF!"}},{"$f":"SUMIFS(#REF!,#REF!,5,#REF!,5,#REF!,$D$1)","v":{"$error":"#REF!"}},{"$f":"SUM(COUNTIFS(#REF!,6,#REF!,5,#REF!,$D$1))","v":{"$error":"#REF!"}},{"$f":"SUMIFS(#REF!,#REF!,6,#REF!,5,#REF!,$D$1)","v":{"$error":"#REF!"}},{"$error":"#REF!"},{"$error":"#REF!"},{"$error":"#REF!"},{"$error":"#REF!"},{"$error":"#REF!"},{"$error":"#REF!"}]
[null,null,"その他",{"$f":"SUM(COUNTIFS(#REF!,1,#REF!,6,#REF!,$D$1))","v":{"$error":"#REF!"}},{"$f":"SUMIFS(#REF!,#REF!,1,#REF!,6,#REF!,$D$1)","v":{"$error":"#REF!"}},{"$f":"SUM(COUNTIFS(#REF!,2,#REF!,6,#REF!,$D$1))","v":{"$error":"#REF!"}},{"$f":"SUMIFS(#REF!,#REF!,2,#REF!,6,#REF!,$D$1)","v":{"$error":"#REF!"}},{"$f":"SUM(COUNTIFS(#REF!,3,#REF!,6,#REF!,$D$1))","v":{"$error":"#REF!"}},{"$f":"SUMIFS(#REF!,#REF!,3,#REF!,6,#REF!,$D$1)","v":{"$error":"#REF!"}},{"$f":"SUM(COUNTIFS(#REF!,4,#REF!,6,#REF!,$D$1))","v":{"$error":"#REF!"}},{"$f":"SUMIFS(#REF!,#REF!,4,#REF!,6,#REF!,$D$1)","v":{"$error":"#REF!"}},{"$f":"SUM(COUNTIFS(#REF!,5,#REF!,6,#REF!,$D$1))","v":{"$error":"#REF!"}},{"$f":"SUMIFS(#REF!,#REF!,5,#REF!,6,#REF!,$D$1)","v":{"$error":"#REF!"}},{"$f":"SUM(COUNTIFS(#REF!,6,#REF!,6,#REF!,$D$1))","v":{"$error":"#REF!"}},{"$f":"SUMIFS(#REF!,#REF!,6,#REF!,6,#REF!,$D$1)","v":{"$error":"#REF!"}},{"$error":"#REF!"},{"$error":"#REF!"},{"$error":"#REF!"},{"$error":"#REF!"},{"$error":"#REF!"},{"$error":"#REF!"}]
[null,null,"予決令第99条第1号による随意契約\n（秘密随意契約）",{"$f":"SUM(COUNTIFS(#REF!,1,#REF!,7,#REF!,$D$1))","v":{"$error":"#REF!"}},{"$f":"SUMIFS(#REF!,#REF!,1,#REF!,7,#REF!,$D$1)","v":{"$error":"#REF!"}},{"$f":"SUM(COUNTIFS(#REF!,2,#REF!,7,#REF!,$D$1))","v":{"$error":"#REF!"}},{"$f":"SUMIFS(#REF!,#REF!,2,#REF!,7,#REF!,$D$1)","v":{"$error":"#REF!"}},{"$f":"SUM(COUNTIFS(#REF!,3,#REF!,7,#REF!,$D$1))","v":{"$error":"#REF!"}},{"$f":"SUMIFS(#REF!,#REF!,3,#REF!,7,#REF!,$D$1)","v":{"$error":"#REF!"}},{"$f":"SUM(COUNTIFS(#REF!,4,#REF!,7,#REF!,$D$1))","v":{"$error":"#REF!"}},{"$f":"SUMIFS(#REF!,#REF!,4,#REF!,7,#REF!,$D$1)","v":{"$error":"#REF!"}},{"$f":"SUM(COUNTIFS(#REF!,5,#REF!,7,#REF!,$D$1))","v":{"$error":"#REF!"}},{"$f":"SUMIFS(#REF!,#REF!,5,#REF!,7,#REF!,$D$1)","v":{"$error":"#REF!"}},{"$f":"SUM(COUNTIFS(#REF!,6,#REF!,7,#REF!,$D$1))","v":{"$error":"#REF!"}},{"$f":"SUMIFS(#REF!,#REF!,6,#REF!,7,#REF!,$D$1)","v":{"$error":"#REF!"}},{"$error":"#REF!"},{"$error":"#REF!"},{"$error":"#REF!"},{"$error":"#REF!"},{"$error":"#REF!"},{"$error":"#REF!"}]
[null,null,"合計",{"$f":"SUM(D35:D41)","v":{"$error":"#REF!"}},{"$error":"#REF!"},{"$error":"#REF!"},{"$error":"#REF!"},{"$error":"#REF!"},{"$error":"#REF!"},{"$error":"#REF!"},{"$error":"#REF!"},{"$error":"#REF!"},{"$error":"#REF!"},{"$error":"#REF!"},{"$error":"#REF!"},{"$error":"#REF!"},{"$error":"#REF!"},{"$error":"#REF!"},{"$error":"#REF!"},{"$error":"#REF!"},{"$error":"#REF!"}]
[]
[null,null,"相手方特定方法内訳","所管公益法人",null,"その他の公益法人",null,"独立行政法人等",null,"特殊法人等",null,"特定民間法人等",null,"その他の法人等",null,"所管公益法人等",null,"所管公益法人等以外の法人等",null,"合計"]
[null,null,null,"件数","金額","件数","金額","件数","金額","件数","金額","件数","金額","件数","金額","件数","金額","件数","金額","件数","金額"]
[null,null,"企画競争（プロポーザルも含む）を実施したもの",{"$f":"COUNTIFS(#REF!,1,#REF!,1,#REF!,$D$1)+COUNTIFS(#REF!,1,#REF!,2,#REF!,$D$1)","v":{"$error":"#REF!"}},{"$f":"SUMIFS(#REF!,#REF!,1,#REF!,1,#REF!,$D$1)+SUMIFS(#REF!,#REF!,1,#REF!,2,#REF!,$D$1)","v":{"$error":"#REF!"}},{"$f":"COUNTIFS(#REF!,2,#REF!,1,#REF!,$D$1)+COUNTIFS(#REF!,2,#REF!,2,#REF!,$D$1)","v":{"$error":"#REF!"}},{"$f":"SUMIFS(#REF!,#REF!,2,#REF!,1,#REF!,$D$1)+SUMIFS(#REF!,#REF!,2,#REF!,2,#REF!,$D$1)","v":{"$error":"#REF!"}},{"$f":"COUNTIFS(#REF!,3,#REF!,1,#REF!,$D$1)+COUNTIFS(#REF!,3,#REF!,2,#REF!,$D$1)","v":{"$error":"#REF!"}},{"$f":"SUMIFS(#REF!,#REF!,3,#REF!,1,#REF!,$D$1)+SUMIFS(#REF!,#REF!,3,#REF!,2,#REF!,$D$1)","v":{"$error":"#REF!"}},{"$f":"COUNTIFS(#REF!,4,#REF!,1,#REF!,$D$1)+COUNTIFS(#REF!,4,#REF!,2,#REF!,$D$1)","v":{"$error":"#REF!"}},{"$f":"SUMIFS(#REF!,#REF!,4,#REF!,1,#REF!,$D$1)+SUMIFS(#REF!,#REF!,4,#REF!,2,#REF!,$D$1)","v":{"$error":"#REF!"}},{"$f":"COUNTIFS(#REF!,5,#REF!,1,#REF!,$D$1)+COUNTIFS(#REF!,5,#REF!,2,#REF!,$D$1)","v":{"$error":"#REF!"}},{"$f":"SUMIFS(#REF!,#REF!,5,#REF!,1,#REF!,$D$1)+SUMIFS(#REF!,#REF!,5,#REF!,2,#REF!,$D$1)","v":{"$error":"#REF!"}},{"$f":"COUNTIFS(#REF!,6,#REF!,1,#REF!,$D$1)+COUNTIFS(#REF!,6,#REF!,2,#REF!,$D$1)","v":{"$error":"#REF!"}},{"$f":"SUMIFS(#REF!,#REF!,6,#REF!,1,#REF!,$D$1)+SUMIFS(#REF!,#REF!,6,#REF!,2,#REF!,$D$1)","v":{"$error":"#REF!"}},{"$f":"D46+H46+J46+L46","v":{"$error":"#REF!"}},{"$f":"E46+I46+K46+M46","v":{"$error":"#REF!"}},{"$f":"F46+N46","v":{"$error":"#REF!"}},{"$f":"G46+O46","v":{"$error":"#REF!"}},{"$f":"P46+R46","v":{"$error":"#REF!"}},{"$f":"Q46+S46","v":{"$error":"#REF!"}}]
[null,null,"公募を実施したもの",{"$f":"COUNTIFS(#REF!,1,#REF!,3,#REF!,$D$1)","v":{"$error":"#REF!"}},{"$f":"SUMIFS(#REF!,#REF!,1,#REF!,3,#REF!,$D$1)","v":{"$error":"#REF!"}},{"$f":"COUNTIFS(#REF!,2,#REF!,3,#REF!,$D$1)","v":{"$error":"#REF!"}},{"$f":"SUMIFS(#REF!,#REF!,2,#REF!,3,#REF!,$D$1)","v":{"$error":"#REF!"}},{"$f":"COUNTIFS(#REF!,3,#REF!,3,#REF!,$D$1)","v":{"$error":"#REF!"}},{"$f":"SUMIFS(#REF!,#REF!,3,#REF!,3,#REF!,$D$1)","v":{"$error":"#REF!"}},{"$f":"COUNTIFS(#REF!,4,#REF!,3,#REF!,$D$1)","v":{"$error":"#REF!"}},{"$f":"SUMIFS(#REF!,#REF!,4,#REF!,3,#REF!,$D$1)","v":{"$error":"#REF!"}},{"$f":"COUNTIFS(#REF!,5,#REF!,3,#REF!,$D$1)","v":{"$error":"#REF!"}},{"$f":"SUMIFS(#REF!,#REF!,5,#REF!,3,#REF!,$D$1)","v":{"$error":"#REF!"}},{"$f":"COUNTIFS(#REF!,6,#REF!,3,#REF!,$D$1)","v":{"$error":"#REF!"}},{"$f":"SUMIFS(#REF!,#REF!,6,#REF!,3,#REF!,$D$1)","v":{"$error":"#REF!"}},{"$f":"D47+H47+J47+L47","v":{"$error":"#REF!"}},{"$f":"E47+I47+K47+M47","v":{"$error":"#REF!"}},{"$f":"F47+N47","v":{"$error":"#REF!"}},{"$f":"G47+O47","v":{"$error":"#REF!"}},{"$f":"P47+R47","v":{"$error":"#REF!"}},{"$f":"Q47+S47","v":{"$error":"#REF!"}}]
[null,null,"合計",{"$f":"SUM(D46:D47)","v":{"$error":"#REF!"}},{"$error":"#REF!"},{"$error":"#REF!"},{"$error":"#REF!"},{"$error":"#REF!"},{"$error":"#REF!"},{"$error":"#REF!"},{"$error":"#REF!"},{"$error":"#REF!"},{"$error":"#REF!"},{"$error":"#REF!"},{"$error":"#REF!"},{"$error":"#REF!"},{"$error":"#REF!"},{"$error":"#REF!"},{"$error":"#REF!"},{"$error":"#REF!"},{"$error":"#REF!"}]

{"sheet":"参考資料","index":1,"n_rows":145,"n_cols":13,"rows_kept":145,"cut":false,"hidden":true,"merged":[[47,10,48,10],[50,0,53,1],[54,0,57,1],[58,0,61,1],[62,0,65,1],[12,0,12,1],[19,6,19,7],[41,0,41,1],[47,11,47,12],[2,0,3,1],[19,0,20,1],[19,8,20,8],[21,0,22,1],[23,0,24,1],[25,0,26,1],[27,0,28,1],[29,0,30,1],[35,0,36,1],[37,0,38,1],[42,0,45,1],[46,0,49,1],[0,2,0,3],[2,2,2,3],[2,4,2,5],[2,6,2,7],[11,9,11,10]]}
[null,"部局：","**"]
["【調達の全体像】"]
["契約方式の区分",null,"公共工事等",null,"物品役務等",null,"合計"]
[null,null,"件数","金額（円）","件数","金額（円）","件数","金額（円）"]
["競争性のある契約",null,{"$f":"SUM(C6:C8)","v":{"$error":"#REF!"}},{"$f":"SUM(D6:D8)","v":{"$error":"#REF!"}},{"$f":"SUM(E6:E8)","v":{"$error":"#REF!"}},{"$f":"SUM(F6:F8)","v":{"$error":"#REF!"}},{"$f":"C5+E5","v":{"$error":"#REF!"}},{"$error":"#REF!"}]
["一般競争",null,{"$f":"COUNTIFS(#REF!,\"一般競争\",#REF!,3,#REF!,$C$1)+COUNTIFS(#REF!,\"一般競争\",#REF!,4,#REF!,$C$1)","v":{"$error":"#REF!"}},{"$f":"SUMIFS(#REF!,#REF!,\"一般競争\",#REF!,3,#REF!,$C$1)+SUMIFS(#REF!,#REF!,\"一般競争\",#REF!,4,#REF!,$C$1)","v":{"$error":"#REF!"}},{"$f":"COUNTIFS(#REF!,\"一般競争\",#REF!,1,#REF!,$C$1)+COUNTIFS(#REF!,\"一般競争\",#REF!,2,#REF!,$C$1)","v":{"$error":"#REF!"}},{"$f":"SUMIFS(#REF!,#REF!,\"一般競争\",#REF!,1,#REF!,$C$1)+SUMIFS(#REF!,#REF!,\"一般競争\",#REF!,2,#REF!,$C$1)","v":{"$error":"#REF!"}},{"$error":"#REF!"},{"$error":"#REF!"}]
["指名競争",null,{"$f":"COUNTIFS(#REF!,\"指名競争\",#REF!,3,#REF!,$C$1)+COUNTIFS(#REF!,\"指名競争\",#REF!,4,#REF!,$C$1)","v":{"$error":"#REF!"}},{"$f":"SUMIFS(#REF!,#REF!,\"指名競争\",#REF!,3,#REF!,$C$1)+SUMIFS(#REF!,#REF!,\"指名競争\",#REF!,4,#REF!,$C$1)","v":{"$error":"#REF!"}},{"$f":"COUNTIFS(#REF!,\"指名競争\",#REF!,1,#REF!,$C$1)+COUNTIFS(#REF!,\"指名競争\",#REF!,2,#REF!,$C$1)","v":{"$error":"#REF!"}},{"$f":"SUMIFS(#REF!,#REF!,\"指名競争\",#REF!,1,#REF!,$C$1)+SUMIFS(#REF!,#REF!,\"指名競争\",#REF!,2,#REF!,$C$1)","v":{"$error":"#REF!"}},{"$error":"#REF!"},{"$error":"#REF!"}]
["競争性のある随意契約",null,{"$f":"SUM(C9:C11)","v":{"$error":"#REF!"}},{"$f":"SUM(D9:D11)","v":{"$error":"#REF!"}},{"$f":"SUM(E9:E11)","v":{"$error":"#REF!"}},{"$f":"SUM(F9:F11)","v":{"$error":"#REF!"}},{"$error":"#REF!"},{"$error":"#REF!"}]
["  　うち、不調・不落随意契約",null,{"$f":"COUNTIFS(#REF!,\"随意契約\",#REF!,4,#REF!,3,#REF!,$C$1)+COUNTIFS(#REF!,\"随意契約\",#REF!,4,#REF!,4,#REF!,$C$1)","v":{"$error":"#REF!"}},{"$f":"SUMIFS(#REF!,#REF!,\"随意契約\",#REF!,4,#REF!,3,#REF!,$C$1)+SUMIFS(#REF!,#REF!,\"随意契約\",#REF!,4,#REF!,4,#REF!,$C$1)","v":{"$error":"#REF!"}},{"$f":"COUNTIFS(#REF!,\"随意契約\",#REF!,4,#REF!,1,#REF!,$C$1)+COUNTIFS(#REF!,\"随意契約\",#REF!,4,#REF!,2,#REF!,$C$1)","v":{"$error":"#REF!"}},{"$f":"SUMIFS(#REF!,#REF!,\"随意契約\",#REF!,4,#REF!,1,#REF!,$C$1)+SUMIFS(#REF!,#REF!,\"随意契約\",#REF!,4,#REF!,2,#REF!,$C$1)","v":{"$error":"#REF!"}},{"$error":"#REF!"},{"$error":"#REF!"}]
["  　うち、企画競争を実施（プロポ含む）",null,{"$f":"COUNTIFS(#REF!,\"随意契約\",#REF!,\"1\",#REF!,3,#REF!,$C$1)+COUNTIFS(#REF!,\"随意契約\",#REF!,\"2\",#REF!,3,#REF!,$C$1)+COUNTIFS(#REF!,\"随意契約\",#REF!,\"1\",#REF!,4,#REF!,$C$1)+COUNTIFS(#REF!,\"随意契約\",#REF!,\"2\",#REF!,4,#REF!,$C$1)","v":{"$error":"#REF!"}},{"$f":"SUMIFS(#REF!,#REF!,\"随意契約\",#REF!,\"1\",#REF!,3,#REF!,$C$1)+SUMIFS(#REF!,#REF!,\"随意契約\",#REF!,\"2\",#REF!,3,#REF!,$C$1)+SUMIFS(#REF!,#REF!,\"随意契約\",#REF!,\"1\",#REF!,4,#REF!,$C$1)+SUMIFS(#REF!,#REF!,\"随意契約\",#REF!,\"2\",#REF!,4,#REF!,$C$1)","v":{"$error":"#REF!"}},{"$f":"COUNTIFS(#REF!,\"随意契約\",#REF!,\"1\",#REF!,1,#REF!,$C$1)+COUNTIFS(#REF!,\"随意契約\",#REF!,\"2\",#REF!,1,#REF!,$C$1)+COUNTIFS(#REF!,\"随意契約\",#REF!,\"1\",#REF!,2,#REF!,$C$1)+COUNTIFS(#REF!,\"随意契約\",#REF!,\"2\",#REF!,2,#REF!,$C$1)","v":{"$error":"#REF!"}},{"$f":"SUMIFS(#REF!,#REF!,\"随意契約\",#REF!,\"1\",#REF!,1,#REF!,$C$1)+SUMIFS(#REF!,#REF!,\"随意契約\",#REF!,\"2\",#REF!,1,#REF!,$C$1)+SUMIFS(#REF!,#REF!,\"随意契約\",#REF!,\"1\",#REF!,2,#REF!,$C$1)+SUMIFS(#REF!,#REF!,\"随意契約\",#REF!,\"2\",#REF!,2,#REF!,$C$1)","v":{"$error":"#REF!"}},{"$error":"#REF!"},{"$error":"#REF!"}]
["  　うち、公募を実施",null,{"$f":"COUNTIFS(#REF!,\"随意契約\",#REF!,\"3\",#REF!,3,#REF!,$C$1)+COUNTIFS(#REF!,\"随意契約\",#REF!,\"3\",#REF!,4,#REF!,$C$1)","v":{"$error":"#REF!"}},{"$f":"SUMIFS(#REF!,#REF!,\"随意契約\",#REF!,\"3\",#REF!,3,#REF!,$C$1)+SUMIFS(#REF!,#REF!,\"随意契約\",#REF!,\"3\",#REF!,4,#REF!,$C$1)","v":{"$error":"#REF!"}},{"$f":"COUNTIFS(#REF!,\"随意契約\",#REF!,\"3\",#REF!,1,#REF!,$C$1)+COUNTIFS(#REF!,\"随意契約\",#REF!,\"3\",#REF!,2,#REF!,$C$1)","v":{"$error":"#REF!"}},{"$f":"SUMIFS(#REF!,#REF!,\"随意契約\",#REF!,\"3\",#REF!,1,#REF!,$C$1)+SUMIFS(#REF!,#REF!,\"随意契約\",#REF!,\"3\",#REF!,2,#REF!,$C$1)","v":{"$error":"#REF!"}},{"$error":"#REF!"},{"$error":"#REF!"}]
["競争性のない随意契約",null,{"$f":"COUNTIFS(#REF!,\"随意契約\",#REF!,3,#REF!,$C$1)+COUNTIFS(#REF!,\"随意契約\",#REF!,4,#REF!,$C$1)-参考資料!C8","v":{"$error":"#REF!"}},{"$f":"SUMIFS(#REF!,#REF!,\"随意契約\",#REF!,3,#REF!,$C$1)+SUMIFS(#REF!,#REF!,\"随意契約\",#REF!,4,#REF!,$C$1)-参考資料!D8","v":{"$error":"#REF!"}},{"$f":"COUNTIFS(#REF!,\"随意契約\",#REF!,1,#REF!,$C$1)+COUNTIFS(#REF!,\"随意契約\",#REF!,2,#REF!,$C$1)-参考資料!E8","v":{"$error":"#REF!"}},{"$f":"SUMIFS(#REF!,#REF!,\"随意契約\",#REF!,1,#REF!,$C$1)+SUMIFS(#REF!,#REF!,\"随意契約\",#REF!,2,#REF!,$C$1)-参考資料!F8","v":{"$error":"#REF!"}},{"$error":"#REF!"},{"$error":"#REF!"},null,"↓個表合計↓"]
["合計",null,{"$f":"C5+C12","v":{"$error":"#REF!"}},{"$f":"D5+D12","v":{"$error":"#REF!"}},{"$f":"E5+E12","v":{"$error":"#REF!"}},{"$f":"F5+F12","v":{"$error":"#REF!"}},{"$error":"#REF!"},{"$error":"#REF!"},null,{"$f":"#REF!","v":{"$error":"#REF!"}},{"$f":"#REF!","v":{"$error":"#REF!"}}]
["※競争性のない随意契約　・・・・不落･不調随意契約並びに企画競争及び公募を実施した随意契約以外の随意契約（少額随契を除く）。"]
[null,"競争性あり/全体",{"$f":"C5/C13","v":{"$error":"#REF!"}},{"$error":"#REF!"},{"$error":"#REF!"},{"$error":"#REF!"},{"$error":"#REF!"},{"$error":"#REF!"}]
[null,"競争性なし/全体",{"$f":"C12/C13","v":{"$error":"#REF!"}},{"$error":"#REF!"},{"$error":"#REF!"},{"$error":"#REF!"},{"$error":"#REF!"},{"$error":"#REF!"}]
[null,"競争性なし/競争性あり",{"$f":"C12/C5","v":{"$error":"#REF!"}},{"$error":"#REF!"},{"$error":"#REF!"},{"$error":"#REF!"},{"$error":"#REF!"},{"$error":"#REF!"}]
[]
["【契約時期の分析】",null,null,null,null,null,null,null,"（単位：円）"]
["契約方式の区分",null,"第１四半期","第２四半期","第３四半期","第４四半期","その他",null,"合計"]
[null,null,"4/1～6/30契約","7/1～9/30契約","10/1～12/31契約","1/1～3/31契約","長期継続契約","契約時期が不明確なもの"]
["競争性のある契約",null,{"$f":"C24+C26+C28","v":{"$error":"#REF!"}},{"$error":"#REF!"},{"$error":"#REF!"},{"$error":"#REF!"},{"$error":"#REF!"},{"$error":"#REF!"},{"$f":"SUM(C22:H22)","v":{"$error":"#REF!"}}]
[null,null,{"$error":"#REF!"},{"$error":"#REF!"},{"$error":"#REF!"},{"$error":"#REF!"},{"$error":"#REF!"},{"$error":"#REF!"},{"$error":"#REF!"}]
["一般競争",null,{"$f":"COUNTIFS(#REF!,$A$24,#REF!,\">=2020/4/1\",#REF!,\"<=2020/6/30\",#REF!,\"<>長期\",#REF!,$C$1)","v":{"$error":"#REF!"}},{"$f":"COUNTIFS(#REF!,$A$24,#REF!,\">=2020/7/1\",#REF!,\"<=2020/9/30\",#REF!,\"<>長期\",#REF!,$C$1)","v":{"$error":"#REF!"}},{"$f":"COUNTIFS(#REF!,$A$24,#REF!,\">=2020/10/1\",#REF!,\"<=2020/12/31\",#REF!,\"<>長期\",#REF!,$C$1)","v":{"$error":"#REF!"}},{"$f":"COUNTIFS(#REF!,$A$24,#REF!,\">=2021/1/1\",#REF!,\"<=2021/3/31\",#REF!,\"<>長期\",#REF!,$C$1)","v":{"$error":"#REF!"}},{"$f":"COUNTIFS(#REF!,$A$24,#REF!,\">=2020/4/1\",#REF!,\"<=2021/3/31\",#REF!,\"長期\",#REF!,$C$1)","v":{"$error":"#REF!"}},{"$f":"$G$6-(C24+D24+E24+F24+G24)","v":{"$error":"#REF!"}},{"$error":"#REF!"}]
[null,null,{"$f":"SUMIFS(#REF!,#REF!,$A$24,#REF!,\">=2020/4/1\",#REF!,\"<=2020/6/30\",#REF!,\"<>長期\",#REF!,$C$1)","v":{"$error":"#REF!"}},{"$f":"SUMIFS(#REF!,#REF!,$A$24,#REF!,\">=2020/7/1\",#REF!,\"<=2020/9/30\",#REF!,\"<>長期\",#REF!,$C$1)","v":{"$error":"#REF!"}},{"$f":"SUMIFS(#REF!,#REF!,$A$24,#REF!,\">=2020/10/1\",#REF!,\"<=2020/12/31\",#REF!,\"<>長期\",#REF!,$C$1)","v":{"$error":"#REF!"}},{"$f":"SUMIFS(#REF!,#REF!,$A$24,#REF!,\">=2021/1/1\",#REF!,\"<=2021/3/31\",#REF!,\"<>長期\",#REF!,$C$1)","v":{"$error":"#REF!"}},{"$f":"SUMIFS(#REF!,#REF!,$A$24,#REF!,\">=2020/4/1\",#REF!,\"<=2021/3/31\",#REF!,\"長期\",#REF!,$C$1)","v":{"$error":"#REF!"}},{"$f":"$H$6-(C25+D25+E25+F25+G25)","v":{"$error":"#REF!"}},{"$error":"#REF!"}]
["指名競争",null,{"$f":"COUNTIFS(#REF!,$A$26,#REF!,\">=2020/4/1\",#REF!,\"<=2020/6/30\",#REF!,\"<>長期\",#REF!,$C$1)","v":{"$error":"#REF!"}},{"$f":"COUNTIFS(#REF!,$A$26,#REF!,\">=2020/7/1\",#REF!,\"<=2020/9/30\",#REF!,\"<>長期\",#REF!,$C$1)","v":{"$error":"#REF!"}},{"$f":"COUNTIFS(#REF!,$A$26,#REF!,\">=2020/10/1\",#REF!,\"<=2020/12/31\",#REF!,\"<>長期\",#REF!,$C$1)","v":{"$error":"#REF!"}},{"$f":"COUNTIFS(#REF!,$A$26,#REF!,\">=2021/1/1\",#REF!,\"<=2021/3/31\",#REF!,\"<>長期\",#REF!,$C$1)","v":{"$error":"#REF!"}},{"$f":"COUNTIFS(#REF!,$A$26,#REF!,\">=2020/4/1\",#REF!,\"<=2021/3/31\",#REF!,\"長期\",#REF!,$C$1)","v":{"$error":"#REF!"}},{"$f":"G7-(C26+D26+E26+F26+G26)","v":{"$error":"#REF!"}},{"$error":"#REF!"}]
[null,null,{"$f":"SUMIFS(#REF!,#REF!,$A$26,#REF!,\">=2020/4/1\",#REF!,\"<=2020/6/30\",#REF!,\"<>長期\",#REF!,$C$1)","v":{"$error":"#REF!"}},{"$f":"SUMIFS(#REF!,#REF!,$A$26,#REF!,\">=2020/7/1\",#REF!,\"<=2020/9/30\",#REF!,\"<>長期\",#REF!,$C$1)","v":{"$error":"#REF!"}},{"$f":"SUMIFS(#REF!,#REF!,$A$26,#REF!,\">=2020/10/1\",#REF!,\"<=2020/12/31\",#REF!,\"<>長期\",#REF!,$C$1)","v":{"$error":"#REF!"}},{"$f":"SUMIFS(#REF!,#REF!,$A$26,#REF!,\">=2021/1/1\",#REF!,\"<=2021/3/31\",#REF!,\"<>長期\",#REF!,$C$1)","v":{"$error":"#REF!"}},{"$f":"SUMIFS(#REF!,#REF!,$A$26,#REF!,\">=2020/4/1\",#REF!,\"<=2021/3/31\",#REF!,\"長期\",#REF!,$C$1)","v":{"$error":"#REF!"}},{"$f":"H7-(C27+D27+E27+F27+G27)","v":{"$error":"#REF!"}},{"$error":"#REF!"}]
["競争性のある随意契約",null,{"$f":"C30+C32+C34","v":{"$error":"#REF!"}},{"$error":"#REF!"},{"$error":"#REF!"},{"$error":"#REF!"},{"$error":"#REF!"},{"$error":"#REF!"},{"$error":"#REF!"}]
[null,null,{"$error":"#REF!"},{"$error":"#REF!"},{"$error":"#REF!"},{"$error":"#REF!"},{"$error":"#REF!"},{"$error":"#REF!"},{"$error":"#REF!"}]
["  　うち、不調・不落随意契約",null,{"$f":"COUNTIFS(#REF!,\"随意契約\",#REF!,4,#REF!,\">=2020/4/1\",#REF!,\"<=2020/6/30\",#REF!,\"<>長期\",#REF!,$C$1)","v":{"$error":"#REF!"}},{"$f":"COUNTIFS(#REF!,\"随意契約\",#REF!,4,#REF!,\">=2020/7/1\",#REF!,\"<=2020/9/30\",#REF!,\"<>長期\",#REF!,$C$1)","v":{"$error":"#REF!"}},{"$f":"COUNTIFS(#REF!,\"随意契約\",#REF!,4,#REF!,\">=2020/10/1\",#REF!,\"<=2020/12/31\",#REF!,\"<>長期\",#REF!,$C$1)","v":{"$error":"#REF!"}},{"$f":"COUNTIFS(#REF!,\"随意契約\",#REF!,4,#REF!,\">=2021/1/1\",#REF!,\"<=2021/3/31\",#REF!,\"<>長期\",#REF!,$C$1)","v":{"$error":"#REF!"}},{"$f":"COUNTIFS(#REF!,\"随意契約\",#REF!,4,#REF!,\">=2020/4/1\",#REF!,\"<=2021/3/31\",#REF!,\"長期\",#REF!,$C$1)","v":{"$error":"#REF!"}},{"$f":"G9-(C30+D30+E30+F30+G30)","v":{"$error":"#REF!"}},{"$error":"#REF!"}]
[null,null,{"$f":"SUMIFS(#REF!,#REF!,\"随意契約\",#REF!,4,#REF!,\">=2020/4/1\",#REF!,\"<=2020/6/30\",#REF!,\"<>長期\",#REF!,$C$1)","v":{"$error":"#REF!"}},{"$f":"SUMIFS(#REF!,#REF!,\"随意契約\",#REF!,4,#REF!,\">=2020/7/1\",#REF!,\"<=2020/9/30\",#REF!,\"<>長期\",#REF!,$C$1)","v":{"$error":"#REF!"}},{"$f":"SUMIFS(#REF!,#REF!,\"随意契約\",#REF!,4,#REF!,\">=2020/10/1\",#REF!,\"<=2020/12/31\",#REF!,\"<>長期\",#REF!,$C$1)","v":{"$error":"#REF!"}},{"$f":"SUMIFS(#REF!,#REF!,\"随意契約\",#REF!,4,#REF!,\">=2021/1/1\",#REF!,\"<=2021/3/31\",#REF!,\"<>長期\",#REF!,$C$1)","v":{"$error":"#REF!"}},{"$f":"SUMIFS(#REF!,#REF!,\"随意契約\",#REF!,4,#REF!,\">=2020/4/1\",#REF!,\"<=2021/3/31\",#REF!,\"長期\",#REF!,$C$1)","v":{"$error":"#REF!"}},{"$f":"H9-(C31+D31+E31+F31+G31)","v":{"$error":"#REF!"}},{"$error":"#REF!"}]
["  　うち、企画競争を実施（プロポ含む）",null,{"$f":"COUNTIFS(#REF!,\"随意契約\",#REF!,\"1\",#REF!,\">=2020/4/1\",#REF!,\"<=2020/6/30\",#REF!,\"<>長期\",#REF!,$C$1)+COUNTIFS(#REF!,\"随意契約\",#REF!,\"2\",#REF!,\">=2020/4/1\",#REF!,\"<=2020/6/30\",#REF!,\"<>長期\",#REF!,$C$1)","v":{"$error":"#REF!"}},{"$f":"COUNTIFS(#REF!,\"随意契約\",#REF!,\"1\",#REF!,\">=2020/7/1\",#REF!,\"<=2020/9/30\",#REF!,\"<>長期\",#REF!,$C$1)+COUNTIFS(#REF!,\"随意契約\",#REF!,\"2\",#REF!,\">=2020/7/1\",#REF!,\"<=2020/9/30\",#REF!,\"<>長期\",#REF!,$C$1)","v":{"$error":"#REF!"}},{"$f":"COUNTIFS(#REF!,\"随意契約\",#REF!,\"1\",#REF!,\">=2020/10/1\",#REF!,\"<=2020/12/31\",#REF!,\"<>長期\",#REF!,$C$1)+COUNTIFS(#REF!,\"随意契約\",#REF!,\"2\",#REF!,\">=2020/10/1\",#REF!,\"<=2020/12/31\",#REF!,\"<>長期\",#REF!,$C$1)","v":{"$error":"#REF!"}},{"$f":"COUNTIFS(#REF!,\"随意契約\",#REF!,\"1\",#REF!,\">=2021/1/1\",#REF!,\"<=2021/3/31\",#REF!,\"<>長期\",#REF!,$C$1)+COUNTIFS(#REF!,\"随意契約\",#REF!,\"2\",#REF!,\">=2021/1/1\",#REF!,\"<=2021/3/31\",#REF!,\"<>長期\",#REF!,$C$1)","v":{"$error":"#REF!"}},{"$f":"COUNTIFS(#REF!,\"随意契約\",#REF!,\"1\",#REF!,\">=2020/4/1\",#REF!,\"<=2021/3/31\",#REF!,\"長期\",#REF!,$C$1)+COUNTIFS(#REF!,\"随意契約\",#REF!,\"2\",#REF!,\">=2020/4/1\",#REF!,\"<=2021/3/31\",#REF!,\"長期\",#REF!,$C$1)","v":{"$error":"#REF!"}},{"$f":"G10-(C32+D32+E32+F32+G32)","v":{"$error":"#REF!"}},{"$error":"#REF!"}]
[null,null,{"$f":"SUMIFS(#REF!,#REF!,\"随意契約\",#REF!,\"1\",#REF!,\">=2020/4/1\",#REF!,\"<=2020/6/30\",#REF!,\"<>長期\",#REF!,$C$1)+SUMIFS(#REF!,#REF!,\"随意契約\",#REF!,\"2\",#REF!,\">=2020/4/1\",#REF!,\"<=2020/6/30\",#REF!,\"<>長期\",#REF!,$C$1)","v":{"$error":"#REF!"}},{"$f":"SUMIFS(#REF!,#REF!,\"随意契約\",#REF!,\"1\",#REF!,\">=2020/7/1\",#REF!,\"<=2020/9/30\",#REF!,\"<>長期\",#REF!,$C$1)+SUMIFS(#REF!,#REF!,\"随意契約\",#REF!,\"2\",#REF!,\">=2020/7/1\",#REF!,\"<=2020/9/30\",#REF!,\"<>長期\",#REF!,$C$1)","v":{"$error":"#REF!"}},{"$f":"SUMIFS(#REF!,#REF!,\"随意契約\",#REF!,\"1\",#REF!,\">=2020/10/1\",#REF!,\"<=2020/12/31\",#REF!,\"<>長期\",#REF!,$C$1)+SUMIFS(#REF!,#REF!,\"随意契約\",#REF!,\"2\",#REF!,\">=2020/10/1\",#REF!,\"<=2020/12/31\",#REF!,\"<>長期\",#REF!,$C$1)","v":{"$error":"#REF!"}},{"$f":"SUMIFS(#REF!,#REF!,\"随意契約\",#REF!,\"1\",#REF!,\">=2021/1/1\",#REF!,\"<=2021/3/31\",#REF!,\"<>長期\",#REF!,$C$1)+SUMIFS(#REF!,#REF!,\"随意契約\",#REF!,\"2\",#REF!,\">=2021/1/1\",#REF!,\"<=2021/3/31\",#REF!,\"<>長期\",#REF!,$C$1)","v":{"$error":"#REF!"}},{"$f":"SUMIFS(#REF!,#REF!,\"随意契約\",#REF!,\"1\",#REF!,\">=2020/4/1\",#REF!,\"<=2021/3/31\",#REF!,\"長期\",#REF!,$C$1)+SUMIFS(#REF!,#REF!,\"随意契約\",#REF!,\"2\",#REF!,\">=2020/4/1\",#REF!,\"<=2021/3/31\",#REF!,\"長期\",#REF!,$C$1)","v":{"$error":"#REF!"}},{"$f":"H10-(C33+D33+E33+F33+G33)","v":{"$error":"#REF!"}},{"$error":"#REF!"}]
["  　うち、公募を実施",null,{"$f":"COUNTIFS(#REF!,\"随意契約\",#REF!,\"3\",#REF!,\">=2020/4/1\",#REF!,\"<=2020/6/30\",#REF!,\"<>長期\",#REF!,$C$1)","v":{"$error":"#REF!"}},{"$f":"COUNTIFS(#REF!,\"随意契約\",#REF!,\"3\",#REF!,\">=2020/7/1\",#REF!,\"<=2020/9/30\",#REF!,\"<>長期\",#REF!,$C$1)","v":{"$error":"#REF!"}},{"$f":"COUNTIFS(#REF!,\"随意契約\",#REF!,\"3\",#REF!,\">=2020/10/1\",#REF!,\"<=2020/12/31\",#REF!,\"<>長期\",#REF!,$C$1)","v":{"$error":"#REF!"}},{"$f":"COUNTIFS(#REF!,\"随意契約\",#REF!,\"3\",#REF!,\">=2021/1/1\",#REF!,\"<=2021/3/31\",#REF!,\"<>長期\",#REF!,$C$1)","v":{"$error":"#REF!"}},{"$f":"COUNTIFS(#REF!,\"随意契約\",#REF!,\"3\",#REF!,\">=2020/4/1\",#REF!,\"<=2021/3/31\",#REF!,\"長期\",#REF!,$C$1)","v":{"$error":"#REF!"}},{"$f":"G11-(C34+D34+E34+F34+G34)","v":{"$error":"#REF!"}},{"$error":"#REF!"}]
[null,null,{"$f":"SUMIFS(#REF!,#REF!,\"随意契約\",#REF!,\"3\",#REF!,\">=2020/4/1\",#REF!,\"<=2020/6/30\",#REF!,\"<>長期\",#REF!,$C$1)","v":{"$error":"#REF!"}},{"$f":"SUMIFS(#REF!,#REF!,\"随意契約\",#REF!,\"3\",#REF!,\">=2020/7/1\",#REF!,\"<=2020/9/30\",#REF!,\"<>長期\",#REF!,$C$1)","v":{"$error":"#REF!"}},{"$f":"SUMIFS(#REF!,#REF!,\"随意契約\",#REF!,\"3\",#REF!,\">=2020/10/1\",#REF!,\"<=2020/12/31\",#REF!,\"<>長期\",#REF!,$C$1)","v":{"$error":"#REF!"}},{"$f":"SUMIFS(#REF!,#REF!,\"随意契約\",#REF!,\"3\",#REF!,\">=2021/1/1\",#REF!,\"<=2021/3/31\",#REF!,\"<>長期\",#REF!,$C$1)","v":{"$error":"#REF!"}},{"$f":"SUMIFS(#REF!,#REF!,\"随意契約\",#REF!,\"3\",#REF!,\">=2020/4/1\",#REF!,\"<=2021/3/31\",#REF!,\"長期\",#REF!,$C$1)","v":{"$error":"#REF!"}},{"$f":"H11-(C35+D35+E35+F35+G35)","v":{"$error":"#REF!"}},{"$error":"#REF!"}]
["競争性のない随意契約",null,{"$f":"C38-C22","v":{"$error":"#REF!"}},{"$error":"#REF!"},{"$error":"#REF!"},{"$error":"#REF!"},{"$error":"#REF!"},{"$error":"#REF!"},{"$error":"#REF!"}]
[null,null,{"$error":"#REF!"},{"$error":"#REF!"},{"$error":"#REF!"},{"$error":"#REF!"},{"$error":"#REF!"},{"$error":"#REF!"},{"$error":"#REF!"}]
["合計",null,{"$f":"COUNTIFS(#REF!,\">=2020/4/1\",#REF!,\"<=2020/6/30\",#REF!,\"<>長期\",#REF!,$C$1)","v":{"$error":"#REF!"}},{"$f":"COUNTIFS(#REF!,\">=2020/7/1\",#REF!,\"<=2020/9/30\",#REF!,\"<>長期\",#REF!,$C$1)","v":{"$error":"#REF!"}},{"$f":"COUNTIFS(#REF!,\">=2020/10/1\",#REF!,\"<=2020/12/31\",#REF!,\"<>長期\",#REF!,$C$1)","v":{"$error":"#REF!"}},{"$f":"COUNTIFS(#REF!,\">=2021/1/1\",#REF!,\"<=2021/3/31\",#REF!,\"<>長期\",#REF!,$C$1)","v":{"$error":"#REF!"}},{"$f":"COUNTIFS(#REF!,\">=2020/4/1\",#REF!,\"<=2021/3/31\",#REF!,\"長期\",#REF!,$C$1)","v":{"$error":"#REF!"}},{"$f":"$G$13-(C38+D38+E38+F38+G38)","v":{"$error":"#REF!"}},{"$error":"#REF!"}]
[null,null,{"$f":"SUMIFS(#REF!,#REF!,\">=2020/4/1\",#REF!,\"<=2020/6/30\",#REF!,\"<>長期\",#REF!,$C$1)","v":{"$error":"#REF!"}},{"$f":"SUMIFS(#REF!,#REF!,\">=2020/7/1\",#REF!,\"<=2020/9/30\",#REF!,\"<>長期\",#REF!,$C$1)","v":{"$error":"#REF!"}},{"$f":"SUMIFS(#REF!,#REF!,\">=2020/10/1\",#REF!,\"<=2020/12/31\",#REF!,\"<>長期\",#REF!,$C$1)","v":{"$error":"#REF!"}},{"$f":"SUMIFS(#REF!,#REF!,\">=2021/1/1\",#REF!,\"<=2021/3/31\",#REF!,\"<>長期\",#REF!,$C$1)","v":{"$error":"#REF!"}},{"$f":"SUMIFS(#REF!,#REF!,\">=2020/4/1\",#REF!,\"<=2021/3/31\",#REF!,\"長期\",#REF!,$C$1)","v":{"$error":"#REF!"}},{"$f":"$H$13-(C39+D39+E39+F39+G39)","v":{"$error":"#REF!"}},{"$error":"#REF!"}]
[]
["【応札者数等の分析】",null,null,null,null,"（単位：件）","金額",null,"（単位：円）"]
["契約方式の区分",null,"応札（応募）者数","公共工事等","物品役務等","合計","公共工事等","物品役務等","合計"]
["競争入札",null,"0者"]
[null,null,"1者",{"$f":"D48+D52","v":{"$error":"#REF!"}},{"$f":"E48+E52","v":{"$error":"#REF!"}},{"$f":"D44+E44","v":{"$error":"#REF!"}},{"$f":"G48+G52","v":{"$error":"#REF!"}},{"$f":"H48+H52","v":{"$error":"#REF!"}},{"$f":"G44+H44","v":{"$error":"#REF!"}}]
[null,null,"2者以上",{"$f":"D49+D53","v":{"$error":"#REF!"}},{"$f":"E49+E53","v":{"$error":"#REF!"}},{"$f":"D45+E45","v":{"$error":"#REF!"}},{"$f":"G49+G53","v":{"$error":"#REF!"}},{"$f":"H49+H53","v":{"$error":"#REF!"}},{"$f":"G45+H45","v":{"$error":"#REF!"}}]
[null,null,"合計",{"$f":"SUM(D44:D45)","v":{"$error":"#REF!"}},{"$error":"#REF!"},{"$error":"#REF!"},{"$error":"#REF!"},{"$error":"#REF!"},{"$error":"#REF!"},{"$f":"IF(I46=H6+H7,\"OK\",\"要確認\")","v":{"$error":"#REF!"}}]
["うち一般競争",null,"0者"]
[null,null,"1者",{"$f":"COUNTIFS(#REF!,\"一般競争\",#REF!,1,#REF!,3,#REF!,$C$1)+COUNTIFS(#REF!,\"一般競争\",#REF!,1,#REF!,4,#REF!,$C$1)","v":{"$error":"#REF!"}},{"$f":"COUNTIFS(#REF!,\"一般競争\",#REF!,1,#REF!,1,#REF!,$C$1)+COUNTIFS(#REF!,\"一般競争\",#REF!,1,#REF!,2,#REF!,$C$1)","v":{"$error":"#REF!"}},{"$f":"D48+E48","v":{"$error":"#REF!"}},{"$f":"SUMIFS(#REF!,#REF!,\"一般競争\",#REF!,3,#REF!,1)+SUMIFS(#REF!,#REF!,\"一般競争\",#REF!,4,#REF!,1)","v":{"$error":"#REF!"}},{"$f":"SUMIFS(#REF!,#REF!,\"一般競争\",#REF!,1,#REF!,1)+SUMIFS(#REF!,#REF!,\"一般競争\",#REF!,2,#REF!,1)","v":{"$error":"#REF!"}},{"$f":"G48+H48","v":{"$error":"#REF!"}},null,null,"1者割合"]
[null,null,"2者以上",{"$f":"COUNTIFS(#REF!,\"一般競争\",#REF!,\">1\",#REF!,3,#REF!,$C$1)+COUNTIFS(#REF!,\"一般競争\",#REF!,\">1\",#REF!,4,#REF!,$C$1)","v":{"$error":"#REF!"}},{"$f":"COUNTIFS(#REF!,\"一般競争\",#REF!,\">1\",#REF!,1,#REF!,$C$1)+COUNTIFS(#REF!,\"一般競争\",#REF!,\">1\",#REF!,2,#REF!,$C$1)","v":{"$error":"#REF!"}},{"$f":"D49+E49","v":{"$error":"#REF!"}},{"$f":"SUMIFS(#REF!,#REF!,\"一般競争\",#REF!,3,#REF!,\">1\")+SUMIFS(#REF!,#REF!,\"一般競争\",#REF!,4,#REF!,\">1\")","v":{"$error":"#REF!"}},{"$f":"SUMIFS(#REF!,#REF!,\"一般競争\",#REF!,1,#REF!,\">1\")+SUMIFS(#REF!,#REF!,\"一般競争\",#REF!,2,#REF!,\">1\")","v":{"$error":"#REF!"}},{"$f":"G49+H49","v":{"$error":"#REF!"}},null,null,"契約件数","契約金額"]
[null,null,"合計",{"$f":"SUM(D47:D49)","v":{"$error":"#REF!"}},{"$f":"SUM(E47:E49)","v":{"$error":"#REF!"}},{"$f":"SUM(F47:F49)","v":{"$error":"#REF!"}},null,null,{"$f":"SUM(I47:I49)","v":{"$error":"#REF!"}},{"$f":"IF(I50=H6,\"OK\",\"要確認\")","v":{"$error":"#REF!"}},"競争入札",{"$f":"F44/F46","v":{"$error":"#REF!"}},{"$f":"I44/I46","v":{"$error":"#REF!"}}]
["うち指名競争",null,"0者",null,null,null,null,null,null,null,"企画競争による随意契約",{"$f":"F56/F58","v":{"$error":"#REF!"}},{"$f":"I56/I58","v":{"$error":"#REF!"}}]
[null,null,"1者",{"$f":"COUNTIFS(#REF!,\"指名競争\",#REF!,1,#REF!,3,#REF!,$C$1)+COUNTIFS(#REF!,\"指名競争\",#REF!,1,#REF!,4,#REF!,$C$1)","v":{"$error":"#REF!"}},{"$f":"COUNTIFS(#REF!,\"指名競争\",#REF!,1,#REF!,1,#REF!,$C$1)+COUNTIFS(#REF!,\"指名競争\",#REF!,1,#REF!,2,#REF!,$C$1)","v":{"$error":"#REF!"}},{"$f":"D52+E52","v":{"$error":"#REF!"}},{"$f":"SUMIFS(#REF!,#REF!,\"指名競争\",#REF!,3,#REF!,1)+SUMIFS(#REF!,#REF!,\"指名競争\",#REF!,4,#REF!,1)","v":{"$error":"#REF!"}},{"$f":"SUMIFS(#REF!,#REF!,\"指名競争\",#REF!,1,#REF!,1)+SUMIFS(#REF!,#REF!,\"指名競争\",#REF!,2,#REF!,1)","v":{"$error":"#REF!"}},{"$f":"G52+H52","v":{"$error":"#REF!"}},null,"公募による随意契約",{"$f":"F60/F62","v":{"$error":"#REF!"}},{"$f":"I60/I62","v":{"$error":"#REF!"}}]
[null,null,"2者以上",{"$f":"COUNTIFS(#REF!,\"指名競争\",#REF!,\">1\",#REF!,3,#REF!,$C$1)+COUNTIFS(#REF!,\"指名競争\",#REF!,\">1\",#REF!,4,#REF!,$C$1)","v":{"$error":"#REF!"}},{"$f":"COUNTIFS(#REF!,\"指名競争\",#REF!,\">1\",#REF!,1,#REF!,$C$1)+COUNTIFS(#REF!,\"指名競争\",#REF!,\">1\",#REF!,2,#REF!,$C$1)","v":{"$error":"#REF!"}},{"$f":"D53+E53","v":{"$error":"#REF!"}},{"$f":"SUMIFS(#REF!,#REF!,\"指名競争\",#REF!,3,#REF!,\">1\")+SUMIFS(#REF!,#REF!,\"指名競争\",#REF!,4,#REF!,\">1\")","v":{"$error":"#REF!"}},{"$f":"SUMIFS(#REF!,#REF!,\"指名競争\",#REF!,1,#REF!,\">1\")+SUMIFS(#REF!,#REF!,\"指名競争\",#REF!,2,#REF!,\">1\")","v":{"$error":"#REF!"}},{"$f":"G53+H53","v":{"$error":"#REF!"}}]
[null,null,"合計",{"$f":"SUM(D51:D53)","v":{"$error":"#REF!"}},{"$f":"SUM(E51:E53)","v":{"$error":"#REF!"}},{"$f":"SUM(F51:F53)","v":{"$error":"#REF!"}},null,null,{"$f":"SUM(I51:I53)","v":{"$error":"#REF!"}},{"$f":"IF(I54=H7,\"OK\",\"要確認\")","v":{"$error":"#REF!"}}]
["企画競争",null,"0者",{"$f":"COUNTIFS(#REF!,\"随意契約\",#REF!,0,#REF!,3,#REF!,1,#REF!,$C$1)+COUNTIFS(#REF!,\"随意契約\",#REF!,0,#REF!,3,#REF!,2,#REF!,$C$1)+COUNTIFS(#REF!,\"随意契約\",#REF!,0,#REF!,4,#REF!,1,#REF!,$C$1)+COUNTIFS(#REF!,\"随意契約\",#REF!,0,#REF!,4,#REF!,2,#REF!,$C$1)","v":{"$error":"#REF!"}},{"$f":"COUNTIFS(#REF!,\"随意契約\",#REF!,0,#REF!,1,#REF!,1,#REF!,$C$1)+COUNTIFS(#REF!,\"随意契約\",#REF!,0,#REF!,1,#REF!,2,#REF!,$C$1)+COUNTIFS(#REF!,\"随意契約\",#REF!,0,#REF!,2,#REF!,1,#REF!,$C$1)+COUNTIFS(#REF!,\"随意契約\",#REF!,0,#REF!,2,#REF!,2,#REF!,$C$1)","v":{"$error":"#REF!"}},{"$f":"D55+E55","v":{"$error":"#REF!"}},null,null,{"$f":"G55+H55","v":0}]
[null,null,"1者",{"$f":"COUNTIFS(#REF!,\"随意契約\",#REF!,1,#REF!,3,#REF!,1,#REF!,$C$1)+COUNTIFS(#REF!,\"随意契約\",#REF!,1,#REF!,3,#REF!,2,#REF!,$C$1)+COUNTIFS(#REF!,\"随意契約\",#REF!,1,#REF!,4,#REF!,1,#REF!,$C$1)+COUNTIFS(#REF!,\"随意契約\",#REF!,1,#REF!,4,#REF!,2,#REF!,$C$1)","v":{"$error":"#REF!"}},{"$f":"COUNTIFS(#REF!,\"随意契約\",#REF!,1,#REF!,1,#REF!,1,#REF!,$C$1)+COUNTIFS(#REF!,\"随意契約\",#REF!,1,#REF!,1,#REF!,2,#REF!,$C$1)+COUNTIFS(#REF!,\"随意契約\",#REF!,1,#REF!,2,#REF!,1,#REF!,$C$1)+COUNTIFS(#REF!,\"随意契約\",#REF!,1,#REF!,2,#REF!,2,#REF!,$C$1)","v":{"$error":"#REF!"}},{"$f":"D56+E56","v":{"$error":"#REF!"}},{"$f":"SUMIFS(#REF!,#REF!,\"随意契約\",#REF!,3,#REF!,1,#REF!,1)+SUMIFS(#REF!,#REF!,\"随意契約\",#REF!,4,#REF!,1,#REF!,1)+SUMIFS(#REF!,#REF!,\"随意契約\",#REF!,3,#REF!,1,#REF!,2)+SUMIFS(#REF!,#REF!,\"随意契約\",#REF!,4,#REF!,1,#REF!,2)","v":{"$error":"#REF!"}},{"$f":"SUMIFS(#REF!,#REF!,\"随意契約\",#REF!,1,#REF!,1,#REF!,1)+SUMIFS(#REF!,#REF!,\"随意契約\",#REF!,2,#REF!,1,#REF!,1)+SUMIFS(#REF!,#REF!,\"随意契約\",#REF!,1,#REF!,1,#REF!,2)+SUMIFS(#REF!,#REF!,\"随意契約\",#REF!,2,#REF!,1,#REF!,2)","v":{"$error":"#REF!"}},{"$f":"G56+H56","v":{"$error":"#REF!"}}]
[null,null,"2者以上",{"$f":"COUNTIFS(#REF!,\"随意契約\",#REF!,\">1\",#REF!,3,#REF!,1,#REF!,$C$1)+COUNTIFS(#REF!,\"随意契約\",#REF!,\">1\",#REF!,3,#REF!,2,#REF!,$C$1)+COUNTIFS(#REF!,\"随意契約\",#REF!,\">1\",#REF!,4,#REF!,1,#REF!,$C$1)+COUNTIFS(#REF!,\"随意契約\",#REF!,\">1\",#REF!,4,#REF!,2,#REF!,$C$1)","v":{"$error":"#REF!"}},{"$f":"COUNTIFS(#REF!,\"随意契約\",#REF!,\">1\",#REF!,1,#REF!,1,#REF!,$C$1)+COUNTIFS(#REF!,\"随意契約\",#REF!,\">1\",#REF!,1,#REF!,2,#REF!,$C$1)+COUNTIFS(#REF!,\"随意契約\",#REF!,\">1\",#REF!,2,#REF!,1,#REF!,$C$1)+COUNTIFS(#REF!,\"随意契約\",#REF!,\">1\",#REF!,2,#REF!,2,#REF!,$C$1)","v":{"$error":"#REF!"}},{"$f":"D57+E57","v":{"$error":"#REF!"}},{"$f":"SUMIFS(#REF!,#REF!,\"随意契約\",#REF!,3,#REF!,\">1\",#REF!,1)+SUMIFS(#REF!,#REF!,\"随意契約\",#REF!,4,#REF!,\">1\",#REF!,1)+SUMIFS(#REF!,#REF!,\"随意契約\",#REF!,3,#REF!,\">1\",#REF!,2)+SUMIFS(#REF!,#REF!,\"随意契約\",#REF!,4,#REF!,\">1\",#REF!,2)","v":{"$error":"#REF!"}},{"$f":"SUMIFS(#REF!,#REF!,\"随意契約\",#REF!,1,#REF!,\">1\",#REF!,1)+SUMIFS(#REF!,#REF!,\"随意契約\",#REF!,2,#REF!,\">1\",#REF!,1)+SUMIFS(#REF!,#REF!,\"随意契約\",#REF!,1,#REF!,\">1\",#REF!,2)+SUMIFS(#REF!,#REF!,\"随意契約\",#REF!,2,#REF!,\">1\",#REF!,2)","v":{"$error":"#REF!"}},{"$f":"G57+H57","v":{"$error":"#REF!"}}]
[null,null,"合計",{"$f":"SUM(D55:D57)","v":{"$error":"#REF!"}},{"$f":"SUM(E55:E57)","v":{"$error":"#REF!"}},{"$f":"SUM(F55:F57)","v":{"$error":"#REF!"}},null,null,{"$f":"SUM(I55:I57)","v":{"$error":"#REF!"}},{"$f":"IF(I58=H10,\"OK\",\"要確認\")","v":{"$error":"#REF!"}}]
["公募",null,"0者",{"$f":"COUNTIFS(#REF!,\"随意契約\",#REF!,0,#REF!,3,#REF!,3,#REF!,$C$1)+COUNTIFS(#REF!,\"随意契約\",#REF!,0,#REF!,4,#REF!,3,#REF!,$C$1)","v":{"$error":"#REF!"}},{"$f":"COUNTIFS(#REF!,\"随意契約\",#REF!,0,#REF!,1,#REF!,3,#REF!,$C$1)+COUNTIFS(#REF!,\"随意契約\",#REF!,0,#REF!,2,#REF!,3,#REF!,$C$1)","v":{"$error":"#REF!"}},{"$f":"D59+E59","v":{"$error":"#REF!"}},null,null,{"$f":"G59+H59","v":0}]
[null,null,"1者",{"$f":"COUNTIFS(#REF!,\"随意契約\",#REF!,1,#REF!,3,#REF!,3,#REF!,$C$1)+COUNTIFS(#REF!,\"随意契約\",#REF!,1,#REF!,4,#REF!,3,#REF!,$C$1)","v":{"$error":"#REF!"}},{"$f":"COUNTIFS(#REF!,\"随意契約\",#REF!,1,#REF!,1,#REF!,3,#REF!,$C$1)+COUNTIFS(#REF!,\"随意契約\",#REF!,1,#REF!,2,#REF!,3,#REF!,$C$1)","v":{"$error":"#REF!"}},{"$f":"D60+E60","v":{"$error":"#REF!"}},{"$f":"SUMIFS(#REF!,#REF!,\"随意契約\",#REF!,3,#REF!,1,#REF!,3)+SUMIFS(#REF!,#REF!,\"随意契約\",#REF!,4,#REF!,1,#REF!,3)","v":{"$error":"#REF!"}},{"$f":"SUMIFS(#REF!,#REF!,\"随意契約\",#REF!,1,#REF!,1,#REF!,3)+SUMIFS(#REF!,#REF!,\"随意契約\",#REF!,2,#REF!,1,#REF!,3)","v":{"$error":"#REF!"}},{"$f":"G60+H60","v":{"$error":"#REF!"}}]
[null,null,"2者以上",{"$f":"COUNTIFS(#REF!,\"随意契約\",#REF!,\">1\",#REF!,3,#REF!,3,#REF!,$C$1)+COUNTIFS(#REF!,\"随意契約\",#REF!,\">1\",#REF!,4,#REF!,3,#REF!,$C$1)","v":{"$error":"#REF!"}},{"$f":"COUNTIFS(#REF!,\"随意契約\",#REF!,\">1\",#REF!,1,#REF!,3,#REF!,$C$1)+COUNTIFS(#REF!,\"随意契約\",#REF!,\">1\",#REF!,2,#REF!,3,#REF!,$C$1)","v":{"$error":"#REF!"}},{"$f":"D61+E61","v":{"$error":"#REF!"}},{"$f":"SUMIFS(#REF!,#REF!,\"随意契約\",#REF!,3,#REF!,\">1\",#REF!,3)+SUMIFS(#REF!,#REF!,\"随意契約\",#REF!,4,#REF!,\">1\",#REF!,3)","v":{"$error":"#REF!"}},{"$f":"SUMIFS(#REF!,#REF!,\"随意契約\",#REF!,1,#REF!,\">1\",#REF!,3)+SUMIFS(#REF!,#REF!,\"随意契約\",#REF!,2,#REF!,\">1\",#REF!,3)","v":{"$error":"#REF!"}},{"$f":"G61+H61","v":{"$error":"#REF!"}}]
[null,null,"合計",{"$f":"SUM(D59:D61)","v":{"$error":"#REF!"}},{"$f":"SUM(E59:E61)","v":{"$error":"#REF!"}},{"$f":"SUM(F59:F61)","v":{"$error":"#REF!"}},null,null,{"$f":"SUM(I59:I61)","v":{"$error":"#REF!"}},{"$f":"IF(I62=H11,\"OK\",\"要確認\")","v":{"$error":"#REF!"}}]
["合計",null,"0者",{"$f":"D55+D59","v":{"$error":"#REF!"}},{"$f":"E55+E59","v":{"$error":"#REF!"}},{"$f":"D63+E63","v":{"$error":"#REF!"}},null,null,{"$f":"G63+H63","v":0}]
[null,null,"1者",{"$f":"D48+D52+D56+D60","v":{"$error":"#REF!"}},{"$f":"E48+E52+E56+E60","v":{"$error":"#REF!"}},{"$f":"D64+E64","v":{"$error":"#REF!"}},{"$f":"G48+G52+G56+G60","v":{"$error":"#REF!"}},{"$f":"H48+H52+H56+H60","v":{"$error":"#REF!"}},{"$f":"G64+H64","v":{"$error":"#REF!"}}]
[null,null,"2者以上",{"$f":"D49+D53+D57+D61","v":{"$error":"#REF!"}},{"$f":"E49+E53+E57+E61","v":{"$error":"#REF!"}},{"$f":"D65+E65","v":{"$error":"#REF!"}},{"$f":"G49+G53+G57+G61","v":{"$error":"#REF!"}},{"$f":"H49+H53+H57+H61","v":{"$error":"#REF!"}},{"$f":"G65+H65","v":{"$error":"#REF!"}}]
[null,null,"合計",{"$f":"SUM(D63:D65)","v":{"$error":"#REF!"}},{"$f":"SUM(E63:E65)","v":{"$error":"#REF!"}},{"$f":"SUM(F63:F65)","v":{"$error":"#REF!"}},null,null,{"$f":"SUM(I63:I65)","v":{"$error":"#REF!"}},{"$f":"IF(I66=H6+H7+H10+H11,\"OK\",\"要確認\")","v":{"$error":"#REF!"}}]
[]
[]
[null,"**"]
[null,"大臣官房会計課（建）"]
[null,"大臣官房会計課（運）"]
[null,"大臣官房官庁営繕部"]
[null,"総合政策局"]
[null,"国土政策局"]
[null,"土地・建設産業局"]
[null,"都市局"]
[null,"水管理・国土保全局"]
[null,"水管理・国土保全局（水資源部）"]
[null,"道路局"]
[null,"住宅局"]
[null,"自動車局"]
[null,"港湾局"]
[null,"航空局"]
[null,"北海道局"]
[null,"国総研（つくば）"]
[null,"国総研（横須賀）"]
[null,"国土交通大学校"]
[null,"国土地理院"]
[null,"海難審判所"]
[null,"東北地方整備局"]
[null,"関東地方整備局"]
[null,"北陸地方整備局"]
[null,"中部地方整備局"]
[null,"近畿地方整備局"]
[null,"中国地方整備局"]
[null,"四国地方整備局"]
[null,"九州地方整備局"]
[null,"東北地方整備局（港湾空港）"]
[null,"関東地方整備局（港湾空港）"]
[null,"北陸地方整備局（港湾空港）"]
[null,"中部地方整備局（港湾空港）"]
[null,"近畿地方整備局（港湾空港）"]
[null,"中国地方整備局（港湾空港）"]
[null,"四国地方整備局（港湾空港）"]
[null,"九州地方整備局（港湾空港）"]
[null,"北海道開発局"]
[null,"北海道運輸局"]
[null,"東北運輸局"]
[null,"関東運輸局"]
[null,"北陸信越運輸局"]
[null,"中部運輸局"]
[null,"近畿運輸局"]
[null,"神戸運輸監理部"]
[null,"中国運輸局"]
[null,"四国運輸局"]
[null,"九州運輸局"]
[null,"東京航空局"]
[null,"大阪航空局"]
[null,"観光庁"]
[null,"*気象*"]
[null,"気象庁本庁"]
[null,"気象研究所"]
[null,"気象衛星センター"]
[null,"札幌管区気象台"]
[null,"仙台管区気象台"]
[null,"東京管区気象台"]
[null,"大阪管区気象台"]
[null,"福岡管区気象台"]
[null,"沖縄気象台"]
[null,"運輸安全委員会"]
[null,"*保安*"]
[null,"海上保安庁本庁"]
[null,"海上保安大学校"]
[null,"海上保安学校"]
[null,"第一管区海上保安本部"]
[null,"第二管区海上保安本部"]
[null,"第三管区海上保安本部"]
[null,"第四管区海上保安本部"]
[null,"第五管区海上保安本部"]
[null,"第六管区海上保安本部"]
[null,"第七管区海上保安本部"]
[null,"第八管区海上保安本部"]
[null,"第九管区海上保安本部"]
[null,"第十管区海上保安本部"]
[null,"第十一管区海上保安本部"]

{"sheet":"物品役務調達（競争入札）","index":2,"n_rows":116,"n_cols":10,"rows_kept":116,"cut":false,"hidden":false,"merged":[]}
["物品役務等の名称及び数量","契約担当官等の氏名並びにその所属する部局の名称及び所在地","契約を締結した日","法人番号","契約の相手方の称号又は名称及び住所","一般競争入札・指名競争入札の別（総合評価の実施）","予定価格","契約金額","落札率（小数点第3位を四捨五入）　　　※自動計算","備考"]
["電子複写機等の賃貸借・保守及び消耗品の供給","支出負担行為担当官\n国土交通省自動車局長  秡川　直也\n東京都千代田区霞が関２－１－３","2021-04-01",2011101020396,"（株）マルミヤ\n東京都新宿区早稲田鶴巻町５５５","一般競争入札",19560499,19544448,99.917941766209537]
["自動車事故の被害者保護対策事業の検討等に関する調査","支出負担行為担当官\n国土交通省自動車局長  秡川　直也\n東京都千代田区霞が関２－１－３","2021-04-01",1010001133490,"（株）エスアイ総合研究所\n東京都港区赤坂６ー１９ー１－２０１","一般競争入札",13381165,12980000,97.002017387873167]
["「自動車損害賠償責任保険システム」の運用保守等","支出負担行為担当官\n国土交通省自動車局長  秡川　直也\n東京都千代田区霞が関２－１－３","2021-04-01",2011101022335,"（株）ランディング\n東京都新宿区荒木町８－１","一般競争入札",10545032,6330786,60.035721086479398]
["無保険車対策の事務処理等に関する業務（単価契約）","支出負担行為担当官\n国土交通省自動車局長  秡川　直也\n東京都千代田区霞が関２－１－３","2021-04-01",2030001092148,"（株）エッグヒューマン\n埼玉県さいたま市西区二ツ宮３０４ー１","一般競争入札",3713490,3088385,83.166643777147641]
["令和３年度自動車損害賠償保障事業システムの保守（４月～１２月）","支出負担行為担当官\n国土交通省自動車局長  秡川　直也\n東京都千代田区霞が関２－１－３","2021-04-01",2011101056358,"（株）ＮＴＴデータ・アイ\n東京都江東区豊洲３ー３ー９","一般競争入札",5210271,4967600,95.342449557806106]
["文書箱の保管等（単価契約）","支出負担行為担当官\n国土交通省自動車局長  秡川　直也\n東京都千代田区霞が関２－１－３","2021-04-01",3011801009341,"太成倉庫（株）\n東京都足立区千住宮元町２８ー６","一般競争入札",2766192,1758438,63.56890627982439]
["事業用自動車総合安全情報システムの保守管理・運用支援等業務","支出負担行為担当官\n国土交通省自動車局長  秡川　直也\n東京都千代田区霞が関２－１－３","2021-04-01",8020001086566,"（株）プリマジェスト\n神奈川県川崎市幸区堀川町５８０","一般競争入札",33059114,32860300,99.398610622172143]
["燃料電池自動車の燃費等調査","支出負担行為担当官\n国土交通省自動車局長  秡川　直也\n東京都千代田区霞が関２－１－３","2021-04-01",9010001024708,"トヨタモビリティサービス（株）\n東京都中央区日本橋浜町２－１２－４","一般競争入札",6005478,4752000,79.127756358444742]
["令和３年度　電気自動車の安全性に関する検討・調査","支出負担行為担当官\n国土交通省自動車局長  秡川　直也\n東京都千代田区霞が関２－１－３","2021-04-01",6012405000493,"（独）自動車技術総合機構交通安全環境研究所\n東京都調布市深大寺東町７－４２－２７","一般競争入札",49389375,39998983,80.987019981524369]
["令和３年度　歩行者頭部保護性能に係る調査及び衝突安全基準に関する海外動向調査","支出負担行為担当官\n国土交通省自動車局長  秡川　直也\n東京都千代田区霞が関２－１－３","2021-04-01",6012405000493,"（独）自動車技術総合機構交通安全環境研究所\n東京都調布市深大寺東町７－４２－２７","一般競争入札",26019741,20565913,79.039653008075675]
["令和３年度　自動運転に関する国際基準策定推進事業【業務委託】","支出負担行為担当官\n国土交通省自動車局長  秡川　直也\n東京都千代田区霞が関２－１－３","2021-04-01",4010005004660,"（公財）日本自動車輸送技術協会\n東京都新宿区四谷３－２－５","一般競争入札",50872286,41638340,81.848769288645684]
["車両安全対策の総合的な推進に関する調査","支出負担行為担当官\n国土交通省自動車局長  秡川　直也\n東京都千代田区霞が関２－１－３","2021-04-01",1010405010435,"（一財）日本自動車研究所\n東京都港区芝大門１－１－３０","一般競争入札",59278332,51695824,87.208634682905711]
["令和３年度　自動車基準・認証制度国際化対策事業【業務委託】","支出負担行為担当官\n国土交通省自動車局長  秡川　直也\n東京都千代田区霞が関２－１－３","2021-04-01",4010005004660,"（公財）日本自動車輸送技術協会\n東京都新宿区四谷３－２－５","一般競争入札（総合評価の実施）",233626452,216554507,92.692631825783153]
["自動車基準・認証制度の国際化をはじめとした国際的な自動車行政の推進に必要な資料等の翻訳業務【単価契約】","支出負担行為担当官\n国土交通省自動車局長  秡川　直也\n東京都千代田区霞が関２－１－３","2021-04-01",5011101006649,"（株）幸美グラフィス\n東京都新宿区市谷田町２－２０－５","一般競争入札",3273050,2028400,61.972777684422788]
["データ通信キット（ＷｉＦｉ）の賃貸借【単価契約】","支出負担行為担当官\n国土交通省自動車局長  秡川　直也\n東京都千代田区霞が関２－１－３","2021-04-01",4010001110223,"（株）ＪＡＬエービーシー\n東京都中央区築地３－３－９","一般競争入札",862600,775868,89.945281706468819]
["自動車安全・環境基準国際標準化推進のための事務処理等に関する業務【単価契約】","支出負担行為担当官\n国土交通省自動車局長  秡川　直也\n東京都千代田区霞が関２－１－３","2021-04-01",2030001092148,"（株）エッグヒューマン\n埼玉県さいたま市西区二ツ宮３０４ー１","一般競争入札",3919795,3156466,80.526303033704565]
["自動運転の基準策定等に関する業務補助派遣業務【単価契約】","支出負担行為担当官\n国土交通省自動車局長  秡川　直也\n東京都千代田区霞が関２－１－３","2021-04-01",1010901035043,"エスアールプランニング（株）\n東京都世田谷区代田２－１０－１７","一般競争入札",12378300,7612654,61.499995960673118]
["後付けペダル踏み間違い急発進抑制装置の性能認定等に係る調査【業務委託】","支出負担行為担当官\n国土交通省自動車局長  秡川　直也\n東京都千代田区霞が関２－１－３","2021-04-01",4010005004660,"（公財）日本自動車輸送技術協会\n東京都新宿区四谷３－２－５","一般競争入札",15107155,13040756,86.321719741407293]
["令和３年度自動運転バス車両の開発促進の業務【業務委託】","支出負担行為担当官\n国土交通省自動車局長  秡川　直也\n東京都千代田区霞が関２－１－３","2021-04-01",9010001027685,"みずほリサーチ＆テクノロジーズ（株）\n東京都千代田区神田錦町２－３","一般競争入札",110024556,109890000,99.877703664625557]
["トナー０３６他の購入（令和３年度）（単価契約）","支出負担行為担当官\n国土交通省自動車局長  秡川　直也\n東京都千代田区霞が関２－１－３","2021-04-01",5010401008297,"キャノンマーケティングジャパン（株）\n東京都港区港南２－１６－６","一般競争入札",98184486,86251968,87.846839672817552]
["自動車登録検査業務等に使用するＯＣＲ申請書等用紙の製造請負業務（単価契約）","支出負担行為担当官\n国土交通省自動車局長  秡川　直也\n東京都千代田区霞が関２－１－３","2021-04-01",5180301013959,"小林クリエイト（株）\n東京都中央区新富１－１８－１","一般競争入札",84143400,61195200,72.727272727272734]
["自動車登録検査関係システムを担当するプロジェクト推進組織(PJMO)に対する支援業務（令和３年度・４年度）","支出負担行為担当官\n国土交通省自動車局長  秡川　直也\n東京都千代田区霞が関２－１－３","2021-04-01",6010001030403,"（株）三菱総合研究所\n東京都千代田区永田町２－１０ー３","一般競争入札",195149130,176000000,90.18743767907138]
["自動車行政に係る一般事務の補助作業【単価契約】","支出負担行為担当官\n国土交通省自動車局長  秡川　直也\n東京都千代田区霞が関２－１－３","2021-04-01",3012401013378,"（株）人材バンク\n東京都武蔵野市中町１ー１７ー３","一般競争入札",2508660,2069644,82.499980069040845]
["令和３年度旅客自動車運送事業者報告情報管理・集計システムの運用保守","支出負担行為担当官\n国土交通省自動車局長  秡川　直也\n東京都千代田区霞が関２－１－３","2021-04-01",7010401052137,"東芝デジタルソリューションズ（株）\n神奈川県川崎市幸区堀川町７２ー３４","一般競争入札",21181600,17600000,83.090984628167845]
["次期審査・リコール課個別業務システム構築に係る調達支援業務（令和３年度）","支出負担行為担当官\n国土交通省自動車局長  秡川　直也\n東京都千代田区霞が関２－１－３","2021-04-01",8010001085296,"アビームコンサルティング（株）\n東京都千代田区丸の内１－４－１","一般競争入札",25265617,23650000,93.60547181570908]
["自動車に関する不具合情報受付等業務【単価契約】","支出負担行為担当官\n国土交通省自動車局長  秡川　直也\n東京都千代田区霞が関２－１－３","2021-04-01",1010901035043,"エスアールプランニング（株）\n東京都世田谷区代田２－１０－１７","一般競争入札",14353322,13961867,97.27272195245115]
["自動車に関する不具合情報受付等補助業務【単価契約】","支出負担行為担当官\n国土交通省自動車局長  秡川　直也\n東京都千代田区霞が関２－１－３","2021-04-01",4030001115443,"（株）エルグッドヒューマー\n埼玉県志木市本町６－２１－９","一般競争入札",6601760,3672229,55.625]
["自動車メーカーから報告のあった自動車の構造・装置に起因した事故・火災情報等、ユーザーから寄せられた不具合情報等に関する分析調査","支出負担行為担当官\n国土交通省自動車局長  秡川　直也\n東京都千代田区霞が関２－１－３","2021-04-01",6012405000493,"（独）自動車技術総合機構交通安全環境研究所\n東京都調布市深大寺東町７－４２－２７","一般競争入札",12994542,7889770,60.716029853149109]
["タカタ製エアバッグリコール改修促進策に係るヘルプデスク運用業務","支出負担行為担当官\n国土交通省自動車局長  秡川　直也\n東京都千代田区霞が関２－１－３","2021-04-01",9011101054264,"（株）アイネットサポート\n東京都豊島区南大塚３－３０－３","一般競争入札",7758520,2194830,28.289287132081892]
["自動車の不具合情報に関する統計・分析調査業務","支出負担行為担当官\n国土交通省自動車局長  秡川　直也\n東京都千代田区霞が関２－１－３","2021-04-01",6012405000493,"（独）自動車技術総合機構交通安全環境研究所\n東京都調布市深大寺東町７－４２－２７","一般競争入札",9562385,2940920,30.755088819368808]
["令和３年度自動車等認証業務に関する補助業務【単価契約】","支出負担行為担当官\n国土交通省自動車局長  秡川　直也\n東京都千代田区霞が関２－１－３","2021-04-01",3012401013378,"（株）人材バンク\n東京都武蔵野市中町１－１７－３","一般競争入札",3300880,3172970,96.124972734543519]
["自動車検査標章の製造（単価契約）","支出負担行為担当官\n国土交通省自動車局長  秡川　直也\n東京都千代田区霞が関２－１－３","2021-04-01",5180301013959,"小林クリエイト（株）\n東京都中央区新富１－１８－１","一般競争入札",364810500,347242500,95.184349134687736]
["令和３年度　自動車検査・整備情報システムのハウジングサービス","支出負担行為担当官\n国土交通省自動車局長  秡川　直也\n東京都千代田区霞が関２－１－３","2021-04-01",7010401022916,"日本電気（株）\n東京都港区芝５－７－１","一般競争入札",18981600,16500000,86.926286509040324]
["令和３年度　自動車検査・整備情報システムの運用保守","支出負担行為担当官\n国土交通省自動車局長  秡川　直也\n東京都千代田区霞が関２－１－３","2021-04-01",7010401022916,"日本電気（株）\n東京都港区芝５－７－１","一般競争入札",95523416,91763892,96.064290665652081]
["セキュリティラベルの製造（単価契約）","支出負担行為担当官\n国土交通省自動車局長  秡川　直也\n東京都千代田区霞が関２－１－３","2021-04-01",7021002028665,"（有）日本特殊ラベル\n神奈川県相模原市緑区大島６７８－７","一般競争入札",12299826,12098086,98.359814195745528]
["自動車の点検整備に関する問い合わせに係るヘルプデスク","支出負担行為担当官\n国土交通省自動車局長  秡川　直也\n東京都千代田区霞が関２－１－３","2021-04-01",9011101054264,"（株）アイネットサポート\n東京都豊島区南大塚３－３０－３","一般競争入札",8448000,4224000,50]
["自動車検査証更新手続のドライブスルー化の導入に関する調査事業請負業務","支出負担行為担当官\n国土交通省自動車局長  秡川　直也\n東京都千代田区霞が関２－１－３","2021-04-01",1013201015327,"社会システム（株）\n東京都渋谷区恵比寿１－２０－２２","一般競争入札",20493000,19800000,96.618357487922708]
["自動車整備業における外国人受入れ状況等に関する調査、分析及びその他請負業務","支出負担行為担当官\n国土交通省自動車局長  秡川　直也\n東京都千代田区霞が関２－１－３","2021-04-01",9011101039249,"（株）オーエムシー\n東京都新宿区四谷４－３４－１","一般競争入札",14008465,11531600,82.318797955379125]
["職権打刻プレートの製造（単価契約）","支出負担行為担当官\n国土交通省自動車局長  秡川　直也\n東京都千代田区霞が関２－１－３","2021-04-01",7021002028665,"（有）日本特殊ラベル\n神奈川県相模原市緑区大島６７８－７","一般競争入札",9550662,9438957,98.830395212394706,"軽自動車検査協会との３者契約。契約金額のうち、国土交通省の負担金は1,054,487,134円。"]
["前検査を実施した自動車の使用者に対する点検・整備の励行を促すハガキの宛先等データ作成及び印刷・発送並びに点検・整備実施状況アンケートの回収及び集計調査","支出負担行為担当官\n国土交通省自動車局長  秡川　直也\n東京都千代田区霞が関２－１－３","2021-04-01",6030001066131,"（株）アズコムデータセキュリティ\n埼玉県秩父市みどりが丘３５","一般競争入札",9222400,7932760,86.016221374045799]
["令和３年度　自動車検査・整備情報システムのネットワーク回線サービス","支出負担行為担当官\n国土交通省自動車局長  秡川　直也\n東京都千代田区霞が関２－１－３","2021-04-01",9011101031552,"ＫＤＤＩ（株）\n東京都新宿区西新宿２－３－２","一般競争入札",3896640,3896640,100]
["令和３年度　自動車検査・整備情報システムの街頭検査端末用無線通信回線サービス","支出負担行為担当官\n国土交通省自動車局長  秡川　直也\n東京都千代田区霞が関２－１－３","2021-04-01",9010401052465,"ソフトバンク（株）\n東京都港区海岸１－７－１","一般競争入札",5011388,4058788,80.991294228265701]
["令和３年度　自動車検査官等研修（単価契約）","支出負担行為担当官\n国土交通省自動車局長  秡川　直也\n東京都千代田区霞が関２－１－３","2021-04-01",1011105001930,"（独）自動車技術総合機構\n東京都新宿区四谷本塩町４－４１","一般競争入札",32386477,31939282,98.619192201732844]
["令和３年度　無車検車両に対する是正の促進に資する使用実態調査","支出負担行為担当官\n国土交通省自動車局長  秡川　直也\n東京都千代田区霞が関２－１－３","2021-04-01",6030001066131,"（株）アズコムデータセキュリティ\n埼玉県秩父市みどりが丘３５","一般競争入札",10027600,9605200,95.787626151820973]
["「「不正改造車を排除する運動」に関するPR用ポスター、リーフレット」・「基準不適合後付マフラー排除に関するPRポスター及びチラシ」の印刷及び発送","支出負担行為担当官\n国土交通省自動車局長  秡川　直也\n東京都千代田区霞が関２－１－３","2021-04-27",1011701012208,"（株）ハップ\n東京都江戸川区松江１－１１－３","一般競争入札",8761678,2928933,33.428904828504315]
["令和３年度 審査・リコール課個別業務システムの上期改修","支出負担行為担当官\n国土交通省自動車局長  秡川　直也\n東京都千代田区霞が関２－１－３","2021-04-28",9010601021385,"（株）エヌ・ティ・ティ・データ\n東京都江東区豊洲３－３－３","一般競争入札",16809960,16478000,98.02521838243517]
["自動車損害賠償保障事業システムの更新における機器調達、環境構築、アプリケーションの改修及び移行","支出負担行為担当官\n国土交通省自動車局長  秡川　直也\n東京都千代田区霞が関２－１－３","2021-05-07",2011101056358,"（株）ＮＴＴデータ・アイ\n東京都江東区豊洲３ー３ー９","一般競争入札",92565297,90200000,97.444725964634458]
["新たな図柄入りナンバープレートの導入に係る有識者検討会等の請負業務","支出負担行為担当官\n国土交通省自動車局長  秡川　直也\n東京都千代田区霞が関２－１－３","2021-05-11",2011101056358,"（株）ＮＴＴデータ・アイ\n東京都江東区豊洲３ー３ー９","一般競争入札",1572082,1474000,93.761012466270842]
["自動車運送事業におけるICTを活用した運行管理の高度化に係る調査事業","支出負担行為担当官\n国土交通省自動車局長  秡川　直也\n東京都千代田区霞が関２－１－３","2021-05-14",9010001174206,"ウイングアーク１ｓｔ（株）\n東京都港区六本木３－２－１","一般競争入札",23960304,23091860,96.375488391132265]
["自動車事故対策調査推進事業","支出負担行為担当官\n国土交通省自動車局長  秡川　直也\n東京都千代田区霞が関２－１－３","2021-05-14",1013201015327,"社会システム（株）\n東京都渋谷区恵比寿１－２０－２２","一般競争入札",6176767,5940000,96.166813480255925]
["自動車検査登録印紙の荷造及び運送（単価契約）","支出負担行為担当官\n国土交通省自動車局長  秡川　直也\n東京都千代田区霞が関２－１－３","2021-05-14",6021001032900,"立入運輸（株）\n東京都新宿区神楽坂６－７３","一般競争入札",3257210,3257210,100]
["新たなニーズに対応した自動車事故被害者救済対策の検討に関する調査","支出負担行為担当官\n国土交通省自動車局長  秡川　直也\n東京都千代田区霞が関２－１－３","2021-05-25",3010001159872,"（株）ナレッジ・マネジメント・ケア研究所\n東京都中央区日本橋富沢町９－１９","一般競争入札",4134958,2670415,64.581429847655045]
["第２７回自動車安全技術国際会議（ＥＳＶ）開催に向けた国際動向及び国内調査【業務委託】","支出負担行為担当官\n国土交通省自動車局長  秡川　直也\n東京都千代田区霞が関２－１－３","2021-05-26",1010405010435,"（一財）日本自動車研究所\n東京都港区芝大門１－１－３０","一般競争入札",26593160,24645958,92.677808880178219]
["記録等事務代行サービスの提供業務","支出負担行為担当官\n国土交通省自動車局長  秡川　直也\n東京都千代田区霞が関２－１－３","2021-06-07",9010601021385,"（株）エヌ・ティ・ティ・データ\n東京都江東区豊洲３ー３ー３","一般競争入札（総合評価の実施）",1985411457,1054487134,53.111768358250188]
["令和３年度自賠責制度広報・啓発用ポスター・リーフレットのデータの制作、印刷","支出負担行為担当官\n国土交通省自動車局長  秡川　直也\n東京都千代田区霞が関２－１－３","2021-06-10",1011701012208,"（株）ハップ\n東京都江戸川区松江１－１１－３","一般競争入札",8839484,5375876,60.816626852879651]
["令和３年度　大型車等の衝突被害軽減ブレーキの国際基準策定に関する検討・調査【業務委託】","支出負担行為担当官\n国土交通省自動車局長  秡川　直也\n東京都千代田区霞が関２－１－３","2021-06-11",6012405000493,"（独）自動車技術総合機構交通安全環境研究所\n東京都調布市深大寺東町７－４２－２７","一般競争入札",31505040,29061371,92.24356166505423]
["産学官連携による高効率次世代大型車両開発促進事業（業務委託）","支出負担行為担当官\n国土交通省自動車局長  秡川　直也\n東京都千代田区霞が関２－１－３","2021-06-17",6012405000493,"（独）自動車技術総合機構交通安全環境研究所\n東京都調布市深大寺東町７－４２－２７","一般競争入札",272666339,271166330,99.449873788784757]
["完成検査の改善・合理化に向けた調査業務","支出負担行為担当官\n国土交通省自動車局長  秡川　直也\n東京都千代田区霞が関２－１－３","2021-06-21",1013201015327,"社会システム（株）\n東京都渋谷区恵比寿１－２０－２２","一般競争入札",9931430,9878000,99.462011009492088]
["過失要件を基準とした自動運転車に求めるべき性能要件の定義に関する調査","支出負担行為担当官\n国土交通省自動車局長  秡川　直也\n東京都千代田区霞が関２－１－３","2021-06-25",6012405000493,"（独）自動車技術総合機構交通安全環境研究所\n東京都調布市深大寺東町７－４２－２７","一般競争入札",19962017,15677377,78.536036714125629]
["健康起因事故防止のための運転者向けスクリーニング検査の活用等促進事業","支出負担行為担当官\n国土交通省自動車局長  秡川　直也\n東京都千代田区霞が関２－１－３","2021-06-30",2011101025379,"ＳＯＭＰＯリスクマネジメント（株）\n東京都新宿区西新宿１－２４－１","一般競争入札",46677315,46310000,99.213075987768363]
["自動車騒音に係る国際基準等の見直しのための調査","支出負担行為担当官\n国土交通省自動車局長  秡川　直也\n東京都千代田区霞が関２－１－３","2021-06-30",6012405000493,"（独）自動車技術総合機構交通安全環境研究所\n東京都調布市深大寺東町７－４２－２７","一般競争入札",7890724,7003339,88.754073770670473]
["令和３年度交通弱者保護を目的とした傷害軽減に関する調査【業務委託】","支出負担行為担当官\n国土交通省自動車局長  秡川　直也\n東京都千代田区霞が関２－１－３","2021-07-02",6012405000493,"（独）自動車技術総合機構交通安全環境研究所\n東京都調布市深大寺東町７－４２－２７","一般競争入札",23490192,19938837,84.881541198130691]
["バス車内事故発生要因調査【業務委託】","支出負担行為担当官\n国土交通省自動車局長  秡川　直也\n東京都千代田区霞が関２－１－３","2021-07-20",1010405010435,"（一財）日本自動車研究所\n東京都港区芝大門１－１－３０","一般競争入札",11293049,10329330,91.466263893834167]
["災害時の電力供給支援に資する電気自動車等の電源品質確保等に関する調査","支出負担行為担当官\n国土交通省自動車局長  秡川　直也\n東京都千代田区霞が関２－１－３","2021-07-20",3010401011971,"三菱ＵＦＪリサーチ＆コンサルティング\n東京都港区虎ノ門５－１１－２","一般競争入札",30113761,29150000,96.799599359240005]
["令和３年度　自動車アセスメント 新たな脚部インパクタ（aPLI）を用いた歩行者脚部保護性能試験に関する基礎調査【業務委託】","支出負担行為担当官\n国土交通省自動車局長  秡川　直也\n東京都千代田区霞が関２－１－３","2021-07-20",1010405010435,"（一財）日本自動車研究所\n東京都港区芝大門１－１－３０","一般競争入札",16131177,14480004,89.764088510094467]
["車載通信装置の標準化のための調査","支出負担行為担当官\n国土交通省自動車局長  秡川　直也\n東京都千代田区霞が関２－１－３","2021-07-28",5010401043352,"マークラインズ（株）\n東京都千代田区永田町２－１１－１","一般競争入札",14922755,9350000,62.655990800626292]
["令和３年度車両の近接視界領域の確認方法に関する調査【業務委託】","支出負担行為担当官\n国土交通省自動車局長  秡川　直也\n東京都千代田区霞が関２－１－３","2021-07-28",6012405000493,"（独）自動車技術総合機構交通安全環境研究所\n東京都調布市深大寺東町７－４２－２７","一般競争入札",21237453,17989457,84.706282810843661]
["「令和３年度自動車点検整備推進運動」に係るＰＲポスター、チラシ、小冊子印刷及び発送業務","支出負担行為担当官\n国土交通省自動車局長  秡川　直也\n東京都千代田区霞が関２－１－３","2021-08-02",5010601023501,"（株）キタジマ\n東京都墨田区立川２－１１－７　両国キタジマビル","一般競争入札",627000,627000,100]
["「自動車の整備前点検結果についての実態調査」等の集計及び分析","支出負担行為担当官\n国土交通省自動車局長  秡川　直也\n東京都千代田区霞が関２－１－３","2021-08-02",1013201015327,"社会システム（株）\n東京等渋谷区恵比寿１－２０－２２","一般競争入札",22167165,22000000,99.245889133770604]
["先進安全自動車（ＡＳＶ）の開発・実用化・普及の促進に関する調査","支出負担行為担当官\n国土交通省自動車局長  秡川　直也\n東京都千代田区霞が関２－１－３","2021-08-02",6012405000493,"（独）自動車技術総合機構交通安全環境研究所\n東京都調布市深大寺東町７－４２－２７","一般競争入札",35584120,32633788,91.708852150903269]
["最近の社会情勢に対応する自動車損害賠償保障制度のあり方の検討に関する調査","支出負担行為担当官\n国土交通省自動車局長  秡川　直也\n東京都千代田区霞が関２－１－３","2021-08-18",1013201015327,"社会システム（株）\n東京等渋谷区恵比寿１－２０－２２","一般競争入札",8434734,6292000,74.596306178712922]
["国際海上コンテナトレーラーに係る事故防止対策推進事業","支出負担行為担当官\n国土交通省自動車局長  秡川　直也\n東京都千代田区霞が関２－１－３","2021-08-18",1013201015327,"社会システム（株）\n東京等渋谷区恵比寿１－２０－２２","一般競争入札",4296086,3960000,92.176925694690468]
["自動車におけるサイバーセキュリティ評価方法等に関する調査【業務委託】","支出負担行為担当官\n国土交通省自動車局長  秡川　直也\n東京都千代田区霞が関２－１－３","2021-08-23",6012405000493,"（独）自動車技術総合機構交通安全環境研究所\n東京都調布市深大寺東町７－４２－２７","一般競争入札",51363890,34984491,68.111062071038617]
["熱線反射・熱線吸収ガラス及び高効率エアコンの実燃費影響評価法に関する調査（業務委託）","支出負担行為担当官\n国土交通省自動車局長  秡川　直也\n東京都千代田区霞が関２－１－３","2021-08-24",1010405010435,"（一財）日本自動車研究所\n東京都港区芝大門１－１－３０","一般競争入札",35923695,32016375,89.123279217240878]
["自動車登録検査関係システムに係るハードウェア等の構築・導入・保守業務","支出負担行為担当官\n国土交通省自動車局長  秡川　直也\n東京都千代田区霞が関２－１－３","2021-08-27",9010601021385,"（株）エヌ・ティ・ティ・データ\n東京都江東区豊洲３－３－９","一般競争入札（総合評価の実施）",11282754146,10991100120,97.41504581039375]
["令和３年度　運転者が高速道路上で衝突の危険性が高い状況に遭遇した場合の運転行動に関する調査【業務委託】","支出負担行為担当官\n国土交通省自動車局長  秡川　直也\n東京都千代田区霞が関２－１－３","2021-08-27",6012405000493,"（独）自動車技術総合機構交通安全環境研究所\n東京都調布市深大寺東町７－４２－２７","一般競争入札",33165894,29744897,89.685195882251804]
["ディーゼル乗量車のＰＮ測定法に関する調査","支出負担行為担当官\n国土交通省自動車局長  秡川　直也\n東京都千代田区霞が関２－１－３","2021-08-31",6012405000493,"（独）自動車技術総合機構交通安全環境研究所\n東京都調布市深大寺東町７－４２－２７","一般競争入札",30141092,26624926,88.334311178904869]
["医工連携による救急自動通報(D-Call Net)事故例調査研究","支出負担行為担当官\n国土交通省自動車局長  秡川　直也\n東京都千代田区霞が関２－１－３","2021-08-31",2010005018547,"（公財）交通事故総合分析センター\n東京都千代田区神田猿楽町２－７－８","一般競争入札",20530629,18557000,90.386904366154582]
["自動運転に関する国内外の動向調査【業務委託】","支出負担行為担当官\n国土交通省自動車局長  秡川　直也\n東京都千代田区霞が関２－１－３","2021-09-06",7010001088960,"デロイトトーマツコンサルティング（同）\n東京都千代田区丸の内３－２－３","一般競争入札",19236860,16495600,85.74996127226585]
["次世代モビリティの安全確保策のあり方調査業務","支出負担行為担当官\n国土交通省自動車局長  秡川　直也\n東京都千代田区霞が関２－１－３","2021-09-09",1010401023102,"ＰｗＣコンサルティング（同）\n東京都千代田区大手町１－２－１","一般競争入札",30757717,21780000,70.811497485330264]
["新たなモビリティの性能調査","支出負担行為担当官\n国土交通省自動車局長  秡川　直也\n東京都千代田区霞が関２－１－３","2021-09-14",6012405000493,"（独）自動車技術総合機構交通安全環境研究所\n東京都調布市深大寺東町７－４２－２７","一般競争入札",36221058,25994647,71.766669543446255]
["リコール届出の分析調査","支出負担行為担当官\n国土交通省自動車局長  秡川　直也\n東京都千代田区霞が関２－１－３","2021-09-16",6012405000493,"（独）自動車技術総合機構交通安全環境研究所\n東京都調布市深大寺東町７－４２－２７","一般競争入札",2364126,2148597,90.8833539329122]
["旅客自動車運送事業者報告情報管理・集計システムのマルチブラウザ対応のための調査・改修業務","支出負担行為担当官\n国土交通省自動車局長  秡川　直也\n東京都千代田区霞が関２－１－３","2021-09-17",9010501031600,"（株）グランドユニット\n東京都台東区浅草橋３－１９－４","一般競争入札",14866830,3619000,24.342781884234903]
["ディーゼル乗用車等の路上走行試験法に関する調査","支出負担行為担当官\n国土交通省自動車局長  秡川　直也\n東京都千代田区霞が関２－１－３","2021-09-30",6012405000493,"（独）自動車技術総合機構交通安全環境研究所\n東京都調布市深大寺東町７－４２－２７","一般競争入札",30258125,28932280,95.618218247165018]
["新たな図柄入りナンバープレートの導入に係る有識者検討会等の請負業務（第７、８、９回）","支出負担行為担当官\n国土交通省自動車局長  秡川　直也\n東京都千代田区霞が関２－１－３","2021-10-05",2011101056358,"（株）ＮＴＴデータ・アイ\n東京都江東区豊洲３ー３ー９","一般競争入札",2384393,2058100,86.315468968412503]
["令和３年度　ユーザー代行車検を受検した自動車ユーザーへの点検整備に関する啓発及び調査・分析","支出負担行為担当官\n国土交通省自動車局長  秡川　直也\n東京都千代田区霞が関２－１－３","2021-10-08",6030001066131,"（株）アズコムデータセキュリティ\n埼玉県秩父市みどりが丘３５","一般競争入札",14168369,13199945,93.16488722166963]
["令和３年度ブレーキホールドの注意喚起に係る調査業務","支出負担行為担当官\n国土交通省自動車局長  秡川　直也\n東京都千代田区霞が関２－１－３","2021-10-11",6012405000493,"（独）自動車技術総合機構交通安全環境研究所\n東京都調布市深大寺東町７－４２－２７","一般競争入札",9691465,8885578,91.684569876690475]
["自動車登録検査関係システムに係る運用業務及びデータセンタ等の提供業務","支出負担行為担当官\n国土交通省自動車局長  秡川　直也\n東京都千代田区霞が関２－１－３","2021-10-25",9010601021385,"（株）エヌ・ティ・ティ・データ\n東京都江東区豊洲３ー３ー３","一般競争入札（総合評価の実施）",2463317557,2191454298,88.963531793639547]
["令和３年度　妊婦向け子育て情報アプリへの自動車等アセスメント情報の広告記事掲載業務","支出負担行為担当官\n国土交通省自動車局長  秡川　直也\n東京都千代田区霞が関２－１－３","2021-10-25",5010001151332,"株式会社エバーセンス\n東京都中央区日本橋久松町４－７","一般競争入札",2151135,1980000,92.04443235780181]
["自動車不具合情報ホットライン広報業務","支出負担行為担当官\n国土交通省自動車局長  秡川　直也\n東京都千代田区霞が関２－１－３","2021-11-16",8010001128633,"タンデムクロス（株）\n東京都中央区湊２－２－８","一般競争入札",2915000,2802800,96.150943396226424]
["ペダル踏み間違い事故要因を踏まえた車両安全対策に関する調査","支出負担行為担当官\n国土交通省自動車局長  秡川　直也\n東京都千代田区霞が関２－１－３","2021-11-17",6012405000493,"（独）自動車技術総合機構交通安全環境研究所\n東京都調布市深大寺東町７－４２－２７","一般競争入札",16463678,14794261,89.859999691441971]
["タイヤの騒音等に係る実態調査","支出負担行為担当官\n国土交通省自動車局長  秡川　直也\n東京都千代田区霞が関２－１－３","2021-11-19",1010405010435,"（一財）日本自動車研究所\n東京都港区芝大門一丁目１－３０","一般競争入札",11099784,8838891,79.631198228722283]
["自動車の永久抹消登録が適正に行われていない者に対する催告葉書の印刷及び発送","支出負担行為担当官\n国土交通省自動車局長  秡川　直也\n東京都千代田区霞が関２－１－３","2021-11-24",9010001001855,"勝美印刷（株）\n東京都文京区白山１－１３－７　アクア白山ビル５Ｆ","一般競争入札",2920122,2752396,94.256198884841112]
["自動車整備技術の高度化に対応する有識者検討会やWGの運営及びその検討に必要な調査の請負業務","支出負担行為担当官\n国土交通省自動車局長  秡川　直也\n東京都千代田区霞が関２－１－３","2021-11-30",7010001088960,"デロイトトーマツコンサルティング合同会社\n東京都千代田区大手町１－２－１","一般競争入札",16176931,14520000,89.757445339910262]
["電気自動車等の一充電走行距離に係るシミュレーション評価に関する調査【業務委託】","支出負担行為担当官\n国土交通省自動車局長  秡川　直也\n東京都千代田区霞が関２－１－３","2021-11-30",1010405010435,"（一財）日本自動車研究所\n東京都港区芝大門１－１－３０","一般競争入札",25130190,23742646,94.478577360537258]
["令和３年度　審査・リコール課個別業務システムの下期改修","支出負担行為担当官\n国土交通省自動車局長  秡川　直也\n東京都千代田区霞が関２－１－３","2021-11-30",9010601021385,"（株）エヌ・ティ・ティ・データ\n東京都江東区豊洲３－３－３","一般競争入札",54379457,53680000,98.713747730140085]
["事故防止対策支援推進事業の事務処理等に関する業務（単価契約）","支出負担行為担当官\n国土交通省自動車局長  秡川　直也\n東京都千代田区霞が関２－１－３","2021-12-01",3012401013378,"（株）人材バンク\n東京都武蔵野市中町１－１７－３","一般競争入札",1520640,1215667,79.944431292087543]
["自動車行政に係る経理事務の補助作業【単価契約】","支出負担行為担当官\n国土交通省自動車局長  秡川　直也\n東京都千代田区霞が関２－１－３","2021-12-01",6013301007723,"（株）ティム・プランニング\n東京都豊島区東池袋４－１４－１","一般競争入札",1303173,1023682,78.55303938924456]
["地域における事業者間連携による自律的取組に係る支援業務","支出負担行為担当官\n国土交通省自動車局長  秡川　直也\n東京都千代田区霞が関２－１－３","2021-12-08",9011101039249,"（株）オーエムシー\n東京都新宿区四谷４－３４－１新宿御苑前アネックスビル","一般競争入札",55185103,49650000,89.969932646497014]
["令和３年度自動車損害賠償保障事業システムの保守（1月～3月）","支出負担行為担当官\n国土交通省自動車局長  秡川　直也\n東京都千代田区霞が関２－１－３","2021-12-23",2011101056358,"（株）ＮＴＴデータ・アイ\n東京都江東区豊洲３ー３ー９","一般競争入札",1904155,1611307,84.620579731999996]
["行政機関の保有車両を対象とした点検・整備実施状況アンケート調査票の印刷、発送及び回収、集計","支出負担行為担当官\n国土交通省自動車局長  秡川　直也\n東京都千代田区霞が関２－１－３","2021-12-27",5010001129122,"（株）ジェイヴイコミュニケーションズ\n東京都中央区銀座７－１５－５","一般競争入札",3354673,1375000,40.987601474122812]
["自動車保有関係手続におけるワンストップサービス（ＯＳＳ）の利便性向上及びデジタル技術を活用した支局等の窓口業務のＢＰＲ実現に向けた調査業務","支出負担行為担当官\n国土交通省自動車局長  秡川　直也\n東京都千代田区霞が関２－１－３","2021-12-27",9010601030238,"（株）クニエ\n東京都千代田区大手町２－３－２","一般競争入札",11559297,9900000,85.645346771520792]
["重量車のカーボンニュートラル化に関する技術動向等調査【業務委託】","支出負担行為担当官\n国土交通省自動車局長  秡川　直也\n東京都千代田区霞が関２－１－３","2021-12-27",1010401000530,"アーサー・ディ・リトル・ジャパン（株）\n東京都港区東新橋１－５－２　汐留シティセンター","一般競争入札",21111118,19948940,94.494948112174825]
["高次脳機能障害広報用リーフレットおよび脳脊髄液減少（漏出）症広報用チラシの印刷及び発送","支出負担行為担当官\n国土交通省自動車局長  秡川　直也\n東京都千代田区霞が関２－１－３","2022-01-06",9010401052465,"（株）報光社\n島根県出雲市平田町９９３","一般競争入札",2981154,2260868,75.838685287643642]
["自動車登録検査関係システムに係るWAN回線の提供及び保守業務","支出負担行為担当官\n国土交通省自動車局長  秡川　直也\n東京都千代田区霞が関２－１－３","2022-01-07",3280001003681,"ソフトバンク（株）\n東京都港区海岸１－７－１","一般競争入札",562696421,189700000,33.712672219040115]
["令和３年度　人間ドライバが運転する車両の挙動分析に関する調査【業務委託】","支出負担行為担当官\n国土交通省自動車局長  秡川　直也\n東京都千代田区霞が関２－１－３","2022-01-11",6012405000493,"（独）自動車技術総合機構交通安全環境研究所\n東京都調布市深大寺東町７－４２－２７","一般競争入札",15133963,12980952,85.773646995172385]
["大雪時の大型車スタック発生メカニズムに関する調査","支出負担行為担当官\n国土交通省自動車局長  秡川　直也\n東京都千代田区霞が関２－１－３","2022-01-13",4210005005077,"（学）福井大学\n福井県福井市文京３－９－１","一般競争入札",11496573,11330000,98.55110736042819]
["令和３年度　自動車検査・整備情報システムの機能強化及び自動車審査高度化施設の更改に伴う対応","支出負担行為担当官\n国土交通省自動車局長  秡川　直也\n東京都千代田区霞が関２－１－３","2022-01-17",7010401022916,"日本電気（株）\n東京都港区芝５－７－１","一般競争入札",72697900,66000000,90.786666464918525]
["自動車事故医療体制整備事業の事務処理等に関する業務（単価契約）","支出負担行為担当官\n国土交通省自動車局長  秡川　直也\n東京都千代田区霞が関２－１－３","2022-01-17",3012401013378,"（株）人材バンク\n東京都武蔵野市中町１－１７－３","一般競争入札",1343850,1260847,0.93823492205000003]
["新たな全国版図柄入りナンバープレートの普及啓発に係る周知ポスター・チラシ等の制作、印刷、発送等の業務","支出負担行為担当官\n国土交通省自動車局長  秡川　直也\n東京都千代田区霞が関２－１－３","2022-01-21",5010601023501,"（株）キタジマ\n東京都墨田区立川２－１１－７","一般競争入札",8456405,6556000,77.527034242092242]
["令和３年度自賠責制度広報・啓発用ポスターの掲示","支出負担行為担当官\n国土交通省自動車局長  秡川　直也\n東京都千代田区霞が関２－１－３","2022-01-27",4011101005503,"協立広告（株）\n東京都新宿区荒木町１３番地８","一般競争入札",2537000,2087800,82.294048087999997]
["熱線反射・熱線吸収ガラス及び高効率エアコンの実燃費影響評価法に関する調査【業務委託】","支出負担行為担当官\n国土交通省自動車局長  秡川　直也\n東京都千代田区霞が関２－１－３","2022-01-31",6012405000493,"（独）自動車技術総合機構交通安全環境研究所\n東京都調布市深大寺東町７－４２－２７","一般競争入札",4286062,4096394,95.57477236680198]
["登録事項等証明書等出力用紙の製造請負業務（単価契約）","支出負担行為担当官\n国土交通省自動車局長  秡川　直也\n東京都千代田区霞が関２－１－３","2022-01-31",5180301013959,"小林クリエイト（株）\n東京都中央区新富１－１８－１","一般競争入札",106300425,59224522,55.714285243920003]
["WEBミーティング及びペーパーレス化を促進するための物品調達業務","支出負担行為担当官\n国土交通省自動車局長  秡川　直也\n東京都千代田区霞が関２－１－３","2022-02-10",1010401011569,"（株）サンポー\n東京都港区新橋５－２９－８","一般競争入札",3449798,3410000,98.846367236000006]
["自動車局自動車情報課レイアウト変更等業務","支出負担行為担当官\n国土交通省自動車局長  秡川　直也\n東京都千代田区霞が関２－１－３","2022-03-04",1010401011569,"（株）サンポー\n東京都港区新橋５－２９－８","一般競争入札",2312420,2283600,98.753686614023408]

{"sheet":"物品役務調達（随意契約）","index":3,"n_rows":85,"n_cols":10,"rows_kept":85,"cut":false,"hidden":false,"merged":[]}
["物品役務等の名称及び数量","契約担当官等の氏名並びにその所属する部局の名称及び所在地","契約を締結した日","法人番号","契約の相手方の称号又は名称及び住所","随意契約によることとした会計法令の根拠条文及び理由","予定価格","契約金額","落札率（小数点第3位を四捨五入）　　　※自動計算","再就職の役員の数"]
["事業用自動車の重大事故に関する事故調査分析研究業務（業務委託）","支出負担行為担当官\n国土交通省自動車局長  秡川　直也\n東京都千代田区霞が関２－１－３","2021-04-01",2010005018547,"（公財）交通事故総合分析センター\n東京都千代田区神田猿楽町２－７－８","公募を実施した結果、参加意思確認書の提出者はいなかったことから、（公財）交通事故総合分析センターは、当該業務を行う唯一の機関と考えられ、会計法第２９条の３第４項「契約の性質又は目的が競争を許さない場合」に該当するため。",56546130,56500000]
["自動運転車の事故に関する事故調査分析研究業務【業務委託】","支出負担行為担当官\n国土交通省自動車局長  秡川　直也\n東京都千代田区霞が関２－１－３","2021-04-28",2010005018547,"（公財）交通事故総合分析センター\n東京都千代田区神田猿楽町２－７－８","公募を実施した結果、参加意思確認書の提出者はいなかったことから、（公財）交通事故総合分析センターは、当該業務を行う唯一の機関と考えられ、会計法第２９条の３第４項「契約の性質又は目的が競争を許さない場合」に該当するため。",40212415,37485164]
["自動車検査登録印紙の製造（単価契約）","支出負担行為担当官\n国土交通省自動車局長  秡川　直也\n東京都千代田区霞が関２－１－３","2021-04-01",6010405003434,"（独）国立印刷局\n東京都港区虎ノ門２－２－５","国立印刷局は、日本銀行券をはじめ国債証券、印紙、郵便切手その他公共上の見地から必要な証券及び印刷物の製造を行うことが規定されている唯一の機関とされており、会計法第２９条の３第４項「契約の性質又は目的が競争を許さない場合」に該当するため。",45185395,45185395]
["自動車検査証等出力用紙の製造請負業務（単価契約）","支出負担行為担当官\n国土交通省自動車局長  秡川　直也\n東京都千代田区霞が関２－１－３","2021-04-01",7010501016231,"凸版印刷（株）\n東京都文京区水道１－３－３","公募を実施した結果、参加意思確認書の提出者はいなかったことから、凸版印刷（株）は、当該業務を行う唯一の機関と考えられ、会計法第２９条の３第４項「契約の性質又は目的が競争を許さない場合」に該当するため。",205606500,205606500]
["自動車登録検査に係る業務フロー改善に関する調査業務","支出負担行為担当官\n国土交通省自動車局長  秡川　直也\n東京都千代田区霞が関２－１－３","2021-04-01",1010401023102,"ＰｗＣコンサルティング（同）\n東京都千代田区大手町１－２－１","企画競争を実施した結果、ＰｗＣコンサルティング（同）は、企画競争委員会において特定された法人であることから、会計法第２９条の３第４項「契約の性質又は目的が競争を許さない場合」に該当するため。",49613091,49500000]
["原付・自転車の事故類型別事故データの購入","支出負担行為担当官\n国土交通省自動車局長  秡川　直也\n東京都千代田区霞が関２－１－３","2021-08-24",2010005018547,"（公財）交通事故総合分析センター\n東京都千代田区神田猿楽町２－７－８","当該法人は、道路交通法（昭和35年６月法律第105号）第108条の13の規定に基づく「交通事故調査分析センター」として指定され、事故類型、事故発生状況等交通事故に係わる網羅的なデータを保有している唯一の者であることから、会計法第２９条の３第４項の契約の性質又は目的が競争を許さない場合に該当するため。",2510475,2510475]
[]
[]
[]
[]
[]
[]
[]
[]
[]
[]
[]
[]
[]
[]
[]
[]
[]
[]
[]
[]
[]
[]
[]
[]
[]
[]
[]
[]
[]
[]
[]
[]
[]
[]
[]
[]
[]
[]
[]
[]
[]
[]
[]
[null,null,null,null,null,null,null,null,{"$f":"IF(AND(AND(G51<>\"\",G51<>0),AND(H51<>\"\",H51<>0)),H51/G51*100,\"\")","v":""}]
[null,null,null,null,null,null,null,null,""]
[null,null,null,null,null,null,null,null,""]
[null,null,null,null,null,null,null,null,""]
[null,null,null,null,null,null,null,null,""]
[null,null,null,null,null,null,null,null,""]
[null,null,null,null,null,null,null,null,""]
[null,null,null,null,null,null,null,null,""]
[null,null,null,null,null,null,null,null,""]
[null,null,null,null,null,null,null,null,""]
[null,null,null,null,null,null,null,null,""]
[null,null,null,null,null,null,null,null,""]
[null,null,null,null,null,null,null,null,""]
[null,null,null,null,null,null,null,null,""]
[null,null,null,null,null,null,null,null,""]
[null,null,null,null,null,null,null,null,""]
[null,null,null,null,null,null,null,null,""]
[null,null,null,null,null,null,null,null,""]
[null,null,null,null,null,null,null,null,""]
[null,null,null,null,null,null,null,null,""]
[null,null,null,null,null,null,null,null,""]
[null,null,null,null,null,null,null,null,""]
[null,null,null,null,null,null,null,null,""]
[null,null,null,null,null,null,null,null,""]
[null,null,null,null,null,null,null,null,""]
[null,null,null,null,null,null,null,null,""]
[null,null,null,null,null,null,null,null,""]
[null,null,null,null,null,null,null,null,""]
[null,null,null,null,null,null,null,null,""]
[null,null,null,null,null,null,null,null,""]
[null,null,null,null,null,null,null,null,""]
[null,null,null,null,null,null,null,null,""]
[null,null,null,null,null,null,null,null,""]
[null,null,null,null,null,null,null,null,""]
[null,null,null,null,null,null,null,null,""]