{"text_format":"1","workbook":"xlsx","n_sheets":77,"sheets":["シート表示切替","選択リスト設定","一次E換算","CO2換算係数","E単価","気温","下水温度","積雪日数","係数・物性","配管摩擦抵抗線図(不要)","ポンプ選定(参考・不要)","ポンプ効率近似式","蓄熱槽容量関数","HP性能曲線","冷却塔消費電力関数","価格関数","下水温度・流量月別(不要)","入力シート","熱需要量算定・原単位","熱需要量算定_月別時間別(不要)","融雪熱需要量算定","下水熱ポテンシャル","マッチング","下水熱_RC","下水熱_蓄熱槽容量","下水熱_空調_熱源容量","下水熱_IC","空気熱源_給湯・空調_RC","空気熱源_給湯・空調_熱源容量","空気熱源_給湯・空調_IC","比較対象_既存_空気熱源_給湯・空調_RC","比較対象_既存_空気熱源_給湯・空調_熱源容量","比較対象_既存_空気熱源_給湯・空調_IC","残り需要_既存_空気熱源_給湯・空調_RC","残り需要_既存_空気熱源_給湯・空調_熱源容量","残り需要_既存_空気熱源_給湯・空調_IC","比較対象_既存_燃料_給湯_RC","比較対象_既存_燃料_給湯_熱源容量","比較対象_既存_燃料_給湯_IC","残り需要_既存_燃料_給湯_RC","残り需要_既存_燃料_給湯_熱源容量","残り需要_既存_燃料_給湯_IC","比較対象_既存_燃料_空調_RC","比較対象_既存_燃料_空調_熱源容量","比較対象_既存_燃料_空調_IC","残り需要_既存_燃料_空調_RC","残り需要_既存_燃料_空調_熱源容量","残り需要_既存_燃料_空調_IC","比較対象_既存_燃料_融雪_RC","比較対象_既存_燃料_融雪_IC","残り需要_既存_燃料_融雪_RC","残り需要_既存_燃料_融雪_IC","太陽熱_ポテンシャル・RC・IC","太陽熱_月平均給水温度","太陽熱_月平均水平面日射量","太陽熱_日射時平均気温","太陽熱_傾斜角による日射量倍率","太陽光_全日集熱効率_関数","太陽熱_晴天日日数","地中熱_RC","地中熱_蓄熱槽容量","地中熱_空調_熱源容量","地中熱_IC","バイオマス熱ポテンシャル","バイオマス熱_給湯_RC","バイオマス熱_給湯_熱源容量","バイオマス熱_給湯_IC","バイオマス熱_空調_RC","バイオマス熱_空調_熱源容量","バイオマス熱_空調_IC","バイオマス熱_融雪_RC","バイオマス熱_融雪_IC","バイオマス燃料情報","（参考）バイオマスボイラ効率(不要)","入力シート_0301","投資回収年数","結果"],"not_rendered":{"charts":128,"images":14,"macros":1,"external_links":0,"defined_names":41,"comments":0,"pivot_tables":0},"unopened":[],"bounds":{"document_bytes":16777216,"sheet_cells":100000,"rows_first":2000,"rows_last":500,"rows_between":2000,"halvings":0,"cell_chars":16384,"cell_head_chars":4096},"cells_cut":0,"cells_raw":0,"read":"whole","date_system":"1900"}

{"sheet":"シート表示切替","index":0,"n_rows":78,"n_cols":8,"rows_kept":78,"cut":false,"hidden":true,"merged":[]}
["シート数",{"$f":"MAX(A:A)","v":75}]
["No","シート名","表示フラグ：提供時","表示フラグ：作成時","必要なところだけ"]
[0,"シート表示切替",1,0,0]
[1,"入力シート",0,0,0]
[2,"選択リスト設定",1,0,1,null,"【定義】"]
[3,"一次E換算",1,0,1,null,"熱需要量","：施設で空調、給湯、融雪等に必要な熱量"]
[4,"CO2換算係数",1,0,1,null,"下水熱ポテンシャル","：下水のもつ熱量"]
[5,"E単価",1,0,1,null,"下水熱利用可能量","：下水熱ポテンシャルを利用して施設側で利用可能な熱量"]
[6,"気温",1,0,1,null,"下水熱利用量","：熱需要量と下水熱利用可能量のマッチングの結果、熱需要量のうち下水熱利用システムで賄える熱量"]
[7,"下水温度",1,0,1]
[8,"積雪日数",1,0,1]
[9,"係数・物性",1,0,1]
[10,"配管摩擦抵抗線図(不要)",1,0,1]
[11,"ポンプ選定(参考・不要)",1,0,1]
[12,"ポンプ効率近似式",1,0,1]
[13,"蓄熱槽容量関数",1,0,1]
[14,"HP性能曲線",1,0,1]
[15,"冷却塔消費電力関数",1,0,1]
[16,"価格関数",1,0,1]
[17,"下水温度・流量月別(不要)",1,0,1]
[18,"熱需要量算定・原単位",1,0,1]
[19,"熱需要量算定_月別時間別(不要)",1,0,1]
[20,"融雪熱需要量算定",1,0,1]
[21,"下水熱ポテンシャル",1,0,1]
[22,"マッチング",1,0,1]
[23,"下水熱_RC",1,0,1]
[24,"下水熱_蓄熱槽容量",1,0,1]
[25,"下水熱_空調_熱源容量",1,0,1]
[26,"下水熱_IC",1,0,1]
[27,"太陽熱_ポテンシャル・RC・IC",1,0,1]
[28,"太陽熱_月平均給水温度",1,0,1]
[29,"太陽熱_月平均水平面日射量",1,0,1]
[30,"太陽熱_日射時平均気温",1,0,1]
[31,"太陽熱_傾斜角による日射量倍率",1,0,1]
[32,"太陽光_全日集熱効率_関数",1,0,1]
[33,"太陽熱_晴天日日数",1,0,1]
[34,"地中熱_RC",1,0,1]
[35,"地中熱_蓄熱槽容量",1,0,1]
[36,"地中熱_空調_熱源容量",1,0,1]
[37,"地中熱_IC",1,0,1]
[38,"空気熱源_給湯・空調_RC",1,0,1]
[39,"空気熱源_給湯・空調_熱源容量",1,0,1]
[40,"空気熱源_給湯・空調_IC",1,0,1]
[41,"比較対象_既存_空気熱源_給湯・空調_RC",1,0,1]
[42,"比較対象_既存_空気熱源_給湯・空調_熱源容量",1,0,1]
[43,"比較対象_既存_空気熱源_給湯・空調_IC",1,0,1]
[44,"残り需要_既存_空気熱源_給湯・空調_RC",1,0,1]
[45,"残り需要_既存_空気熱源_給湯・空調_熱源容量",1,0,1]
[46,"残り需要_既存_空気熱源_給湯・空調_IC",1,0,1]
[47,"比較対象_既存_燃料_給湯_RC",1,0,1]
[48,"比較対象_既存_燃料_給湯_熱源容量",1,0,1]
[49,"比較対象_既存_燃料_給湯_IC",1,0,1]
[50,"残り需要_既存_燃料_給湯_RC",1,0,1]
[51,"残り需要_既存_燃料_給湯_熱源容量",1,0,1]
[52,"残り需要_既存_燃料_給湯_IC",1,0,1]
[53,"比較対象_既存_燃料_空調_RC",1,0,1]
[54,"比較対象_既存_燃料_空調_熱源容量",1,0,1]
[55,"比較対象_既存_燃料_空調_IC",1,0,1]
[56,"残り需要_既存_燃料_空調_RC",1,0,1]
[57,"残り需要_既存_燃料_空調_熱源容量",1,0,1]
[58,"残り需要_既存_燃料_空調_IC",1,0,1]
[59,"比較対象_既存_燃料_融雪_RC",1,0,1]
[60,"比較対象_既存_燃料_融雪_IC",1,0,1]
[61,"残り需要_既存_燃料_融雪_RC",1,0,1]
[62,"残り需要_既存_燃料_融雪_IC",1,0,1]
[63,"投資回収年数",1,0,0]
[64,"結果",1,0,0]
[65,"バイオマス熱ポテンシャル",1,0,1]
[66,"バイオマス熱_空調_RC",1,0,1]
[67,"バイオマス熱_空調_熱源容量",1,0,1]
[68,"バイオマス熱_空調_IC",1,0,1]
[69,"バイオマス熱_給湯_RC",1,0,1]
[70,"バイオマス熱_給湯_熱源容量",1,0,1]
[71,"バイオマス熱_給湯_IC",1,0,1]
[72,"バイオマス熱_融雪_RC",1,0,1]
[73,"バイオマス熱_融雪_IC",1,0,1]
[74,"バイオマス燃料情報",1,0,1]
[75,"（参考）バイオマスボイラ効率(不要)",1,0,1]

{"sheet":"選択リスト設定","index":1,"n_rows":10,"n_cols":14,"rows_kept":10,"cut":false,"hidden":true,"merged":[]}
["熱利用用途",null,"既存設備",null,null,null,null,"補助金設定",null,"下水熱利用方式"]
["熱利用用途",null,"既存設備選択リスト","[給湯の場合]","[空調の場合]","[融雪の場合]",null,"補助率",null,"下水熱利用方式",null,"バイオマス燃料",null,"下水熱量の設定方法選択"]
["給湯",null,{"$f":"IF(入力シート!$C$8=\"給湯\",選択リスト設定!D3,IF(入力シート!$C$8=\"空調\",選択リスト設定!E3,IF(入力シート!$C$8=\"融雪\",選択リスト設定!F3,\"\")))","v":""},"燃料方式","燃料方式","燃料方式",null,"3分の1",null,"管路外",null,{"$f":"バイオマス燃料情報!B4","v":"木質チップ"},null,"下水流量と下水温度を入力"]
["空調",null,{"$f":"IF(入力シート!$C$8=\"給湯\",選択リスト設定!D4,IF(入力シート!$C$8=\"空調\",選択リスト設定!E4,IF(入力シート!$C$8=\"融雪\",選択リスト設定!F4,\"\")))","v":""},"電気方式","電気方式",{"$f":"\"\"","v":""},null,"2分の1",null,"管路内",null,{"$f":"バイオマス燃料情報!B5","v":"木質ペレット"},null,"下水熱ポテンシャルを入力"]
["融雪",null,{"$f":"IF(入力シート!$C$8=\"給湯\",選択リスト設定!D5,IF(入力シート!$C$8=\"空調\",選択リスト設定!E5,IF(入力シート!$C$8=\"融雪\",選択リスト設定!F5,\"\")))","v":""}," "," "," ",null,"3分の2",null,"処理水（再生水）",null,{"$f":"バイオマス燃料情報!B6","v":0}]
[null,null,null,null,null,null,null,"10分の5.5"]
[]
[]
[null,null,null,"燃料方式（ボイラ、給湯器）","燃料方式（吸収式+ボイラ、吸収式冷温水機等）"]
[null,null,null,"電気方式（空冷ヒートポンプ等）","電気方式（空冷ヒートポンプ等）"]

{"sheet":"一次E換算","index":2,"n_rows":9,"n_cols":4,"rows_kept":9,"cut":false,"hidden":true,"merged":[]}
["■一次エネルギー換算係数"]
["電気及び燃料の種類","値","単位","単位"]
["電気",9.76,"GJ/MWh","MJ/kWh"]
["都市ガス（13A）",45,"GJ/km3","MJ/m3"]
["灯油",37,"GJ/kL","MJ/L"]
["重油",41,"GJ/kL","MJ/L"]
["液化石油ガス（LPG）",50,"GJ/t","MJ/kg"]
["他人から供給された熱",1.36,"GJ/GJ","MJ/MJ"]
["出典：建築物エネルギー消費性能基準等を定める省令における算出方法等に係る事項\n（平成 28 年１月 29 日国土交通省告示第 265 号）、別表第一"]

{"sheet":"CO2換算係数","index":3,"n_rows":10,"n_cols":5,"rows_kept":10,"cut":false,"hidden":true,"merged":[]}
["■CO2換算係数"]
["電気及び燃料の種類","値","単位","単位","備考"]
["電気",{"$f":"入力シート!C34","v":4.8799999999999999E-4},"tCO2/kWh","tCO2/kWh","令和2年度用"]
["都市ガス（13A）",2.23,"tCO2/km3","kgCO2/m3"]
["灯油",2.4900000000000002,"tCO2/kL","kgCO2/L"]
["重油",2.71,"tCO2/kL","kgCO2/L"]
["液化石油ガス（LPG）",3,"tCO2/t","kgCO2/kg"]
["他人から供給された熱",5.7000000000000002E-2,"tCO2/GJ","kgCO2/MJ"]
["出典：算定・報告・公表制度における算定方法・排出係数一覧、環境省"]
["https://ghg-santeikohyo.env.go.jp/calc"]

{"sheet":"E単価","index":4,"n_rows":44,"n_cols":14,"rows_kept":44,"cut":false,"hidden":true,"merged":[]}
[null,"■エネルギー料金単価の設定"]
[]
[null,"□電力",null,null,null,null,"■エネルギー単価表","↓ここの値を使用して計算"]
[null,"電灯電力総合単価（一般電気事業者）",20.8,"円/kWh","※",null,"項目","料金単価","単位","料金","単位","使用量","単位","料金単価(デフォ値）"]
[null,"BDASH単価",14,"円/kWh","※※",null,"電気料金",{"$f":"IF(L5=\"\",N5,J5/L5)","v":14},"円/kWh",{"$f":"IF(入力シート!C24=\"有り\",入力シート!C26,\"\")","v":""},"円/年",{"$f":"IF(入力シート!C24=\"有り\",入力シート!E26,\"\")","v":""},"kWh/年",{"$f":"C7","v":14}]
[null,null,null,null,null,null,"都市ガス（13A）",{"$f":"IF(L6=\"\",N6,J6/L6)","v":114.64285714285714},"円/m3",{"$f":"IF(AND(入力シート!$C$24=\"有り\",入力シート!$C$16=E単価!G6),入力シート!$C$27,\"\")","v":""},"円/年",{"$f":"IF(AND(入力シート!$C$24=\"有り\",入力シート!$C$16=E単価!G6),入力シート!$E$27,\"\")","v":""},"m3/年",{"$f":"C14","v":114.64285714285714}]
[null,"電気料金単価",{"$f":"C5","v":14},"円/kWh",null,null,"灯油",107.88888888888889,"円/L",{"$f":"IF(AND(入力シート!$C$24=\"有り\",入力シート!$C$16=E単価!G7),入力シート!$C$27,\"\")","v":""},"円/年",{"$f":"IF(AND(入力シート!$C$24=\"有り\",入力シート!$C$16=E単価!G7),入力シート!$E$27,\"\")","v":""},"L/年",{"$f":"C18","v":107.88888888888889}]
[null,"※EDMCエネルギー経済統計要覧(2015年)より",null,null,null,null,"重油",{"$f":"IF(L8=\"\",N8,J8/L8)","v":76.099999999999994},"円/L",{"$f":"IF(AND(入力シート!$C$24=\"有り\",入力シート!$C$16=E単価!G8),入力シート!$C$27,\"\")","v":""},"円/年",{"$f":"IF(AND(入力シート!$C$24=\"有り\",入力シート!$C$16=E単価!G8),入力シート!$E$27,\"\")","v":""},"L/年",{"$f":"C29","v":76.099999999999994}]
[null,"※※BDASH事業料金単価",null,null,null,null,"液化石油ガス（LPG）",{"$f":"IF(L9=\"\",N9,J9/L9)","v":159.40476190476193},"円/kg",{"$f":"IF(AND(入力シート!$C$24=\"有り\",入力シート!$C$16=E単価!G9),入力シート!$C$27,\"\")","v":""},"円/年",{"$f":"IF(AND(入力シート!$C$24=\"有り\",入力シート!$C$16=E単価!G9),入力シート!$E$27,\"\")","v":""},"kg/年",{"$f":"C36","v":159.40476190476193}]
[null,"□都市ガス",null,null,null,null,"他人から供給された熱",6611.9047619047615,"円/GJ",{"$f":"IF(AND(入力シート!$C$24=\"有り\",入力シート!$C$16=E単価!G10),入力シート!$C$27,\"\")","v":""},"円/年",{"$f":"IF(AND(入力シート!$C$24=\"有り\",入力シート!$C$16=E単価!G10),入力シート!$E$27,\"\")","v":""},"GJ/年",{"$f":"C43","v":6611.9047619047615}]
[null,"都市ガス総合単価（一般ガス事業者）",10.7,"円/千kcal","※",null,"※燃料種別を選択してください。",null,null,null,null,null,"　","↑EDMCエネルギー経済統計要覧(2015年)等より算出"]
[null,null,{"$f":"C11/4.2","v":2.5476190476190474},"円/MJ"]
[null,"都市ガス発熱量",{"$f":"一次E換算!B4","v":45},"MJ/m3"]
[null,"都市ガス単価",{"$f":"C12*C13","v":114.64285714285714},"円/m3"]
[null,"※EDMCエネルギー経済統計要覧(2015年)より"]
[null,"□灯油"]
[null,"小口・小売販売単価",1942,"円/18L","※"]
[null,"灯油単価",{"$f":"C17/18","v":107.88888888888889},"円/L"]
[null,"※EDMCエネルギー経済統計要覧(2015年)より"]
[null,"□A重油"]
[null,"卸売価格",6.26,"円/千kcal","※"]
[null,null,{"$f":"C21/4.2","v":1.4904761904761903},"円/MJ","※"]
[null,"A重油発熱量",{"$f":"一次E換算!B6","v":41},"MJ/L","※"]
[null,"A重油単価",{"$f":"C22*C23","v":61.1095238095238},"円/L","※"]
[]
[null,"A重油単価（大型ローリー）",71.8,"円/L","●2019年"]
[null,"A重油単価（小型ローリー）",80.400000000000006,"円/L","●2019年"]
[null,"A重油単価（大型小型平均）",{"$f":"AVERAGE(C26:C27)","v":76.099999999999994},"円/L","平均"]
[null,"A重油単価",{"$f":"C28","v":76.099999999999994},"円/L"]
[null,"※EDMCエネルギー経済統計要覧(2015年)より"]
[null,"●新電力ネットHPより（https://pps-net.org/industrial）"]
[null,"□LPG"]
[null,"卸売価格",13.39,"円/千kcal","※"]
[null,null,{"$f":"C33/4.2","v":3.1880952380952383},"円/MJ"]
[null,"LPG発熱量",{"$f":"一次E換算!B7","v":50},"MJ/kg"]
[null,"質量単価",{"$f":"C34*C35","v":159.40476190476193},"円/kg"]
[null,"LPG密度",2.0747,"kg/m3"]
[null,"体積単価",{"$f":"C36*C37","v":330.71705952380955},"円/m3"]
[null,"※EDMCエネルギー経済統計要覧(2015年)より"]
[null,"□熱供給総合単価"]
[null,"熱供給総合単価",27.77,"円/千kcal","※"]
[null,null,{"$f":"C41/4.2","v":6.6119047619047615},"円/MJ"]
[null,null,{"$f":"C42*1000","v":6611.9047619047615},"円/GJ"]
[null,"※EDMCエネルギー経済統計要覧(2015年)より"]

{"sheet":"気温","index":5,"n_rows":53,"n_cols":15,"rows_kept":53,"cut":false,"hidden":true,"merged":[]}
[null,"■気温データ（地域選択）"]
[null,"都道府県","1月","2月","3月","4月","5月","6月","7月","8月","9月","10月","11月","12月","年間平均"]
[null,{"$f":"入力シート!C7","v":0},{"$f":"VLOOKUP($B$3,$B$6:$N$53,2,FALSE)","v":{"$error":"#N/A"}},{"$f":"VLOOKUP($B$3,$B$6:$N$53,3,FALSE)","v":{"$error":"#N/A"}},{"$f":"VLOOKUP($B$3,$B$6:$N$53,4,FALSE)","v":{"$error":"#N/A"}},{"$f":"VLOOKUP($B$3,$B$6:$N$53,5,FALSE)","v":{"$error":"#N/A"}},{"$f":"VLOOKUP($B$3,$B$6:$N$53,6,FALSE)","v":{"$error":"#N/A"}},{"$f":"VLOOKUP($B$3,$B$6:$N$53,7,FALSE)","v":{"$error":"#N/A"}},{"$f":"VLOOKUP($B$3,$B$6:$N$53,8,FALSE)","v":{"$error":"#N/A"}},{"$f":"VLOOKUP($B$3,$B$6:$N$53,9,FALSE)","v":{"$error":"#N/A"}},{"$f":"VLOOKUP($B$3,$B$6:$N$53,10,FALSE)","v":{"$error":"#N/A"}},{"$f":"VLOOKUP($B$3,$B$6:$N$53,11,FALSE)","v":{"$error":"#N/A"}},{"$f":"VLOOKUP($B$3,$B$6:$N$53,12,FALSE)","v":{"$error":"#N/A"}},{"$f":"VLOOKUP($B$3,$B$6:$N$53,13,FALSE)","v":{"$error":"#N/A"}},{"$f":"AVERAGE(C3:N3)","v":{"$error":"#N/A"}}]
[null,"[1]気象庁ダウンロードデータhttps://www.data.jma.go.jp/gmd/risk/obsdl/index.php（県庁所在地の平年値を使用）"]
[null,"■気温データ",null,null,null,null,null,null,null,null,null,null,null,"単位：℃"]
[null,"都道府県","1月","2月","3月","4月","5月","6月","7月","8月","9月","10月","11月","12月"]
[null,"北海道",-3.6,-3.1,0.6,7.1,12.4,16.7,20.5,22.3,18.100000000000001,11.8,4.9000000000000004,-0.9]
[null,"青森県",-1.2,-0.7,2.4,8.3000000000000007,13.3,17.2,21.1,23.3,19.3,13.1,6.8,1.5]
[null,"岩手県",-1.9,-1.2,2.2000000000000002,8.6,14,18.3,21.8,23.4,18.7,12.1,5.9,1]
[null,"宮城県",1.6,2,4.9000000000000004,10.3,15,18.5,22.2,24.2,20.7,15.2,9.4,4.5]
[null,"秋田県",0.1,0.5,3.6,9.6,14.6,19.2,22.9,24.9,20.399999999999999,14,7.9,2.9]
[null,"山形県",-0.4,0.1,3.5,10.1,15.7,19.8,23.3,24.9,20.100000000000001,13.6,7.4,2.6]
[null,"福島県",1.6,2.2000000000000002,5.3,11.5,16.600000000000001,20.100000000000001,23.6,25.4,21.1,15.1,9.1999999999999993,4.4000000000000004]
[null,"茨城県",3,3.6,6.7,12,16.399999999999999,19.7,23.5,25.2,21.7,16,10.4,5.4]
[null,"栃木県",2.5,3.3,6.8,12.5,17.2,20.6,24.2,25.6,21.9,16.100000000000001,10.1,4.9000000000000004]
[null,"群馬県",3.5,4,7.3,13.2,18,21.5,25.1,26.4,22.4,16.5,10.8,6]
[null,"埼玉県",3.6,4.4000000000000004,7.8,13.4,18,21.5,25.1,26.6,22.7,16.899999999999999,11,5.9]
[null,"千葉県",5.7,6.1,8.9,14,18.3,21.3,25,26.7,23.3,18,12.9,8.3000000000000007]
[null,"東京都",5.2,5.7,8.6999999999999993,13.9,18.2,21.4,25,26.4,22.8,17.5,12.1,7.6]
[null,"神奈川県",5.9,6.2,9.1,14.2,18.3,21.3,25,26.7,23.3,18,13,8.5]
[null,"新潟県",2.4,2.7,5.7,11,16.399999999999999,20.5,24.3,26.4,22.5,16.3,10.3,5.2]
[null,"富山県",2.7,3,6.3,12.1,17,20.9,24.9,26.6,22.3,16.399999999999999,10.8,5.7]
[null,"石川県",3.8,3.9,6.9,12.5,17.100000000000001,21.2,25.3,27,22.7,17.100000000000001,11.5,6.7]
[null,"福井県",3,3.4,6.8,12.8,17.7,21.6,25.6,27.2,22.7,16.600000000000001,11,5.9]
[null,"山梨県",2.8,4.3,8,13.8,18.3,21.9,25.5,26.6,22.8,16.5,10.4,5]
[null,"長野県",-0.6,0.1,3.8,10.6,16,20.100000000000001,23.8,25.2,20.6,13.9,7.5,2.1]
[null,"岐阜県",4.4000000000000004,5.0999999999999996,8.6,14.4,19,22.8,26.5,28,24.1,18.100000000000001,12.2,6.9]
[null,"静岡県",6.7,7.3,10.3,14.9,18.8,22,25.7,27,24.1,18.899999999999999,13.9,9]
[null,"愛知県",4.5,5.2,8.6999999999999993,14.4,18.899999999999999,22.7,26.4,27.8,24.1,18.100000000000001,12.2,7]
[null,"三重県",5.3,5.6,8.5,14,18.600000000000001,22.4,26.3,27.5,24,18.3,12.7,7.8]
[null,"滋賀県",3.9,4.2,7.3,13,17.899999999999999,21.9,25.8,27.1,23.2,17,11.3,6.3]
[null,"京都府",4.5999999999999996,5.0999999999999996,8.4,14.2,19,23,26.8,28.2,24.1,17.8,12.1,7]
[null,"大阪府",6,6.3,9.4,15.1,19.7,23.5,27.4,28.8,25,19,13.6,8.6]
[null,"兵庫県",5.8,6.1,9.3000000000000007,14.9,19.399999999999999,23.2,26.8,28.3,25.2,19.3,13.9,8.6999999999999993]
[null,"奈良県",3.9,4.4000000000000004,7.6,13.4,18,21.9,25.8,26.9,22.9,16.600000000000001,11.1,6.2]
[null,"和歌山県",6,6.4,9.5,14.9,19.3,23,27,28.1,24.7,18.8,13.5,8.5]
[null,"鳥取県",4,4.4000000000000004,7.5,13,17.7,21.7,25.7,27,22.6,16.7,11.6,6.8]
[null,"島根県",4.3,4.7,7.6,12.9,17.5,21.3,25.3,26.8,22.6,16.8,11.6,6.9]
[null,"岡山県",4.9000000000000004,5.5,8.8000000000000007,14.5,19.3,23.3,27.2,28.3,24.4,18.100000000000001,12.3,7.3]
[null,"広島県",5.2,6,9.1,14.7,19.3,23,27.1,28.2,24.4,18.3,12.5,7.5]
[null,"山口県",4.0999999999999996,5.4,8.5,13.8,18.399999999999999,22.4,26,27,23.4,17.100000000000001,11.5,6.2]
[null,"徳島県",6.1,6.5,9.6,14.8,19.2,22.7,26.6,27.8,24.5,18.899999999999999,13.5,8.5]
[null,"香川県",5.5,5.9,8.9,14.4,19.100000000000001,23,27,28.1,24.3,18.399999999999999,12.8,7.9]
[null,"愛媛県",6,6.5,9.5,14.6,19,22.7,26.9,27.8,24.3,18.7,13.3,8.4]
[null,"高知県",6.3,7.5,10.8,15.6,19.7,22.9,26.7,27.5,24.7,19.3,13.8,8.5]
[null,"福岡県",6.6,7.4,10.4,15.1,19.399999999999999,23,27.2,28.1,24.4,19.2,13.8,8.9]
[null,"佐賀県",5.4,6.7,9.9,15,19.5,23.3,26.8,27.8,24.2,18.600000000000001,12.9,7.6]
[null,"長崎県",7,7.9,10.9,15.4,19.399999999999999,22.8,26.8,27.9,24.8,19.7,14.3,9.4]
[null,"熊本県",5.7,7.1,10.6,15.7,20.2,23.6,27.3,28.2,24.9,19.100000000000001,13.1,7.8]
[null,"大分県",6.2,6.9,9.6999999999999993,14.5,18.8,22.4,26.5,27.3,23.9,18.600000000000001,13.4,8.5]
[null,"宮崎県",7.5,8.6,11.9,16.100000000000001,19.899999999999999,23.1,27.3,27.2,24.4,19.399999999999999,14.3,9.6]
[null,"鹿児島県",8.5,9.8000000000000007,12.5,16.899999999999999,20.8,24,28.1,28.5,26.1,21.2,15.9,10.6]
[null,"沖縄県",17,17.100000000000001,18.899999999999999,21.4,24,26.8,28.9,28.7,27.6,25.2,22.1,18.7]

{"sheet":"下水温度","index":6,"n_rows":53,"n_cols":17,"rows_kept":53,"cut":false,"hidden":true,"merged":[]}
[null,"■下水温度データ（地域選択）"]
[null,"都道府県","1月","2月","3月","4月","5月","6月","7月","8月","9月","10月","11月","12月"]
[null,{"$f":"入力シート!C7","v":0},{"$f":"VLOOKUP($B$3,$B$6:$N$53,2,FALSE)","v":{"$error":"#N/A"}},{"$f":"VLOOKUP($B$3,$B$6:$N$53,3,FALSE)","v":{"$error":"#N/A"}},{"$f":"VLOOKUP($B$3,$B$6:$N$53,4,FALSE)","v":{"$error":"#N/A"}},{"$f":"VLOOKUP($B$3,$B$6:$N$53,5,FALSE)","v":{"$error":"#N/A"}},{"$f":"VLOOKUP($B$3,$B$6:$N$53,6,FALSE)","v":{"$error":"#N/A"}},{"$f":"VLOOKUP($B$3,$B$6:$N$53,7,FALSE)","v":{"$error":"#N/A"}},{"$f":"VLOOKUP($B$3,$B$6:$N$53,8,FALSE)","v":{"$error":"#N/A"}},{"$f":"VLOOKUP($B$3,$B$6:$N$53,9,FALSE)","v":{"$error":"#N/A"}},{"$f":"VLOOKUP($B$3,$B$6:$N$53,10,FALSE)","v":{"$error":"#N/A"}},{"$f":"VLOOKUP($B$3,$B$6:$N$53,11,FALSE)","v":{"$error":"#N/A"}},{"$f":"VLOOKUP($B$3,$B$6:$N$53,12,FALSE)","v":{"$error":"#N/A"}},{"$f":"VLOOKUP($B$3,$B$6:$N$53,13,FALSE)","v":{"$error":"#N/A"}}]
[]
[null,"■下水温度データ",null,null,null,null,null,null,null,null,null,null,null,"単位：℃"]
[null,"都道府県","1月","2月","3月","4月","5月","6月","7月","8月","9月","10月","11月","12月",null,"a",0.44]
[null,"北海道",{"$f":"$Q$6*気温!C7+$Q$7","v":14.136000000000001},{"$f":"$Q$6*気温!D7+$Q$7","v":14.356},{"$f":"$Q$6*気温!E7+$Q$7","v":15.984},{"$f":"$Q$6*気温!F7+$Q$7","v":18.844000000000001},{"$f":"$Q$6*気温!G7+$Q$7","v":21.176000000000002},{"$f":"$Q$6*気温!H7+$Q$7","v":23.068000000000001},{"$f":"$Q$6*気温!I7+$Q$7","v":24.740000000000002},{"$f":"$Q$6*気温!J7+$Q$7","v":25.532000000000004},{"$f":"$Q$6*気温!K7+$Q$7","v":23.684000000000001},{"$f":"$Q$6*気温!L7+$Q$7","v":20.911999999999999},{"$f":"$Q$6*気温!M7+$Q$7","v":17.876000000000001},{"$f":"$Q$6*気温!N7+$Q$7","v":15.324},null,"b",15.72]
[null,"青森県",{"$f":"$Q$6*気温!C8+$Q$7","v":15.192},{"$f":"$Q$6*気温!D8+$Q$7","v":15.412000000000001},{"$f":"$Q$6*気温!E8+$Q$7","v":16.776},{"$f":"$Q$6*気温!F8+$Q$7","v":19.372},{"$f":"$Q$6*気温!G8+$Q$7","v":21.572000000000003},{"$f":"$Q$6*気温!H8+$Q$7","v":23.288},{"$f":"$Q$6*気温!I8+$Q$7","v":25.004000000000001},{"$f":"$Q$6*気温!J8+$Q$7","v":25.972000000000001},{"$f":"$Q$6*気温!K8+$Q$7","v":24.212000000000003},{"$f":"$Q$6*気温!L8+$Q$7","v":21.484000000000002},{"$f":"$Q$6*気温!M8+$Q$7","v":18.712},{"$f":"$Q$6*気温!N8+$Q$7","v":16.38}]
[null,"岩手県",{"$f":"$Q$6*気温!C9+$Q$7","v":14.884},{"$f":"$Q$6*気温!D9+$Q$7","v":15.192},{"$f":"$Q$6*気温!E9+$Q$7","v":16.688000000000002},{"$f":"$Q$6*気温!F9+$Q$7","v":19.504000000000001},{"$f":"$Q$6*気温!G9+$Q$7","v":21.880000000000003},{"$f":"$Q$6*気温!H9+$Q$7","v":23.771999999999998},{"$f":"$Q$6*気温!I9+$Q$7","v":25.312000000000001},{"$f":"$Q$6*気温!J9+$Q$7","v":26.015999999999998},{"$f":"$Q$6*気温!K9+$Q$7","v":23.948},{"$f":"$Q$6*気温!L9+$Q$7","v":21.044},{"$f":"$Q$6*気温!M9+$Q$7","v":18.316000000000003},{"$f":"$Q$6*気温!N9+$Q$7","v":16.16},null,"下水熱ポテンシャルマップ作成の手引より"]
[null,"宮城県",{"$f":"$Q$6*気温!C10+$Q$7","v":16.423999999999999},{"$f":"$Q$6*気温!D10+$Q$7","v":16.600000000000001},{"$f":"$Q$6*気温!E10+$Q$7","v":17.876000000000001},{"$f":"$Q$6*気温!F10+$Q$7","v":20.252000000000002},{"$f":"$Q$6*気温!G10+$Q$7","v":22.32},{"$f":"$Q$6*気温!H10+$Q$7","v":23.86},{"$f":"$Q$6*気温!I10+$Q$7","v":25.488},{"$f":"$Q$6*気温!J10+$Q$7","v":26.368000000000002},{"$f":"$Q$6*気温!K10+$Q$7","v":24.828000000000003},{"$f":"$Q$6*気温!L10+$Q$7","v":22.408000000000001},{"$f":"$Q$6*気温!M10+$Q$7","v":19.856000000000002},{"$f":"$Q$6*気温!N10+$Q$7","v":17.7}]
[null,"秋田県",{"$f":"$Q$6*気温!C11+$Q$7","v":15.764000000000001},{"$f":"$Q$6*気温!D11+$Q$7","v":15.940000000000001},{"$f":"$Q$6*気温!E11+$Q$7","v":17.304000000000002},{"$f":"$Q$6*気温!F11+$Q$7","v":19.944000000000003},{"$f":"$Q$6*気温!G11+$Q$7","v":22.143999999999998},{"$f":"$Q$6*気温!H11+$Q$7","v":24.167999999999999},{"$f":"$Q$6*気温!I11+$Q$7","v":25.795999999999999},{"$f":"$Q$6*気温!J11+$Q$7","v":26.676000000000002},{"$f":"$Q$6*気温!K11+$Q$7","v":24.695999999999998},{"$f":"$Q$6*気温!L11+$Q$7","v":21.880000000000003},{"$f":"$Q$6*気温!M11+$Q$7","v":19.196000000000002},{"$f":"$Q$6*気温!N11+$Q$7","v":16.996000000000002}]
[null,"山形県",{"$f":"$Q$6*気温!C12+$Q$7","v":15.544},{"$f":"$Q$6*気温!D12+$Q$7","v":15.764000000000001},{"$f":"$Q$6*気温!E12+$Q$7","v":17.260000000000002},{"$f":"$Q$6*気温!F12+$Q$7","v":20.164000000000001},{"$f":"$Q$6*気温!G12+$Q$7","v":22.628},{"$f":"$Q$6*気温!H12+$Q$7","v":24.432000000000002},{"$f":"$Q$6*気温!I12+$Q$7","v":25.972000000000001},{"$f":"$Q$6*気温!J12+$Q$7","v":26.676000000000002},{"$f":"$Q$6*気温!K12+$Q$7","v":24.564},{"$f":"$Q$6*気温!L12+$Q$7","v":21.704000000000001},{"$f":"$Q$6*気温!M12+$Q$7","v":18.975999999999999},{"$f":"$Q$6*気温!N12+$Q$7","v":16.864000000000001}]
[null,"福島県",{"$f":"$Q$6*気温!C13+$Q$7","v":16.423999999999999},{"$f":"$Q$6*気温!D13+$Q$7","v":16.688000000000002},{"$f":"$Q$6*気温!E13+$Q$7","v":18.052},{"$f":"$Q$6*気温!F13+$Q$7","v":20.78},{"$f":"$Q$6*気温!G13+$Q$7","v":23.024000000000001},{"$f":"$Q$6*気温!H13+$Q$7","v":24.564},{"$f":"$Q$6*気温!I13+$Q$7","v":26.103999999999999},{"$f":"$Q$6*気温!J13+$Q$7","v":26.896000000000001},{"$f":"$Q$6*気温!K13+$Q$7","v":25.004000000000001},{"$f":"$Q$6*気温!L13+$Q$7","v":22.364000000000001},{"$f":"$Q$6*気温!M13+$Q$7","v":19.768000000000001},{"$f":"$Q$6*気温!N13+$Q$7","v":17.656000000000002}]
[null,"茨城県",{"$f":"$Q$6*気温!C14+$Q$7","v":17.04},{"$f":"$Q$6*気温!D14+$Q$7","v":17.304000000000002},{"$f":"$Q$6*気温!E14+$Q$7","v":18.667999999999999},{"$f":"$Q$6*気温!F14+$Q$7","v":21},{"$f":"$Q$6*気温!G14+$Q$7","v":22.936},{"$f":"$Q$6*気温!H14+$Q$7","v":24.387999999999998},{"$f":"$Q$6*気温!I14+$Q$7","v":26.060000000000002},{"$f":"$Q$6*気温!J14+$Q$7","v":26.808},{"$f":"$Q$6*気温!K14+$Q$7","v":25.268000000000001},{"$f":"$Q$6*気温!L14+$Q$7","v":22.76},{"$f":"$Q$6*気温!M14+$Q$7","v":20.295999999999999},{"$f":"$Q$6*気温!N14+$Q$7","v":18.096}]
[null,"栃木県",{"$f":"$Q$6*気温!C15+$Q$7","v":16.82},{"$f":"$Q$6*気温!D15+$Q$7","v":17.172000000000001},{"$f":"$Q$6*気温!E15+$Q$7","v":18.712},{"$f":"$Q$6*気温!F15+$Q$7","v":21.22},{"$f":"$Q$6*気温!G15+$Q$7","v":23.288},{"$f":"$Q$6*気温!H15+$Q$7","v":24.783999999999999},{"$f":"$Q$6*気温!I15+$Q$7","v":26.368000000000002},{"$f":"$Q$6*気温!J15+$Q$7","v":26.984000000000002},{"$f":"$Q$6*気温!K15+$Q$7","v":25.356000000000002},{"$f":"$Q$6*気温!L15+$Q$7","v":22.804000000000002},{"$f":"$Q$6*気温!M15+$Q$7","v":20.164000000000001},{"$f":"$Q$6*気温!N15+$Q$7","v":17.876000000000001}]
[null,"群馬県",{"$f":"$Q$6*気温!C16+$Q$7","v":17.260000000000002},{"$f":"$Q$6*気温!D16+$Q$7","v":17.48},{"$f":"$Q$6*気温!E16+$Q$7","v":18.932000000000002},{"$f":"$Q$6*気温!F16+$Q$7","v":21.527999999999999},{"$f":"$Q$6*気温!G16+$Q$7","v":23.64},{"$f":"$Q$6*気温!H16+$Q$7","v":25.18},{"$f":"$Q$6*気温!I16+$Q$7","v":26.764000000000003},{"$f":"$Q$6*気温!J16+$Q$7","v":27.335999999999999},{"$f":"$Q$6*気温!K16+$Q$7","v":25.576000000000001},{"$f":"$Q$6*気温!L16+$Q$7","v":22.98},{"$f":"$Q$6*気温!M16+$Q$7","v":20.472000000000001},{"$f":"$Q$6*気温!N16+$Q$7","v":18.36}]
[null,"埼玉県",{"$f":"$Q$6*気温!C17+$Q$7","v":17.304000000000002},{"$f":"$Q$6*気温!D17+$Q$7","v":17.656000000000002},{"$f":"$Q$6*気温!E17+$Q$7","v":19.152000000000001},{"$f":"$Q$6*気温!F17+$Q$7","v":21.616},{"$f":"$Q$6*気温!G17+$Q$7","v":23.64},{"$f":"$Q$6*気温!H17+$Q$7","v":25.18},{"$f":"$Q$6*気温!I17+$Q$7","v":26.764000000000003},{"$f":"$Q$6*気温!J17+$Q$7","v":27.423999999999999},{"$f":"$Q$6*気温!K17+$Q$7","v":25.707999999999998},{"$f":"$Q$6*気温!L17+$Q$7","v":23.155999999999999},{"$f":"$Q$6*気温!M17+$Q$7","v":20.560000000000002},{"$f":"$Q$6*気温!N17+$Q$7","v":18.316000000000003}]
[null,"千葉県",{"$f":"$Q$6*気温!C18+$Q$7","v":18.228000000000002},{"$f":"$Q$6*気温!D18+$Q$7","v":18.404},{"$f":"$Q$6*気温!E18+$Q$7","v":19.636000000000003},{"$f":"$Q$6*気温!F18+$Q$7","v":21.880000000000003},{"$f":"$Q$6*気温!G18+$Q$7","v":23.771999999999998},{"$f":"$Q$6*気温!H18+$Q$7","v":25.091999999999999},{"$f":"$Q$6*気温!I18+$Q$7","v":26.72},{"$f":"$Q$6*気温!J18+$Q$7","v":27.468},{"$f":"$Q$6*気温!K18+$Q$7","v":25.972000000000001},{"$f":"$Q$6*気温!L18+$Q$7","v":23.64},{"$f":"$Q$6*気温!M18+$Q$7","v":21.396000000000001},{"$f":"$Q$6*気温!N18+$Q$7","v":19.372}]
[null,"東京都",{"$f":"$Q$6*気温!C19+$Q$7","v":18.008000000000003},{"$f":"$Q$6*気温!D19+$Q$7","v":18.228000000000002},{"$f":"$Q$6*気温!E19+$Q$7","v":19.548000000000002},{"$f":"$Q$6*気温!F19+$Q$7","v":21.836000000000002},{"$f":"$Q$6*気温!G19+$Q$7","v":23.728000000000002},{"$f":"$Q$6*気温!H19+$Q$7","v":25.135999999999999},{"$f":"$Q$6*気温!I19+$Q$7","v":26.72},{"$f":"$Q$6*気温!J19+$Q$7","v":27.335999999999999},{"$f":"$Q$6*気温!K19+$Q$7","v":25.752000000000002},{"$f":"$Q$6*気温!L19+$Q$7","v":23.42},{"$f":"$Q$6*気温!M19+$Q$7","v":21.044},{"$f":"$Q$6*気温!N19+$Q$7","v":19.064}]
[null,"神奈川県",{"$f":"$Q$6*気温!C20+$Q$7","v":18.316000000000003},{"$f":"$Q$6*気温!D20+$Q$7","v":18.448},{"$f":"$Q$6*気温!E20+$Q$7","v":19.724},{"$f":"$Q$6*気温!F20+$Q$7","v":21.968},{"$f":"$Q$6*気温!G20+$Q$7","v":23.771999999999998},{"$f":"$Q$6*気温!H20+$Q$7","v":25.091999999999999},{"$f":"$Q$6*気温!I20+$Q$7","v":26.72},{"$f":"$Q$6*気温!J20+$Q$7","v":27.468},{"$f":"$Q$6*気温!K20+$Q$7","v":25.972000000000001},{"$f":"$Q$6*気温!L20+$Q$7","v":23.64},{"$f":"$Q$6*気温!M20+$Q$7","v":21.44},{"$f":"$Q$6*気温!N20+$Q$7","v":19.46}]
[null,"新潟県",{"$f":"$Q$6*気温!C21+$Q$7","v":16.776},{"$f":"$Q$6*気温!D21+$Q$7","v":16.908000000000001},{"$f":"$Q$6*気温!E21+$Q$7","v":18.228000000000002},{"$f":"$Q$6*気温!F21+$Q$7","v":20.560000000000002},{"$f":"$Q$6*気温!G21+$Q$7","v":22.936},{"$f":"$Q$6*気温!H21+$Q$7","v":24.740000000000002},{"$f":"$Q$6*気温!I21+$Q$7","v":26.411999999999999},{"$f":"$Q$6*気温!J21+$Q$7","v":27.335999999999999},{"$f":"$Q$6*気温!K21+$Q$7","v":25.62},{"$f":"$Q$6*気温!L21+$Q$7","v":22.892000000000003},{"$f":"$Q$6*気温!M21+$Q$7","v":20.252000000000002},{"$f":"$Q$6*気温!N21+$Q$7","v":18.008000000000003}]
[null,"富山県",{"$f":"$Q$6*気温!C22+$Q$7","v":16.908000000000001},{"$f":"$Q$6*気温!D22+$Q$7","v":17.04},{"$f":"$Q$6*気温!E22+$Q$7","v":18.492000000000001},{"$f":"$Q$6*気温!F22+$Q$7","v":21.044},{"$f":"$Q$6*気温!G22+$Q$7","v":23.200000000000003},{"$f":"$Q$6*気温!H22+$Q$7","v":24.916},{"$f":"$Q$6*気温!I22+$Q$7","v":26.676000000000002},{"$f":"$Q$6*気温!J22+$Q$7","v":27.423999999999999},{"$f":"$Q$6*気温!K22+$Q$7","v":25.532000000000004},{"$f":"$Q$6*気温!L22+$Q$7","v":22.936},{"$f":"$Q$6*気温!M22+$Q$7","v":20.472000000000001},{"$f":"$Q$6*気温!N22+$Q$7","v":18.228000000000002}]
[null,"石川県",{"$f":"$Q$6*気温!C23+$Q$7","v":17.391999999999999},{"$f":"$Q$6*気温!D23+$Q$7","v":17.436},{"$f":"$Q$6*気温!E23+$Q$7","v":18.756},{"$f":"$Q$6*気温!F23+$Q$7","v":21.22},{"$f":"$Q$6*気温!G23+$Q$7","v":23.244},{"$f":"$Q$6*気温!H23+$Q$7","v":25.048000000000002},{"$f":"$Q$6*気温!I23+$Q$7","v":26.852},{"$f":"$Q$6*気温!J23+$Q$7","v":27.6},{"$f":"$Q$6*気温!K23+$Q$7","v":25.707999999999998},{"$f":"$Q$6*気温!L23+$Q$7","v":23.244},{"$f":"$Q$6*気温!M23+$Q$7","v":20.78},{"$f":"$Q$6*気温!N23+$Q$7","v":18.667999999999999}]
[null,"福井県",{"$f":"$Q$6*気温!C24+$Q$7","v":17.04},{"$f":"$Q$6*気温!D24+$Q$7","v":17.216000000000001},{"$f":"$Q$6*気温!E24+$Q$7","v":18.712},{"$f":"$Q$6*気温!F24+$Q$7","v":21.352},{"$f":"$Q$6*気温!G24+$Q$7","v":23.507999999999999},{"$f":"$Q$6*気温!H24+$Q$7","v":25.224000000000004},{"$f":"$Q$6*気温!I24+$Q$7","v":26.984000000000002},{"$f":"$Q$6*気温!J24+$Q$7","v":27.688000000000002},{"$f":"$Q$6*気温!K24+$Q$7","v":25.707999999999998},{"$f":"$Q$6*気温!L24+$Q$7","v":23.024000000000001},{"$f":"$Q$6*気温!M24+$Q$7","v":20.560000000000002},{"$f":"$Q$6*気温!N24+$Q$7","v":18.316000000000003}]
[null,"山梨県",{"$f":"$Q$6*気温!C25+$Q$7","v":16.952000000000002},{"$f":"$Q$6*気温!D25+$Q$7","v":17.612000000000002},{"$f":"$Q$6*気温!E25+$Q$7","v":19.240000000000002},{"$f":"$Q$6*気温!F25+$Q$7","v":21.792000000000002},{"$f":"$Q$6*気温!G25+$Q$7","v":23.771999999999998},{"$f":"$Q$6*気温!H25+$Q$7","v":25.356000000000002},{"$f":"$Q$6*気温!I25+$Q$7","v":26.94},{"$f":"$Q$6*気温!J25+$Q$7","v":27.423999999999999},{"$f":"$Q$6*気温!K25+$Q$7","v":25.752000000000002},{"$f":"$Q$6*気温!L25+$Q$7","v":22.98},{"$f":"$Q$6*気温!M25+$Q$7","v":20.295999999999999},{"$f":"$Q$6*気温!N25+$Q$7","v":17.920000000000002}]
[null,"長野県",{"$f":"$Q$6*気温!C26+$Q$7","v":15.456000000000001},{"$f":"$Q$6*気温!D26+$Q$7","v":15.764000000000001},{"$f":"$Q$6*気温!E26+$Q$7","v":17.391999999999999},{"$f":"$Q$6*気温!F26+$Q$7","v":20.384},{"$f":"$Q$6*気温!G26+$Q$7","v":22.76},{"$f":"$Q$6*気温!H26+$Q$7","v":24.564},{"$f":"$Q$6*気温!I26+$Q$7","v":26.192},{"$f":"$Q$6*気温!J26+$Q$7","v":26.808},{"$f":"$Q$6*気温!K26+$Q$7","v":24.783999999999999},{"$f":"$Q$6*気温!L26+$Q$7","v":21.836000000000002},{"$f":"$Q$6*気温!M26+$Q$7","v":19.02},{"$f":"$Q$6*気温!N26+$Q$7","v":16.644000000000002}]
[null,"岐阜県",{"$f":"$Q$6*気温!C27+$Q$7","v":17.656000000000002},{"$f":"$Q$6*気温!D27+$Q$7","v":17.963999999999999},{"$f":"$Q$6*気温!E27+$Q$7","v":19.504000000000001},{"$f":"$Q$6*気温!F27+$Q$7","v":22.056000000000001},{"$f":"$Q$6*気温!G27+$Q$7","v":24.08},{"$f":"$Q$6*気温!H27+$Q$7","v":25.752000000000002},{"$f":"$Q$6*気温!I27+$Q$7","v":27.380000000000003},{"$f":"$Q$6*気温!J27+$Q$7","v":28.04},{"$f":"$Q$6*気温!K27+$Q$7","v":26.324000000000002},{"$f":"$Q$6*気温!L27+$Q$7","v":23.684000000000001},{"$f":"$Q$6*気温!M27+$Q$7","v":21.088000000000001},{"$f":"$Q$6*気温!N27+$Q$7","v":18.756}]
[null,"静岡県",{"$f":"$Q$6*気温!C28+$Q$7","v":18.667999999999999},{"$f":"$Q$6*気温!D28+$Q$7","v":18.932000000000002},{"$f":"$Q$6*気温!E28+$Q$7","v":20.252000000000002},{"$f":"$Q$6*気温!F28+$Q$7","v":22.276},{"$f":"$Q$6*気温!G28+$Q$7","v":23.992000000000001},{"$f":"$Q$6*気温!H28+$Q$7","v":25.4},{"$f":"$Q$6*気温!I28+$Q$7","v":27.027999999999999},{"$f":"$Q$6*気温!J28+$Q$7","v":27.6},{"$f":"$Q$6*気温!K28+$Q$7","v":26.324000000000002},{"$f":"$Q$6*気温!L28+$Q$7","v":24.036000000000001},{"$f":"$Q$6*気温!M28+$Q$7","v":21.836000000000002},{"$f":"$Q$6*気温!N28+$Q$7","v":19.68}]
[null,"愛知県",{"$f":"$Q$6*気温!C29+$Q$7","v":17.7},{"$f":"$Q$6*気温!D29+$Q$7","v":18.008000000000003},{"$f":"$Q$6*気温!E29+$Q$7","v":19.548000000000002},{"$f":"$Q$6*気温!F29+$Q$7","v":22.056000000000001},{"$f":"$Q$6*気温!G29+$Q$7","v":24.036000000000001},{"$f":"$Q$6*気温!H29+$Q$7","v":25.707999999999998},{"$f":"$Q$6*気温!I29+$Q$7","v":27.335999999999999},{"$f":"$Q$6*気温!J29+$Q$7","v":27.952000000000002},{"$f":"$Q$6*気温!K29+$Q$7","v":26.324000000000002},{"$f":"$Q$6*気温!L29+$Q$7","v":23.684000000000001},{"$f":"$Q$6*気温!M29+$Q$7","v":21.088000000000001},{"$f":"$Q$6*気温!N29+$Q$7","v":18.8}]
[null,"三重県",{"$f":"$Q$6*気温!C30+$Q$7","v":18.052},{"$f":"$Q$6*気温!D30+$Q$7","v":18.184000000000001},{"$f":"$Q$6*気温!E30+$Q$7","v":19.46},{"$f":"$Q$6*気温!F30+$Q$7","v":21.880000000000003},{"$f":"$Q$6*気温!G30+$Q$7","v":23.904000000000003},{"$f":"$Q$6*気温!H30+$Q$7","v":25.576000000000001},{"$f":"$Q$6*気温!I30+$Q$7","v":27.292000000000002},{"$f":"$Q$6*気温!J30+$Q$7","v":27.82},{"$f":"$Q$6*気温!K30+$Q$7","v":26.28},{"$f":"$Q$6*気温!L30+$Q$7","v":23.771999999999998},{"$f":"$Q$6*気温!M30+$Q$7","v":21.308},{"$f":"$Q$6*気温!N30+$Q$7","v":19.152000000000001}]
[null,"滋賀県",{"$f":"$Q$6*気温!C31+$Q$7","v":17.436},{"$f":"$Q$6*気温!D31+$Q$7","v":17.568000000000001},{"$f":"$Q$6*気温!E31+$Q$7","v":18.932000000000002},{"$f":"$Q$6*気温!F31+$Q$7","v":21.44},{"$f":"$Q$6*気温!G31+$Q$7","v":23.596},{"$f":"$Q$6*気温!H31+$Q$7","v":25.356000000000002},{"$f":"$Q$6*気温!I31+$Q$7","v":27.072000000000003},{"$f":"$Q$6*気温!J31+$Q$7","v":27.644000000000002},{"$f":"$Q$6*気温!K31+$Q$7","v":25.928000000000001},{"$f":"$Q$6*気温!L31+$Q$7","v":23.200000000000003},{"$f":"$Q$6*気温!M31+$Q$7","v":20.692},{"$f":"$Q$6*気温!N31+$Q$7","v":18.492000000000001}]
[null,"京都府",{"$f":"$Q$6*気温!C32+$Q$7","v":17.744},{"$f":"$Q$6*気温!D32+$Q$7","v":17.963999999999999},{"$f":"$Q$6*気温!E32+$Q$7","v":19.416},{"$f":"$Q$6*気温!F32+$Q$7","v":21.968},{"$f":"$Q$6*気温!G32+$Q$7","v":24.08},{"$f":"$Q$6*気温!H32+$Q$7","v":25.84},{"$f":"$Q$6*気温!I32+$Q$7","v":27.512},{"$f":"$Q$6*気温!J32+$Q$7","v":28.128},{"$f":"$Q$6*気温!K32+$Q$7","v":26.324000000000002},{"$f":"$Q$6*気温!L32+$Q$7","v":23.552},{"$f":"$Q$6*気温!M32+$Q$7","v":21.044},{"$f":"$Q$6*気温!N32+$Q$7","v":18.8}]
[null,"大阪府",{"$f":"$Q$6*気温!C33+$Q$7","v":18.36},{"$f":"$Q$6*気温!D33+$Q$7","v":18.492000000000001},{"$f":"$Q$6*気温!E33+$Q$7","v":19.856000000000002},{"$f":"$Q$6*気温!F33+$Q$7","v":22.364000000000001},{"$f":"$Q$6*気温!G33+$Q$7","v":24.387999999999998},{"$f":"$Q$6*気温!H33+$Q$7","v":26.060000000000002},{"$f":"$Q$6*気温!I33+$Q$7","v":27.776},{"$f":"$Q$6*気温!J33+$Q$7","v":28.392000000000003},{"$f":"$Q$6*気温!K33+$Q$7","v":26.72},{"$f":"$Q$6*気温!L33+$Q$7","v":24.08},{"$f":"$Q$6*気温!M33+$Q$7","v":21.704000000000001},{"$f":"$Q$6*気温!N33+$Q$7","v":19.504000000000001}]
[null,"兵庫県",{"$f":"$Q$6*気温!C34+$Q$7","v":18.272000000000002},{"$f":"$Q$6*気温!D34+$Q$7","v":18.404},{"$f":"$Q$6*気温!E34+$Q$7","v":19.812000000000001},{"$f":"$Q$6*気温!F34+$Q$7","v":22.276},{"$f":"$Q$6*気温!G34+$Q$7","v":24.256},{"$f":"$Q$6*気温!H34+$Q$7","v":25.928000000000001},{"$f":"$Q$6*気温!I34+$Q$7","v":27.512},{"$f":"$Q$6*気温!J34+$Q$7","v":28.172000000000001},{"$f":"$Q$6*気温!K34+$Q$7","v":26.808},{"$f":"$Q$6*気温!L34+$Q$7","v":24.212000000000003},{"$f":"$Q$6*気温!M34+$Q$7","v":21.836000000000002},{"$f":"$Q$6*気温!N34+$Q$7","v":19.548000000000002}]
[null,"奈良県",{"$f":"$Q$6*気温!C35+$Q$7","v":17.436},{"$f":"$Q$6*気温!D35+$Q$7","v":17.656000000000002},{"$f":"$Q$6*気温!E35+$Q$7","v":19.064},{"$f":"$Q$6*気温!F35+$Q$7","v":21.616},{"$f":"$Q$6*気温!G35+$Q$7","v":23.64},{"$f":"$Q$6*気温!H35+$Q$7","v":25.356000000000002},{"$f":"$Q$6*気温!I35+$Q$7","v":27.072000000000003},{"$f":"$Q$6*気温!J35+$Q$7","v":27.556000000000001},{"$f":"$Q$6*気温!K35+$Q$7","v":25.795999999999999},{"$f":"$Q$6*気温!L35+$Q$7","v":23.024000000000001},{"$f":"$Q$6*気温!M35+$Q$7","v":20.603999999999999},{"$f":"$Q$6*気温!N35+$Q$7","v":18.448}]
[null,"和歌山県",{"$f":"$Q$6*気温!C36+$Q$7","v":18.36},{"$f":"$Q$6*気温!D36+$Q$7","v":18.536000000000001},{"$f":"$Q$6*気温!E36+$Q$7","v":19.899999999999999},{"$f":"$Q$6*気温!F36+$Q$7","v":22.276},{"$f":"$Q$6*気温!G36+$Q$7","v":24.212000000000003},{"$f":"$Q$6*気温!H36+$Q$7","v":25.84},{"$f":"$Q$6*気温!I36+$Q$7","v":27.6},{"$f":"$Q$6*気温!J36+$Q$7","v":28.084000000000003},{"$f":"$Q$6*気温!K36+$Q$7","v":26.588000000000001},{"$f":"$Q$6*気温!L36+$Q$7","v":23.992000000000001},{"$f":"$Q$6*気温!M36+$Q$7","v":21.66},{"$f":"$Q$6*気温!N36+$Q$7","v":19.46}]
[null,"鳥取県",{"$f":"$Q$6*気温!C37+$Q$7","v":17.48},{"$f":"$Q$6*気温!D37+$Q$7","v":17.656000000000002},{"$f":"$Q$6*気温!E37+$Q$7","v":19.02},{"$f":"$Q$6*気温!F37+$Q$7","v":21.44},{"$f":"$Q$6*気温!G37+$Q$7","v":23.507999999999999},{"$f":"$Q$6*気温!H37+$Q$7","v":25.268000000000001},{"$f":"$Q$6*気温!I37+$Q$7","v":27.027999999999999},{"$f":"$Q$6*気温!J37+$Q$7","v":27.6},{"$f":"$Q$6*気温!K37+$Q$7","v":25.664000000000001},{"$f":"$Q$6*気温!L37+$Q$7","v":23.068000000000001},{"$f":"$Q$6*気温!M37+$Q$7","v":20.824000000000002},{"$f":"$Q$6*気温!N37+$Q$7","v":18.712}]
[null,"島根県",{"$f":"$Q$6*気温!C38+$Q$7","v":17.612000000000002},{"$f":"$Q$6*気温!D38+$Q$7","v":17.788},{"$f":"$Q$6*気温!E38+$Q$7","v":19.064},{"$f":"$Q$6*気温!F38+$Q$7","v":21.396000000000001},{"$f":"$Q$6*気温!G38+$Q$7","v":23.42},{"$f":"$Q$6*気温!H38+$Q$7","v":25.091999999999999},{"$f":"$Q$6*気温!I38+$Q$7","v":26.852},{"$f":"$Q$6*気温!J38+$Q$7","v":27.512},{"$f":"$Q$6*気温!K38+$Q$7","v":25.664000000000001},{"$f":"$Q$6*気温!L38+$Q$7","v":23.112000000000002},{"$f":"$Q$6*気温!M38+$Q$7","v":20.824000000000002},{"$f":"$Q$6*気温!N38+$Q$7","v":18.756}]
[null,"岡山県",{"$f":"$Q$6*気温!C39+$Q$7","v":17.876000000000001},{"$f":"$Q$6*気温!D39+$Q$7","v":18.14},{"$f":"$Q$6*気温!E39+$Q$7","v":19.592000000000002},{"$f":"$Q$6*気温!F39+$Q$7","v":22.1},{"$f":"$Q$6*気温!G39+$Q$7","v":24.212000000000003},{"$f":"$Q$6*気温!H39+$Q$7","v":25.972000000000001},{"$f":"$Q$6*気温!I39+$Q$7","v":27.688000000000002},{"$f":"$Q$6*気温!J39+$Q$7","v":28.172000000000001},{"$f":"$Q$6*気温!K39+$Q$7","v":26.456},{"$f":"$Q$6*気温!L39+$Q$7","v":23.684000000000001},{"$f":"$Q$6*気温!M39+$Q$7","v":21.132000000000001},{"$f":"$Q$6*気温!N39+$Q$7","v":18.932000000000002}]
[null,"広島県",{"$f":"$Q$6*気温!C40+$Q$7","v":18.008000000000003},{"$f":"$Q$6*気温!D40+$Q$7","v":18.36},{"$f":"$Q$6*気温!E40+$Q$7","v":19.724},{"$f":"$Q$6*気温!F40+$Q$7","v":22.188000000000002},{"$f":"$Q$6*気温!G40+$Q$7","v":24.212000000000003},{"$f":"$Q$6*気温!H40+$Q$7","v":25.84},{"$f":"$Q$6*気温!I40+$Q$7","v":27.644000000000002},{"$f":"$Q$6*気温!J40+$Q$7","v":28.128},{"$f":"$Q$6*気温!K40+$Q$7","v":26.456},{"$f":"$Q$6*気温!L40+$Q$7","v":23.771999999999998},{"$f":"$Q$6*気温!M40+$Q$7","v":21.22},{"$f":"$Q$6*気温!N40+$Q$7","v":19.02}]
[null,"山口県",{"$f":"$Q$6*気温!C41+$Q$7","v":17.524000000000001},{"$f":"$Q$6*気温!D41+$Q$7","v":18.096},{"$f":"$Q$6*気温!E41+$Q$7","v":19.46},{"$f":"$Q$6*気温!F41+$Q$7","v":21.792000000000002},{"$f":"$Q$6*気温!G41+$Q$7","v":23.816000000000003},{"$f":"$Q$6*気温!H41+$Q$7","v":25.576000000000001},{"$f":"$Q$6*気温!I41+$Q$7","v":27.16},{"$f":"$Q$6*気温!J41+$Q$7","v":27.6},{"$f":"$Q$6*気温!K41+$Q$7","v":26.015999999999998},{"$f":"$Q$6*気温!L41+$Q$7","v":23.244},{"$f":"$Q$6*気温!M41+$Q$7","v":20.78},{"$f":"$Q$6*気温!N41+$Q$7","v":18.448}]
[null,"徳島県",{"$f":"$Q$6*気温!C42+$Q$7","v":18.404},{"$f":"$Q$6*気温!D42+$Q$7","v":18.580000000000002},{"$f":"$Q$6*気温!E42+$Q$7","v":19.944000000000003},{"$f":"$Q$6*気温!F42+$Q$7","v":22.231999999999999},{"$f":"$Q$6*気温!G42+$Q$7","v":24.167999999999999},{"$f":"$Q$6*気温!H42+$Q$7","v":25.707999999999998},{"$f":"$Q$6*気温!I42+$Q$7","v":27.423999999999999},{"$f":"$Q$6*気温!J42+$Q$7","v":27.952000000000002},{"$f":"$Q$6*気温!K42+$Q$7","v":26.5},{"$f":"$Q$6*気温!L42+$Q$7","v":24.036000000000001},{"$f":"$Q$6*気温!M42+$Q$7","v":21.66},{"$f":"$Q$6*気温!N42+$Q$7","v":19.46}]
[null,"香川県",{"$f":"$Q$6*気温!C43+$Q$7","v":18.14},{"$f":"$Q$6*気温!D43+$Q$7","v":18.316000000000003},{"$f":"$Q$6*気温!E43+$Q$7","v":19.636000000000003},{"$f":"$Q$6*気温!F43+$Q$7","v":22.056000000000001},{"$f":"$Q$6*気温!G43+$Q$7","v":24.124000000000002},{"$f":"$Q$6*気温!H43+$Q$7","v":25.84},{"$f":"$Q$6*気温!I43+$Q$7","v":27.6},{"$f":"$Q$6*気温!J43+$Q$7","v":28.084000000000003},{"$f":"$Q$6*気温!K43+$Q$7","v":26.411999999999999},{"$f":"$Q$6*気温!L43+$Q$7","v":23.816000000000003},{"$f":"$Q$6*気温!M43+$Q$7","v":21.352},{"$f":"$Q$6*気温!N43+$Q$7","v":19.196000000000002}]
[null,"愛媛県",{"$f":"$Q$6*気温!C44+$Q$7","v":18.36},{"$f":"$Q$6*気温!D44+$Q$7","v":18.580000000000002},{"$f":"$Q$6*気温!E44+$Q$7","v":19.899999999999999},{"$f":"$Q$6*気温!F44+$Q$7","v":22.143999999999998},{"$f":"$Q$6*気温!G44+$Q$7","v":24.08},{"$f":"$Q$6*気温!H44+$Q$7","v":25.707999999999998},{"$f":"$Q$6*気温!I44+$Q$7","v":27.556000000000001},{"$f":"$Q$6*気温!J44+$Q$7","v":27.952000000000002},{"$f":"$Q$6*気温!K44+$Q$7","v":26.411999999999999},{"$f":"$Q$6*気温!L44+$Q$7","v":23.948},{"$f":"$Q$6*気温!M44+$Q$7","v":21.572000000000003},{"$f":"$Q$6*気温!N44+$Q$7","v":19.416}]
[null,"高知県",{"$f":"$Q$6*気温!C45+$Q$7","v":18.492000000000001},{"$f":"$Q$6*気温!D45+$Q$7","v":19.02},{"$f":"$Q$6*気温!E45+$Q$7","v":20.472000000000001},{"$f":"$Q$6*気温!F45+$Q$7","v":22.584},{"$f":"$Q$6*気温!G45+$Q$7","v":24.387999999999998},{"$f":"$Q$6*気温!H45+$Q$7","v":25.795999999999999},{"$f":"$Q$6*気温!I45+$Q$7","v":27.468},{"$f":"$Q$6*気温!J45+$Q$7","v":27.82},{"$f":"$Q$6*気温!K45+$Q$7","v":26.588000000000001},{"$f":"$Q$6*気温!L45+$Q$7","v":24.212000000000003},{"$f":"$Q$6*気温!M45+$Q$7","v":21.792000000000002},{"$f":"$Q$6*気温!N45+$Q$7","v":19.46}]
[null,"福岡県",{"$f":"$Q$6*気温!C46+$Q$7","v":18.624000000000002},{"$f":"$Q$6*気温!D46+$Q$7","v":18.975999999999999},{"$f":"$Q$6*気温!E46+$Q$7","v":20.295999999999999},{"$f":"$Q$6*気温!F46+$Q$7","v":22.364000000000001},{"$f":"$Q$6*気温!G46+$Q$7","v":24.256},{"$f":"$Q$6*気温!H46+$Q$7","v":25.84},{"$f":"$Q$6*気温!I46+$Q$7","v":27.688000000000002},{"$f":"$Q$6*気温!J46+$Q$7","v":28.084000000000003},{"$f":"$Q$6*気温!K46+$Q$7","v":26.456},{"$f":"$Q$6*気温!L46+$Q$7","v":24.167999999999999},{"$f":"$Q$6*気温!M46+$Q$7","v":21.792000000000002},{"$f":"$Q$6*気温!N46+$Q$7","v":19.636000000000003}]
[null,"佐賀県",{"$f":"$Q$6*気温!C47+$Q$7","v":18.096},{"$f":"$Q$6*気温!D47+$Q$7","v":18.667999999999999},{"$f":"$Q$6*気温!E47+$Q$7","v":20.076000000000001},{"$f":"$Q$6*気温!F47+$Q$7","v":22.32},{"$f":"$Q$6*気温!G47+$Q$7","v":24.3},{"$f":"$Q$6*気温!H47+$Q$7","v":25.972000000000001},{"$f":"$Q$6*気温!I47+$Q$7","v":27.512},{"$f":"$Q$6*気温!J47+$Q$7","v":27.952000000000002},{"$f":"$Q$6*気温!K47+$Q$7","v":26.368000000000002},{"$f":"$Q$6*気温!L47+$Q$7","v":23.904000000000003},{"$f":"$Q$6*気温!M47+$Q$7","v":21.396000000000001},{"$f":"$Q$6*気温!N47+$Q$7","v":19.064}]
[null,"長崎県",{"$f":"$Q$6*気温!C48+$Q$7","v":18.8},{"$f":"$Q$6*気温!D48+$Q$7","v":19.196000000000002},{"$f":"$Q$6*気温!E48+$Q$7","v":20.516000000000002},{"$f":"$Q$6*気温!F48+$Q$7","v":22.496000000000002},{"$f":"$Q$6*気温!G48+$Q$7","v":24.256},{"$f":"$Q$6*気温!H48+$Q$7","v":25.752000000000002},{"$f":"$Q$6*気温!I48+$Q$7","v":27.512},{"$f":"$Q$6*気温!J48+$Q$7","v":27.996000000000002},{"$f":"$Q$6*気温!K48+$Q$7","v":26.632000000000001},{"$f":"$Q$6*気温!L48+$Q$7","v":24.387999999999998},{"$f":"$Q$6*気温!M48+$Q$7","v":22.012},{"$f":"$Q$6*気温!N48+$Q$7","v":19.856000000000002}]
[null,"熊本県",{"$f":"$Q$6*気温!C49+$Q$7","v":18.228000000000002},{"$f":"$Q$6*気温!D49+$Q$7","v":18.844000000000001},{"$f":"$Q$6*気温!E49+$Q$7","v":20.384},{"$f":"$Q$6*気温!F49+$Q$7","v":22.628},{"$f":"$Q$6*気温!G49+$Q$7","v":24.608000000000001},{"$f":"$Q$6*気温!H49+$Q$7","v":26.103999999999999},{"$f":"$Q$6*気温!I49+$Q$7","v":27.731999999999999},{"$f":"$Q$6*気温!J49+$Q$7","v":28.128},{"$f":"$Q$6*気温!K49+$Q$7","v":26.676000000000002},{"$f":"$Q$6*気温!L49+$Q$7","v":24.124000000000002},{"$f":"$Q$6*気温!M49+$Q$7","v":21.484000000000002},{"$f":"$Q$6*気温!N49+$Q$7","v":19.152000000000001}]
[null,"大分県",{"$f":"$Q$6*気温!C50+$Q$7","v":18.448},{"$f":"$Q$6*気温!D50+$Q$7","v":18.756},{"$f":"$Q$6*気温!E50+$Q$7","v":19.988},{"$f":"$Q$6*気温!F50+$Q$7","v":22.1},{"$f":"$Q$6*気温!G50+$Q$7","v":23.992000000000001},{"$f":"$Q$6*気温!H50+$Q$7","v":25.576000000000001},{"$f":"$Q$6*気温!I50+$Q$7","v":27.380000000000003},{"$f":"$Q$6*気温!J50+$Q$7","v":27.731999999999999},{"$f":"$Q$6*気温!K50+$Q$7","v":26.236000000000001},{"$f":"$Q$6*気温!L50+$Q$7","v":23.904000000000003},{"$f":"$Q$6*気温!M50+$Q$7","v":21.616},{"$f":"$Q$6*気温!N50+$Q$7","v":19.46}]
[null,"宮崎県",{"$f":"$Q$6*気温!C51+$Q$7","v":19.02},{"$f":"$Q$6*気温!D51+$Q$7","v":19.504000000000001},{"$f":"$Q$6*気温!E51+$Q$7","v":20.956},{"$f":"$Q$6*気温!F51+$Q$7","v":22.804000000000002},{"$f":"$Q$6*気温!G51+$Q$7","v":24.475999999999999},{"$f":"$Q$6*気温!H51+$Q$7","v":25.884},{"$f":"$Q$6*気温!I51+$Q$7","v":27.731999999999999},{"$f":"$Q$6*気温!J51+$Q$7","v":27.688000000000002},{"$f":"$Q$6*気温!K51+$Q$7","v":26.456},{"$f":"$Q$6*気温!L51+$Q$7","v":24.256},{"$f":"$Q$6*気温!M51+$Q$7","v":22.012},{"$f":"$Q$6*気温!N51+$Q$7","v":19.944000000000003}]
[null,"鹿児島県",{"$f":"$Q$6*気温!C52+$Q$7","v":19.46},{"$f":"$Q$6*気温!D52+$Q$7","v":20.032},{"$f":"$Q$6*気温!E52+$Q$7","v":21.22},{"$f":"$Q$6*気温!F52+$Q$7","v":23.155999999999999},{"$f":"$Q$6*気温!G52+$Q$7","v":24.872},{"$f":"$Q$6*気温!H52+$Q$7","v":26.28},{"$f":"$Q$6*気温!I52+$Q$7","v":28.084000000000003},{"$f":"$Q$6*気温!J52+$Q$7","v":28.26},{"$f":"$Q$6*気温!K52+$Q$7","v":27.204000000000001},{"$f":"$Q$6*気温!L52+$Q$7","v":25.048000000000002},{"$f":"$Q$6*気温!M52+$Q$7","v":22.716000000000001},{"$f":"$Q$6*気温!N52+$Q$7","v":20.384}]
[null,"沖縄県",{"$f":"$Q$6*気温!C53+$Q$7","v":23.200000000000003},{"$f":"$Q$6*気温!D53+$Q$7","v":23.244},{"$f":"$Q$6*気温!E53+$Q$7","v":24.036000000000001},{"$f":"$Q$6*気温!F53+$Q$7","v":25.135999999999999},{"$f":"$Q$6*気温!G53+$Q$7","v":26.28},{"$f":"$Q$6*気温!H53+$Q$7","v":27.512},{"$f":"$Q$6*気温!I53+$Q$7","v":28.436},{"$f":"$Q$6*気温!J53+$Q$7","v":28.347999999999999},{"$f":"$Q$6*気温!K53+$Q$7","v":27.864000000000001},{"$f":"$Q$6*気温!L53+$Q$7","v":26.808},{"$f":"$Q$6*気温!M53+$Q$7","v":25.444000000000003},{"$f":"$Q$6*気温!N53+$Q$7","v":23.948}]

{"sheet":"積雪日数","index":7,"n_rows":49,"n_cols":256,"rows_kept":49,"cut":false,"hidden":true,"merged":[]}
["ダウンロードした時刻：2020/09/25 13:37:00",null,null,null,null,null,null,null,null,null,null,null,null,null,null,null,null,null,null,null,null,null,null,null,null,null,null,null,null,null,null,null,null,null,null,null,null,null,null,null,null,null,null,null,null,null,null,null,null,null,null,null,null,null,null,null,null,null,null,null,null,null,null,null,null,null,null,null,null,null,null,null,null,null,null,null,null,null,null,null,null,null,null,null,null,null,null,null,null,null,null,null,null,null,null,null,null,null,null,null,null,null,null,null,null,null,null,null,null,null,null,null,null,null,null,null,null,null,null,null,null,null,null,null,null,null,null,null,null,null,null,null,null,null,null,null,null,null,null,null,null,null,null,null,null,null,null,null,null,null,null,null,null,null,null,null,null,null,null,null,null,null,null,null,null,null,null,null,null,null,null,null,null,null,null,null,null,null,null,null,null,null,null,null,null,null,null,null,null,null,null,null,null,null,null,null,null,null,null,null,null,null,null,null,null,null,null,null,null,null,null,null,null,null,null,null,null,null,null,null,null,null,null,null,null,null,null,null,null,null,null,null,null,null,null,null,null,"■日最深積雪0cm以上日数",null,null,null,null,null,null,null,null,null,null,null,null,null,null,null,null,null,"気象庁ダウンロードデータ"]
[null,null,null,null,null,null,null,null,null,null,null,null,null,null,null,null,null,null,null,null,null,null,null,null,null,null,null,null,null,null,null,null,null,null,null,null,null,null,null,null,null,null,null,null,null,null,null,null,null,null,null,null,null,null,null,null,null,null,null,null,null,null,null,null,null,null,null,null,null,null,null,null,null,null,null,null,null,null,null,null,null,null,null,null,null,null,null,null,null,null,null,null,null,null,null,null,null,null,null,null,null,null,null,null,null,null,null,null,null,null,null,null,null,null,null,null,null,null,null,null,null,null,null,null,null,null,null,null,null,null,null,null,null,null,null,null,null,null,null,null,null,null,null,null,null,null,null,null,null,null,null,null,null,null,null,null,null,null,null,null,null,null,null,null,null,null,null,null,null,null,null,null,null,null,null,null,null,null,null,null,null,null,null,null,null,null,null,null,null,null,null,null,null,null,null,null,null,null,null,null,null,null,null,null,null,null,null,null,null,null,null,null,null,null,null,null,null,null,null,null,null,null,null,null,null,null,null,null,null,null,null,null,null,null,null,null,null,"都道府県","地域","年月","項目1","項目2","2019-01-01","2019-02-01","2019-03-01","2019-04-01","2019-05-01","2019-06-01","2019-07-01","2019-08-01","2019-09-01","2019-10-01","2019-11-01","2019-12-01","年間合計","https://www.data.jma.go.jp/gmd/risk/obsdl/index.php#"]
[null,"那覇","那覇","那覇","那覇","那覇","鹿児島","鹿児島","鹿児島","鹿児島","鹿児島","宮崎","宮崎","宮崎","宮崎","宮崎","大分","大分","大分","大分","大分","熊本","熊本","熊本","熊本","熊本","福岡","福岡","福岡","福岡","福岡","佐賀","佐賀","佐賀","佐賀","佐賀","長崎","長崎","長崎","長崎","長崎","山口","山口","山口","山口","山口","松江","松江","松江","松江","松江","鳥取","鳥取","鳥取","鳥取","鳥取","広島","広島","広島","広島","広島","岡山","岡山","岡山","岡山","岡山","松山","松山","松山","松山","松山","高松","高松","高松","高松","高松","高知","高知","高知","高知","高知","徳島","徳島","徳島","徳島","徳島","神戸","神戸","神戸","神戸","神戸","京都","京都","京都","京都","京都","大阪","大阪","大阪","大阪","大阪","和歌山","和歌山","和歌山","和歌山","和歌山","奈良","奈良","奈良","奈良","奈良","彦根","彦根","彦根","彦根","彦根","福井","福井","福井","福井","福井","金沢","金沢","金沢","金沢","金沢","富山","富山","富山","富山","富山","津","津","津","津","津","名古屋","名古屋","名古屋","名古屋","名古屋","岐阜","岐阜","岐阜","岐阜","岐阜","新潟","新潟","新潟","新潟","新潟","長野","長野","長野","長野","長野","静岡","静岡","静岡","静岡","静岡","前橋","前橋","前橋","前橋","前橋","甲府","甲府","甲府","甲府","甲府","横浜","横浜","横浜","横浜","横浜","東京","東京","東京","東京","東京","千葉","千葉","千葉","千葉","千葉","熊谷","熊谷","熊谷","熊谷","熊谷","宇都宮","宇都宮","宇都宮","宇都宮","宇都宮","水戸","水戸","水戸","水戸","水戸","福島","福島","福島","福島","福島","山形","山形","山形","山形","山形","仙台","仙台","仙台","仙台","仙台","秋田","秋田","秋田","秋田","秋田","盛岡","盛岡","盛岡","盛岡","盛岡","青森","青森","青森","青森","青森","札幌","札幌","札幌","札幌","札幌",null,"北海道","札幌","日最深積雪0cm以上日数(日)","平年値(日)",null,31,28.2,29.6,6.4,0,0,0,0,0,0.6,8.6999999999999993,27.9,{"$f":"SUM(II3:IT3)","v":132.4},"平年値"]
["年月","日最深積雪0cm以上日数(日)","日最深積雪0cm以上日数(日)","日最深積雪0cm以上日数(日)","日最深積雪0cm以上日数(日)","日最深積雪0cm以上日数(日)","日最深積雪0cm以上日数(日)","日最深積雪0cm以上日数(日)","日最深積雪0cm以上日数(日)","日最深積雪0cm以上日数(日)","日最深積雪0cm以上日数(日)","日最深積雪0cm以上日数(日)","日最深積雪0cm以上日数(日)","日最深積雪0cm以上日数(日)","日最深積雪0cm以上日数(日)","日最深積雪0cm以上日数(日)","日最深積雪0cm以上日数(日)","日最深積雪0cm以上日数(日)","日最深積雪0cm以上日数(日)","日最深積雪0cm以上日数(日)","日最深積雪0cm以上日数(日)","日最深積雪0cm以上日数(日)","日最深積雪0cm以上日数(日)","日最深積雪0cm以上日数(日)","日最深積雪0cm以上日数(日)","日最深積雪0cm以上日数(日)","日最深積雪0cm以上日数(日)","日最深積雪0cm以上日数(日)","日最深積雪0cm以上日数(日)","日最深積雪0cm以上日数(日)","日最深積雪0cm以上日数(日)","日最深積雪0cm以上日数(日)","日最深積雪0cm以上日数(日)","日最深積雪0cm以上日数(日)","日最深積雪0cm以上日数(日)","日最深積雪0cm以上日数(日)","日最深積雪0cm以上日数(日)","日最深積雪0cm以上日数(日)","日最深積雪0cm以上日数(日)","日最深積雪0cm以上日数(日)","日最深積雪0cm以上日数(日)","日最深積雪0cm以上日数(日)","日最深積雪0cm以上日数(日)","日最深積雪0cm以上日数(日)","日最深積雪0cm以上日数(日)","日最深積雪0cm以上日数(日)","日最深積雪0cm以上日数(日)","日最深積雪0cm以上日数(日)","日最深積雪0cm以上日数(日)","日最深積雪0cm以上日数(日)","日最深積雪0cm以上日数(日)","日最深積雪0cm以上日数(日)","日最深積雪0cm以上日数(日)","日最深積雪0cm以上日数(日)","日最深積雪0cm以上日数(日)","日最深積雪0cm以上日数(日)","日最深積雪0cm以上日数(日)","日最深積雪0cm以上日数(日)","日最深積雪0cm以上日数(日)","日最深積雪0cm以上日数(日)","日最深積雪0cm以上日数(日)","日最深積雪0cm以上日数(日)","日最深積雪0cm以上日数(日)","日最深積雪0cm以上日数(日)","日最深積雪0cm以上日数(日)","日最深積雪0cm以上日数(日)","日最深積雪0cm以上日数(日)","日最深積雪0cm以上日数(日)","日最深積雪0cm以上日数(日)","日最深積雪0cm以上日数(日)","日最深積雪0cm以上日数(日)","日最深積雪0cm以上日数(日)","日最深積雪0cm以上日数(日)","日最深積雪0cm以上日数(日)","日最深積雪0cm以上日数(日)","日最深積雪0cm以上日数(日)","日最深積雪0cm以上日数(日)","日最深積雪0cm以上日数(日)","日最深積雪0cm以上日数(日)","日最深積雪0cm以上日数(日)","日最深積雪0cm以上日数(日)","日最深積雪0cm以上日数(日)","日最深積雪0cm以上日数(日)","日最深積雪0cm以上日数(日)","日最深積雪0cm以上日数(日)","日最深積雪0cm以上日数(日)","日最深積雪0cm以上日数(日)","日最深積雪0cm以上日数(日)","日最深積雪0cm以上日数(日)","日最深積雪0cm以上日数(日)","日最深積雪0cm以上日数(日)","日最深積雪0cm以上日数(日)","日最深積雪0cm以上日数(日)","日最深積雪0cm以上日数(日)","日最深積雪0cm以上日数(日)","日最深積雪0cm以上日数(日)","日最深積雪0cm以上日数(日)","日最深積雪0cm以上日数(日)","日最深積雪0cm以上日数(日)","日最深積雪0cm以上日数(日)","日最深積雪0cm以上日数(日)","日最深積雪0cm以上日数(日)","日最深積雪0cm以上日数(日)","日最深積雪0cm以上日数(日)","日最深積雪0cm以上日数(日)","日最深積雪0cm以上日数(日)","日最深積雪0cm以上日数(日)","日最深積雪0cm以上日数(日)","日最深積雪0cm以上日数(日)","日最深積雪0cm以上日数(日)","日最深積雪0cm以上日数(日)","日最深積雪0cm以上日数(日)","日最深積雪0cm以上日数(日)","日最深積雪0cm以上日数(日)","日最深積雪0cm以上日数(日)","日最深積雪0cm以上日数(日)","日最深積雪0cm以上日数(日)","日最深積雪0cm以上日数(日)","日最深積雪0cm以上日数(日)","日最深積雪0cm以上日数(日)","日最深積雪0cm以上日数(日)","日最深積雪0cm以上日数(日)","日最深積雪0cm以上日数(日)","日最深積雪0cm以上日数(日)","日最深積雪0cm以上日数(日)","日最深積雪0cm以上日数(日)","日最深積雪0cm以上日数(日)","日最深積雪0cm以上日数(日)","日最深積雪0cm以上日数(日)","日最深積雪0cm以上日数(日)","日最深積雪0cm以上日数(日)","日最深積雪0cm以上日数(日)","日最深積雪0cm以上日数(日)","日最深積雪0cm以上日数(日)","日最深積雪0cm以上日数(日)","日最深積雪0cm以上日数(日)","日最深積雪0cm以上日数(日)","日最深積雪0cm以上日数(日)","日最深積雪0cm以上日数(日)","日最深積雪0cm以上日数(日)","日最深積雪0cm以上日数(日)","日最深積雪0cm以上日数(日)","日最深積雪0cm以上日数(日)","日最深積雪0cm以上日数(日)","日最深積雪0cm以上日数(日)","日最深積雪0cm以上日数(日)","日最深積雪0cm以上日数(日)","日最深積雪0cm以上日数(日)","日最深積雪0cm以上日数(日)","日最深積雪0cm以上日数(日)","日最深積雪0cm以上日数(日)","日最深積雪0cm以上日数(日)","日最深積雪0cm以上日数(日)","日最深積雪0cm以上日数(日)","日最深積雪0cm以上日数(日)","日最深積雪0cm以上日数(日)","日最深積雪0cm以上日数(日)","日最深積雪0cm以上日数(日)","日最深積雪0cm以上日数(日)","日最深積雪0cm以上日数(日)","日最深積雪0cm以上日数(日)","日最深積雪0cm以上日数(日)","日最深積雪0cm以上日数(日)","日最深積雪0cm以上日数(日)","日最深積雪0cm以上日数(日)","日最深積雪0cm以上日数(日)","日最深積雪0cm以上日数(日)","日最深積雪0cm以上日数(日)","日最深積雪0cm以上日数(日)","日最深積雪0cm以上日数(日)","日最深積雪0cm以上日数(日)","日最深積雪0cm以上日数(日)","日最深積雪0cm以上日数(日)","日最深積雪0cm以上日数(日)","日最深積雪0cm以上日数(日)","日最深積雪0cm以上日数(日)","日最深積雪0cm以上日数(日)","日最深積雪0cm以上日数(日)","日最深積雪0cm以上日数(日)","日最深積雪0cm以上日数(日)","日最深積雪0cm以上日数(日)","日最深積雪0cm以上日数(日)","日最深積雪0cm以上日数(日)","日最深積雪0cm以上日数(日)","日最深積雪0cm以上日数(日)","日最深積雪0cm以上日数(日)","日最深積雪0cm以上日数(日)","日最深積雪0cm以上日数(日)","日最深積雪0cm以上日数(日)","日最深積雪0cm以上日数(日)","日最深積雪0cm以上日数(日)","日最深積雪0cm以上日数(日)","日最深積雪0cm以上日数(日)","日最深積雪0cm以上日数(日)","日最深積雪0cm以上日数(日)","日最深積雪0cm以上日数(日)","日最深積雪0cm以上日数(日)","日最深積雪0cm以上日数(日)","日最深積雪0cm以上日数(日)","日最深積雪0cm以上日数(日)","日最深積雪0cm以上日数(日)","日最深積雪0cm以上日数(日)","日最深積雪0cm以上日数(日)","日最深積雪0cm以上日数(日)","日最深積雪0cm以上日数(日)","日最深積雪0cm以上日数(日)","日最深積雪0cm以上日数(日)","日最深積雪0cm以上日数(日)","日最深積雪0cm以上日数(日)","日最深積雪0cm以上日数(日)","日最深積雪0cm以上日数(日)","日最深積雪0cm以上日数(日)","日最深積雪0cm以上日数(日)","日最深積雪0cm以上日数(日)","日最深積雪0cm以上日数(日)","日最深積雪0cm以上日数(日)","日最深積雪0cm以上日数(日)","日最深積雪0cm以上日数(日)","日最深積雪0cm以上日数(日)","日最深積雪0cm以上日数(日)","日最深積雪0cm以上日数(日)","日最深積雪0cm以上日数(日)","日最深積雪0cm以上日数(日)","日最深積雪0cm以上日数(日)","日最深積雪0cm以上日数(日)","日最深積雪0cm以上日数(日)","日最深積雪0cm以上日数(日)","日最深積雪0cm以上日数(日)","日最深積雪0cm以上日数(日)","日最深積雪0cm以上日数(日)","日最深積雪0cm以上日数(日)","日最深積雪0cm以上日数(日)","日最深積雪0cm以上日数(日)","日最深積雪0cm以上日数(日)","日最深積雪0cm以上日数(日)","日最深積雪0cm以上日数(日)",null,"青森県","青森","日最深積雪0cm以上日数(日)","平年値(日)",null,30.8,28.1,25,3.4,0,0,0,0,0,0,6.6,24.3,118.2]
[null,null,null,null,"平年値(日)","平年値(日)",null,null,null,"平年値(日)","平年値(日)",null,null,null,"平年値(日)","平年値(日)",null,null,null,"平年値(日)","平年値(日)",null,null,null,"平年値(日)","平年値(日)",null,null,null,"平年値(日)","平年値(日)",null,null,null,"平年値(日)","平年値(日)",null,null,null,"平年値(日)","平年値(日)",null,null,null,"平年値(日)","平年値(日)",null,null,null,"平年値(日)","平年値(日)",null,null,null,"平年値(日)","平年値(日)",null,null,null,"平年値(日)","平年値(日)",null,null,null,"平年値(日)","平年値(日)",null,null,null,"平年値(日)","平年値(日)",null,null,null,"平年値(日)","平年値(日)",null,null,null,"平年値(日)","平年値(日)",null,null,null,"平年値(日)","平年値(日)",null,null,null,"平年値(日)","平年値(日)",null,null,null,"平年値(日)","平年値(日)",null,null,null,"平年値(日)","平年値(日)",null,null,null,"平年値(日)","平年値(日)",null,null,null,"平年値(日)","平年値(日)",null,null,null,"平年値(日)","平年値(日)",null,null,null,"平年値(日)","平年値(日)",null,null,null,"平年値(日)","平年値(日)",null,null,null,"平年値(日)","平年値(日)",null,null,null,"平年値(日)","平年値(日)",null,null,null,"平年値(日)","平年値(日)",null,null,null,"平年値(日)","平年値(日)",null,null,null,"平年値(日)","平年値(日)",null,null,null,"平年値(日)","平年値(日)",null,null,null,"平年値(日)","平年値(日)",null,null,null,"平年値(日)","平年値(日)",null,null,null,"平年値(日)","平年値(日)",null,null,null,"平年値(日)","平年値(日)",null,null,null,"平年値(日)","平年値(日)",null,null,null,"平年値(日)","平年値(日)",null,null,null,"平年値(日)","平年値(日)",null,null,null,"平年値(日)","平年値(日)",null,null,null,"平年値(日)","平年値(日)",null,null,null,"平年値(日)","平年値(日)",null,null,null,"平年値(日)","平年値(日)",null,null,null,"平年値(日)","平年値(日)",null,null,null,"平年値(日)","平年値(日)",null,null,null,"平年値(日)","平年値(日)",null,null,null,"平年値(日)","平年値(日)",null,null,null,"平年値(日)","平年値(日)",null,"岩手県","盛岡","日最深積雪0cm以上日数(日)","平年値(日)",null,26.8,25.3,15.3,1.4,0,0,0,0,0,0,2.8,16.3,87.9]
[null,null,"品質情報","均質番号",null,"品質情報",null,"品質情報","均質番号",null,"品質情報",null,"品質情報","均質番号",null,"品質情報",null,"品質情報","均質番号",null,"品質情報",null,"品質情報","均質番号",null,"品質情報",null,"品質情報","均質番号",null,"品質情報",null,"品質情報","均質番号",null,"品質情報",null,"品質情報","均質番号",null,"品質情報",null,"品質情報","均質番号",null,"品質情報",null,"品質情報","均質番号",null,"品質情報",null,"品質情報","均質番号",null,"品質情報",null,"品質情報","均質番号",null,"品質情報",null,"品質情報","均質番号",null,"品質情報",null,"品質情報","均質番号",null,"品質情報",null,"品質情報","均質番号",null,"品質情報",null,"品質情報","均質番号",null,"品質情報",null,"品質情報","均質番号",null,"品質情報",null,"品質情報","均質番号",null,"品質情報",null,"品質情報","均質番号",null,"品質情報",null,"品質情報","均質番号",null,"品質情報",null,"品質情報","均質番号",null,"品質情報",null,"品質情報","均質番号",null,"品質情報",null,"品質情報","均質番号",null,"品質情報",null,"品質情報","均質番号",null,"品質情報",null,"品質情報","均質番号",null,"品質情報",null,"品質情報","均質番号",null,"品質情報",null,"品質情報","均質番号",null,"品質情報",null,"品質情報","均質番号",null,"品質情報",null,"品質情報","均質番号",null,"品質情報",null,"品質情報","均質番号",null,"品質情報",null,"品質情報","均質番号",null,"品質情報",null,"品質情報","均質番号",null,"品質情報",null,"品質情報","均質番号",null,"品質情報",null,"品質情報","均質番号",null,"品質情報",null,"品質情報","均質番号",null,"品質情報",null,"品質情報","均質番号",null,"品質情報",null,"品質情報","均質番号",null,"品質情報",null,"品質情報","均質番号",null,"品質情報",null,"品質情報","均質番号",null,"品質情報",null,"品質情報","均質番号",null,"品質情報",null,"品質情報","均質番号",null,"品質情報",null,"品質情報","均質番号",null,"品質情報",null,"品質情報","均質番号",null,"品質情報",null,"品質情報","均質番号",null,"品質情報",null,"品質情報","均質番号",null,"品質情報",null,"品質情報","均質番号",null,"品質情報",null,"品質情報","均質番号",null,"品質情報",null,"宮城県","仙台","日最深積雪0cm以上日数(日)","平年値(日)",null,13,11,5.6,0.5,0,0,0,0,0,0,0.4,5.2,35.700000000000003]
["2019-01-01",0,8,1,0,8,0,8,1,0.6,8,0,8,1,0.1,8,0,8,1,0.5,8,0,8,1,1,8,2,8,1,1.7,8,0,8,1,1.8,8,0,8,1,1.2,8,null,0,1,3.2,8,3,8,1,11.2,8,3,8,1,15.5,8,1,8,1,2.7,8,0,8,1,0.9,8,0,8,1,0.8,8,0,8,1,0.8,8,0,8,1,0.4,8,0,8,1,1.2,8,0,8,1,0.5,8,2,8,1,3.1,8,0,8,1,0.3,8,0,8,1,0.9,8,1,8,1,1.4,8,2,8,1,10.1,8,8,8,1,19.899999999999999,8,11,8,1,18.7,8,15,8,1,21.7,8,2,8,1,1.5,8,0,8,1,2.1,8,0,8,1,5,8,17,8,1,19.8,8,23,8,1,22.9,8,0,8,1,0,8,2,8,1,2.9,8,0,8,1,4.5,8,0,8,1,1.6,8,0,8,1,1.6,8,null,0,1,0.9,8,0,8,1,2.5,8,1,8,1,3.6,8,1,8,1,2.6,8,22,8,1,17.899999999999999,8,31,8,1,27.8,8,5,8,1,13,8,26,8,1,27.3,8,18,8,1,26.8,8,31,8,1,30.8,8,31,8,1,31,8,null,"秋田県","秋田","日最深積雪0cm以上日数(日)","平年値(日)",null,27.3,24.4,13.5,0.5,0,0,0,0,0,0,3,16.600000000000001,85.300000000000011]
["2019-02-01",0,8,1,0,8,0,8,1,0.6,8,0,8,1,0,8,0,8,1,0.4,8,0,8,1,0.8,8,0,8,1,0.9,8,0,8,1,1.3,8,0,8,1,0.9,8,null,0,1,2.1,8,0,8,1,9.1,8,0,8,1,13.2,8,0,8,1,2.2999999999999998,8,1,8,1,1.1000000000000001,8,0,8,1,1.1000000000000001,8,1,8,1,1.1000000000000001,8,0,8,1,0.2,8,0,8,1,1.2,8,0,8,1,1.2,8,0,8,1,3.9,8,0,8,1,0.9,8,0,8,1,1,8,0,8,1,1.9,8,0,8,1,9.1999999999999993,8,3,8,1,17.5,8,7,8,1,16.899999999999999,8,10,8,1,19.399999999999999,8,0,8,1,2.2000000000000002,8,0,8,1,2.8,8,0,8,1,4.8,8,9,8,1,18.399999999999999,8,null,0,1,19.600000000000001,8,0,8,1,0.2,8,null,0,1,3.5,8,null,0,1,3.1,8,null,0,1,2.2999999999999998,8,3,8,1,2,8,null,0,1,1.2,8,null,0,1,2.8,8,null,0,1,3.8,8,null,0,1,3.1,8,2,8,1,13.5,8,20,8,1,26,8,1,8,1,11,8,19,8,1,24.4,8,15,8,1,25.3,8,28,8,1,28.1,8,28,8,1,28.2,8,null,"山形県","山形","日最深積雪0cm以上日数(日)","平年値(日)",null,27.8,26,14.4,1,0,0,0,0,0,0,2.4,14.8,86.4]
["2019-03-01",0,8,1,0,8,0,8,1,0,8,0,8,1,0,8,0,8,1,0.1,8,0,8,1,0.1,8,0,8,1,0.3,8,0,8,1,0.3,8,0,8,1,0.2,8,null,0,1,0.5,8,1,8,1,2.1,8,0,8,1,4,8,0,8,1,0.7,8,0,8,1,0.4,8,0,8,1,0.2,8,0,8,1,0.3,8,0,8,1,0.1,8,0,8,1,0.2,8,0,8,1,0.5,8,0,8,1,1,8,0,8,1,0.2,8,0,8,1,0.1,8,0,8,1,0.8,8,1,8,1,2.2999999999999998,8,3,8,1,5.9,8,1,8,1,6.2,8,3,8,1,7.9,8,0,8,1,0.4,8,0,8,1,0.4,8,0,8,1,0.9,8,1,8,1,6.5,8,null,0,1,8.1999999999999993,8,0,8,1,0,8,null,0,1,1.7,8,null,0,1,0.9,8,null,0,1,0.7,8,0,8,1,0.8,8,null,0,1,0.3,8,null,0,1,1.2,8,null,0,1,1.9,8,null,0,1,1.1000000000000001,8,4,8,1,6.3,8,7,8,1,14.4,8,2,8,1,5.6,8,6,8,1,13.5,8,10,8,1,15.3,8,25,8,1,25,8,26,8,1,29.6,8,null,"福島県","福島","日最深積雪0cm以上日数(日)","平年値(日)",null,17.899999999999999,13.5,6.3,0.4,0,0,0,0,0,0,0.4,6.8,45.29999999999999]
["2019-04-01",0,8,1,0,8,0,8,1,0,8,0,8,1,0,8,0,8,1,0,8,0,8,1,0,8,0,8,1,0,8,0,8,1,0,8,0,8,1,0,8,null,0,1,0,8,0,8,1,0.1,8,0,8,1,0.2,8,0,8,1,0,8,0,8,1,0,8,0,8,1,0,8,0,8,1,0,8,0,8,1,0,8,0,8,1,0,8,0,8,1,0,8,0,8,1,0,8,0,8,1,0,8,0,8,1,0,8,0,8,1,0,8,0,8,1,0.1,8,2,8,1,0.1,8,1,8,1,0.2,8,1,8,1,0.3,8,0,8,1,0,8,0,8,1,0,8,0,8,1,0,8,0,8,1,0.2,8,null,0,1,0.6,8,0,8,1,0,8,null,0,1,0.2,8,null,0,1,0.1,8,null,0,1,0,8,0,8,1,0.1,8,null,0,1,0,8,null,0,1,0.2,8,null,0,1,0.2,8,null,0,1,0.1,8,3,8,1,0.4,8,4,8,1,1,8,4,8,1,0.5,8,2,8,1,0.5,8,4,8,1,1.4,8,4,8,1,3.4,8,3,8,1,6.4,8,null,"茨城県","水戸","日最深積雪0cm以上日数(日)","平年値(日)",null,2.6,3.1,1.1000000000000001,0.1,0,0,0,0,0,0,0,0.5,7.4]
["2019-05-01",0,8,1,0,8,0,8,1,0,8,0,8,1,0,8,0,8,1,0,8,0,8,1,0,8,0,8,1,0,8,0,8,1,0,8,0,8,1,0,8,null,0,1,0,8,0,8,1,0,8,0,8,1,0,8,0,8,1,0,8,0,8,1,0,8,0,8,1,0,8,0,8,1,0,8,0,8,1,0,8,0,8,1,0,8,0,8,1,0,8,0,8,1,0,8,0,8,1,0,8,0,8,1,0,8,0,8,1,0,8,0,8,1,0,8,0,8,1,0,8,0,8,1,0,8,0,8,1,0,8,0,8,1,0,8,0,8,1,0,8,0,8,1,0,8,0,8,1,0,8,null,0,1,0,8,0,8,1,0,8,null,0,1,0,8,null,0,1,0,8,null,0,1,0,8,0,8,1,0,8,null,0,1,0,8,null,0,1,0,8,null,0,1,0,8,null,0,1,0,8,0,8,1,0,8,0,8,1,0,8,0,8,1,0,8,0,8,1,0,8,0,8,1,0,8,0,8,1,0,8,0,8,1,0,8,null,"栃木県","宇都宮","日最深積雪0cm以上日数(日)","平年値(日)",null,3.6,3.8,1.9,0.2,0,0,0,0,0,0,0,1.1000000000000001,10.6]
["2019-06-01",0,8,1,0,8,0,8,1,0,8,0,8,1,0,8,0,8,1,0,8,0,8,1,0,8,0,8,1,0,8,0,8,1,0,8,0,8,1,0,8,null,0,1,0,8,0,8,1,0,8,0,8,1,0,8,0,8,1,0,8,0,8,1,0,8,0,8,1,0,8,0,8,1,0,8,0,8,1,0,8,0,8,1,0,8,0,8,1,0,8,0,8,1,0,8,0,8,1,0,8,0,8,1,0,8,0,8,1,0,8,0,8,1,0,8,0,8,1,0,8,0,8,1,0,8,0,8,1,0,8,0,8,1,0,8,0,8,1,0,8,0,8,1,0,8,0,8,1,0,8,null,0,1,0,8,0,8,1,0,8,null,0,1,0,8,null,0,1,0,8,null,0,1,0,8,0,8,1,0,8,null,0,1,0,8,null,0,1,0,8,null,0,1,0,8,null,0,1,0,8,0,8,1,0,8,0,8,1,0,8,0,8,1,0,8,0,8,1,0,8,0,8,1,0,8,0,8,1,0,8,0,8,1,0,8,null,"群馬県","前橋","日最深積雪0cm以上日数(日)","平年値(日)",null,2.9,3.5,1.7,0.2,0,0,0,0,0,0,0,1,9.2999999999999989]
["2019-07-01",0,8,1,0,8,0,8,1,0,8,0,8,1,0,8,0,8,1,0,8,0,8,1,0,8,0,8,1,0,8,0,8,1,0,8,0,8,1,0,8,null,0,1,0,8,0,8,1,0,8,0,8,1,0,8,0,8,1,0,8,0,8,1,0,8,0,8,1,0,8,0,8,1,0,8,0,8,1,0,8,0,8,1,0,8,0,8,1,0,8,0,8,1,0,8,0,8,1,0,8,0,8,1,0,8,0,8,1,0,8,0,8,1,0,8,0,8,1,0,8,0,8,1,0,8,0,8,1,0,8,0,8,1,0,8,0,8,1,0,8,0,8,1,0,8,0,8,1,0,8,null,0,1,0,8,0,8,1,0,8,null,0,1,0,8,null,0,1,0,8,null,0,1,0,8,0,8,1,0,8,null,0,1,0,8,null,0,1,0,8,null,0,1,0,8,null,0,1,0,8,0,8,1,0,8,0,8,1,0,8,0,8,1,0,8,0,8,1,0,8,0,8,1,0,8,0,8,1,0,8,0,8,1,0,8,null,"埼玉県","熊谷","日最深積雪0cm以上日数(日)","平年値(日)",null,2.5,2.8,1.2,0.2,0,0,0,0,0,0,0,0.5,7.2]
["2019-08-01",0,8,1,0,8,0,8,1,0,8,0,8,1,0,8,0,8,1,0,8,0,8,1,0,8,0,8,1,0,8,0,8,1,0,8,0,8,1,0,8,null,0,1,0,8,0,8,1,0,8,0,8,1,0,8,0,8,1,0,8,0,8,1,0,8,0,8,1,0,8,0,8,1,0,8,0,8,1,0,8,0,8,1,0,8,0,8,1,0,8,0,8,1,0,8,0,8,1,0,8,0,8,1,0,8,0,8,1,0,8,0,8,1,0,8,0,8,1,0,8,0,8,1,0,8,0,8,1,0,8,0,8,1,0,8,0,8,1,0,8,0,8,1,0,8,0,8,1,0,8,null,0,1,0,8,0,8,1,0,8,null,0,1,0,8,null,0,1,0,8,null,0,1,0,8,0,8,1,0,8,null,0,1,0,8,null,0,1,0,8,null,0,1,0,8,null,0,1,0,8,0,8,1,0,8,0,8,1,0,8,0,8,1,0,8,0,8,1,0,8,0,8,1,0,8,0,8,1,0,8,0,8,1,0,8,null,"千葉県","千葉","日最深積雪0cm以上日数(日)","平年値(日)",null,0.9,1.2,0.3,0,0,0,0,0,0,0,0,0.1,2.5]
["2019-09-01",0,8,1,0,8,0,8,1,0,8,0,8,1,0,8,0,8,1,0,8,0,8,1,0,8,0,8,1,0,8,0,8,1,0,8,0,8,1,0,8,null,0,1,0,8,0,8,1,0,8,0,8,1,0,8,0,8,1,0,8,0,8,1,0,8,0,8,1,0,8,0,8,1,0,8,0,8,1,0,8,0,8,1,0,8,0,8,1,0,8,0,8,1,0,8,0,8,1,0,8,0,8,1,0,8,0,8,1,0,8,0,8,1,0,8,0,8,1,0,8,0,8,1,0,8,0,8,1,0,8,0,8,1,0,8,0,8,1,0,8,0,8,1,0,8,0,8,1,0,8,null,0,1,0,8,0,8,1,0,8,null,0,1,0,8,null,0,1,0,8,null,0,1,0,8,0,8,1,0,8,null,0,1,0,8,null,0,1,0,8,null,0,1,0,8,null,0,1,0,8,0,8,1,0,8,0,8,1,0,8,0,8,1,0,8,0,8,1,0,8,0,8,1,0,8,0,8,1,0,8,0,8,1,0,8,null,"東京都","東京","日最深積雪0cm以上日数(日)","平年値(日)",null,1.6,2,0.8,0.1,0,0,0,0,0,0,0,0.4,4.9000000000000004]
["2019-10-01",0,8,1,0,8,0,8,1,0,8,0,8,1,0,8,0,8,1,0,8,0,8,1,0,8,0,8,1,0,8,0,8,1,0,8,0,8,1,0,8,null,0,1,0,8,0,8,1,0,8,0,8,1,0,8,0,8,1,0,8,0,8,1,0,8,0,8,1,0,8,0,8,1,0,8,0,8,1,0,8,0,8,1,0,8,0,8,1,0,8,0,8,1,0,8,0,8,1,0,8,0,8,1,0,8,0,8,1,0,8,0,8,1,0,8,0,8,1,0,8,0,8,1,0,8,0,8,1,0,8,0,8,1,0,8,0,8,1,0,8,0,8,1,0,8,0,8,1,0,8,null,0,1,0,8,0,8,1,0,8,null,0,1,0,8,null,0,1,0,8,null,0,1,0,8,0,8,1,0,8,null,0,1,0,8,null,0,1,0,8,null,0,1,0,8,null,0,1,0,8,0,8,1,0,8,0,8,1,0,8,0,8,1,0,8,0,8,1,0,8,0,8,1,0,8,0,8,1,0,8,0,8,1,0.6,8,null,"神奈川県","横浜","日最深積雪0cm以上日数(日)","平年値(日)",null,1.6,2.2999999999999998,0.7,0,0,0,0,0,0,0,0,0.3,4.8999999999999995]
["2019-11-01",0,8,1,0,8,0,8,1,0,8,0,8,1,0,8,0,8,1,0,8,0,8,1,0,8,0,8,1,0.1,8,0,8,1,0,8,0,8,1,0,8,null,0,1,0,8,0,8,1,0.2,8,0,8,1,0.1,8,0,8,1,0,8,0,8,1,0,8,0,8,1,0,8,0,8,1,0,8,0,8,1,0,8,0,8,1,0,8,0,8,1,0,8,0,8,1,0,8,0,8,1,0,8,0,8,1,0,8,0,8,1,0,8,0,8,1,0,8,0,8,1,0.3,8,0,8,1,0.6,8,0,8,1,0.5,8,0,8,1,0,8,0,8,1,0,8,0,8,1,0,8,1,8,1,0.7,8,null,0,1,0.9,8,0,8,1,0,8,null,0,1,0,8,null,0,1,0,8,null,0,1,0,8,0,8,1,0,8,null,0,1,0,8,null,0,1,0,8,null,0,1,0,8,null,0,1,0,8,0,8,1,0.4,8,1,8,1,2.4,8,0,8,1,0.4,8,3,8,1,3,8,0,8,1,2.8,8,5,8,1,6.6,8,14,8,1,8.6999999999999993,8,null,"新潟県","新潟","日最深積雪0cm以上日数(日)","平年値(日)",null,19.8,18.399999999999999,6.5,0.2,0,0,0,0,0,0,0.7,8.6,54.20000000000001]
["2019-12-01",0,8,1,0,8,0,8,1,0.1,8,0,8,1,0,8,0,8,1,0.1,8,0,8,1,0.3,8,0,8,1,0.8,8,0,8,1,0.6,8,0,8,1,0.2,8,null,0,1,1.2,8,1,8,1,4.3,8,1,8,1,6.7,8,0,8,1,1.2,8,0,8,1,0.1,8,0,8,1,0.2,8,0,8,1,0.1,8,0,8,1,0.2,8,0,8,1,0.2,8,0,8,1,0.4,8,0,8,1,1.2,8,0,8,1,0.1,8,0,8,1,0.2,8,0,8,1,0.7,8,0,8,1,3.5,8,0,8,1,7.6,8,1,8,1,7.1,8,1,8,1,8.6,8,0,8,1,0.4,8,0,8,1,0.9,8,0,8,1,2.4,8,0,8,1,8.6,8,null,0,1,10.8,8,0,8,1,0,8,null,0,1,1,8,null,0,1,0.6,8,null,0,1,0.3,8,0,8,1,0.4,8,null,0,1,0.1,8,null,0,1,0.5,8,null,0,1,1.1000000000000001,8,null,0,1,0.5,8,3,8,1,6.8,8,6,8,1,14.8,8,0,8,1,5.2,8,9,8,1,16.600000000000001,8,18,8,1,16.3,8,26,8,1,24.3,8,29,8,1,27.9,8,null,"富山県","富山","日最深積雪0cm以上日数(日)","平年値(日)",null,21.7,19.399999999999999,7.9,0.3,0,0,0,0,0,0,0.5,8.6,58.399999999999991]
["合計",{"$f":"SUM(B7:B18)","v":0},{"$f":"SUM(C7:C18)","v":96},12,0,96,0,96,12,1.3,96,0,96,12,0.1,96,0,96,12,1.1000000000000001,96,0,96,12,2.2000000000000002,96,2,96,12,3.8,96,0,96,12,4,96,0,96,12,2.5000000000000004,96,0,0,12,7.0000000000000009,96,5,96,12,27,96,4,96,12,39.70000000000001,96,1,96,12,6.9,96,1,96,12,2.5,96,{"$f":"SUM(BO7:BO18)","v":0},96,12,2.3000000000000003,96,1,96,12,2.3000000000000003,96,0,96,12,0.90000000000000013,96,0,96,12,2.8000000000000003,96,0,96,12,2.6,96,2,96,12,9.1999999999999993,96,0,96,12,1.5,96,0,96,12,2.2000000000000002,96,1,96,12,4.8,96,3,96,12,25.2,96,16,96,12,51.3,96,21,96,12,49.7,96,30,96,12,58.399999999999991,{"$f":"SUM(EA7:EA18)","v":96},2,96,12,4.5000000000000009,96,0,96,12,6.2000000000000011,96,0,96,12,13.100000000000001,96,28,96,12,54.20000000000001,96,23,8,12,63,96,0,96,12,0.2,96,2,8,12,9.2999999999999989,96,0,8,12,9.1999999999999993,96,0,8,12,4.8999999999999995,96,3,96,12,4.9000000000000004,96,0,0,12,2.5,96,0,8,12,7.2,96,1,8,12,{"$f":"SUM(GM7:GM18)","v":10.6},96,1,8,12,7.4,96,34,96,12,45.29999999999999,96,69,96,12,86.4,96,12,96,12,35.700000000000003,96,65,96,12,85.300000000000011,96,65,96,12,87.9,96,119,96,12,118.2,96,131,96,12,132.4,96,null,"石川県","金沢","日最深積雪0cm以上日数(日)","平年値(日)",null,18.7,16.899999999999999,6.2,0.2,0,0,0,0,0,0,0.6,7.1,49.7]
[null,null,null,null,null,null,null,null,null,null,null,null,null,null,null,null,null,null,null,null,null,null,null,null,null,null,null,null,null,null,null,null,null,null,null,null,null,null,null,null,null,null,null,null,null,null,null,null,null,null,null,null,null,null,null,null,null,null,null,null,null,null,null,null,null,null,null,null,null,null,null,null,null,null,null,null,null,null,null,null,null,null,null,null,null,null,null,null,null,null,null,null,null,null,null,null,null,null,null,null,null,null,null,null,null,null,null,null,null,null,null,null,null,null,null,null,null,null,null,null,null,null,null,null,null,null,null,null,null,null,null,null,null,null,null,null,null,null,null,null,null,null,null,null,null,null,null,null,null,null,null,null,null,null,null,null,null,null,null,null,null,null,null,null,null,null,null,null,null,null,null,null,null,null,null,null,null,null,null,null,null,null,null,null,null,null,null,null,null,null,null,null,null,null,null,null,null,null,null,null,null,null,null,null,null,null,null,null,null,null,null,null,null,null,null,null,null,null,null,null,null,null,null,null,null,null,null,null,null,null,null,null,null,null,null,null,null,"福井県","福井","日最深積雪0cm以上日数(日)","平年値(日)",null,19.899999999999999,17.5,5.9,0.1,0,0,0,0,0,0,0.3,7.6,51.3]
[null,null,null,null,null,null,null,null,null,null,null,null,null,null,null,null,null,null,null,null,null,null,null,null,null,null,null,null,null,null,null,null,null,null,null,null,null,null,null,null,null,null,null,null,null,null,null,null,null,null,null,null,null,null,null,null,null,null,null,null,null,null,null,null,null,null,null,null,null,null,null,null,null,null,null,null,null,null,null,null,null,null,null,null,null,null,null,null,null,null,null,null,null,null,null,null,null,null,null,null,null,null,null,null,null,null,null,null,null,null,null,null,null,null,null,null,null,null,null,null,null,null,null,null,null,null,null,null,null,null,null,null,null,null,null,null,null,null,null,null,null,null,null,null,null,null,null,null,null,null,null,null,null,null,null,null,null,null,null,null,null,null,null,null,null,null,null,null,null,null,null,null,null,null,null,null,null,null,null,null,null,null,null,null,null,null,null,null,null,null,null,null,null,null,null,null,null,null,null,null,null,null,null,null,null,null,null,null,null,null,null,null,null,null,null,null,null,null,null,null,null,null,null,null,null,null,null,null,null,null,null,null,null,null,null,null,null,"山梨県","甲府","日最深積雪0cm以上日数(日)","平年値(日)",null,4.5,3.1,0.9,0.1,0,0,0,0,0,0,0,0.6,9.1999999999999993]
[null,null,null,null,null,null,null,null,null,null,null,null,null,null,null,null,null,null,null,null,null,null,null,null,null,null,null,null,null,null,null,null,null,null,null,null,null,null,null,null,null,null,null,null,null,null,null,null,null,null,null,null,null,null,null,null,null,null,null,null,null,null,null,null,null,null,null,null,null,null,null,null,null,null,null,null,null,null,null,null,null,null,null,null,null,null,null,null,null,null,null,null,null,null,null,null,null,null,null,null,null,null,null,null,null,null,null,null,null,null,null,null,null,null,null,null,null,null,null,null,null,null,null,null,null,null,null,null,null,null,null,null,null,null,null,null,null,null,null,null,null,null,null,null,null,null,null,null,null,null,null,null,null,null,null,null,null,null,null,null,null,null,null,null,null,null,null,null,null,null,null,null,null,null,null,null,null,null,null,null,null,null,null,null,null,null,null,null,null,null,null,null,null,null,null,null,null,null,null,null,null,null,null,null,null,null,null,null,null,null,null,null,null,null,null,null,null,null,null,null,null,null,null,null,null,null,null,null,null,null,null,null,null,null,null,null,null,"長野県","長野","日最深積雪0cm以上日数(日)","平年値(日)",null,22.9,19.600000000000001,8.1999999999999993,0.6,0,0,0,0,0,0,0.9,10.8,63]
[null,null,null,null,null,null,null,null,null,null,null,null,null,null,null,null,null,null,null,null,null,null,null,null,null,null,null,null,null,null,null,null,null,null,null,null,null,null,null,null,null,null,null,null,null,null,null,null,null,null,null,null,null,null,null,null,null,null,null,null,null,null,null,null,null,null,null,null,null,null,null,null,null,null,null,null,null,null,null,null,null,null,null,null,null,null,null,null,null,null,null,null,null,null,null,null,null,null,null,null,null,null,null,null,null,null,null,null,null,null,null,null,null,null,null,null,null,null,null,null,null,null,null,null,null,null,null,null,null,null,null,null,null,null,null,null,null,null,null,null,null,null,null,null,null,null,null,null,null,null,null,null,null,null,null,null,null,null,null,null,null,null,null,null,null,null,null,null,null,null,null,null,null,null,null,null,null,null,null,null,null,null,null,null,null,null,null,null,null,null,null,null,null,null,null,null,null,null,null,null,null,null,null,null,null,null,null,null,null,null,null,null,null,null,null,null,null,null,null,null,null,null,null,null,null,null,null,null,null,null,null,null,null,null,null,null,null,"岐阜県","岐阜","日最深積雪0cm以上日数(日)","平年値(日)",null,5,4.8,0.9,0,0,0,0,0,0,0,0,2.4,13.100000000000001]
[null,null,null,null,null,null,null,null,null,null,null,null,null,null,null,null,null,null,null,null,null,null,null,null,null,null,null,null,null,null,null,null,null,null,null,null,null,null,null,null,null,null,null,null,null,null,null,null,null,null,null,null,null,null,null,null,null,null,null,null,null,null,null,null,null,null,null,null,null,null,null,null,null,null,null,null,null,null,null,null,null,null,null,null,null,null,null,null,null,null,null,null,null,null,null,null,null,null,null,null,null,null,null,null,null,null,null,null,null,null,null,null,null,null,null,null,null,null,null,null,null,null,null,null,null,null,null,null,null,null,null,null,null,null,null,null,null,null,null,null,null,null,null,null,null,null,null,null,null,null,null,null,null,null,null,null,null,null,null,null,null,null,null,null,null,null,null,null,null,null,null,null,null,null,null,null,null,null,null,null,null,null,null,null,null,null,null,null,null,null,null,null,null,null,null,null,null,null,null,null,null,null,null,null,null,null,null,null,null,null,null,null,null,null,null,null,null,null,null,null,null,null,null,null,null,null,null,null,null,null,null,null,null,null,null,null,null,"静岡県","静岡","日最深積雪0cm以上日数(日)","平年値(日)",null,0,0.2,0,0,0,0,0,0,0,0,0,0,0.2]
[null,null,null,null,null,null,null,null,null,null,null,null,null,null,null,null,null,null,null,null,null,null,null,null,null,null,null,null,null,null,null,null,null,null,null,null,null,null,null,null,null,null,null,null,null,null,null,null,null,null,null,null,null,null,null,null,null,null,null,null,null,null,null,null,null,null,null,null,null,null,null,null,null,null,null,null,null,null,null,null,null,null,null,null,null,null,null,null,null,null,null,null,null,null,null,null,null,null,null,null,null,null,null,null,null,null,null,null,null,null,null,null,null,null,null,null,null,null,null,null,null,null,null,null,null,null,null,null,null,null,null,null,null,null,null,null,null,null,null,null,null,null,null,null,null,null,null,null,null,null,null,null,null,null,null,null,null,null,null,null,null,null,null,null,null,null,null,null,null,null,null,null,null,null,null,null,null,null,null,null,null,null,null,null,null,null,null,null,null,null,null,null,null,null,null,null,null,null,null,null,null,null,null,null,null,null,null,null,null,null,null,null,null,null,null,null,null,null,null,null,null,null,null,null,null,null,null,null,null,null,null,null,null,null,null,null,null,"愛知県","名古屋","日最深積雪0cm以上日数(日)","平年値(日)",null,2.1,2.8,0.4,0,0,0,0,0,0,0,0,0.9,6.2000000000000011]
[null,null,null,null,null,null,null,null,null,null,null,null,null,null,null,null,null,null,null,null,null,null,null,null,null,null,null,null,null,null,null,null,null,null,null,null,null,null,null,null,null,null,null,null,null,null,null,null,null,null,null,null,null,null,null,null,null,null,null,null,null,null,null,null,null,null,null,null,null,null,null,null,null,null,null,null,null,null,null,null,null,null,null,null,null,null,null,null,null,null,null,null,null,null,null,null,null,null,null,null,null,null,null,null,null,null,null,null,null,null,null,null,null,null,null,null,null,null,null,null,null,null,null,null,null,null,null,null,null,null,null,null,null,null,null,null,null,null,null,null,null,null,null,null,null,null,null,null,null,null,null,null,null,null,null,null,null,null,null,null,null,null,null,null,null,null,null,null,null,null,null,null,null,null,null,null,null,null,null,null,null,null,null,null,null,null,null,null,null,null,null,null,null,null,null,null,null,null,null,null,null,null,null,null,null,null,null,null,null,null,null,null,null,null,null,null,null,null,null,null,null,null,null,null,null,null,null,null,null,null,null,null,null,null,null,null,null,"三重県","津","日最深積雪0cm以上日数(日)","平年値(日)",null,1.5,2.2000000000000002,0.4,0,0,0,0,0,0,0,0,0.4,4.5000000000000009]
[null,null,null,null,null,null,null,null,null,null,null,null,null,null,null,null,null,null,null,null,null,null,null,null,null,null,null,null,null,null,null,null,null,null,null,null,null,null,null,null,null,null,null,null,null,null,null,null,null,null,null,null,null,null,null,null,null,null,null,null,null,null,null,null,null,null,null,null,null,null,null,null,null,null,null,null,null,null,null,null,null,null,null,null,null,null,null,null,null,null,null,null,null,null,null,null,null,null,null,null,null,null,null,null,null,null,null,null,null,null,null,null,null,null,null,null,null,null,null,null,null,null,null,null,null,null,null,null,null,null,null,null,null,null,null,null,null,null,null,null,null,null,null,null,null,null,null,null,null,null,null,null,null,null,null,null,null,null,null,null,null,null,null,null,null,null,null,null,null,null,null,null,null,null,null,null,null,null,null,null,null,null,null,null,null,null,null,null,null,null,null,null,null,null,null,null,null,null,null,null,null,null,null,null,null,null,null,null,null,null,null,null,null,null,null,null,null,null,null,null,null,null,null,null,null,null,null,null,null,null,null,null,null,null,null,null,null,"滋賀県","彦根","日最深積雪0cm以上日数(日)","平年値(日)",null,10.1,9.1999999999999993,2.2999999999999998,0.1,0,0,0,0,0,0,0,3.5,25.2]
[null,null,null,null,null,null,null,null,null,null,null,null,null,null,null,null,null,null,null,null,null,null,null,null,null,null,null,null,null,null,null,null,null,null,null,null,null,null,null,null,null,null,null,null,null,null,null,null,null,null,null,null,null,null,null,null,null,null,null,null,null,null,null,null,null,null,null,null,null,null,null,null,null,null,null,null,null,null,null,null,null,null,null,null,null,null,null,null,null,null,null,null,null,null,null,null,null,null,null,null,null,null,null,null,null,null,null,null,null,null,null,null,null,null,null,null,null,null,null,null,null,null,null,null,null,null,null,null,null,null,null,null,null,null,null,null,null,null,null,null,null,null,null,null,null,null,null,null,null,null,null,null,null,null,null,null,null,null,null,null,null,null,null,null,null,null,null,null,null,null,null,null,null,null,null,null,null,null,null,null,null,null,null,null,null,null,null,null,null,null,null,null,null,null,null,null,null,null,null,null,null,null,null,null,null,null,null,null,null,null,null,null,null,null,null,null,null,null,null,null,null,null,null,null,null,null,null,null,null,null,null,null,null,null,null,null,null,"京都府","京都","日最深積雪0cm以上日数(日)","平年値(日)",null,3.1,3.9,1,0,0,0,0,0,0,0,0,1.2,9.1999999999999993]
[null,null,null,null,null,null,null,null,null,null,null,null,null,null,null,null,null,null,null,null,null,null,null,null,null,null,null,null,null,null,null,null,null,null,null,null,null,null,null,null,null,null,null,null,null,null,null,null,null,null,null,null,null,null,null,null,null,null,null,null,null,null,null,null,null,null,null,null,null,null,null,null,null,null,null,null,null,null,null,null,null,null,null,null,null,null,null,null,null,null,null,null,null,null,null,null,null,null,null,null,null,null,null,null,null,null,null,null,null,null,null,null,null,null,null,null,null,null,null,null,null,null,null,null,null,null,null,null,null,null,null,null,null,null,null,null,null,null,null,null,null,null,null,null,null,null,null,null,null,null,null,null,null,null,null,null,null,null,null,null,null,null,null,null,null,null,null,null,null,null,null,null,null,null,null,null,null,null,null,null,null,null,null,null,null,null,null,null,null,null,null,null,null,null,null,null,null,null,null,null,null,null,null,null,null,null,null,null,null,null,null,null,null,null,null,null,null,null,null,null,null,null,null,null,null,null,null,null,null,null,null,null,null,null,null,null,null,"大阪府","大阪","日最深積雪0cm以上日数(日)","平年値(日)",null,0.3,0.9,0.2,0,0,0,0,0,0,0,0,0.1,1.5]
[null,null,null,null,null,null,null,null,null,null,null,null,null,null,null,null,null,null,null,null,null,null,null,null,null,null,null,null,null,null,null,null,null,null,null,null,null,null,null,null,null,null,null,null,null,null,null,null,null,null,null,null,null,null,null,null,null,null,null,null,null,null,null,null,null,null,null,null,null,null,null,null,null,null,null,null,null,null,null,null,null,null,null,null,null,null,null,null,null,null,null,null,null,null,null,null,null,null,null,null,null,null,null,null,null,null,null,null,null,null,null,null,null,null,null,null,null,null,null,null,null,null,null,null,null,null,null,null,null,null,null,null,null,null,null,null,null,null,null,null,null,null,null,null,null,null,null,null,null,null,null,null,null,null,null,null,null,null,null,null,null,null,null,null,null,null,null,null,null,null,null,null,null,null,null,null,null,null,null,null,null,null,null,null,null,null,null,null,null,null,null,null,null,null,null,null,null,null,null,null,null,null,null,null,null,null,null,null,null,null,null,null,null,null,null,null,null,null,null,null,null,null,null,null,null,null,null,null,null,null,null,null,null,null,null,null,null,"兵庫県","神戸","日最深積雪0cm以上日数(日)","平年値(日)",null,0.5,1.2,0.5,0,0,0,0,0,0,0,0,0.4,2.6]
[null,null,null,null,null,null,null,null,null,null,null,null,null,null,null,null,null,null,null,null,null,null,null,null,null,null,null,null,null,null,null,null,null,null,null,null,null,null,null,null,null,null,null,null,null,null,null,null,null,null,null,null,null,null,null,null,null,null,null,null,null,null,null,null,null,null,null,null,null,null,null,null,null,null,null,null,null,null,null,null,null,null,null,null,null,null,null,null,null,null,null,null,null,null,null,null,null,null,null,null,null,null,null,null,null,null,null,null,null,null,null,null,null,null,null,null,null,null,null,null,null,null,null,null,null,null,null,null,null,null,null,null,null,null,null,null,null,null,null,null,null,null,null,null,null,null,null,null,null,null,null,null,null,null,null,null,null,null,null,null,null,null,null,null,null,null,null,null,null,null,null,null,null,null,null,null,null,null,null,null,null,null,null,null,null,null,null,null,null,null,null,null,null,null,null,null,null,null,null,null,null,null,null,null,null,null,null,null,null,null,null,null,null,null,null,null,null,null,null,null,null,null,null,null,null,null,null,null,null,null,null,null,null,null,null,null,null,"奈良県","奈良","日最深積雪0cm以上日数(日)","平年値(日)",null,1.4,1.9,0.8,0,0,0,0,0,0,0,0,0.7,4.8]
[null,null,null,null,null,null,null,null,null,null,null,null,null,null,null,null,null,null,null,null,null,null,null,null,null,null,null,null,null,null,null,null,null,null,null,null,null,null,null,null,null,null,null,null,null,null,null,null,null,null,null,null,null,null,null,null,null,null,null,null,null,null,null,null,null,null,null,null,null,null,null,null,null,null,null,null,null,null,null,null,null,null,null,null,null,null,null,null,null,null,null,null,null,null,null,null,null,null,null,null,null,null,null,null,null,null,null,null,null,null,null,null,null,null,null,null,null,null,null,null,null,null,null,null,null,null,null,null,null,null,null,null,null,null,null,null,null,null,null,null,null,null,null,null,null,null,null,null,null,null,null,null,null,null,null,null,null,null,null,null,null,null,null,null,null,null,null,null,null,null,null,null,null,null,null,null,null,null,null,null,null,null,null,null,null,null,null,null,null,null,null,null,null,null,null,null,null,null,null,null,null,null,null,null,null,null,null,null,null,null,null,null,null,null,null,null,null,null,null,null,null,null,null,null,null,null,null,null,null,null,null,null,null,null,null,null,null,"和歌山県","和歌山","日最深積雪0cm以上日数(日)","平年値(日)",null,0.9,1,0.1,0,0,0,0,0,0,0,0,0.2,2.2000000000000002]
[null,null,null,null,null,null,null,null,null,null,null,null,null,null,null,null,null,null,null,null,null,null,null,null,null,null,null,null,null,null,null,null,null,null,null,null,null,null,null,null,null,null,null,null,null,null,null,null,null,null,null,null,null,null,null,null,null,null,null,null,null,null,null,null,null,null,null,null,null,null,null,null,null,null,null,null,null,null,null,null,null,null,null,null,null,null,null,null,null,null,null,null,null,null,null,null,null,null,null,null,null,null,null,null,null,null,null,null,null,null,null,null,null,null,null,null,null,null,null,null,null,null,null,null,null,null,null,null,null,null,null,null,null,null,null,null,null,null,null,null,null,null,null,null,null,null,null,null,null,null,null,null,null,null,null,null,null,null,null,null,null,null,null,null,null,null,null,null,null,null,null,null,null,null,null,null,null,null,null,null,null,null,null,null,null,null,null,null,null,null,null,null,null,null,null,null,null,null,null,null,null,null,null,null,null,null,null,null,null,null,null,null,null,null,null,null,null,null,null,null,null,null,null,null,null,null,null,null,null,null,null,null,null,null,null,null,null,"鳥取県","鳥取","日最深積雪0cm以上日数(日)","平年値(日)",null,15.5,13.2,4,0.2,0,0,0,0,0,0,0.1,6.7,39.70000000000001]
[null,null,null,null,null,null,null,null,null,null,null,null,null,null,null,null,null,null,null,null,null,null,null,null,null,null,null,null,null,null,null,null,null,null,null,null,null,null,null,null,null,null,null,null,null,null,null,null,null,null,null,null,null,null,null,null,null,null,null,null,null,null,null,null,null,null,null,null,null,null,null,null,null,null,null,null,null,null,null,null,null,null,null,null,null,null,null,null,null,null,null,null,null,null,null,null,null,null,null,null,null,null,null,null,null,null,null,null,null,null,null,null,null,null,null,null,null,null,null,null,null,null,null,null,null,null,null,null,null,null,null,null,null,null,null,null,null,null,null,null,null,null,null,null,null,null,null,null,null,null,null,null,null,null,null,null,null,null,null,null,null,null,null,null,null,null,null,null,null,null,null,null,null,null,null,null,null,null,null,null,null,null,null,null,null,null,null,null,null,null,null,null,null,null,null,null,null,null,null,null,null,null,null,null,null,null,null,null,null,null,null,null,null,null,null,null,null,null,null,null,null,null,null,null,null,null,null,null,null,null,null,null,null,null,null,null,null,"島根県","松江","日最深積雪0cm以上日数(日)","平年値(日)",null,11.2,9.1,2.1,0.1,0,0,0,0,0,0,0.2,4.3,27]
[null,null,null,null,null,null,null,null,null,null,null,null,null,null,null,null,null,null,null,null,null,null,null,null,null,null,null,null,null,null,null,null,null,null,null,null,null,null,null,null,null,null,null,null,null,null,null,null,null,null,null,null,null,null,null,null,null,null,null,null,null,null,null,null,null,null,null,null,null,null,null,null,null,null,null,null,null,null,null,null,null,null,null,null,null,null,null,null,null,null,null,null,null,null,null,null,null,null,null,null,null,null,null,null,null,null,null,null,null,null,null,null,null,null,null,null,null,null,null,null,null,null,null,null,null,null,null,null,null,null,null,null,null,null,null,null,null,null,null,null,null,null,null,null,null,null,null,null,null,null,null,null,null,null,null,null,null,null,null,null,null,null,null,null,null,null,null,null,null,null,null,null,null,null,null,null,null,null,null,null,null,null,null,null,null,null,null,null,null,null,null,null,null,null,null,null,null,null,null,null,null,null,null,null,null,null,null,null,null,null,null,null,null,null,null,null,null,null,null,null,null,null,null,null,null,null,null,null,null,null,null,null,null,null,null,null,null,"岡山県","岡山","日最深積雪0cm以上日数(日)","平年値(日)",null,0.9,1.1000000000000001,0.4,0,0,0,0,0,0,0,0,0.1,2.5]
[null,null,null,null,null,null,null,null,null,null,null,null,null,null,null,null,null,null,null,null,null,null,null,null,null,null,null,null,null,null,null,null,null,null,null,null,null,null,null,null,null,null,null,null,null,null,null,null,null,null,null,null,null,null,null,null,null,null,null,null,null,null,null,null,null,null,null,null,null,null,null,null,null,null,null,null,null,null,null,null,null,null,null,null,null,null,null,null,null,null,null,null,null,null,null,null,null,null,null,null,null,null,null,null,null,null,null,null,null,null,null,null,null,null,null,null,null,null,null,null,null,null,null,null,null,null,null,null,null,null,null,null,null,null,null,null,null,null,null,null,null,null,null,null,null,null,null,null,null,null,null,null,null,null,null,null,null,null,null,null,null,null,null,null,null,null,null,null,null,null,null,null,null,null,null,null,null,null,null,null,null,null,null,null,null,null,null,null,null,null,null,null,null,null,null,null,null,null,null,null,null,null,null,null,null,null,null,null,null,null,null,null,null,null,null,null,null,null,null,null,null,null,null,null,null,null,null,null,null,null,null,null,null,null,null,null,null,"広島県","広島","日最深積雪0cm以上日数(日)","平年値(日)",null,2.7,2.2999999999999998,0.7,0,0,0,0,0,0,0,0,1.2,6.9]
[null,null,null,null,null,null,null,null,null,null,null,null,null,null,null,null,null,null,null,null,null,null,null,null,null,null,null,null,null,null,null,null,null,null,null,null,null,null,null,null,null,null,null,null,null,null,null,null,null,null,null,null,null,null,null,null,null,null,null,null,null,null,null,null,null,null,null,null,null,null,null,null,null,null,null,null,null,null,null,null,null,null,null,null,null,null,null,null,null,null,null,null,null,null,null,null,null,null,null,null,null,null,null,null,null,null,null,null,null,null,null,null,null,null,null,null,null,null,null,null,null,null,null,null,null,null,null,null,null,null,null,null,null,null,null,null,null,null,null,null,null,null,null,null,null,null,null,null,null,null,null,null,null,null,null,null,null,null,null,null,null,null,null,null,null,null,null,null,null,null,null,null,null,null,null,null,null,null,null,null,null,null,null,null,null,null,null,null,null,null,null,null,null,null,null,null,null,null,null,null,null,null,null,null,null,null,null,null,null,null,null,null,null,null,null,null,null,null,null,null,null,null,null,null,null,null,null,null,null,null,null,null,null,null,null,null,null,"山口県","山口","日最深積雪0cm以上日数(日)","平年値(日)",null,3.2,2.1,0.5,0,0,0,0,0,0,0,0,1.2,7.0000000000000009]
[null,null,null,null,null,null,null,null,null,null,null,null,null,null,null,null,null,null,null,null,null,null,null,null,null,null,null,null,null,null,null,null,null,null,null,null,null,null,null,null,null,null,null,null,null,null,null,null,null,null,null,null,null,null,null,null,null,null,null,null,null,null,null,null,null,null,null,null,null,null,null,null,null,null,null,null,null,null,null,null,null,null,null,null,null,null,null,null,null,null,null,null,null,null,null,null,null,null,null,null,null,null,null,null,null,null,null,null,null,null,null,null,null,null,null,null,null,null,null,null,null,null,null,null,null,null,null,null,null,null,null,null,null,null,null,null,null,null,null,null,null,null,null,null,null,null,null,null,null,null,null,null,null,null,null,null,null,null,null,null,null,null,null,null,null,null,null,null,null,null,null,null,null,null,null,null,null,null,null,null,null,null,null,null,null,null,null,null,null,null,null,null,null,null,null,null,null,null,null,null,null,null,null,null,null,null,null,null,null,null,null,null,null,null,null,null,null,null,null,null,null,null,null,null,null,null,null,null,null,null,null,null,null,null,null,null,null,"徳島県","徳島","日最深積雪0cm以上日数(日)","平年値(日)",null,1.2,1.2,0.2,0,0,0,0,0,0,0,0,0.2,2.8000000000000003]
[null,null,null,null,null,null,null,null,null,null,null,null,null,null,null,null,null,null,null,null,null,null,null,null,null,null,null,null,null,null,null,null,null,null,null,null,null,null,null,null,null,null,null,null,null,null,null,null,null,null,null,null,null,null,null,null,null,null,null,null,null,null,null,null,null,null,null,null,null,null,null,null,null,null,null,null,null,null,null,null,null,null,null,null,null,null,null,null,null,null,null,null,null,null,null,null,null,null,null,null,null,null,null,null,null,null,null,null,null,null,null,null,null,null,null,null,null,null,null,null,null,null,null,null,null,null,null,null,null,null,null,null,null,null,null,null,null,null,null,null,null,null,null,null,null,null,null,null,null,null,null,null,null,null,null,null,null,null,null,null,null,null,null,null,null,null,null,null,null,null,null,null,null,null,null,null,null,null,null,null,null,null,null,null,null,null,null,null,null,null,null,null,null,null,null,null,null,null,null,null,null,null,null,null,null,null,null,null,null,null,null,null,null,null,null,null,null,null,null,null,null,null,null,null,null,null,null,null,null,null,null,null,null,null,null,null,null,"香川県","高松","日最深積雪0cm以上日数(日)","平年値(日)",null,0.8,1.1000000000000001,0.3,0,0,0,0,0,0,0,0,0.1,2.3000000000000003]
[null,null,null,null,null,null,null,null,null,null,null,null,null,null,null,null,null,null,null,null,null,null,null,null,null,null,null,null,null,null,null,null,null,null,null,null,null,null,null,null,null,null,null,null,null,null,null,null,null,null,null,null,null,null,null,null,null,null,null,null,null,null,null,null,null,null,null,null,null,null,null,null,null,null,null,null,null,null,null,null,null,null,null,null,null,null,null,null,null,null,null,null,null,null,null,null,null,null,null,null,null,null,null,null,null,null,null,null,null,null,null,null,null,null,null,null,null,null,null,null,null,null,null,null,null,null,null,null,null,null,null,null,null,null,null,null,null,null,null,null,null,null,null,null,null,null,null,null,null,null,null,null,null,null,null,null,null,null,null,null,null,null,null,null,null,null,null,null,null,null,null,null,null,null,null,null,null,null,null,null,null,null,null,null,null,null,null,null,null,null,null,null,null,null,null,null,null,null,null,null,null,null,null,null,null,null,null,null,null,null,null,null,null,null,null,null,null,null,null,null,null,null,null,null,null,null,null,null,null,null,null,null,null,null,null,null,null,"愛媛県","松山","日最深積雪0cm以上日数(日)","平年値(日)",null,0.8,1.1000000000000001,0.2,0,0,0,0,0,0,0,0,0.2,2.3000000000000003]
[null,null,null,null,null,null,null,null,null,null,null,null,null,null,null,null,null,null,null,null,null,null,null,null,null,null,null,null,null,null,null,null,null,null,null,null,null,null,null,null,null,null,null,null,null,null,null,null,null,null,null,null,null,null,null,null,null,null,null,null,null,null,null,null,null,null,null,null,null,null,null,null,null,null,null,null,null,null,null,null,null,null,null,null,null,null,null,null,null,null,null,null,null,null,null,null,null,null,null,null,null,null,null,null,null,null,null,null,null,null,null,null,null,null,null,null,null,null,null,null,null,null,null,null,null,null,null,null,null,null,null,null,null,null,null,null,null,null,null,null,null,null,null,null,null,null,null,null,null,null,null,null,null,null,null,null,null,null,null,null,null,null,null,null,null,null,null,null,null,null,null,null,null,null,null,null,null,null,null,null,null,null,null,null,null,null,null,null,null,null,null,null,null,null,null,null,null,null,null,null,null,null,null,null,null,null,null,null,null,null,null,null,null,null,null,null,null,null,null,null,null,null,null,null,null,null,null,null,null,null,null,null,null,null,null,null,null,"高知県","高知","日最深積雪0cm以上日数(日)","平年値(日)",null,0.4,0.2,0.1,0,0,0,0,0,0,0,0,0.2,0.90000000000000013]
[null,null,null,null,null,null,null,null,null,null,null,null,null,null,null,null,null,null,null,null,null,null,null,null,null,null,null,null,null,null,null,null,null,null,null,null,null,null,null,null,null,null,null,null,null,null,null,null,null,null,null,null,null,null,null,null,null,null,null,null,null,null,null,null,null,null,null,null,null,null,null,null,null,null,null,null,null,null,null,null,null,null,null,null,null,null,null,null,null,null,null,null,null,null,null,null,null,null,null,null,null,null,null,null,null,null,null,null,null,null,null,null,null,null,null,null,null,null,null,null,null,null,null,null,null,null,null,null,null,null,null,null,null,null,null,null,null,null,null,null,null,null,null,null,null,null,null,null,null,null,null,null,null,null,null,null,null,null,null,null,null,null,null,null,null,null,null,null,null,null,null,null,null,null,null,null,null,null,null,null,null,null,null,null,null,null,null,null,null,null,null,null,null,null,null,null,null,null,null,null,null,null,null,null,null,null,null,null,null,null,null,null,null,null,null,null,null,null,null,null,null,null,null,null,null,null,null,null,null,null,null,null,null,null,null,null,null,"福岡県","福岡","日最深積雪0cm以上日数(日)","平年値(日)",null,1.7,0.9,0.3,0,0,0,0,0,0,0,0.1,0.8,3.8]
[null,null,null,null,null,null,null,null,null,null,null,null,null,null,null,null,null,null,null,null,null,null,null,null,null,null,null,null,null,null,null,null,null,null,null,null,null,null,null,null,null,null,null,null,null,null,null,null,null,null,null,null,null,null,null,null,null,null,null,null,null,null,null,null,null,null,null,null,null,null,null,null,null,null,null,null,null,null,null,null,null,null,null,null,null,null,null,null,null,null,null,null,null,null,null,null,null,null,null,null,null,null,null,null,null,null,null,null,null,null,null,null,null,null,null,null,null,null,null,null,null,null,null,null,null,null,null,null,null,null,null,null,null,null,null,null,null,null,null,null,null,null,null,null,null,null,null,null,null,null,null,null,null,null,null,null,null,null,null,null,null,null,null,null,null,null,null,null,null,null,null,null,null,null,null,null,null,null,null,null,null,null,null,null,null,null,null,null,null,null,null,null,null,null,null,null,null,null,null,null,null,null,null,null,null,null,null,null,null,null,null,null,null,null,null,null,null,null,null,null,null,null,null,null,null,null,null,null,null,null,null,null,null,null,null,null,null,"佐賀県","佐賀","日最深積雪0cm以上日数(日)","平年値(日)",null,1.8,1.3,0.3,0,0,0,0,0,0,0,0,0.6,4]
[null,null,null,null,null,null,null,null,null,null,null,null,null,null,null,null,null,null,null,null,null,null,null,null,null,null,null,null,null,null,null,null,null,null,null,null,null,null,null,null,null,null,null,null,null,null,null,null,null,null,null,null,null,null,null,null,null,null,null,null,null,null,null,null,null,null,null,null,null,null,null,null,null,null,null,null,null,null,null,null,null,null,null,null,null,null,null,null,null,null,null,null,null,null,null,null,null,null,null,null,null,null,null,null,null,null,null,null,null,null,null,null,null,null,null,null,null,null,null,null,null,null,null,null,null,null,null,null,null,null,null,null,null,null,null,null,null,null,null,null,null,null,null,null,null,null,null,null,null,null,null,null,null,null,null,null,null,null,null,null,null,null,null,null,null,null,null,null,null,null,null,null,null,null,null,null,null,null,null,null,null,null,null,null,null,null,null,null,null,null,null,null,null,null,null,null,null,null,null,null,null,null,null,null,null,null,null,null,null,null,null,null,null,null,null,null,null,null,null,null,null,null,null,null,null,null,null,null,null,null,null,null,null,null,null,null,null,"長崎県","長崎","日最深積雪0cm以上日数(日)","平年値(日)",null,1.2,0.9,0.2,0,0,0,0,0,0,0,0,0.2,2.5000000000000004]
[null,null,null,null,null,null,null,null,null,null,null,null,null,null,null,null,null,null,null,null,null,null,null,null,null,null,null,null,null,null,null,null,null,null,null,null,null,null,null,null,null,null,null,null,null,null,null,null,null,null,null,null,null,null,null,null,null,null,null,null,null,null,null,null,null,null,null,null,null,null,null,null,null,null,null,null,null,null,null,null,null,null,null,null,null,null,null,null,null,null,null,null,null,null,null,null,null,null,null,null,null,null,null,null,null,null,null,null,null,null,null,null,null,null,null,null,null,null,null,null,null,null,null,null,null,null,null,null,null,null,null,null,null,null,null,null,null,null,null,null,null,null,null,null,null,null,null,null,null,null,null,null,null,null,null,null,null,null,null,null,null,null,null,null,null,null,null,null,null,null,null,null,null,null,null,null,null,null,null,null,null,null,null,null,null,null,null,null,null,null,null,null,null,null,null,null,null,null,null,null,null,null,null,null,null,null,null,null,null,null,null,null,null,null,null,null,null,null,null,null,null,null,null,null,null,null,null,null,null,null,null,null,null,null,null,null,null,"熊本県","熊本","日最深積雪0cm以上日数(日)","平年値(日)",null,1,0.8,0.1,0,0,0,0,0,0,0,0,0.3,2.2000000000000002]
[null,null,null,null,null,null,null,null,null,null,null,null,null,null,null,null,null,null,null,null,null,null,null,null,null,null,null,null,null,null,null,null,null,null,null,null,null,null,null,null,null,null,null,null,null,null,null,null,null,null,null,null,null,null,null,null,null,null,null,null,null,null,null,null,null,null,null,null,null,null,null,null,null,null,null,null,null,null,null,null,null,null,null,null,null,null,null,null,null,null,null,null,null,null,null,null,null,null,null,null,null,null,null,null,null,null,null,null,null,null,null,null,null,null,null,null,null,null,null,null,null,null,null,null,null,null,null,null,null,null,null,null,null,null,null,null,null,null,null,null,null,null,null,null,null,null,null,null,null,null,null,null,null,null,null,null,null,null,null,null,null,null,null,null,null,null,null,null,null,null,null,null,null,null,null,null,null,null,null,null,null,null,null,null,null,null,null,null,null,null,null,null,null,null,null,null,null,null,null,null,null,null,null,null,null,null,null,null,null,null,null,null,null,null,null,null,null,null,null,null,null,null,null,null,null,null,null,null,null,null,null,null,null,null,null,null,null,"大分県","大分","日最深積雪0cm以上日数(日)","平年値(日)",null,0.5,0.4,0.1,0,0,0,0,0,0,0,0,0.1,1.1000000000000001]
[null,null,null,null,null,null,null,null,null,null,null,null,null,null,null,null,null,null,null,null,null,null,null,null,null,null,null,null,null,null,null,null,null,null,null,null,null,null,null,null,null,null,null,null,null,null,null,null,null,null,null,null,null,null,null,null,null,null,null,null,null,null,null,null,null,null,null,null,null,null,null,null,null,null,null,null,null,null,null,null,null,null,null,null,null,null,null,null,null,null,null,null,null,null,null,null,null,null,null,null,null,null,null,null,null,null,null,null,null,null,null,null,null,null,null,null,null,null,null,null,null,null,null,null,null,null,null,null,null,null,null,null,null,null,null,null,null,null,null,null,null,null,null,null,null,null,null,null,null,null,null,null,null,null,null,null,null,null,null,null,null,null,null,null,null,null,null,null,null,null,null,null,null,null,null,null,null,null,null,null,null,null,null,null,null,null,null,null,null,null,null,null,null,null,null,null,null,null,null,null,null,null,null,null,null,null,null,null,null,null,null,null,null,null,null,null,null,null,null,null,null,null,null,null,null,null,null,null,null,null,null,null,null,null,null,null,null,"宮崎県","宮崎","日最深積雪0cm以上日数(日)","平年値(日)",null,0.1,0,0,0,0,0,0,0,0,0,0,0,0.1]
[null,null,null,null,null,null,null,null,null,null,null,null,null,null,null,null,null,null,null,null,null,null,null,null,null,null,null,null,null,null,null,null,null,null,null,null,null,null,null,null,null,null,null,null,null,null,null,null,null,null,null,null,null,null,null,null,null,null,null,null,null,null,null,null,null,null,null,null,null,null,null,null,null,null,null,null,null,null,null,null,null,null,null,null,null,null,null,null,null,null,null,null,null,null,null,null,null,null,null,null,null,null,null,null,null,null,null,null,null,null,null,null,null,null,null,null,null,null,null,null,null,null,null,null,null,null,null,null,null,null,null,null,null,null,null,null,null,null,null,null,null,null,null,null,null,null,null,null,null,null,null,null,null,null,null,null,null,null,null,null,null,null,null,null,null,null,null,null,null,null,null,null,null,null,null,null,null,null,null,null,null,null,null,null,null,null,null,null,null,null,null,null,null,null,null,null,null,null,null,null,null,null,null,null,null,null,null,null,null,null,null,null,null,null,null,null,null,null,null,null,null,null,null,null,null,null,null,null,null,null,null,null,null,null,null,null,null,"鹿児島県","鹿児島","日最深積雪0cm以上日数(日)","平年値(日)",null,0.6,0.6,0,0,0,0,0,0,0,0,0,0.1,1.3]
[null,null,null,null,null,null,null,null,null,null,null,null,null,null,null,null,null,null,null,null,null,null,null,null,null,null,null,null,null,null,null,null,null,null,null,null,null,null,null,null,null,null,null,null,null,null,null,null,null,null,null,null,null,null,null,null,null,null,null,null,null,null,null,null,null,null,null,null,null,null,null,null,null,null,null,null,null,null,null,null,null,null,null,null,null,null,null,null,null,null,null,null,null,null,null,null,null,null,null,null,null,null,null,null,null,null,null,null,null,null,null,null,null,null,null,null,null,null,null,null,null,null,null,null,null,null,null,null,null,null,null,null,null,null,null,null,null,null,null,null,null,null,null,null,null,null,null,null,null,null,null,null,null,null,null,null,null,null,null,null,null,null,null,null,null,null,null,null,null,null,null,null,null,null,null,null,null,null,null,null,null,null,null,null,null,null,null,null,null,null,null,null,null,null,null,null,null,null,null,null,null,null,null,null,null,null,null,null,null,null,null,null,null,null,null,null,null,null,null,null,null,null,null,null,null,null,null,null,null,null,null,null,null,null,null,null,null,"沖縄県","那覇","日最深積雪0cm以上日数(日)","平年値(日)",null,0,0,0,0,0,0,0,0,0,0,0,0,0]

{"sheet":"係数・物性","index":8,"n_rows":8,"n_cols":5,"rows_kept":8,"cut":false,"hidden":true,"merged":[]}
[]
["■係数"]
["記号","項目","単位","値","備考"]
["ρ","水の比熱","kJ/kgK",4.1790000000000003,"[1]"]
["cw","水の密度","kg/m3",{"$f":"0.99662*1000","v":996.62},"[1]"]
["Cw","容積比熱","MJ/m3K",{"$f":"D4*D5/1000","v":4.1648749800000004},"cwρ"]
["g","重力加速度","m/s2",9.8059999999999992]
["[1]JSMEテキストシリーズ伝熱工学、社団法人日本機械学会、2011年1月14日"]

{"sheet":"配管摩擦抵抗線図(不要)","index":9,"n_rows":21,"n_cols":15,"rows_kept":21,"cut":false,"hidden":true,"merged":[]}
["■流量"]
["流量",200,"L/min","配管径",{"$f":"VLOOKUP(1,J4:K21,2,FALSE)","v":"65A"}]
[]
[null,null,null,null,null,null,"管径","流量[L/min]","判定①","判定②","対象管径",null,"熱量目安[kW](温度差5℃)"]
[null,null,null,null,null,null,"300A",9800,{"$f":"IF($B$2<=H5,1,0)","v":1},{"$f":"IF(I5=I6,0,1)","v":0},{"$f":"G5","v":"300A"},null,{"$f":"H5*5/14.3","v":3426.5734265734263},null,{"$f":"H5/1000*60*24*365","v":5150880}]
[null,null,null,null,null,null,"250A",6500,1,0,"250A",null,2272.7272727272725]
[null,null,null,null,null,null,"225A",5100,1,0,"225A",null,1783.2167832167831]
[null,null,null,null,null,null,"200A",3900,1,0,"200A",null,1363.6363636363635]
[null,null,null,null,null,null,"175A",2900,1,0,"175A",null,1013.986013986014]
[null,null,null,null,null,null,"150A",2050,1,0,"150A",null,716.78321678321674]
[null,null,null,null,null,null,"125A",1400,1,0,"125A",null,489.51048951048949]
[null,null,null,null,null,null,"100A",850,1,0,"100A",null,297.20279720279717]
[null,null,null,null,null,null,"90A",620,1,0,"90A",null,216.78321678321677]
[null,null,null,null,null,null,"80A",450,1,0,"80A",null,157.34265734265733]
[null,null,null,null,null,null,"65A",290,1,1,"65A",null,101.3986013986014]
[null,null,null,null,null,null,"50A",170,0,0,"50A",null,59.44055944055944]
[null,null,null,null,null,null,"40A",95,0,0,"40A",null,33.216783216783213]
[null,null,null,null,null,null,"32A",68,0,0,"32A",null,23.776223776223777]
[null,null,null,null,null,null,"25A",36,0,0,"25A",null,12.587412587412587]
[null,null,null,null,null,null,"20A",20,0,0,"20A",null,6.9930069930069925]
[null,null,null,null,null,null,"15A",10,0,0,"15A",null,3.4965034965034962]

{"sheet":"ポンプ選定(参考・不要)","index":10,"n_rows":39,"n_cols":2,"rows_kept":39,"cut":false,"hidden":true,"merged":[]}
[{"$f":"HYPERLINK(B1,\"荏原機種選定\")","v":"荏原機種選定"},"https://www.ebook.ebara.com/EDASNet/LoginCheck.do"]
[null,"■ラインポンプ"]
[]
[]
[]
[]
[]
[]
[]
[]
[]
[]
[]
[]
[]
[]
[]
[]
[]
[]
[]
[]
[]
[]
[]
[]
[]
[]
[]
[]
[]
[]
[]
[]
[]
[]
[]
[]
[null,"■下水取水ポンプ"]

{"sheet":"ポンプ効率近似式","index":11,"n_rows":53,"n_cols":22,"rows_kept":53,"cut":false,"hidden":true,"merged":[]}
[]
[null,"■ポンプ動力の算定"]
[]
[]
[]
[]
[]
[]
[null,"■ポンプ効率の近似式"]
[null,"◆小型渦巻ポンプ"]
[null,"吐出し量","m3/min",0.08,0.1,0.15,0.2,0.3,0.4,0.5,0.6,0.8,1,1.5,2,3,4,5,6,8,10,15]
[null,"log(吐出し量)",null,{"$f":"LN(D11)","v":-2.5257286443082556},-2.3025850929940455,-1.8971199848858813,-1.6094379124341003,-1.2039728043259361,-0.916290731874155,-0.69314718055994529,-0.51082562376599072,-0.22314355131420971,0,0.40546510810816438,0.69314718055994529,1.0986122886681098,1.3862943611198906,1.6094379124341003,1.791759469228055,2.0794415416798357,2.3025850929940459,2.7080502011022101]
[null,"A効率","%",32,37,44,48,53.5,57,59,60.5,63.5,65.5,68.5,70.5,73,74,74.5,75,75.5,76,76.5]
[null,"B効率","%",26,30.5,36,39.5,44,46.5,48.5,49.5,52,53.5,56,58,60,60.5,61,61.5,62,62.5,63]
[null,"B効率（近似式より）","%",{"$f":"-1.403*LN(D11)^2+6.9719*LN(D11)+53.781","v":27.221707290642328},{"$f":"-1.403*LN(E11)^2+6.9719*LN(E11)+53.781","v":30.289043941153622},35.504982052788193,38.925982395546427,43.35330263500029,46.214769692884758,48.274371593326876,49.85347206015792,52.155405833168615,53.780999999999999,56.377206245907196,57.939477249618648,59.747065623345144,60.749803342182815,61.367662758945031,61.76877384372861,62.211978277692516,62.39582996084399,62.37230434102382]
[]
[]
[]
[]
[]
[]
[]
[]
[]
[]
[]
[]
[]
[]
[]
[null,"◆設備排水用水中ポンプ"]
[null,"吐出し量","m3/min",0.08,0.1,0.15,0.2,0.3,0.4,0.5,0.6,0.8,1,1.5,2,3,4]
[null,"log(吐出し量)",null,{"$f":"LN(D32)","v":-2.5257286443082556},-2.3025850929940455,-1.8971199848858813,-1.6094379124341003,-1.2039728043259361,-0.916290731874155,-0.69314718055994529,-0.51082562376599072,-0.22314355131420971,0,0.40546510810816438,0.69314718055994529,1.0986122886681098,1.3862943611198906]
[null,"A効率","%",28,30,35.5,38.5,43,46,47.5,49,51,53,55.5,57,59,60]
[null,"B効率","%",22,24.5,29,31.5,35.5,37.5,39,40,42,43.5,45.5,46.5,48,49]
[null,"B効率（近似式より）","%",{"$f":"-1.1599*LN(D32)^2+5.5019*LN(D32)+43.417","v":22.121337488170983},{"$f":"-1.1599*LN(E32)^2+5.5019*LN(E32)+43.417","v":24.59873545851217},28.804680946598126,31.557555721601151,35.111528387204999,37.401821083002687,39.046096076433514,40.30382092612443,42.131531542716786,43.417000000000002,45.457138651979626,46.673349021879041,48.061514851376558,48.815143142070639]
[]
[]
[]
[]
[]
[]
[]
[]
[]
[]
[]
[]
[]
[null,"※参考"]
[null,"宮田征門・中村美紀子・ 玄姫・三浦尚志，「建築物の設備・機器のエネルギー効率に関する既存試験方法の調査」，国立研究開発法人建築研究所，建築研究資料No.187号，2017(平成29年)9月"]
[null,"https://www.kenken.go.jp/japanese/contents/publications/data/187/index.html"]
[null,"https://www.kenken.go.jp/japanese/contents/publications/data/187/4.pdf"]

{"sheet":"蓄熱槽容量関数","index":12,"n_rows":39,"n_cols":9,"rows_kept":39,"cut":false,"hidden":true,"merged":[]}
[null,"■蓄熱槽容量の検討",null,"蓄熱バランスシートを各HP容量、建物用途、熱利用用途で作成し、関数を作成"]
[null,null,"HP容量","50kW","100kW","300kW","500kW","1000kW","2000kW"]
[null,"建物用途","熱利用用途",50,100,300,500,1000,2000]
[null,"集合住宅","給湯(冬期)",8.6,17.100000000000001,51.1,85.1,170.2,340.3]
[null,null,"冷房(夏期)",79.099999999999994,158.19999999999999,474.40000000000003,790.6,1581.1,3162.2]
[null,null,"暖房(冬期)",35.6,71.099999999999994,213.1,355.20000000000005,710.30000000000007,1420.5]
[null,"業務施設","給湯(冬期)",9.6,19.200000000000003,57.5,95.8,191.5,383]
[null,null,"冷房(夏期)",91.3,182.5,547.20000000000005,912,1824,3647.9]
[null,null,"暖房(冬期)",119.89999999999999,239.7,718.9,1198.1999999999998,2396.2999999999997,4792.4000000000005]
[null,"商業施設","給湯(冬期)",10.1,20.200000000000003,60.5,100.89999999999999,201.7,403.3]
[null,null,"冷房(夏期)",111.8,223.6,670.7,1117.8999999999999,2235.6,4471.2000000000007]
[null,null,"暖房(冬期)",111.8,223.6,670.7,1117.8999999999999,2235.6,4471.2000000000007]
[null,"宿泊施設","給湯(冬期)",4.8,9.5,28.5,47.4,94.699999999999989,189.4]
[null,null,"冷房(夏期)",60.2,120.3,360.70000000000005,601.1,1202.0999999999999,2404.1]
[null,null,"暖房(冬期)",41.6,83.199999999999989,249.4,415.6,831.1,1662.1]
[null,"医療施設","給湯(冬期)",7.8999999999999995,15.799999999999999,47.300000000000004,78.899999999999991,157.69999999999999,315.3]
[null,null,"冷房(夏期)",49.4,98.8,296.3,493.8,987.5,1974.8999999999999]
[null,null,"暖房(冬期)",51.5,102.8,308.40000000000003,513.9,1027.6999999999998,2055.4]
[]
[null,"■蓄熱槽容量関数"]
[]
[]
[]
[null,"建物用途","熱利用用途"," 傾きa"]
[null,"集合住宅","給湯(冬期)",0.17019999999999999]
[null,null,"冷房(夏期)",1.5810999999999999]
[null,null,"暖房(冬期)",0.71030000000000004]
[null,"業務施設","給湯(冬期)",0.1915]
[null,null,"冷房(夏期)",1.8240000000000001]
[null,null,"暖房(冬期)",2.3961999999999999]
[null,"商業施設","給湯(冬期)",0.20169999999999999]
[null,null,"冷房(夏期)",2.2355999999999998]
[null,null,"暖房(冬期)",2.2355999999999998]
[null,"宿泊施設","給湯(冬期)",9.4700000000000006E-2]
[null,null,"冷房(夏期)",1.2020999999999999]
[null,null,"暖房(冬期)",0.83109999999999995]
[null,"医療施設","給湯(冬期)",0.15770000000000001]
[null,null,"冷房(夏期)",0.98750000000000004]
[null,null,"暖房(冬期)",1.0277000000000001]

{"sheet":"HP性能曲線","index":13,"n_rows":11,"n_cols":7,"rows_kept":11,"cut":false,"hidden":true,"merged":[]}
[]
[null,"■COP関数"]
[null,"項目","熱利用用途","冷温水出口温度[℃]","a","b","備考"]
[null,"空冷ヒートポンプ","冷房",7,-9.5600000000000004E-2,7.3129999999999997,"メーカ性能表より作成"]
[null,"COP=a×外気温+b","暖房",45,7.8200000000000006E-2,3.1059000000000001,"メーカ性能表より作成"]
[null,null,"給湯",55,6.3E-2,2.5226000000000002,"メーカ性能表より作成"]
[]
[null,"項目","熱利用用途","冷温水出口温度[℃]","a","b","備考"]
[null,"水冷ヒートポンプ","冷房",7,-0.10829999999999999,7.4622000000000002,"メーカ性能表より作成"]
[null,"COP=a×下水温度+b","暖房",45,6.1899999999999997E-2,3.0760999999999998,"メーカ性能表より作成"]
[null,null,"給湯","65~70",5.21E-2,2.5851999999999999,"メーカ性能表より作成"]

{"sheet":"冷却塔消費電力関数","index":14,"n_rows":17,"n_cols":9,"rows_kept":17,"cut":false,"hidden":true,"merged":[]}
[]
[null,"型番","冷却能力","冷却水量","定格消費電力","公表価格"]
[null,null,"kW","L/min","kW","円"]
["空研","SKB-200R",907,2600,5.5,6707000]
["空研","SKB-500R",2267,6500,{"$f":"7.5*2","v":15},15120000]
["空研","SKB-80S",363,1040,2.2000000000000002,3196000]
["空研","SKB-100S",453,1300,2.2000000000000002,4420000]
["空研","SKB-200S",907,2600,5.5,8212000]
["空研","SKB-300S",1360,3900,{"$f":"3.7*2","v":7.4},11780000]
["三菱ｹﾐｶﾙｲﾝﾌﾗﾃｯｸ","HT-10KE",45,130,0.2,330000]
["三菱ｹﾐｶﾙｲﾝﾌﾗﾃｯｸ","HT-30KE",136,390,1.1000000000000001,760000]
["三菱ｹﾐｶﾙｲﾝﾌﾗﾃｯｸ","HT-200ME-RM",907,2600,7.5,6750000]
["三菱ｹﾐｶﾙｲﾝﾌﾗﾃｯｸ","HT-300ME-RM",1360,3900,{"$f":"3.7*2","v":7.4},10010000]
["三菱ｹﾐｶﾙｲﾝﾌﾗﾃｯｸ","HT-500ME-RM",2267,6500,{"$f":"7.5*2","v":15},15930000]
[]
["空研カタログ、クーリングタワー07シリーズ",null,null,null,null,null,null,"a","b"]
["三菱ｹﾐｶﾙｲﾝﾌﾗﾃｯｸカタログ、ヒシクーリングタワーVol.15",null,null,null,null,null,null,2.3E-3,-0.20449999999999999]

{"sheet":"価格関数","index":15,"n_rows":28,"n_cols":8,"rows_kept":28,"cut":false,"hidden":true,"merged":[]}
[]
[null,"■機器価格関数"]
[]
[]
[]
[]
[]
[]
[]
[]
[]
[null,"機器名称","x軸項目","x軸項目単位","傾きa[千円]","切片b[千円]","備考"]
[null,"ボイラ","出力","kW",5.0483000000000002,399.9,"積算資料公表価格ベース"]
[null,"バイオマスボイラ","出力","kW",32.247999999999998,3998.8,"積算資料公表価格ベース"]
[null,"吸収式冷温水機","冷房能力","kW",38.280999999999999,1843.8,"積算資料公表価格ベース"]
[null,"吸収式冷温水機","暖房能力","kW",45.186999999999998,2100.1,"積算資料公表価格ベース"]
[null,"吸収式冷凍機","冷房能力","kW",16.579999999999998,9940.9,"積算資料公表価格ベース"]
[null,"冷却塔","冷却能力","kW",4.5178000000000003,521.16999999999996,"積算資料公表価格ベース"]
[null,"冷却塔","水量","L/min",1.5757000000000001,520.9,"積算資料公表価格ベース"]
[null,"貯湯槽","容量","L",0.34429999999999999,1335.6,"積算資料公表価格ベース"]
[null,"循環ポンプ","出力","kW",37.311999999999998,112.28,"メーカWEB公開価格ベース"]
[null,"汚水汚物ポンプ","出力","kW",45.055999999999997,112.67,"メーカWEB公開価格ベース"]
[null,"水冷ヒートポンプ","加熱能力","kW",88.807000000000002,1398.7,"メーカ見積、WEB公開価格ベース"]
[null,"空冷ヒートポンプ","加熱能力or冷却能力","kW",52.039000000000001,3887,"メーカWEB公開価格ベース"]
[null,"下水熱交換器(管路外)","交換熱量","kW",{"$f":"12204/86","v":141.90697674418604},null,"参考（ヒアリングより）","倉"]
[null,"下水熱交換器(管路内)","交換熱量","kW",{"$f":"31000/90","v":344.44444444444446},null,"参考（ヒアリングより）","富"]
[null,"下水熱交換器(処理水(再生水))","交換熱量","kW",33.799999999999997,1046,"メーカ見積ベース"]
[null,"スクリーン","処理流量","L/min",7.4813000000000001,3668.6,"メーカ見積ベース"]

{"sheet":"下水温度・流量月別(不要)","index":16,"n_rows":6,"n_cols":19,"rows_kept":6,"cut":false,"hidden":true,"merged":[]}
[]
[null,"■下水温度・流量の入力"]
[null,"項目","単位","4月","5月","6月","7月","8月","9月","10月","11月","12月","1月","2月","3月","合計","平均","最大","最小"]
[null,"日数","日/月",{"$f":"熱需要量算定・原単位!D24","v":30},{"$f":"熱需要量算定・原単位!E24","v":31},{"$f":"熱需要量算定・原単位!F24","v":30},{"$f":"熱需要量算定・原単位!G24","v":31},{"$f":"熱需要量算定・原単位!H24","v":31},{"$f":"熱需要量算定・原単位!I24","v":30},{"$f":"熱需要量算定・原単位!J24","v":31},{"$f":"熱需要量算定・原単位!K24","v":30},{"$f":"熱需要量算定・原単位!L24","v":31},{"$f":"熱需要量算定・原単位!M24","v":31},{"$f":"熱需要量算定・原単位!N24","v":28},{"$f":"熱需要量算定・原単位!O24","v":31},365]
[null,"下水温度","℃",{"$f":"下水温度!F3","v":{"$error":"#N/A"}},{"$f":"下水温度!G3","v":{"$error":"#N/A"}},{"$f":"下水温度!H3","v":{"$error":"#N/A"}},{"$f":"下水温度!I3","v":{"$error":"#N/A"}},{"$f":"下水温度!J3","v":{"$error":"#N/A"}},{"$f":"下水温度!K3","v":{"$error":"#N/A"}},{"$f":"下水温度!L3","v":{"$error":"#N/A"}},{"$f":"下水温度!M3","v":{"$error":"#N/A"}},{"$f":"下水温度!N3","v":{"$error":"#N/A"}},{"$f":"下水温度!C3","v":{"$error":"#N/A"}},{"$f":"下水温度!D3","v":{"$error":"#N/A"}},{"$f":"下水温度!E3","v":{"$error":"#N/A"}},"-",{"$f":"IF(ISERROR(AVERAGE(D5:O5)),0,AVERAGE(D5:O5))","v":0},{"$f":"MAX(D5:O5)","v":{"$error":"#N/A"}},{"$f":"MIN(D5:O5)","v":{"$error":"#N/A"}}]
[null,"下水流量","m3/月",{"$f":"$P$6*D4/$P$4","v":0},{"$f":"$P$6*E4/$P$4","v":0},0,0,0,0,0,0,0,0,0,0,{"$f":"入力シート!C45","v":0},{"$f":"IF(ISERROR(AVERAGE(D6:O6)),0,AVERAGE(D6:O6))","v":0},{"$f":"MAX(D6:O6)","v":0},{"$f":"MIN(D6:O6)","v":0}]

{"sheet":"入力シート","index":17,"n_rows":128,"n_cols":6,"rows_kept":128,"cut":false,"hidden":false,"merged":[[125,4,125,5],[126,4,126,5],[33,4,33,5],[42,4,42,5],[55,4,55,5],[88,4,88,5],[86,4,86,5],[58,4,58,5],[57,4,57,5],[59,4,59,5],[44,4,44,5],[45,4,45,5],[118,4,118,5],[119,4,119,5],[120,4,120,5],[43,4,43,5],[76,4,76,5],[54,4,54,5],[5,4,5,5],[6,4,6,5],[7,4,7,5],[8,4,8,5],[32,4,32,5],[9,4,9,5],[10,4,10,5],[13,4,13,5],[14,4,14,5],[15,4,15,5],[46,4,46,5],[80,4,80,5],[81,4,81,5],[127,4,127,5],[56,4,56,5],[85,4,85,5],[90,4,90,5],[87,4,87,5],[89,4,89,5],[66,4,66,5],[67,4,67,5],[70,4,70,5],[71,4,71,5],[75,4,75,5],[107,4,107,5],[108,4,108,5],[109,4,109,5]]}
[null,"下水熱利用可能性簡易検討ツール",null,null,null,"ver1.0"]
[null,"入力・選択セル",null,null,null,"."]
[null,"入力不要セル"]
[]
[null,"①対象施設情報"]
[null,"項目","値","単位","備考"]
[null,"地域選択",null,"-","都道府県を選択してください。"]
[null,"熱利用用途",null,"-","給湯、空調、融雪から選択してください。"]
[null,"建物用途",null,"-","給湯、空調利用の場合は建物用途を選択してください。"]
[null,"延床面積",null,"m2","給湯、空調利用の場合は数値を入力してください。"]
[null,"融雪面積",null,"m2","融雪利用の場合は数値を入力して下さい。"]
[]
[null,"②比較対象システムの設定"]
[null,"項目","値","単位","備考"]
[null,"比較対象システム（熱源設備）",null,"-","選択してください。"]
[null,"燃料種別の選択",null,"-","選択してください。"]
[]
[]
[]
[]
[]
[null,"③対象施設のエネルギー使用状況"]
[null,"項目","値"]
[null,"現状の電気/燃料使用状況データの有無","無し"]
[null,"項目","料金","単位","使用量","単位"]
[null,"電気",null,"円/年",null,"kWh/年"]
[null,{"$f":"IF(C16=\"\",\"※燃料種別を選択してください。\",C16)","v":"※燃料種別を選択してください。"},null,"円/年",null,{"$f":"VLOOKUP(B27,E単価!$G$6:$M$11,7,FALSE)","v":"　"}]
[]
[]
[]
[]
[null,"④CO2排出係数の設定"]
[null,"項目","値","単位","備考"]
[null,"電気CO2排出係数",4.8799999999999999E-4,"tCO2/kWh",4.8799999999999999E-4]
[]
[]
[]
[]
[]
[]
[null,"⑤下水熱利用の設定"]
[null,"・下水熱量の設定"]
[null,"項目","値","単位","備考"]
[null,"下水熱量の設定方法選択","下水流量と下水温度を入力"]
[null,"熱利用場所の下水流量",null,"m3/年","※１"]
[null,"熱利用場所の下水温度",null,"℃","※１"]
[null,"熱利用場所の下水熱ポテンシャル",1000000,"MJ/年","※２"]
[]
[]
[]
[]
[]
[]
[null,"・下水熱利用システムの設定"]
[null,"項目","値","単位","備考"]
[null,"下水熱交換方式の選択",null,"-","下水熱交換方式を選択してください。"]
[null,"下水取得場所と熱利用場所の距離",null,"m","※３"]
[null,"熱導管単価の入力","無し",null,"※４"]
[null,"掘削単価",null,"千円/m","※４"]
[null,"配管単価",null,"千円/m","※４"]
[]
[]
[]
[]
[]
[null,"⑥複合システムの設定（利用する他の再エネ熱の選択と設定）"]
[null,"項目","値","単位","備考"]
[null,"対象のエネルギー種別","利用しない","-","選択してください。"]
[]
[null,"・空気熱"]
[null,"項目","値","単位","備考"]
[null,"設定項目は有りません。",null,"-"]
[]
[]
[null,"・太陽熱"]
[null,"項目","値","単位","備考"]
[null,"設置面積",500,"m2","太陽熱集熱パネルを設置する面積を入力してください。"]
[]
[]
[null,"・地中熱"]
[null,"項目","値","単位","備考"]
[null,"設定項目は有りません。"]
[]
[]
[null,"・バイオマス熱"]
[null,"項目","値","単位","備考"]
[null,"燃料発熱量・価格の入力","無し","-"]
[null,"バイオマス燃料種別","木質チップ","-","選択してください。"]
[null,"バイオマス燃料発熱量",10,"MJ/kg","ユーザー入力"]
[null,"バイオマス燃料燃料価格",35,"円/kg","ユーザー入力"]
[null,"バイオマス燃料供給量",150,"t/年","ユーザー入力"]
[]
[]
[null,"⑦熱需要量と下水熱利用可能量の確認"]
[null,"・熱需給マッチング結果",{"$f":"マッチング!R32","v":{"$error":"#N/A"}}]
[]
[]
[]
[]
[]
[]
[]
[]
[]
[]
[]
[null,"・下水熱利用量の割合設定（熱需要量≦下水熱利用可能量の場合）"]
[null,"項目","値","単位","備考"]
[null,"下水熱利用量の割合",100,"％","整数値で0~100の値を入力して下さい。"]
[null,"その他システム熱利用量の割合",{"$f":"100-C109","v":0},"％"]
[]
[]
[]
[]
[]
[]
[]
[null,"⑧維持管理費の設定"]
[null,"項目","値","単位","備考"]
[null,"維持管理費の考慮","有り"]
[null,"維持管理費の設定(建設費に対する割合)",2,"％","整数値で0~100の値を入力して下さい。デフォルト値2%"]
[]
[]
[]
[null,"⑨補助金利用の設定"]
[null,"項目","値","単位","備考"]
[null,"補助金の利用","有り",null,"補助金利用の有無を選択してください。"]
[null,"補助率","10分の5.5",null,"補助率を選択して下さい。"]

{"sheet":"熱需要量算定・原単位","index":18,"n_rows":52,"n_cols":71,"rows_kept":52,"cut":false,"hidden":true,"merged":[[4,21,4,22],[4,23,4,24],[4,25,4,26],[4,27,4,28]]}
[]
[null,"■熱需要量の設定　原単位からの算定",null,null,null,null,null,null,null,null,null,null,null,null,null,null,null,null,null,null,"■熱負荷原単位情報"]
[null,null,null,null,null,null,null,null,null,null,null,null,null,null,null,null,null,null,null,null,null,null,null,null,null,null,null,null,null,null,null,null,null,null,null,"□時刻別負荷変動比率",null,null,null,null,null,null,null,null,null,null,null,null,null,null,null,null,null,null,null,null,null,null,null,null,null,null,null,null,null,"□地域係数"]
[null,"□年間熱負荷原単位設定",null,null,null,null,null,null,null,null,null,null,null,null,null,null,null,null,null,null,"□年間熱負荷原単位",null,null,null,null,null,null,null,null,null,null,null,null,null,null,null,null,null,null,null,null,null,null,null,null,null,null,null,null,null,null,null,null,null,null,null,null,null,null,null,null,null,null,null,null,null,null,"年間熱負荷",null,"最大熱負荷"]
[null,"項目","単位","値",null,null,"設定セル",null,null,null,null,null,null,null,null,null,null,null,null,null,"建物用途","冷房負荷",null,"暖房負荷",null,"給湯負荷",null,"電力負荷",null,"根拠資料",null,null,null,null,null,"検索key",{"$f":"AK6&AK7&AK8","v":"集合住宅冷房夏期"},"集合住宅暖房冬期","集合住宅給湯夏期","集合住宅給湯冬期","集合住宅給湯中間期","業務施設冷房夏期","業務施設冷房中間期","業務施設暖房冬期","業務施設暖房中間期","業務施設給湯夏期","業務施設給湯冬期","業務施設給湯中間期","商業施設冷房-","商業施設暖房-","商業施設給湯-","宿泊施設冷房夏期","宿泊施設冷房冬期","宿泊施設冷房中間期","宿泊施設暖房冬期","宿泊施設暖房中間期","宿泊施設給湯-","医療施設冷房夏期","医療施設冷房中間期","医療施設暖房冬期","医療施設暖房中間期","医療施設給湯夏期","医療施設給湯冬期","医療施設給湯中間期",null,"地域区分","都道府県","冷房","暖房","冷房","暖房"]
[null,"建物用途","入力シートより選択→",{"$f":"入力シート!C9","v":0},null,null,"変更設定していいセル（計算式が入力されている）",null,null,null,null,null,null,null,null,null,null,null,null,null,"集合住宅",33.49,"MJ/m2年",83.72,"MJ/m2年",125.58,"MJ/m2年",21,"kWh/m2年","[1]",null,null,null,null,null,"建物用途","集合住宅","集合住宅","集合住宅","集合住宅","集合住宅","業務施設","業務施設","業務施設","業務施設","業務施設","業務施設","業務施設","商業施設","商業施設","商業施設","宿泊施設","宿泊施設","宿泊施設","宿泊施設","宿泊施設","宿泊施設","医療施設","医療施設","医療施設","医療施設","医療施設","医療施設","医療施設",null,"北海道","北海道",0.5,2.4,0.8,1.5]
[null,"延床面積","m2",{"$f":"入力シート!C10","v":0},null,null,"変更しなくていい設定セル",null,null,null,null,null,null,null,null,null,null,null,null,null,"業務施設",293.02,"MJ/m2年",129.77000000000001,"MJ/m2年",9.2100000000000009,"MJ/m2年",156,"kWh/m2年","[1]",null,null,null,null,null,"熱利用用途","冷房","暖房","給湯","給湯","給湯","冷房","冷房","暖房","暖房","給湯","給湯","給湯","冷房","暖房","給湯","冷房","冷房","冷房","暖房","暖房","給湯","冷房","冷房","暖房","暖房","給湯","給湯","給湯",null,"東北","青森県",0.7,1.4,0.9,1.3]
[null,"年間熱負荷原単位：冷房","MJ/m2年",{"$f":"VLOOKUP(D6,U6:AC10,2,FALSE)","v":{"$error":"#N/A"}},null,null,"デフォ値・係数",null,null,null,null,null,null,null,null,null,null,null,null,null,"商業施設",523.25,"MJ/m2年",146.51,"MJ/m2年",96.28,"MJ/m2年",226,"kWh/m2年","[1]",null,null,null,null,null,"季節","夏期","冬期","夏期","冬期","中間期","夏期","中間期","冬期","中間期","夏期","冬期","中間期","-","-","-","夏期","冬期","中間期","冬期","中間期","-","夏期","中間期","冬期","中間期","夏期","冬期","中間期",null,"東北","岩手県",0.7,1.4,0.9,1.3]
[null,"年間熱負荷原単位：暖房","MJ/m2年",{"$f":"VLOOKUP(D6,U6:AC10,4,FALSE)","v":{"$error":"#N/A"}},null,null,"計算式・項目確認セル",null,null,null,null,null,null,null,null,null,null,null,null,null,"宿泊施設",418.6,"MJ/m2年",334.88,"MJ/m2年",334.88,"MJ/m2年",200,"kWh/m2年","[1]",null,null,null,null,null,1,0.3,4,1.5,2.7,3,0,0,0,0,0,0,0,0,0,0,2.34,0,0.28999999999999998,3.05,5.35,2.37,1.6,2.7,0.2,2.7,0.46,0.57999999999999996,0.49,null,"東北","宮城県",0.7,1.4,0.9,1.3]
[null,"年間熱負荷原単位：給湯","MJ/m2年",{"$f":"VLOOKUP(D6,U6:AC10,6,FALSE)","v":{"$error":"#N/A"}},null,null,null,null,null,null,null,null,null,null,null,null,null,null,null,null,"医療施設",334.88,"MJ/m2年",309.76,"MJ/m2年",334.88,"MJ/m2年",170,"kWh/m2年","[1]",null,null,null,null,null,2,0.3,2.6,1.7,0.3,0.3,0,0,0,0,0,0,0,0,0,0,1.8,0,0.28999999999999998,3.43,3.21,1.43,1.6,2.6,0.3,2.6,0.33,0.45,0.36,null,"東北","秋田県",0.7,1.4,0.9,1.3]
[null,"地域選択","入力シートより選択→",{"$f":"入力シート!C7","v":0},null,null,null,null,null,null,null,null,null,null,null,null,null,null,null,null,null,null,null,null,null,null,null,null,null,null,null,null,null,null,null,3,0.3,1.8,1.1000000000000001,0.2,0.1,0,0,0,0,0,0,0,0,0,0,1.71,0,0.28999999999999998,3.81,2.67,0.64,1.5,2.5,0.3,2.5,0.26,0.35,0.28999999999999998,null,"東北","山形県",0.7,1.4,0.9,1.3]
[null,"地域係数：冷房",null,{"$f":"VLOOKUP(D11,BO6:BQ52,2,FALSE)","v":{"$error":"#N/A"}},null,null,null,null,null,null,null,null,null,null,null,null,null,null,null,null,"□月別負荷変動費率",null,null,null,null,null,null,null,null,null,null,null,null,null,null,4,0.3,1.8,0,0,0,0,0,0,0,0,0,0,0,0,0,1.53,0,0.28999999999999998,3.43,2.41,0.38,1.5,2.5,0.3,2.5,0.56000000000000005,0.28999999999999998,0.28999999999999998,null,"東北","福島県",0.7,1.4,0.9,1.3]
[null,"地域係数：暖房",null,{"$f":"VLOOKUP(D11,BO6:BQ52,3,FALSE)","v":{"$error":"#N/A"}},null,null,null,null,null,null,null,null,null,null,null,null,null,null,null,null,"項目","単位","4月","5月","6月","7月","8月","9月","10月","11月","12月","1月","2月","3月",null,5,0.3,1.8,0,0,0,0,0,0,0,0,0,0,0,0,0,1.44,0,0.28999999999999998,3.05,2.41,0.73,1.5,2.4,0.3,2.4,0.56000000000000005,0.48,0.55000000000000004,null,"関東","茨城県",1,1,1,1]
[null,null,null,null,null,null,null,null,null,null,null,null,null,null,null,null,null,null,null,null,"季節",null,"中間期","中間期","夏期","夏期","夏期","夏期","中間期","中間期","冬期","冬期","冬期","冬期",null,6,0.3,2.2999999999999998,0.2,0.3,0.3,0,0,0,0,0,0,5.21,0,0,0,1.35,0,0.28999999999999998,3.05,2.67,2.35,3.4,3.4,5.0999999999999996,3.4,1.34,1.45,1.4,null,"関東","栃木県",1,1,1,1]
[null,"□月別負荷変動費率","月別変動費率より自動入力",null,null,null,null,null,null,null,null,null,null,null,null,null,null,null,null,null,"集合住宅","冷房",0,0,7.96,32.14,47.76,12.14,0,0,0,0,0,0,null,7,0.3,3.1,1.3,2,2.2999999999999998,0,0,0.3,0,3.79,1.97,0.26,0,0,0,1.8,0,0.28999999999999998,3.24,3.21,4.6399999999999997,2.6,2.5,4.7,2.5,2.2000000000000002,0.97,2.25,null,"関東","群馬県",1,1,1,1]
[null,"項目","単位","4月","5月","6月","7月","8月","9月","10月","11月","12月","1月","2月","3月","合計","最大","最小","備考",null,null,"暖房",8.11,0,0,0,0,0,0,8.9499999999999993,18.77,24.03,20.03,20.079999999999998,null,8,1.4,5.6,2.2999999999999998,3.5,2.8,1.79,0.4,16.989999999999998,14.76,4.55,0.33,3.91,7.9,0,0,1.98,0,0.34,4.1900000000000004,4.28,4.53,2.8,2.6,4.7,2.6,3.21,0.39,3.32,null,"関東","埼玉県",1,1,1,1]
[null,"季節",null,"中間期","中間期","夏期","夏期","夏期","夏期","中間期","中間期","冬期","冬期","冬期","冬期",null,null,null,null,null,null,"給湯",10.32,9.0399999999999991,6.76,5.41,3.76,3.87,6.22,7.1,10.57,12.08,12.55,12.32,null,9,1.9,4.4000000000000004,2.5,2.9,2.6,9.57,11.78,12.29,13.65,6.06,1.64,5.21,7.3,16.899999999999999,1.25,2.71,0,0.86,5.71,4.28,3.97,6.4,4.3,10.3,4.3,7.18,7.58,7.06,null,"関東","千葉県",1,1,1,1]
[null,"月別負荷変動比率：冷房","-",{"$f":"VLOOKUP($D$6,$V$33:$AH$37,2,FALSE)","v":{"$error":"#N/A"}},{"$f":"VLOOKUP($D$6,$V$33:$AH$37,3,FALSE)","v":{"$error":"#N/A"}},{"$f":"VLOOKUP($D$6,$V$33:$AH$37,4,FALSE)","v":{"$error":"#N/A"}},{"$f":"VLOOKUP($D$6,$V$33:$AH$37,5,FALSE)","v":{"$error":"#N/A"}},{"$f":"VLOOKUP($D$6,$V$33:$AH$37,6,FALSE)","v":{"$error":"#N/A"}},{"$f":"VLOOKUP($D$6,$V$33:$AH$37,7,FALSE)","v":{"$error":"#N/A"}},{"$f":"VLOOKUP($D$6,$V$33:$AH$37,8,FALSE)","v":{"$error":"#N/A"}},{"$f":"VLOOKUP($D$6,$V$33:$AH$37,9,FALSE)","v":{"$error":"#N/A"}},{"$f":"VLOOKUP($D$6,$V$33:$AH$37,10,FALSE)","v":{"$error":"#N/A"}},{"$f":"VLOOKUP($D$6,$V$33:$AH$37,11,FALSE)","v":{"$error":"#N/A"}},{"$f":"VLOOKUP($D$6,$V$33:$AH$37,12,FALSE)","v":{"$error":"#N/A"}},{"$f":"VLOOKUP($D$6,$V$33:$AH$37,13,FALSE)","v":{"$error":"#N/A"}},{"$f":"SUM(D18:O18)","v":{"$error":"#N/A"}},{"$f":"MAX(D18:O18)","v":{"$error":"#N/A"}},{"$f":"MIN(D18:O18)","v":{"$error":"#N/A"}},null,null,"業務施設","冷房",0,3.92,15.67,27.63,30.72,19.79,2.27,0,0,0,0,0,null,10,2.2999999999999998,4.5,2,3.5,2.7,9.17,13.37,8.09,7.48,4.55,6.57,4.43,8.3000000000000007,12.8,9.17,3.52,4.95,4.87,4.95,3.48,3.8,6.3,5,8.3000000000000007,5,9.17,9.39,9.0500000000000007,null,"関東","東京都",1,1,1,1]
[null,"月別負荷変動比率：暖房","-",{"$f":"VLOOKUP($D$6,$V$38:$AH$42,2,FALSE)","v":{"$error":"#N/A"}},{"$f":"VLOOKUP($D$6,$V$38:$AH$42,3,FALSE)","v":{"$error":"#N/A"}},{"$f":"VLOOKUP($D$6,$V$38:$AH$42,4,FALSE)","v":{"$error":"#N/A"}},{"$f":"VLOOKUP($D$6,$V$38:$AH$42,5,FALSE)","v":{"$error":"#N/A"}},{"$f":"VLOOKUP($D$6,$V$38:$AH$42,6,FALSE)","v":{"$error":"#N/A"}},{"$f":"VLOOKUP($D$6,$V$38:$AH$42,7,FALSE)","v":{"$error":"#N/A"}},{"$f":"VLOOKUP($D$6,$V$38:$AH$42,8,FALSE)","v":{"$error":"#N/A"}},{"$f":"VLOOKUP($D$6,$V$38:$AH$42,9,FALSE)","v":{"$error":"#N/A"}},{"$f":"VLOOKUP($D$6,$V$38:$AH$42,10,FALSE)","v":{"$error":"#N/A"}},{"$f":"VLOOKUP($D$6,$V$38:$AH$42,11,FALSE)","v":{"$error":"#N/A"}},{"$f":"VLOOKUP($D$6,$V$38:$AH$42,12,FALSE)","v":{"$error":"#N/A"}},{"$f":"VLOOKUP($D$6,$V$38:$AH$42,13,FALSE)","v":{"$error":"#N/A"}},{"$f":"SUM(D19:O19)","v":{"$error":"#N/A"}},{"$f":"MAX(D19:O19)","v":{"$error":"#N/A"}},{"$f":"MIN(D19:O19)","v":{"$error":"#N/A"}},null,null,null,"暖房",4.2699999999999996,0,0,0,0,0,0,7.98,21.37,25.93,22.79,17.66,null,11,2.4,2.7,1.7,2.9,2,8.9700000000000006,11.19,10.29,8.39,11.36,5.75,11.98,8.6999999999999993,10.3,10.1,3.61,4.95,4.58,5.14,4.55,4.51,6.6,5.3,7.5,5.3,9.93,10.06,9.6999999999999993,null,"関東","神奈川県",1,1,1,1]
[null,"月別負荷変動比率：給湯","-",{"$f":"VLOOKUP($D$6,$V$43:$AH$47,2,FALSE)","v":{"$error":"#N/A"}},{"$f":"VLOOKUP($D$6,$V$43:$AH$47,3,FALSE)","v":{"$error":"#N/A"}},{"$f":"VLOOKUP($D$6,$V$43:$AH$47,4,FALSE)","v":{"$error":"#N/A"}},{"$f":"VLOOKUP($D$6,$V$43:$AH$47,5,FALSE)","v":{"$error":"#N/A"}},{"$f":"VLOOKUP($D$6,$V$43:$AH$47,6,FALSE)","v":{"$error":"#N/A"}},{"$f":"VLOOKUP($D$6,$V$43:$AH$47,7,FALSE)","v":{"$error":"#N/A"}},{"$f":"VLOOKUP($D$6,$V$43:$AH$47,8,FALSE)","v":{"$error":"#N/A"}},{"$f":"VLOOKUP($D$6,$V$43:$AH$47,9,FALSE)","v":{"$error":"#N/A"}},{"$f":"VLOOKUP($D$6,$V$43:$AH$47,10,FALSE)","v":{"$error":"#N/A"}},{"$f":"VLOOKUP($D$6,$V$43:$AH$47,11,FALSE)","v":{"$error":"#N/A"}},{"$f":"VLOOKUP($D$6,$V$43:$AH$47,12,FALSE)","v":{"$error":"#N/A"}},{"$f":"VLOOKUP($D$6,$V$43:$AH$47,13,FALSE)","v":{"$error":"#N/A"}},{"$f":"SUM(D20:O20)","v":{"$error":"#N/A"}},{"$f":"MAX(D20:O20)","v":{"$error":"#N/A"}},{"$f":"MIN(D20:O20)","v":{"$error":"#N/A"}},null,null,null,"給湯",10.34,6.9,3.45,3.45,3.45,3.45,6.9,6.9,10.34,13.79,17.239999999999998,13.79,null,12,3.1,4,2.1,2.6,2.2999999999999998,9.27,11.87,10.49,12.44,13.64,14.78,10.68,10,9.4,2.5,3.61,7.43,8.59,4.95,4.55,3.25,6.8,5.8,6.9,5.8,7.9,8.1,7.55,null,"北陸","新潟県",0.9,1.4,1,1.1000000000000001]
[null,null,null,null,null,null,null,null,null,null,null,null,null,null,null,null,null,null,null,null,"商業施設","冷房",4.05,8.91,12.63,19.29,20.81,13.68,10.93,3.64,2.02,0,1.21,2.83,null,13,4.0999999999999996,3.9,1.8,2.1,1.6,9.3699999999999992,10.4,10.29,13.04,15.13,12.48,19.78,10.199999999999999,7.5,8.41,7.13,9.9,8.59,4.95,5.35,3.59,6.9,6.3,6.4,6.3,8.6199999999999992,8.9,8.5,null,"北陸","富山県",0.9,1.4,1,1.1000000000000001]
[null,"□月別日数と運転時間","（ヒートポンプ容量の目安設定のため）",null,null,null,null,null,null,null,null,null,null,null,null,null,null,null,null,null,null,"暖房",0,0,0,0,0,0,0,0,21.69,32.799999999999997,29.64,15.87,null,14,6.1,3.9,1.8,2.1,1.6,9.27,11.68,8.39,12.84,11.36,27.09,5.47,11.2,6.9,17.149999999999999,7.21,8.91,9.4499999999999993,5.14,5.88,4.08,6.1,6.1,5.2,6.1,9.4,9.52,9.34,null,"北陸","石川県",0.9,1.4,1,1.1000000000000001]
[null,"項目","単位","4月","5月","6月","7月","8月","9月","10月","11月","12月","1月","2月","3月","合計","最大","最小","備考",null,null,"給湯",9.07,7.83,7.26,7.99,7.84,8.1199999999999992,7.62,9.07,10.35,7.66,8.02,9.17,null,15,6.7,3.9,1.8,1.8,1.4,8.9700000000000006,11.78,8.19,12.54,7.58,8.6999999999999993,6.51,11.2,5.6,17.12,8.66,8.42,6.87,4.95,6.42,3.8,6.1,6.2,5,6.2,8.36,8.7100000000000009,8.59,null,"北陸","福井県",0.9,1.4,1,1.1000000000000001]
[null,"日数","日",30,31,30,31,31,30,31,30,31,31,28,31,{"$f":"SUM(D24:O24)","v":365},{"$f":"MAX(D24:O24)","v":31},{"$f":"MIN(D24:O24)","v":28},null,null,"宿泊施設","冷房",3.89,7.56,14.06,21.42,24.77,14.96,5.18,2.14,1,1,0.91,3.11,null,16,5.2,4.0999999999999996,1.8,1.8,1.4,10.69,11.19,9.09,3.44,4.55,4.43,5.47,9.6,5.4,5.36,6.5,5.94,5.73,6.1,5.88,3.95,6.3,6.4,4.8,6.4,6.32,6.87,6.41,null,"山梨県","山梨県",0.9,1.4,1,1.1000000000000001]
[null,"ヒートポンプ運転時間","h/日",22,22,22,22,22,22,22,22,22,22,22,22,{"$f":"SUM(D25:O25)","v":264},{"$f":"MAX(D25:O25)","v":22},{"$f":"MIN(D25:O25)","v":22},null,null,null,"暖房",12.48,3.07,0,0,0,0,0,12.77,18.829999999999998,20.54,17.87,14.41,null,17,4.4000000000000004,4.0999999999999996,4,3.6,3.4,8.9700000000000006,3.86,5.59,1.42,6.06,4.2699999999999996,5.99,8,7.3,3.67,6.59,6.43,6,7.24,6.42,4.2300000000000004,6.3,6.1,4.9000000000000004,6.1,5.14,5.65,5.1100000000000003,null,"長野県","長野県",0.7,1.4,0.9,1.3]
[null,null,null,null,null,null,null,null,null,null,null,null,null,null,null,null,null,null,null,null,null,"給湯",8.65,7.78,7.33,7.33,6.23,7.02,7.58,8.7200000000000006,9.64,10.14,10.07,9.51,null,18,4.7,5.7,7,7.2,9.5,9.27,1.68,0,0,3.79,4.2699999999999996,5.47,7.6,8.8000000000000007,10.54,6.68,5.93,6,6.86,6.95,4.68,6.2,6.1,5,6.1,5.67,5.77,5.47,null,"東海","岐阜県",1.1000000000000001,0.9,1,1]
[null,"□月別熱需要量とHP容量：空調",null,null,null,null,null,null,null,null,null,null,null,null,null,null,null,null,null,null,"医療施設","冷房",0,2.5299999999999998,5.85,19.36,45.82,21.95,4.49,0,0,0,0,0,null,19,4.7,6.1,9.5,8.5,11.2,3.89,0.5,0,0,4.55,3.78,5.73,0,9.1,13.54,6.94,5.94,5.73,6.1,6.41,5.36,5.8,5.4,5,5.4,5.18,4.97,5.05,null,"静岡県","静岡県",1,1,1,1]
[null,"項目","単位","4月","5月","6月","7月","8月","9月","10月","11月","12月","1月","2月","3月","合計","最大","最小","備考",null,null,"暖房",2.67,0,0,0,0,0,0,8.65,20.07,27.49,21.2,19.920000000000002,null,20,12.5,6.1,12.5,11.8,13.2,0.4,0.3,0,0,3.03,3.94,2.6,0,0,1.19,7.03,6.44,6.59,5.33,5.34,7.48,3.2,3.4,3.5,3.4,4,3.9,4.04,null,"東海","愛知県",1.1000000000000001,0.9,1,1]
[null,"延床面積　設定","m2",{"$f":"D7","v":0},null,null,null,null,null,null,null,null,null,null,null,null,null,null,null,null,null,"給湯",9.85,8.09,7.88,7.13,5.54,5.76,7.88,8.19,10.14,9.51,9.98,10.050000000000001,null,21,13.8,6.2,12.3,13.3,13.8,0.4,0,0,0,0,0,1.3,0,0,0,6.85,7.43,6.59,1.52,0.27,8.57,3.1,3.3,3.5,3.3,2.06,2.2400000000000002,2.2200000000000002,null,"東海","三重県",1.1000000000000001,0.9,1,1]
[null,"月別熱需要量：冷房","MJ/月",{"$f":"D18*$D$8/100*$D$29*$D$12","v":{"$error":"#N/A"}},{"$f":"E18*$D$8/100*$D$29*$D$12","v":{"$error":"#N/A"}},{"$f":"F18*$D$8/100*$D$29*$D$12","v":{"$error":"#N/A"}},{"$error":"#N/A"},{"$error":"#N/A"},{"$error":"#N/A"},{"$error":"#N/A"},{"$error":"#N/A"},{"$error":"#N/A"},{"$error":"#N/A"},{"$error":"#N/A"},{"$error":"#N/A"},{"$f":"SUM(D30:O30)","v":{"$error":"#N/A"}},{"$f":"MAX(D30:O30)","v":{"$error":"#N/A"}},{"$f":"MIN(D30:O30)","v":{"$error":"#N/A"}},null,null,"↓並べ替え",null,null,null,null,null,null,null,null,null,null,null,null,null,null,22,12,6,12.2,11.3,9.4,0,0,0,0,0,0,0,0,0,0,4.51,8.42,8.59,1.1399999999999999,0,8.9700000000000006,3,3.2,3.6,3.2,1.04,1.29,1.1399999999999999,null,"近畿","滋賀県",1.1000000000000001,0.9,1,1]
[null,null,"kWh/月",{"$f":"D30*1000/3600","v":{"$error":"#N/A"}},{"$error":"#N/A"},{"$error":"#N/A"},{"$error":"#N/A"},{"$error":"#N/A"},{"$error":"#N/A"},{"$error":"#N/A"},{"$error":"#N/A"},{"$error":"#N/A"},{"$error":"#N/A"},{"$error":"#N/A"},{"$error":"#N/A"},{"$f":"SUM(D31:O31)","v":{"$error":"#N/A"}},{"$error":"#N/A"},{"$error":"#N/A"},null,null,"項目","単位","4月","5月","6月","7月","8月","9月","10月","11月","12月","1月","2月","3月",null,23,6.7,5.8,12.1,9,9.5,0,0,0,0,0,0,0,0,0,0,2.34,8.91,8.59,0,2.67,7.73,2.8,3.1,4,3.1,0.72,1.03,0.88,null,"近畿","京都府",1.1000000000000001,0.9,1,1]
[null,"ヒートポンプ容量：冷房","kW",{"$f":"D30/3.6/D$24/D$25","v":{"$error":"#N/A"}},{"$error":"#N/A"},{"$error":"#N/A"},{"$error":"#N/A"},{"$error":"#N/A"},{"$error":"#N/A"},{"$error":"#N/A"},{"$error":"#N/A"},{"$error":"#N/A"},{"$error":"#N/A"},{"$error":"#N/A"},{"$error":"#N/A"},"-",{"$error":"#N/A"},{"$error":"#N/A"},"目安",null,"季節",null,"中間期","中間期","夏期","夏期","夏期","夏期","中間期","中間期","冬期","冬期","冬期","冬期",null,24,5.9,5.6,6.8,6.6,5.6,0,0,0,0,0,0,0,0,0,0,2.16,0,0,2.67,5.34,4.96,1.6,2.8,0.2,2.8,0.69,1.06,0.94,null,"近畿","大阪府",1.1000000000000001,0.9,1,1]
[null,"月別熱需要量：暖房","MJ/月",{"$f":"D19*$D$9/100*$D$29*$D$13","v":{"$error":"#N/A"}},{"$f":"E19*$D$9/100*$D$29*$D$13","v":{"$error":"#N/A"}},{"$error":"#N/A"},{"$error":"#N/A"},{"$error":"#N/A"},{"$error":"#N/A"},{"$error":"#N/A"},{"$error":"#N/A"},{"$error":"#N/A"},{"$error":"#N/A"},{"$error":"#N/A"},{"$error":"#N/A"},{"$f":"SUM(D33:O33)","v":{"$error":"#N/A"}},{"$error":"#N/A"},{"$error":"#N/A"},null,null,"冷房","集合住宅",{"$f":"W15","v":0},0,7.96,32.14,47.76,12.14,0,0,0,0,0,0,null,"合計",{"$f":"SUM(AK9:AK32)","v":100.00000000000001},99.999999999999986,100,100,100,100,100,100.00000000000001,99.999999999999986,100,100,100,100,99.999999999999986,100,100.00000000000001,99.999999999999986,100.00000000000001,100,100,100,99.999999999999986,100,100,100,100.3,100.00000000000001,99.999999999999986,null,"近畿","兵庫県",1.1000000000000001,0.9,1,1]
[null,null,"kWh/月",{"$f":"D33*1000/3600","v":{"$error":"#N/A"}},{"$error":"#N/A"},{"$error":"#N/A"},{"$error":"#N/A"},{"$error":"#N/A"},{"$error":"#N/A"},{"$error":"#N/A"},{"$error":"#N/A"},{"$error":"#N/A"},{"$error":"#N/A"},{"$error":"#N/A"},{"$error":"#N/A"},{"$f":"SUM(D34:O34)","v":{"$error":"#N/A"}},{"$error":"#N/A"},{"$error":"#N/A"},null,null,null,"業務施設",{"$f":"W18","v":0},3.92,15.67,27.63,30.72,19.79,2.27,0,0,0,0,0,null,"運転時間",{"$f":"COUNTIF(AK9:AK32,\">0\")","v":24},{"$f":"COUNTIF(AL9:AL32,\">0\")","v":24},22,22,22,14,13,11,10,14,14,16,11,11,12,24,14,23,23,23,24,24,24,24,24,24,24,24,null,"近畿","奈良県",1.1000000000000001,0.9,1,1]
[null,"ヒートポンプ容量：暖房","kW",{"$f":"D33/3.6/D$24/D$25","v":{"$error":"#N/A"}},{"$error":"#N/A"},{"$error":"#N/A"},{"$error":"#N/A"},{"$error":"#N/A"},{"$error":"#N/A"},{"$error":"#N/A"},{"$error":"#N/A"},{"$error":"#N/A"},{"$error":"#N/A"},{"$error":"#N/A"},{"$error":"#N/A"},"-",{"$error":"#N/A"},{"$error":"#N/A"},"目安",null,null,"商業施設",{"$f":"W21","v":4.05},8.91,12.63,19.29,20.81,13.68,10.93,3.64,2.02,0,1.21,2.83,null,"(0以上の時間数)",null,null,null,null,null,null,null,null,null,null,null,null,null,null,null,null,null,null,null,null,null,null,null,null,null,null,null,null,null,"近畿","和歌山県",1.1000000000000001,0.9,1,1]
[null,null,null,null,null,null,null,null,null,null,null,null,null,null,null,null,null,null,null,null,null,"宿泊施設",{"$f":"W24","v":3.89},7.56,14.06,21.42,24.77,14.96,5.18,2.14,1,1,0.91,3.11,null,null,null,null,null,null,null,null,null,null,null,null,null,null,null,null,null,null,null,null,null,null,null,null,null,null,null,null,null,null,null,"中国","鳥取県",1.1000000000000001,0.9,1,1]
[null,"・空調月別熱需要量（熱利用用途を月別に設定）",null,null,null,null,null,null,null,null,null,null,null,null,null,null,null,null,null,null,null,"医療施設",{"$f":"W27","v":0},2.5299999999999998,5.85,19.36,45.82,21.95,4.49,0,0,0,0,0,null,null,null,null,null,null,null,null,null,null,null,null,null,null,null,null,null,null,null,null,null,null,null,null,null,null,null,null,null,null,null,"中国","島根県",1.1000000000000001,0.9,1,1]
[null,"項目","単位","4月","5月","6月","7月","8月","9月","10月","11月","12月","1月","2月","3月","合計","最大","最小","備考",null,"暖房","集合住宅",{"$f":"W16","v":8.11},0,0,0,0,0,0,8.9499999999999993,18.77,24.03,20.03,20.079999999999998,null,null,null,null,null,null,null,null,null,null,null,null,null,null,null,null,null,null,null,null,null,null,null,null,null,null,null,null,null,null,null,"中国","岡山県",1.1000000000000001,0.9,1,1]
[null,"熱利用用途",null,"暖房","冷房","冷房","冷房","冷房","冷房","冷房","暖房","暖房","暖房","暖房","暖房",null,null,null,null,null,null,"業務施設",{"$f":"W19","v":4.2699999999999996},0,0,0,0,0,0,7.98,21.37,25.93,22.79,17.66,null,null,null,null,null,null,null,null,null,null,null,null,null,null,null,null,null,null,null,null,null,null,null,null,null,null,null,null,null,null,null,"中国","広島県",1.1000000000000001,0.9,1,1]
[null,"月別熱需要量：空調","MJ/月",{"$f":"IF(D39=\"暖房\",D33,IF(D39=\"冷房\",D30,0))","v":{"$error":"#N/A"}},{"$f":"IF(E39=\"暖房\",E33,IF(E39=\"冷房\",E30,0))","v":{"$error":"#N/A"}},{"$error":"#N/A"},{"$error":"#N/A"},{"$error":"#N/A"},{"$error":"#N/A"},{"$error":"#N/A"},{"$error":"#N/A"},{"$error":"#N/A"},{"$error":"#N/A"},{"$error":"#N/A"},{"$error":"#N/A"},{"$f":"SUM(D40:O40)","v":{"$error":"#N/A"}},{"$f":"MAX(D40:O40)","v":{"$error":"#N/A"}},{"$f":"MIN(D40:O40)","v":{"$error":"#N/A"}},null,null,null,"商業施設",{"$f":"W22","v":0},0,0,0,0,0,0,0,21.69,32.799999999999997,29.64,15.87,null,null,null,null,null,null,null,null,null,null,null,null,null,null,null,null,null,null,null,null,null,null,null,null,null,null,null,null,null,null,null,"中国","山口県",1.1000000000000001,0.9,1,1]
[null,null,"kWh/月",{"$f":"D40*1000/3600","v":{"$error":"#N/A"}},{"$error":"#N/A"},{"$error":"#N/A"},{"$error":"#N/A"},{"$error":"#N/A"},{"$error":"#N/A"},{"$error":"#N/A"},{"$error":"#N/A"},{"$error":"#N/A"},{"$error":"#N/A"},{"$error":"#N/A"},{"$error":"#N/A"},{"$f":"SUM(D41:O41)","v":{"$error":"#N/A"}},{"$f":"MAX(D41:O41)","v":{"$error":"#N/A"}},{"$f":"MIN(D41:O41)","v":{"$error":"#N/A"}},null,null,null,"宿泊施設",{"$f":"W25","v":12.48},3.07,0,0,0,0,0,12.77,18.829999999999998,20.54,17.87,14.41,null,null,null,null,null,null,null,null,null,null,null,null,null,null,null,null,null,null,null,null,null,null,null,null,null,null,null,null,null,null,null,"四国","徳島県",1.1000000000000001,0.9,1,1]
[null,null,null,null,null,null,null,null,null,null,null,null,null,null,null,null,null,null,null,null,null,"医療施設",{"$f":"W28","v":2.67},0,0,0,0,0,0,8.65,20.07,27.49,21.2,19.920000000000002,null,null,null,null,null,null,null,null,null,null,null,null,null,null,null,null,null,null,null,null,null,null,null,null,null,null,null,null,null,null,null,"四国","香川県",1.1000000000000001,0.9,1,1]
[null,"□月別熱需要量とHP容量：給湯",null,null,null,null,null,null,null,null,null,null,null,null,null,null,null,null,null,null,"給湯","集合住宅",{"$f":"W17","v":10.32},9.0399999999999991,6.76,5.41,3.76,3.87,6.22,7.1,10.57,12.08,12.55,12.32,null,null,null,null,null,null,null,null,null,null,null,null,null,null,null,null,null,null,null,null,null,null,null,null,null,null,null,null,null,null,null,"四国","愛媛県",1.1000000000000001,0.9,1,1]
[null,"項目","単位","4月","5月","6月","7月","8月","9月","10月","11月","12月","1月","2月","3月","合計","最大","最小","備考",null,null,"業務施設",{"$f":"W20","v":10.34},6.9,3.45,3.45,3.45,3.45,6.9,6.9,10.34,13.79,17.239999999999998,13.79,null,null,null,null,null,null,null,null,null,null,null,null,null,null,null,null,null,null,null,null,null,null,null,null,null,null,null,null,null,null,null,"四国","高知県",1.1000000000000001,0.9,1,1]
[null,"延床面積　設定","m2",{"$f":"D7","v":0},null,null,null,null,null,null,null,null,null,null,null,null,null,null,null,null,null,"商業施設",{"$f":"W23","v":9.07},7.83,7.26,7.99,7.84,8.1199999999999992,7.62,9.07,10.35,7.66,8.02,9.17,null,null,null,null,null,null,null,null,null,null,null,null,null,null,null,null,null,null,null,null,null,null,null,null,null,null,null,null,null,null,null,"九州","福岡県",1.2,0.7,1,1]
[null,"月別熱需要量：給湯","MJ/月",{"$f":"$D$10*D20/100*$D$45","v":{"$error":"#N/A"}},{"$error":"#N/A"},{"$error":"#N/A"},{"$error":"#N/A"},{"$error":"#N/A"},{"$error":"#N/A"},{"$error":"#N/A"},{"$error":"#N/A"},{"$error":"#N/A"},{"$error":"#N/A"},{"$error":"#N/A"},{"$error":"#N/A"},{"$f":"SUM(D46:O46)","v":{"$error":"#N/A"}},{"$f":"MAX(D46:O46)","v":{"$error":"#N/A"}},{"$f":"MIN(D46:O46)","v":{"$error":"#N/A"}},null,null,null,"宿泊施設",{"$f":"W26","v":8.65},7.78,7.33,7.33,6.23,7.02,7.58,8.7200000000000006,9.64,10.14,10.07,9.51,null,null,null,null,null,null,null,null,null,null,null,null,null,null,null,null,null,null,null,null,null,null,null,null,null,null,null,null,null,null,null,"九州","佐賀県",1.2,0.7,1,1]
[null,null,"kWh/月",{"$f":"D46*1000/3600","v":{"$error":"#N/A"}},{"$error":"#N/A"},{"$error":"#N/A"},{"$error":"#N/A"},{"$error":"#N/A"},{"$error":"#N/A"},{"$error":"#N/A"},{"$error":"#N/A"},{"$error":"#N/A"},{"$error":"#N/A"},{"$error":"#N/A"},{"$error":"#N/A"},{"$f":"SUM(D47:O47)","v":{"$error":"#N/A"}},{"$f":"MAX(D47:O47)","v":{"$error":"#N/A"}},{"$f":"MIN(D47:O47)","v":{"$error":"#N/A"}},null,null,null,"医療施設",{"$f":"W29","v":9.85},8.09,7.88,7.13,5.54,5.76,7.88,8.19,10.14,9.51,9.98,10.050000000000001,null,null,null,null,null,null,null,null,null,null,null,null,null,null,null,null,null,null,null,null,null,null,null,null,null,null,null,null,null,null,null,"九州","長崎県",1.2,0.7,1,1]
[null,"ヒートポンプ容量：給湯","kW",{"$f":"D46/3.6/D$24/D$25","v":{"$error":"#N/A"}},{"$f":"E46/3.6/E$24/E$25","v":{"$error":"#N/A"}},{"$error":"#N/A"},{"$error":"#N/A"},{"$error":"#N/A"},{"$error":"#N/A"},{"$error":"#N/A"},{"$error":"#N/A"},{"$error":"#N/A"},{"$error":"#N/A"},{"$error":"#N/A"},{"$error":"#N/A"},"-",{"$f":"MAX(D48:O48)","v":{"$error":"#N/A"}},{"$f":"MIN(D48:O48)","v":{"$error":"#N/A"}},"目安",null,null,null,null,null,null,null,null,null,null,null,null,null,null,null,null,null,null,null,null,null,null,null,null,null,null,null,null,null,null,null,null,null,null,null,null,null,null,null,null,null,null,null,null,null,null,"九州","熊本県",1.2,0.7,1,1]
[null,null,null,null,null,null,null,null,null,null,null,null,null,null,null,null,null,null,null,null,null,null,null,null,null,null,null,null,null,null,null,null,null,null,null,null,null,null,null,null,null,null,null,null,null,null,null,null,null,null,null,null,null,null,null,null,null,null,null,null,null,null,null,null,null,"九州","大分県",1.2,0.7,1,1]
[null,null,null,null,null,null,null,null,null,null,null,null,null,null,null,null,null,null,null,null,null,null,null,null,null,null,null,null,null,null,null,null,null,null,null,null,null,null,null,null,null,null,null,null,null,null,null,null,null,null,null,null,null,null,null,null,null,null,null,null,null,null,null,null,null,"九州","宮崎県",1.2,0.7,1,1]
[null,null,null,null,null,null,null,null,null,null,null,null,null,null,null,null,null,null,null,null,null,null,null,null,null,null,null,null,null,null,null,null,null,null,null,null,null,null,null,null,null,null,null,null,null,null,null,null,null,null,null,null,null,null,null,null,null,null,null,null,null,null,null,null,null,"九州","鹿児島県",1.2,0.7,1,1]
[null,"空調熱需要量","冷暖混合",null,null,null,"冷暖　別",null,null,null,null,null,"給湯熱需要量",null,null,null,null,null,null,null,null,null,null,null,null,null,null,null,null,null,null,null,null,null,null,null,null,null,null,null,null,null,null,null,null,null,null,null,null,null,null,null,null,null,null,null,null,null,null,null,null,null,null,null,null,"沖縄","沖縄県",1.5,7.0000000000000007E-2,1.1000000000000001,0.5]

{"sheet":"熱需要量算定_月別時間別(不要)","index":19,"n_rows":143,"n_cols":42,"rows_kept":143,"cut":false,"hidden":true,"merged":[[17,29,19,29],[17,15,19,15],[17,1,19,1]]}
["建物用途",{"$f":"熱需要量算定・原単位!D6","v":0},null,null,"設定セル"]
["延床面積",{"$f":"熱需要量算定・原単位!D7","v":0},"m2",null,"変更設定していいセル（計算式が入力されている）"]
["地域",{"$f":"熱需要量算定・原単位!D11","v":0},null,null,"あまり変更しなくていい設定セル"]
["地域係数：冷房",{"$f":"熱需要量算定・原単位!D12","v":{"$error":"#N/A"}},null,null,"計算セル"]
["地域係数：暖房",{"$f":"熱需要量算定・原単位!D13","v":{"$error":"#N/A"}},null,null,"計算式・項目確認セル"]
[]
[null,"冷房","月別負荷率*面積",null,null,null,null,null,null,null,null,null,"単位","MJ/月",null,"暖房","月別負荷率*面積",null,null,null,null,null,null,null,null,null,"単位","MJ/月",null,"給湯","月別負荷率*面積",null,null,null,null,null,null,null,null,null,"単位","MJ/月"]
[null,"項目","4月","5月","6月","7月","8月","9月","10月","11月","12月","1月","2月","3月",null,"項目","4月","5月","6月","7月","8月","9月","10月","11月","12月","1月","2月","3月",null,"項目","4月","5月","6月","7月","8月","9月","10月","11月","12月","1月","2月","3月"]
[null,"季節","中間期","中間期","夏期","夏期","夏期","夏期","中間期","中間期","冬期","冬期","冬期","冬期",null,"季節","中間期","中間期","夏期","夏期","夏期","夏期","中間期","中間期","冬期","冬期","冬期","冬期",null,"季節","中間期","中間期","夏期","夏期","夏期","夏期","中間期","中間期","冬期","冬期","冬期","冬期"]
[null,"集合住宅",{"$f":"$B$2*熱需要量算定・原単位!W15/100*熱需要量算定・原単位!$V$6*$B$4","v":{"$error":"#N/A"}},{"$f":"$B$2*熱需要量算定・原単位!X15/100*熱需要量算定・原単位!$V$6*$B$4","v":{"$error":"#N/A"}},{"$f":"$B$2*熱需要量算定・原単位!Y15/100*熱需要量算定・原単位!$V$6*$B$4","v":{"$error":"#N/A"}},{"$f":"$B$2*熱需要量算定・原単位!Z15/100*熱需要量算定・原単位!$V$6*$B$4","v":{"$error":"#N/A"}},{"$f":"$B$2*熱需要量算定・原単位!AA15/100*熱需要量算定・原単位!$V$6*$B$4","v":{"$error":"#N/A"}},{"$f":"$B$2*熱需要量算定・原単位!AB15/100*熱需要量算定・原単位!$V$6*$B$4","v":{"$error":"#N/A"}},{"$f":"$B$2*熱需要量算定・原単位!AC15/100*熱需要量算定・原単位!$V$6*$B$4","v":{"$error":"#N/A"}},{"$f":"$B$2*熱需要量算定・原単位!AD15/100*熱需要量算定・原単位!$V$6*$B$4","v":{"$error":"#N/A"}},{"$f":"$B$2*熱需要量算定・原単位!AE15/100*熱需要量算定・原単位!$V$6*$B$4","v":{"$error":"#N/A"}},{"$f":"$B$2*熱需要量算定・原単位!AF15/100*熱需要量算定・原単位!$V$6*$B$4","v":{"$error":"#N/A"}},{"$f":"$B$2*熱需要量算定・原単位!AG15/100*熱需要量算定・原単位!$V$6*$B$4","v":{"$error":"#N/A"}},{"$f":"$B$2*熱需要量算定・原単位!AH15/100*熱需要量算定・原単位!$V$6*$B$4","v":{"$error":"#N/A"}},null,"集合住宅",{"$f":"$B$2*熱需要量算定・原単位!$X$6*熱需要量算定・原単位!W38/100*$B$5","v":{"$error":"#N/A"}},{"$f":"$B$2*熱需要量算定・原単位!$X$6*熱需要量算定・原単位!X38/100*$B$5","v":{"$error":"#N/A"}},{"$f":"$B$2*熱需要量算定・原単位!$X$6*熱需要量算定・原単位!Y38/100*$B$5","v":{"$error":"#N/A"}},{"$f":"$B$2*熱需要量算定・原単位!$X$6*熱需要量算定・原単位!Z38/100*$B$5","v":{"$error":"#N/A"}},{"$f":"$B$2*熱需要量算定・原単位!$X$6*熱需要量算定・原単位!AA38/100*$B$5","v":{"$error":"#N/A"}},{"$f":"$B$2*熱需要量算定・原単位!$X$6*熱需要量算定・原単位!AB38/100*$B$5","v":{"$error":"#N/A"}},{"$f":"$B$2*熱需要量算定・原単位!$X$6*熱需要量算定・原単位!AC38/100*$B$5","v":{"$error":"#N/A"}},{"$f":"$B$2*熱需要量算定・原単位!$X$6*熱需要量算定・原単位!AD38/100*$B$5","v":{"$error":"#N/A"}},{"$f":"$B$2*熱需要量算定・原単位!$X$6*熱需要量算定・原単位!AE38/100*$B$5","v":{"$error":"#N/A"}},{"$f":"$B$2*熱需要量算定・原単位!$X$6*熱需要量算定・原単位!AF38/100*$B$5","v":{"$error":"#N/A"}},{"$f":"$B$2*熱需要量算定・原単位!$X$6*熱需要量算定・原単位!AG38/100*$B$5","v":{"$error":"#N/A"}},{"$f":"$B$2*熱需要量算定・原単位!$X$6*熱需要量算定・原単位!AH38/100*$B$5","v":{"$error":"#N/A"}},null,"集合住宅",{"$f":"$B$2*熱需要量算定・原単位!$Z$6*熱需要量算定・原単位!W43/100","v":0},{"$f":"$B$2*熱需要量算定・原単位!$Z$6*熱需要量算定・原単位!X43/100","v":0},{"$f":"$B$2*熱需要量算定・原単位!$Z$6*熱需要量算定・原単位!Y43/100","v":0},{"$f":"$B$2*熱需要量算定・原単位!$Z$6*熱需要量算定・原単位!Z43/100","v":0},{"$f":"$B$2*熱需要量算定・原単位!$Z$6*熱需要量算定・原単位!AA43/100","v":0},{"$f":"$B$2*熱需要量算定・原単位!$Z$6*熱需要量算定・原単位!AB43/100","v":0},{"$f":"$B$2*熱需要量算定・原単位!$Z$6*熱需要量算定・原単位!AC43/100","v":0},{"$f":"$B$2*熱需要量算定・原単位!$Z$6*熱需要量算定・原単位!AD43/100","v":0},{"$f":"$B$2*熱需要量算定・原単位!$Z$6*熱需要量算定・原単位!AE43/100","v":0},{"$f":"$B$2*熱需要量算定・原単位!$Z$6*熱需要量算定・原単位!AF43/100","v":0},{"$f":"$B$2*熱需要量算定・原単位!$Z$6*熱需要量算定・原単位!AG43/100","v":0},{"$f":"$B$2*熱需要量算定・原単位!$Z$6*熱需要量算定・原単位!AH43/100","v":0}]
[null,"業務施設",{"$f":"$B$2*熱需要量算定・原単位!W18/100*熱需要量算定・原単位!$V$7*$B$4","v":{"$error":"#N/A"}},{"$f":"$B$2*熱需要量算定・原単位!X18/100*熱需要量算定・原単位!$V$7*$B$4","v":{"$error":"#N/A"}},{"$f":"$B$2*熱需要量算定・原単位!Y18/100*熱需要量算定・原単位!$V$7*$B$4","v":{"$error":"#N/A"}},{"$f":"$B$2*熱需要量算定・原単位!Z18/100*熱需要量算定・原単位!$V$7*$B$4","v":{"$error":"#N/A"}},{"$f":"$B$2*熱需要量算定・原単位!AA18/100*熱需要量算定・原単位!$V$7*$B$4","v":{"$error":"#N/A"}},{"$f":"$B$2*熱需要量算定・原単位!AB18/100*熱需要量算定・原単位!$V$7*$B$4","v":{"$error":"#N/A"}},{"$f":"$B$2*熱需要量算定・原単位!AC18/100*熱需要量算定・原単位!$V$7*$B$4","v":{"$error":"#N/A"}},{"$f":"$B$2*熱需要量算定・原単位!AD18/100*熱需要量算定・原単位!$V$7*$B$4","v":{"$error":"#N/A"}},{"$f":"$B$2*熱需要量算定・原単位!AE18/100*熱需要量算定・原単位!$V$7*$B$4","v":{"$error":"#N/A"}},{"$f":"$B$2*熱需要量算定・原単位!AF18/100*熱需要量算定・原単位!$V$7*$B$4","v":{"$error":"#N/A"}},{"$f":"$B$2*熱需要量算定・原単位!AG18/100*熱需要量算定・原単位!$V$7*$B$4","v":{"$error":"#N/A"}},{"$f":"$B$2*熱需要量算定・原単位!AH18/100*熱需要量算定・原単位!$V$7*$B$4","v":{"$error":"#N/A"}},null,"業務施設",{"$f":"$B$2*熱需要量算定・原単位!$X$7*熱需要量算定・原単位!W39/100*$B$5","v":{"$error":"#N/A"}},{"$f":"$B$2*熱需要量算定・原単位!$X$7*熱需要量算定・原単位!X39/100*$B$5","v":{"$error":"#N/A"}},{"$f":"$B$2*熱需要量算定・原単位!$X$7*熱需要量算定・原単位!Y39/100*$B$5","v":{"$error":"#N/A"}},{"$f":"$B$2*熱需要量算定・原単位!$X$7*熱需要量算定・原単位!Z39/100*$B$5","v":{"$error":"#N/A"}},{"$f":"$B$2*熱需要量算定・原単位!$X$7*熱需要量算定・原単位!AA39/100*$B$5","v":{"$error":"#N/A"}},{"$f":"$B$2*熱需要量算定・原単位!$X$7*熱需要量算定・原単位!AB39/100*$B$5","v":{"$error":"#N/A"}},{"$f":"$B$2*熱需要量算定・原単位!$X$7*熱需要量算定・原単位!AC39/100*$B$5","v":{"$error":"#N/A"}},{"$f":"$B$2*熱需要量算定・原単位!$X$7*熱需要量算定・原単位!AD39/100*$B$5","v":{"$error":"#N/A"}},{"$f":"$B$2*熱需要量算定・原単位!$X$7*熱需要量算定・原単位!AE39/100*$B$5","v":{"$error":"#N/A"}},{"$f":"$B$2*熱需要量算定・原単位!$X$7*熱需要量算定・原単位!AF39/100*$B$5","v":{"$error":"#N/A"}},{"$f":"$B$2*熱需要量算定・原単位!$X$7*熱需要量算定・原単位!AG39/100*$B$5","v":{"$error":"#N/A"}},{"$f":"$B$2*熱需要量算定・原単位!$X$7*熱需要量算定・原単位!AH39/100*$B$5","v":{"$error":"#N/A"}},null,"業務施設",{"$f":"$B$2*熱需要量算定・原単位!$Z$7*熱需要量算定・原単位!W44/100","v":0},{"$f":"$B$2*熱需要量算定・原単位!$Z$7*熱需要量算定・原単位!X44/100","v":0},{"$f":"$B$2*熱需要量算定・原単位!$Z$7*熱需要量算定・原単位!Y44/100","v":0},{"$f":"$B$2*熱需要量算定・原単位!$Z$7*熱需要量算定・原単位!Z44/100","v":0},{"$f":"$B$2*熱需要量算定・原単位!$Z$7*熱需要量算定・原単位!AA44/100","v":0},{"$f":"$B$2*熱需要量算定・原単位!$Z$7*熱需要量算定・原単位!AB44/100","v":0},{"$f":"$B$2*熱需要量算定・原単位!$Z$7*熱需要量算定・原単位!AC44/100","v":0},{"$f":"$B$2*熱需要量算定・原単位!$Z$7*熱需要量算定・原単位!AD44/100","v":0},{"$f":"$B$2*熱需要量算定・原単位!$Z$7*熱需要量算定・原単位!AE44/100","v":0},{"$f":"$B$2*熱需要量算定・原単位!$Z$7*熱需要量算定・原単位!AF44/100","v":0},{"$f":"$B$2*熱需要量算定・原単位!$Z$7*熱需要量算定・原単位!AG44/100","v":0},{"$f":"$B$2*熱需要量算定・原単位!$Z$7*熱需要量算定・原単位!AH44/100","v":0}]
[null,"商業施設",{"$f":"$B$2*熱需要量算定・原単位!W21/100*熱需要量算定・原単位!$V$8*$B$4","v":{"$error":"#N/A"}},{"$f":"$B$2*熱需要量算定・原単位!X21/100*熱需要量算定・原単位!$V$8*$B$4","v":{"$error":"#N/A"}},{"$f":"$B$2*熱需要量算定・原単位!Y21/100*熱需要量算定・原単位!$V$8*$B$4","v":{"$error":"#N/A"}},{"$f":"$B$2*熱需要量算定・原単位!Z21/100*熱需要量算定・原単位!$V$8*$B$4","v":{"$error":"#N/A"}},{"$f":"$B$2*熱需要量算定・原単位!AA21/100*熱需要量算定・原単位!$V$8*$B$4","v":{"$error":"#N/A"}},{"$f":"$B$2*熱需要量算定・原単位!AB21/100*熱需要量算定・原単位!$V$8*$B$4","v":{"$error":"#N/A"}},{"$f":"$B$2*熱需要量算定・原単位!AC21/100*熱需要量算定・原単位!$V$8*$B$4","v":{"$error":"#N/A"}},{"$f":"$B$2*熱需要量算定・原単位!AD21/100*熱需要量算定・原単位!$V$8*$B$4","v":{"$error":"#N/A"}},{"$f":"$B$2*熱需要量算定・原単位!AE21/100*熱需要量算定・原単位!$V$8*$B$4","v":{"$error":"#N/A"}},{"$f":"$B$2*熱需要量算定・原単位!AF21/100*熱需要量算定・原単位!$V$8*$B$4","v":{"$error":"#N/A"}},{"$f":"$B$2*熱需要量算定・原単位!AG21/100*熱需要量算定・原単位!$V$8*$B$4","v":{"$error":"#N/A"}},{"$f":"$B$2*熱需要量算定・原単位!AH21/100*熱需要量算定・原単位!$V$8*$B$4","v":{"$error":"#N/A"}},null,"商業施設",{"$f":"$B$2*熱需要量算定・原単位!$X$8*熱需要量算定・原単位!W40/100*$B$5","v":{"$error":"#N/A"}},{"$f":"$B$2*熱需要量算定・原単位!$X$8*熱需要量算定・原単位!X40/100*$B$5","v":{"$error":"#N/A"}},{"$f":"$B$2*熱需要量算定・原単位!$X$8*熱需要量算定・原単位!Y40/100*$B$5","v":{"$error":"#N/A"}},{"$f":"$B$2*熱需要量算定・原単位!$X$8*熱需要量算定・原単位!Z40/100*$B$5","v":{"$error":"#N/A"}},{"$f":"$B$2*熱需要量算定・原単位!$X$8*熱需要量算定・原単位!AA40/100*$B$5","v":{"$error":"#N/A"}},{"$f":"$B$2*熱需要量算定・原単位!$X$8*熱需要量算定・原単位!AB40/100*$B$5","v":{"$error":"#N/A"}},{"$f":"$B$2*熱需要量算定・原単位!$X$8*熱需要量算定・原単位!AC40/100*$B$5","v":{"$error":"#N/A"}},{"$f":"$B$2*熱需要量算定・原単位!$X$8*熱需要量算定・原単位!AD40/100*$B$5","v":{"$error":"#N/A"}},{"$f":"$B$2*熱需要量算定・原単位!$X$8*熱需要量算定・原単位!AE40/100*$B$5","v":{"$error":"#N/A"}},{"$f":"$B$2*熱需要量算定・原単位!$X$8*熱需要量算定・原単位!AF40/100*$B$5","v":{"$error":"#N/A"}},{"$f":"$B$2*熱需要量算定・原単位!$X$8*熱需要量算定・原単位!AG40/100*$B$5","v":{"$error":"#N/A"}},{"$f":"$B$2*熱需要量算定・原単位!$X$8*熱需要量算定・原単位!AH40/100*$B$5","v":{"$error":"#N/A"}},null,"商業施設",{"$f":"$B$2*熱需要量算定・原単位!$Z$8*熱需要量算定・原単位!W45/100","v":0},{"$f":"$B$2*熱需要量算定・原単位!$Z$8*熱需要量算定・原単位!X45/100","v":0},{"$f":"$B$2*熱需要量算定・原単位!$Z$8*熱需要量算定・原単位!Y45/100","v":0},{"$f":"$B$2*熱需要量算定・原単位!$Z$8*熱需要量算定・原単位!Z45/100","v":0},{"$f":"$B$2*熱需要量算定・原単位!$Z$8*熱需要量算定・原単位!AA45/100","v":0},{"$f":"$B$2*熱需要量算定・原単位!$Z$8*熱需要量算定・原単位!AB45/100","v":0},{"$f":"$B$2*熱需要量算定・原単位!$Z$8*熱需要量算定・原単位!AC45/100","v":0},{"$f":"$B$2*熱需要量算定・原単位!$Z$8*熱需要量算定・原単位!AD45/100","v":0},{"$f":"$B$2*熱需要量算定・原単位!$Z$8*熱需要量算定・原単位!AE45/100","v":0},{"$f":"$B$2*熱需要量算定・原単位!$Z$8*熱需要量算定・原単位!AF45/100","v":0},{"$f":"$B$2*熱需要量算定・原単位!$Z$8*熱需要量算定・原単位!AG45/100","v":0},{"$f":"$B$2*熱需要量算定・原単位!$Z$8*熱需要量算定・原単位!AH45/100","v":0}]
[null,"宿泊施設",{"$f":"$B$2*熱需要量算定・原単位!W24/100*熱需要量算定・原単位!$V$9*$B$4","v":{"$error":"#N/A"}},{"$f":"$B$2*熱需要量算定・原単位!X24/100*熱需要量算定・原単位!$V$9*$B$4","v":{"$error":"#N/A"}},{"$f":"$B$2*熱需要量算定・原単位!Y24/100*熱需要量算定・原単位!$V$9*$B$4","v":{"$error":"#N/A"}},{"$f":"$B$2*熱需要量算定・原単位!Z24/100*熱需要量算定・原単位!$V$9*$B$4","v":{"$error":"#N/A"}},{"$f":"$B$2*熱需要量算定・原単位!AA24/100*熱需要量算定・原単位!$V$9*$B$4","v":{"$error":"#N/A"}},{"$f":"$B$2*熱需要量算定・原単位!AB24/100*熱需要量算定・原単位!$V$9*$B$4","v":{"$error":"#N/A"}},{"$f":"$B$2*熱需要量算定・原単位!AC24/100*熱需要量算定・原単位!$V$9*$B$4","v":{"$error":"#N/A"}},{"$f":"$B$2*熱需要量算定・原単位!AD24/100*熱需要量算定・原単位!$V$9*$B$4","v":{"$error":"#N/A"}},{"$f":"$B$2*熱需要量算定・原単位!AE24/100*熱需要量算定・原単位!$V$9*$B$4","v":{"$error":"#N/A"}},{"$f":"$B$2*熱需要量算定・原単位!AF24/100*熱需要量算定・原単位!$V$9*$B$4","v":{"$error":"#N/A"}},{"$f":"$B$2*熱需要量算定・原単位!AG24/100*熱需要量算定・原単位!$V$9*$B$4","v":{"$error":"#N/A"}},{"$f":"$B$2*熱需要量算定・原単位!AH24/100*熱需要量算定・原単位!$V$9*$B$4","v":{"$error":"#N/A"}},null,"宿泊施設",{"$f":"$B$2*熱需要量算定・原単位!$X$9*熱需要量算定・原単位!W41/100*$B$5","v":{"$error":"#N/A"}},{"$f":"$B$2*熱需要量算定・原単位!$X$9*熱需要量算定・原単位!X41/100*$B$5","v":{"$error":"#N/A"}},{"$f":"$B$2*熱需要量算定・原単位!$X$9*熱需要量算定・原単位!Y41/100*$B$5","v":{"$error":"#N/A"}},{"$f":"$B$2*熱需要量算定・原単位!$X$9*熱需要量算定・原単位!Z41/100*$B$5","v":{"$error":"#N/A"}},{"$f":"$B$2*熱需要量算定・原単位!$X$9*熱需要量算定・原単位!AA41/100*$B$5","v":{"$error":"#N/A"}},{"$f":"$B$2*熱需要量算定・原単位!$X$9*熱需要量算定・原単位!AB41/100*$B$5","v":{"$error":"#N/A"}},{"$f":"$B$2*熱需要量算定・原単位!$X$9*熱需要量算定・原単位!AC41/100*$B$5","v":{"$error":"#N/A"}},{"$f":"$B$2*熱需要量算定・原単位!$X$9*熱需要量算定・原単位!AD41/100*$B$5","v":{"$error":"#N/A"}},{"$f":"$B$2*熱需要量算定・原単位!$X$9*熱需要量算定・原単位!AE41/100*$B$5","v":{"$error":"#N/A"}},{"$f":"$B$2*熱需要量算定・原単位!$X$9*熱需要量算定・原単位!AF41/100*$B$5","v":{"$error":"#N/A"}},{"$f":"$B$2*熱需要量算定・原単位!$X$9*熱需要量算定・原単位!AG41/100*$B$5","v":{"$error":"#N/A"}},{"$f":"$B$2*熱需要量算定・原単位!$X$9*熱需要量算定・原単位!AH41/100*$B$5","v":{"$error":"#N/A"}},null,"宿泊施設",{"$f":"$B$2*熱需要量算定・原単位!$Z$9*熱需要量算定・原単位!W46/100","v":0},{"$f":"$B$2*熱需要量算定・原単位!$Z$9*熱需要量算定・原単位!X46/100","v":0},{"$f":"$B$2*熱需要量算定・原単位!$Z$9*熱需要量算定・原単位!Y46/100","v":0},{"$f":"$B$2*熱需要量算定・原単位!$Z$9*熱需要量算定・原単位!Z46/100","v":0},{"$f":"$B$2*熱需要量算定・原単位!$Z$9*熱需要量算定・原単位!AA46/100","v":0},{"$f":"$B$2*熱需要量算定・原単位!$Z$9*熱需要量算定・原単位!AB46/100","v":0},{"$f":"$B$2*熱需要量算定・原単位!$Z$9*熱需要量算定・原単位!AC46/100","v":0},{"$f":"$B$2*熱需要量算定・原単位!$Z$9*熱需要量算定・原単位!AD46/100","v":0},{"$f":"$B$2*熱需要量算定・原単位!$Z$9*熱需要量算定・原単位!AE46/100","v":0},{"$f":"$B$2*熱需要量算定・原単位!$Z$9*熱需要量算定・原単位!AF46/100","v":0},{"$f":"$B$2*熱需要量算定・原単位!$Z$9*熱需要量算定・原単位!AG46/100","v":0},{"$f":"$B$2*熱需要量算定・原単位!$Z$9*熱需要量算定・原単位!AH46/100","v":0}]
[null,"医療施設",{"$f":"$B$2*熱需要量算定・原単位!W27/100*熱需要量算定・原単位!$V$10*$B$4","v":{"$error":"#N/A"}},{"$f":"$B$2*熱需要量算定・原単位!X27/100*熱需要量算定・原単位!$V$10*$B$4","v":{"$error":"#N/A"}},{"$f":"$B$2*熱需要量算定・原単位!Y27/100*熱需要量算定・原単位!$V$10*$B$4","v":{"$error":"#N/A"}},{"$f":"$B$2*熱需要量算定・原単位!Z27/100*熱需要量算定・原単位!$V$10*$B$4","v":{"$error":"#N/A"}},{"$f":"$B$2*熱需要量算定・原単位!AA27/100*熱需要量算定・原単位!$V$10*$B$4","v":{"$error":"#N/A"}},{"$f":"$B$2*熱需要量算定・原単位!AB27/100*熱需要量算定・原単位!$V$10*$B$4","v":{"$error":"#N/A"}},{"$f":"$B$2*熱需要量算定・原単位!AC27/100*熱需要量算定・原単位!$V$10*$B$4","v":{"$error":"#N/A"}},{"$f":"$B$2*熱需要量算定・原単位!AD27/100*熱需要量算定・原単位!$V$10*$B$4","v":{"$error":"#N/A"}},{"$f":"$B$2*熱需要量算定・原単位!AE27/100*熱需要量算定・原単位!$V$10*$B$4","v":{"$error":"#N/A"}},{"$f":"$B$2*熱需要量算定・原単位!AF27/100*熱需要量算定・原単位!$V$10*$B$4","v":{"$error":"#N/A"}},{"$f":"$B$2*熱需要量算定・原単位!AG27/100*熱需要量算定・原単位!$V$10*$B$4","v":{"$error":"#N/A"}},{"$f":"$B$2*熱需要量算定・原単位!AH27/100*熱需要量算定・原単位!$V$10*$B$4","v":{"$error":"#N/A"}},null,"医療施設",{"$f":"$B$2*熱需要量算定・原単位!$X$10*熱需要量算定・原単位!W42/100*$B$5","v":{"$error":"#N/A"}},{"$f":"$B$2*熱需要量算定・原単位!$X$10*熱需要量算定・原単位!X42/100*$B$5","v":{"$error":"#N/A"}},{"$f":"$B$2*熱需要量算定・原単位!$X$10*熱需要量算定・原単位!Y42/100*$B$5","v":{"$error":"#N/A"}},{"$f":"$B$2*熱需要量算定・原単位!$X$10*熱需要量算定・原単位!Z42/100*$B$5","v":{"$error":"#N/A"}},{"$f":"$B$2*熱需要量算定・原単位!$X$10*熱需要量算定・原単位!AA42/100*$B$5","v":{"$error":"#N/A"}},{"$f":"$B$2*熱需要量算定・原単位!$X$10*熱需要量算定・原単位!AB42/100*$B$5","v":{"$error":"#N/A"}},{"$f":"$B$2*熱需要量算定・原単位!$X$10*熱需要量算定・原単位!AC42/100*$B$5","v":{"$error":"#N/A"}},{"$f":"$B$2*熱需要量算定・原単位!$X$10*熱需要量算定・原単位!AD42/100*$B$5","v":{"$error":"#N/A"}},{"$f":"$B$2*熱需要量算定・原単位!$X$10*熱需要量算定・原単位!AE42/100*$B$5","v":{"$error":"#N/A"}},{"$f":"$B$2*熱需要量算定・原単位!$X$10*熱需要量算定・原単位!AF42/100*$B$5","v":{"$error":"#N/A"}},{"$f":"$B$2*熱需要量算定・原単位!$X$10*熱需要量算定・原単位!AG42/100*$B$5","v":{"$error":"#N/A"}},{"$f":"$B$2*熱需要量算定・原単位!$X$10*熱需要量算定・原単位!AH42/100*$B$5","v":{"$error":"#N/A"}},null,"医療施設",{"$f":"$B$2*熱需要量算定・原単位!$Z$10*熱需要量算定・原単位!W47/100","v":0},{"$f":"$B$2*熱需要量算定・原単位!$Z$10*熱需要量算定・原単位!X47/100","v":0},{"$f":"$B$2*熱需要量算定・原単位!$Z$10*熱需要量算定・原単位!Y47/100","v":0},{"$f":"$B$2*熱需要量算定・原単位!$Z$10*熱需要量算定・原単位!Z47/100","v":0},{"$f":"$B$2*熱需要量算定・原単位!$Z$10*熱需要量算定・原単位!AA47/100","v":0},{"$f":"$B$2*熱需要量算定・原単位!$Z$10*熱需要量算定・原単位!AB47/100","v":0},{"$f":"$B$2*熱需要量算定・原単位!$Z$10*熱需要量算定・原単位!AC47/100","v":0},{"$f":"$B$2*熱需要量算定・原単位!$Z$10*熱需要量算定・原単位!AD47/100","v":0},{"$f":"$B$2*熱需要量算定・原単位!$Z$10*熱需要量算定・原単位!AE47/100","v":0},{"$f":"$B$2*熱需要量算定・原単位!$Z$10*熱需要量算定・原単位!AF47/100","v":0},{"$f":"$B$2*熱需要量算定・原単位!$Z$10*熱需要量算定・原単位!AG47/100","v":0},{"$f":"$B$2*熱需要量算定・原単位!$Z$10*熱需要量算定・原単位!AH47/100","v":0}]
[]
[null,"冷房","施設判定",null,null,null,null,null,null,null,null,null,null,"MJ/月",null,"暖房",null,null,null,null,null,null,null,null,null,null,null,"MJ/月",null,"暖房",null,null,null,null,null,null,null,null,null,null,null,"MJ/月"]
[null,"項目","4月","5月","6月","7月","8月","9月","10月","11月","12月","1月","2月","3月",null,"項目","4月","5月","6月","7月","8月","9月","10月","11月","12月","1月","2月","3月",null,"項目","4月","5月","6月","7月","8月","9月","10月","11月","12月","1月","2月","3月"]
[null,{"$f":"B1","v":0},{"$f":"INDEX($C10:$N14,MATCH($B18,$B10:$B14,0),MATCH(C17,$C8:$N8,0))","v":{"$error":"#N/A"}},{"$error":"#N/A"},{"$error":"#N/A"},{"$error":"#N/A"},{"$error":"#N/A"},{"$error":"#N/A"},{"$error":"#N/A"},{"$error":"#N/A"},{"$error":"#N/A"},{"$error":"#N/A"},{"$error":"#N/A"},{"$error":"#N/A"},null,{"$f":"B1","v":0},{"$f":"INDEX($Q10:$AB14,MATCH($P18,$P10:$P14,0),MATCH(Q17,$Q8:$AB8,0))","v":{"$error":"#N/A"}},{"$error":"#N/A"},{"$error":"#N/A"},{"$error":"#N/A"},{"$error":"#N/A"},{"$error":"#N/A"},{"$error":"#N/A"},{"$error":"#N/A"},{"$error":"#N/A"},{"$error":"#N/A"},{"$error":"#N/A"},{"$error":"#N/A"},null,{"$f":"B1","v":0},{"$f":"INDEX($AE10:$AP14,MATCH($AD18,$AD10:$AD14,0),MATCH(AE17,$AE8:$AP8,0))","v":{"$error":"#N/A"}},{"$error":"#N/A"},{"$error":"#N/A"},{"$error":"#N/A"},{"$error":"#N/A"},{"$error":"#N/A"},{"$error":"#N/A"},{"$error":"#N/A"},{"$error":"#N/A"},{"$error":"#N/A"},{"$error":"#N/A"},{"$error":"#N/A"}]
[null,null,{"$f":"IF(COUNTIF(熱需要量算定・原単位!$AK$5:$BL$5,'熱需要量算定_月別時間別(不要)'!$B18&'熱需要量算定_月別時間別(不要)'!$B$7&'熱需要量算定_月別時間別(不要)'!C$9)>0,C9,\"-\")","v":"-"},{"$f":"IF(COUNTIF(熱需要量算定・原単位!$AK$5:$BL$5,'熱需要量算定_月別時間別(不要)'!$B18&'熱需要量算定_月別時間別(不要)'!$B$7&'熱需要量算定_月別時間別(不要)'!D$9)>0,D9,\"-\")","v":"-"},{"$f":"IF(COUNTIF(熱需要量算定・原単位!$AK$5:$BL$5,'熱需要量算定_月別時間別(不要)'!$B18&'熱需要量算定_月別時間別(不要)'!$B$7&'熱需要量算定_月別時間別(不要)'!E$9)>0,E9,\"-\")","v":"-"},{"$f":"IF(COUNTIF(熱需要量算定・原単位!$AK$5:$BL$5,'熱需要量算定_月別時間別(不要)'!$B18&'熱需要量算定_月別時間別(不要)'!$B$7&'熱需要量算定_月別時間別(不要)'!F$9)>0,F9,\"-\")","v":"-"},{"$f":"IF(COUNTIF(熱需要量算定・原単位!$AK$5:$BL$5,'熱需要量算定_月別時間別(不要)'!$B18&'熱需要量算定_月別時間別(不要)'!$B$7&'熱需要量算定_月別時間別(不要)'!G$9)>0,G9,\"-\")","v":"-"},{"$f":"IF(COUNTIF(熱需要量算定・原単位!$AK$5:$BL$5,'熱需要量算定_月別時間別(不要)'!$B18&'熱需要量算定_月別時間別(不要)'!$B$7&'熱需要量算定_月別時間別(不要)'!H$9)>0,H9,\"-\")","v":"-"},{"$f":"IF(COUNTIF(熱需要量算定・原単位!$AK$5:$BL$5,'熱需要量算定_月別時間別(不要)'!$B18&'熱需要量算定_月別時間別(不要)'!$B$7&'熱需要量算定_月別時間別(不要)'!I$9)>0,I9,\"-\")","v":"-"},{"$f":"IF(COUNTIF(熱需要量算定・原単位!$AK$5:$BL$5,'熱需要量算定_月別時間別(不要)'!$B18&'熱需要量算定_月別時間別(不要)'!$B$7&'熱需要量算定_月別時間別(不要)'!J$9)>0,J9,\"-\")","v":"-"},{"$f":"IF(COUNTIF(熱需要量算定・原単位!$AK$5:$BL$5,'熱需要量算定_月別時間別(不要)'!$B18&'熱需要量算定_月別時間別(不要)'!$B$7&'熱需要量算定_月別時間別(不要)'!K$9)>0,K9,\"-\")","v":"-"},{"$f":"IF(COUNTIF(熱需要量算定・原単位!$AK$5:$BL$5,'熱需要量算定_月別時間別(不要)'!$B18&'熱需要量算定_月別時間別(不要)'!$B$7&'熱需要量算定_月別時間別(不要)'!L$9)>0,L9,\"-\")","v":"-"},{"$f":"IF(COUNTIF(熱需要量算定・原単位!$AK$5:$BL$5,'熱需要量算定_月別時間別(不要)'!$B18&'熱需要量算定_月別時間別(不要)'!$B$7&'熱需要量算定_月別時間別(不要)'!M$9)>0,M9,\"-\")","v":"-"},{"$f":"IF(COUNTIF(熱需要量算定・原単位!$AK$5:$BL$5,'熱需要量算定_月別時間別(不要)'!$B18&'熱需要量算定_月別時間別(不要)'!$B$7&'熱需要量算定_月別時間別(不要)'!N$9)>0,N9,\"-\")","v":"-"},null,null,{"$f":"IF(COUNTIF(熱需要量算定・原単位!$AK$5:$BL$5,'熱需要量算定_月別時間別(不要)'!$P18&'熱需要量算定_月別時間別(不要)'!$P$7&'熱需要量算定_月別時間別(不要)'!Q$9)>0,Q9,\"-\")","v":"-"},{"$f":"IF(COUNTIF(熱需要量算定・原単位!$AK$5:$BL$5,'熱需要量算定_月別時間別(不要)'!$P18&'熱需要量算定_月別時間別(不要)'!$P$7&'熱需要量算定_月別時間別(不要)'!R$9)>0,R9,\"-\")","v":"-"},{"$f":"IF(COUNTIF(熱需要量算定・原単位!$AK$5:$BL$5,'熱需要量算定_月別時間別(不要)'!$P18&'熱需要量算定_月別時間別(不要)'!$P$7&'熱需要量算定_月別時間別(不要)'!S$9)>0,S9,\"-\")","v":"-"},{"$f":"IF(COUNTIF(熱需要量算定・原単位!$AK$5:$BL$5,'熱需要量算定_月別時間別(不要)'!$P18&'熱需要量算定_月別時間別(不要)'!$P$7&'熱需要量算定_月別時間別(不要)'!T$9)>0,T9,\"-\")","v":"-"},{"$f":"IF(COUNTIF(熱需要量算定・原単位!$AK$5:$BL$5,'熱需要量算定_月別時間別(不要)'!$P18&'熱需要量算定_月別時間別(不要)'!$P$7&'熱需要量算定_月別時間別(不要)'!U$9)>0,U9,\"-\")","v":"-"},{"$f":"IF(COUNTIF(熱需要量算定・原単位!$AK$5:$BL$5,'熱需要量算定_月別時間別(不要)'!$P18&'熱需要量算定_月別時間別(不要)'!$P$7&'熱需要量算定_月別時間別(不要)'!V$9)>0,V9,\"-\")","v":"-"},{"$f":"IF(COUNTIF(熱需要量算定・原単位!$AK$5:$BL$5,'熱需要量算定_月別時間別(不要)'!$P18&'熱需要量算定_月別時間別(不要)'!$P$7&'熱需要量算定_月別時間別(不要)'!W$9)>0,W9,\"-\")","v":"-"},{"$f":"IF(COUNTIF(熱需要量算定・原単位!$AK$5:$BL$5,'熱需要量算定_月別時間別(不要)'!$P18&'熱需要量算定_月別時間別(不要)'!$P$7&'熱需要量算定_月別時間別(不要)'!X$9)>0,X9,\"-\")","v":"-"},{"$f":"IF(COUNTIF(熱需要量算定・原単位!$AK$5:$BL$5,'熱需要量算定_月別時間別(不要)'!$P18&'熱需要量算定_月別時間別(不要)'!$P$7&'熱需要量算定_月別時間別(不要)'!Y$9)>0,Y9,\"-\")","v":"-"},{"$f":"IF(COUNTIF(熱需要量算定・原単位!$AK$5:$BL$5,'熱需要量算定_月別時間別(不要)'!$P18&'熱需要量算定_月別時間別(不要)'!$P$7&'熱需要量算定_月別時間別(不要)'!Z$9)>0,Z9,\"-\")","v":"-"},{"$f":"IF(COUNTIF(熱需要量算定・原単位!$AK$5:$BL$5,'熱需要量算定_月別時間別(不要)'!$P18&'熱需要量算定_月別時間別(不要)'!$P$7&'熱需要量算定_月別時間別(不要)'!AA$9)>0,AA9,\"-\")","v":"-"},{"$f":"IF(COUNTIF(熱需要量算定・原単位!$AK$5:$BL$5,'熱需要量算定_月別時間別(不要)'!$P18&'熱需要量算定_月別時間別(不要)'!$P$7&'熱需要量算定_月別時間別(不要)'!AB$9)>0,AB9,\"-\")","v":"-"},null,null,{"$f":"IF(COUNTIF(熱需要量算定・原単位!$AK$5:$BL$5,'熱需要量算定_月別時間別(不要)'!$AD18&'熱需要量算定_月別時間別(不要)'!$AD$7&'熱需要量算定_月別時間別(不要)'!AE$9)>0,AE9,\"-\")","v":"-"},{"$f":"IF(COUNTIF(熱需要量算定・原単位!$AK$5:$BL$5,'熱需要量算定_月別時間別(不要)'!$AD18&'熱需要量算定_月別時間別(不要)'!$AD$7&'熱需要量算定_月別時間別(不要)'!AF$9)>0,AF9,\"-\")","v":"-"},{"$f":"IF(COUNTIF(熱需要量算定・原単位!$AK$5:$BL$5,'熱需要量算定_月別時間別(不要)'!$AD18&'熱需要量算定_月別時間別(不要)'!$AD$7&'熱需要量算定_月別時間別(不要)'!AG$9)>0,AG9,\"-\")","v":"-"},{"$f":"IF(COUNTIF(熱需要量算定・原単位!$AK$5:$BL$5,'熱需要量算定_月別時間別(不要)'!$AD18&'熱需要量算定_月別時間別(不要)'!$AD$7&'熱需要量算定_月別時間別(不要)'!AH$9)>0,AH9,\"-\")","v":"-"},{"$f":"IF(COUNTIF(熱需要量算定・原単位!$AK$5:$BL$5,'熱需要量算定_月別時間別(不要)'!$AD18&'熱需要量算定_月別時間別(不要)'!$AD$7&'熱需要量算定_月別時間別(不要)'!AI$9)>0,AI9,\"-\")","v":"-"},{"$f":"IF(COUNTIF(熱需要量算定・原単位!$AK$5:$BL$5,'熱需要量算定_月別時間別(不要)'!$AD18&'熱需要量算定_月別時間別(不要)'!$AD$7&'熱需要量算定_月別時間別(不要)'!AJ$9)>0,AJ9,\"-\")","v":"-"},{"$f":"IF(COUNTIF(熱需要量算定・原単位!$AK$5:$BL$5,'熱需要量算定_月別時間別(不要)'!$AD18&'熱需要量算定_月別時間別(不要)'!$AD$7&'熱需要量算定_月別時間別(不要)'!AK$9)>0,AK9,\"-\")","v":"-"},{"$f":"IF(COUNTIF(熱需要量算定・原単位!$AK$5:$BL$5,'熱需要量算定_月別時間別(不要)'!$AD18&'熱需要量算定_月別時間別(不要)'!$AD$7&'熱需要量算定_月別時間別(不要)'!AL$9)>0,AL9,\"-\")","v":"-"},{"$f":"IF(COUNTIF(熱需要量算定・原単位!$AK$5:$BL$5,'熱需要量算定_月別時間別(不要)'!$AD18&'熱需要量算定_月別時間別(不要)'!$AD$7&'熱需要量算定_月別時間別(不要)'!AM$9)>0,AM9,\"-\")","v":"-"},{"$f":"IF(COUNTIF(熱需要量算定・原単位!$AK$5:$BL$5,'熱需要量算定_月別時間別(不要)'!$AD18&'熱需要量算定_月別時間別(不要)'!$AD$7&'熱需要量算定_月別時間別(不要)'!AN$9)>0,AN9,\"-\")","v":"-"},{"$f":"IF(COUNTIF(熱需要量算定・原単位!$AK$5:$BL$5,'熱需要量算定_月別時間別(不要)'!$AD18&'熱需要量算定_月別時間別(不要)'!$AD$7&'熱需要量算定_月別時間別(不要)'!AO$9)>0,AO9,\"-\")","v":"-"},{"$f":"IF(COUNTIF(熱需要量算定・原単位!$AK$5:$BL$5,'熱需要量算定_月別時間別(不要)'!$AD18&'熱需要量算定_月別時間別(不要)'!$AD$7&'熱需要量算定_月別時間別(不要)'!AP$9)>0,AP9,\"-\")","v":"-"}]
[null,null,{"$f":"$B$18&$B$7&C19","v":"0冷房-"},"0冷房-","0冷房-","0冷房-","0冷房-","0冷房-","0冷房-","0冷房-","0冷房-","0冷房-","0冷房-","0冷房-",null,null,{"$f":"$P$18&$P$7&Q19","v":"0暖房-"},"0暖房-","0暖房-","0暖房-","0暖房-","0暖房-","0暖房-","0暖房-","0暖房-","0暖房-","0暖房-","0暖房-",null,null,{"$f":"$AD$18&$AD$7&AE19","v":"0給湯-"},"0給湯-","0給湯-","0給湯-","0給湯-","0給湯-","0給湯-","0給湯-","0給湯-","0給湯-","0給湯-","0給湯-"]
[]
[null,"冷房","月別","日あたり",null,null,null,null,null,null,null,null,null,"MJ/日",null,"暖房","月別","日あたり",null,null,null,null,null,null,null,null,null,"MJ/日",null,"給湯","月別","日あたり",null,null,null,null,null,null,null,null,null,"MJ/日"]
[null,"項目","2018-04-01","2018-05-01","2018-06-01","2018-07-01","2018-08-01","2018-09-01","2018-10-01","2018-11-01","2018-12-01","2019-01-01","2019-02-01","2019-03-01",null,"項目","2018-04-01","2018-05-01","2018-06-01","2018-07-01","2018-08-01","2018-09-01","2018-10-01","2018-11-01","2018-12-01","2019-01-01","2019-02-01","2019-03-01",null,"項目","2018-04-01","2018-05-01","2018-06-01","2018-07-01","2018-08-01","2018-09-01","2018-10-01","2018-11-01","2018-12-01","2019-01-01","2019-02-01","2019-03-01"]
[null,"日数",{"$f":"DAY(EOMONTH(C23,0))","v":30},31,30,31,31,30,31,30,31,31,28,31,null,"日数",{"$f":"DAY(EOMONTH(Q23,0))","v":30},31,30,31,31,30,31,30,31,31,28,31,null,"日数",{"$f":"DAY(EOMONTH(AE23,0))","v":30},31,30,31,31,30,31,30,31,31,28,31]
[null,{"$f":"B18","v":0},{"$f":"C18/C24","v":{"$error":"#N/A"}},{"$error":"#N/A"},{"$error":"#N/A"},{"$error":"#N/A"},{"$error":"#N/A"},{"$error":"#N/A"},{"$error":"#N/A"},{"$error":"#N/A"},{"$error":"#N/A"},{"$error":"#N/A"},{"$error":"#N/A"},{"$error":"#N/A"},null,{"$f":"P18","v":0},{"$f":"Q18/Q24","v":{"$error":"#N/A"}},{"$error":"#N/A"},{"$error":"#N/A"},{"$error":"#N/A"},{"$error":"#N/A"},{"$error":"#N/A"},{"$error":"#N/A"},{"$error":"#N/A"},{"$error":"#N/A"},{"$error":"#N/A"},{"$error":"#N/A"},{"$error":"#N/A"},null,{"$f":"AD18","v":0},{"$f":"AE18/AE24","v":{"$error":"#N/A"}},{"$error":"#N/A"},{"$error":"#N/A"},{"$error":"#N/A"},{"$error":"#N/A"},{"$error":"#N/A"},{"$error":"#N/A"},{"$error":"#N/A"},{"$error":"#N/A"},{"$error":"#N/A"},{"$error":"#N/A"},{"$error":"#N/A"}]
[]
[null,"冷房","時刻別",null,null,null,null,null,null,null,null,null,"単位","MJ/h",null,"暖房","時刻別",null,null,null,null,null,null,null,null,null,"単位","MJ/h",null,"給湯","時刻別",null,null,null,null,null,null,null,null,null,"単位","MJ/h"]
[null,null,"4月","5月","6月","7月","8月","9月","10月","11月","12月","1月","2月","3月",null,null,"4月","5月","6月","7月","8月","9月","10月","11月","12月","1月","2月","3月",null,null,"4月","5月","6月","7月","8月","9月","10月","11月","12月","1月","2月","3月"]
[null,"時間","中間期","中間期","夏期","夏期","夏期","夏期","中間期","中間期","冬期","冬期","冬期","冬期",null,"時間","中間期","中間期","夏期","夏期","夏期","夏期","中間期","中間期","冬期","冬期","冬期","冬期",null,"時間","中間期","中間期","夏期","夏期","夏期","夏期","中間期","中間期","冬期","冬期","冬期","冬期"]
[null,1,{"$f":"IFERROR(INDEX(熱需要量算定・原単位!$AK9:$BL9,MATCH(C$20,熱需要量算定・原単位!$AK$5:$BL$5,0)),0)*C$25/100","v":{"$error":"#N/A"}},{"$f":"IFERROR(INDEX(熱需要量算定・原単位!$AK9:$BL9,MATCH(D$20,熱需要量算定・原単位!$AK$5:$BL$5,0)),0)*D$25/100","v":{"$error":"#N/A"}},{"$f":"IFERROR(INDEX(熱需要量算定・原単位!$AK9:$BL9,MATCH(E$20,熱需要量算定・原単位!$AK$5:$BL$5,0)),0)*E$25/100","v":{"$error":"#N/A"}},{"$f":"IFERROR(INDEX(熱需要量算定・原単位!$AK9:$BL9,MATCH(F$20,熱需要量算定・原単位!$AK$5:$BL$5,0)),0)*F$25/100","v":{"$error":"#N/A"}},{"$f":"IFERROR(INDEX(熱需要量算定・原単位!$AK9:$BL9,MATCH(G$20,熱需要量算定・原単位!$AK$5:$BL$5,0)),0)*G$25/100","v":{"$error":"#N/A"}},{"$f":"IFERROR(INDEX(熱需要量算定・原単位!$AK9:$BL9,MATCH(H$20,熱需要量算定・原単位!$AK$5:$BL$5,0)),0)*H$25/100","v":{"$error":"#N/A"}},{"$f":"IFERROR(INDEX(熱需要量算定・原単位!$AK9:$BL9,MATCH(I$20,熱需要量算定・原単位!$AK$5:$BL$5,0)),0)*I$25/100","v":{"$error":"#N/A"}},{"$f":"IFERROR(INDEX(熱需要量算定・原単位!$AK9:$BL9,MATCH(J$20,熱需要量算定・原単位!$AK$5:$BL$5,0)),0)*J$25/100","v":{"$error":"#N/A"}},{"$f":"IFERROR(INDEX(熱需要量算定・原単位!$AK9:$BL9,MATCH(K$20,熱需要量算定・原単位!$AK$5:$BL$5,0)),0)*K$25/100","v":{"$error":"#N/A"}},{"$f":"IFERROR(INDEX(熱需要量算定・原単位!$AK9:$BL9,MATCH(L$20,熱需要量算定・原単位!$AK$5:$BL$5,0)),0)*L$25/100","v":{"$error":"#N/A"}},{"$f":"IFERROR(INDEX(熱需要量算定・原単位!$AK9:$BL9,MATCH(M$20,熱需要量算定・原単位!$AK$5:$BL$5,0)),0)*M$25/100","v":{"$error":"#N/A"}},{"$f":"IFERROR(INDEX(熱需要量算定・原単位!$AK9:$BL9,MATCH(N$20,熱需要量算定・原単位!$AK$5:$BL$5,0)),0)*N$25/100","v":{"$error":"#N/A"}},null,1,{"$f":"IFERROR(INDEX(熱需要量算定・原単位!$AK9:$BL9,MATCH(Q$20,熱需要量算定・原単位!$AK$5:$BL$5,0)),0)*Q$25/100","v":{"$error":"#N/A"}},{"$f":"IFERROR(INDEX(熱需要量算定・原単位!$AK9:$BL9,MATCH(R$20,熱需要量算定・原単位!$AK$5:$BL$5,0)),0)*R$25/100","v":{"$error":"#N/A"}},{"$f":"IFERROR(INDEX(熱需要量算定・原単位!$AK9:$BL9,MATCH(S$20,熱需要量算定・原単位!$AK$5:$BL$5,0)),0)*S$25/100","v":{"$error":"#N/A"}},{"$f":"IFERROR(INDEX(熱需要量算定・原単位!$AK9:$BL9,MATCH(T$20,熱需要量算定・原単位!$AK$5:$BL$5,0)),0)*T$25/100","v":{"$error":"#N/A"}},{"$f":"IFERROR(INDEX(熱需要量算定・原単位!$AK9:$BL9,MATCH(U$20,熱需要量算定・原単位!$AK$5:$BL$5,0)),0)*U$25/100","v":{"$error":"#N/A"}},{"$f":"IFERROR(INDEX(熱需要量算定・原単位!$AK9:$BL9,MATCH(V$20,熱需要量算定・原単位!$AK$5:$BL$5,0)),0)*V$25/100","v":{"$error":"#N/A"}},{"$f":"IFERROR(INDEX(熱需要量算定・原単位!$AK9:$BL9,MATCH(W$20,熱需要量算定・原単位!$AK$5:$BL$5,0)),0)*W$25/100","v":{"$error":"#N/A"}},{"$f":"IFERROR(INDEX(熱需要量算定・原単位!$AK9:$BL9,MATCH(X$20,熱需要量算定・原単位!$AK$5:$BL$5,0)),0)*X$25/100","v":{"$error":"#N/A"}},{"$f":"IFERROR(INDEX(熱需要量算定・原単位!$AK9:$BL9,MATCH(Y$20,熱需要量算定・原単位!$AK$5:$BL$5,0)),0)*Y$25/100","v":{"$error":"#N/A"}},{"$f":"IFERROR(INDEX(熱需要量算定・原単位!$AK9:$BL9,MATCH(Z$20,熱需要量算定・原単位!$AK$5:$BL$5,0)),0)*Z$25/100","v":{"$error":"#N/A"}},{"$f":"IFERROR(INDEX(熱需要量算定・原単位!$AK9:$BL9,MATCH(AA$20,熱需要量算定・原単位!$AK$5:$BL$5,0)),0)*AA$25/100","v":{"$error":"#N/A"}},{"$f":"IFERROR(INDEX(熱需要量算定・原単位!$AK9:$BL9,MATCH(AB$20,熱需要量算定・原単位!$AK$5:$BL$5,0)),0)*AB$25/100","v":{"$error":"#N/A"}},null,1,{"$f":"IFERROR(INDEX(熱需要量算定・原単位!$AK9:$BL9,MATCH(AE$20,熱需要量算定・原単位!$AK$5:$BL$5,0)),0)*AE$25/100","v":{"$error":"#N/A"}},{"$f":"IFERROR(INDEX(熱需要量算定・原単位!$AK9:$BL9,MATCH(AF$20,熱需要量算定・原単位!$AK$5:$BL$5,0)),0)*AF$25/100","v":{"$error":"#N/A"}},{"$f":"IFERROR(INDEX(熱需要量算定・原単位!$AK9:$BL9,MATCH(AG$20,熱需要量算定・原単位!$AK$5:$BL$5,0)),0)*AG$25/100","v":{"$error":"#N/A"}},{"$f":"IFERROR(INDEX(熱需要量算定・原単位!$AK9:$BL9,MATCH(AH$20,熱需要量算定・原単位!$AK$5:$BL$5,0)),0)*AH$25/100","v":{"$error":"#N/A"}},{"$f":"IFERROR(INDEX(熱需要量算定・原単位!$AK9:$BL9,MATCH(AI$20,熱需要量算定・原単位!$AK$5:$BL$5,0)),0)*AI$25/100","v":{"$error":"#N/A"}},{"$f":"IFERROR(INDEX(熱需要量算定・原単位!$AK9:$BL9,MATCH(AJ$20,熱需要量算定・原単位!$AK$5:$BL$5,0)),0)*AJ$25/100","v":{"$error":"#N/A"}},{"$f":"IFERROR(INDEX(熱需要量算定・原単位!$AK9:$BL9,MATCH(AK$20,熱需要量算定・原単位!$AK$5:$BL$5,0)),0)*AK$25/100","v":{"$error":"#N/A"}},{"$f":"IFERROR(INDEX(熱需要量算定・原単位!$AK9:$BL9,MATCH(AL$20,熱需要量算定・原単位!$AK$5:$BL$5,0)),0)*AL$25/100","v":{"$error":"#N/A"}},{"$f":"IFERROR(INDEX(熱需要量算定・原単位!$AK9:$BL9,MATCH(AM$20,熱需要量算定・原単位!$AK$5:$BL$5,0)),0)*AM$25/100","v":{"$error":"#N/A"}},{"$f":"IFERROR(INDEX(熱需要量算定・原単位!$AK9:$BL9,MATCH(AN$20,熱需要量算定・原単位!$AK$5:$BL$5,0)),0)*AN$25/100","v":{"$error":"#N/A"}},{"$f":"IFERROR(INDEX(熱需要量算定・原単位!$AK9:$BL9,MATCH(AO$20,熱需要量算定・原単位!$AK$5:$BL$5,0)),0)*AO$25/100","v":{"$error":"#N/A"}},{"$f":"IFERROR(INDEX(熱需要量算定・原単位!$AK9:$BL9,MATCH(AP$20,熱需要量算定・原単位!$AK$5:$BL$5,0)),0)*AP$25/100","v":{"$error":"#N/A"}}]
[null,{"$f":"B30+1","v":2},{"$f":"IFERROR(INDEX(熱需要量算定・原単位!$AK10:$BL10,MATCH(C$20,熱需要量算定・原単位!$AK$5:$BL$5,0)),0)*C$25/100","v":{"$error":"#N/A"}},{"$f":"IFERROR(INDEX(熱需要量算定・原単位!$AK10:$BL10,MATCH(D$20,熱需要量算定・原単位!$AK$5:$BL$5,0)),0)*D$25/100","v":{"$error":"#N/A"}},{"$f":"IFERROR(INDEX(熱需要量算定・原単位!$AK10:$BL10,MATCH(E$20,熱需要量算定・原単位!$AK$5:$BL$5,0)),0)*E$25/100","v":{"$error":"#N/A"}},{"$f":"IFERROR(INDEX(熱需要量算定・原単位!$AK10:$BL10,MATCH(F$20,熱需要量算定・原単位!$AK$5:$BL$5,0)),0)*F$25/100","v":{"$error":"#N/A"}},{"$f":"IFERROR(INDEX(熱需要量算定・原単位!$AK10:$BL10,MATCH(G$20,熱需要量算定・原単位!$AK$5:$BL$5,0)),0)*G$25/100","v":{"$error":"#N/A"}},{"$f":"IFERROR(INDEX(熱需要量算定・原単位!$AK10:$BL10,MATCH(H$20,熱需要量算定・原単位!$AK$5:$BL$5,0)),0)*H$25/100","v":{"$error":"#N/A"}},{"$f":"IFERROR(INDEX(熱需要量算定・原単位!$AK10:$BL10,MATCH(I$20,熱需要量算定・原単位!$AK$5:$BL$5,0)),0)*I$25/100","v":{"$error":"#N/A"}},{"$f":"IFERROR(INDEX(熱需要量算定・原単位!$AK10:$BL10,MATCH(J$20,熱需要量算定・原単位!$AK$5:$BL$5,0)),0)*J$25/100","v":{"$error":"#N/A"}},{"$f":"IFERROR(INDEX(熱需要量算定・原単位!$AK10:$BL10,MATCH(K$20,熱需要量算定・原単位!$AK$5:$BL$5,0)),0)*K$25/100","v":{"$error":"#N/A"}},{"$f":"IFERROR(INDEX(熱需要量算定・原単位!$AK10:$BL10,MATCH(L$20,熱需要量算定・原単位!$AK$5:$BL$5,0)),0)*L$25/100","v":{"$error":"#N/A"}},{"$f":"IFERROR(INDEX(熱需要量算定・原単位!$AK10:$BL10,MATCH(M$20,熱需要量算定・原単位!$AK$5:$BL$5,0)),0)*M$25/100","v":{"$error":"#N/A"}},{"$f":"IFERROR(INDEX(熱需要量算定・原単位!$AK10:$BL10,MATCH(N$20,熱需要量算定・原単位!$AK$5:$BL$5,0)),0)*N$25/100","v":{"$error":"#N/A"}},null,{"$f":"P30+1","v":2},{"$f":"IFERROR(INDEX(熱需要量算定・原単位!$AK10:$BL10,MATCH(Q$20,熱需要量算定・原単位!$AK$5:$BL$5,0)),0)*Q$25/100","v":{"$error":"#N/A"}},{"$f":"IFERROR(INDEX(熱需要量算定・原単位!$AK10:$BL10,MATCH(R$20,熱需要量算定・原単位!$AK$5:$BL$5,0)),0)*R$25/100","v":{"$error":"#N/A"}},{"$f":"IFERROR(INDEX(熱需要量算定・原単位!$AK10:$BL10,MATCH(S$20,熱需要量算定・原単位!$AK$5:$BL$5,0)),0)*S$25/100","v":{"$error":"#N/A"}},{"$f":"IFERROR(INDEX(熱需要量算定・原単位!$AK10:$BL10,MATCH(T$20,熱需要量算定・原単位!$AK$5:$BL$5,0)),0)*T$25/100","v":{"$error":"#N/A"}},{"$f":"IFERROR(INDEX(熱需要量算定・原単位!$AK10:$BL10,MATCH(U$20,熱需要量算定・原単位!$AK$5:$BL$5,0)),0)*U$25/100","v":{"$error":"#N/A"}},{"$f":"IFERROR(INDEX(熱需要量算定・原単位!$AK10:$BL10,MATCH(V$20,熱需要量算定・原単位!$AK$5:$BL$5,0)),0)*V$25/100","v":{"$error":"#N/A"}},{"$f":"IFERROR(INDEX(熱需要量算定・原単位!$AK10:$BL10,MATCH(W$20,熱需要量算定・原単位!$AK$5:$BL$5,0)),0)*W$25/100","v":{"$error":"#N/A"}},{"$f":"IFERROR(INDEX(熱需要量算定・原単位!$AK10:$BL10,MATCH(X$20,熱需要量算定・原単位!$AK$5:$BL$5,0)),0)*X$25/100","v":{"$error":"#N/A"}},{"$f":"IFERROR(INDEX(熱需要量算定・原単位!$AK10:$BL10,MATCH(Y$20,熱需要量算定・原単位!$AK$5:$BL$5,0)),0)*Y$25/100","v":{"$error":"#N/A"}},{"$f":"IFERROR(INDEX(熱需要量算定・原単位!$AK10:$BL10,MATCH(Z$20,熱需要量算定・原単位!$AK$5:$BL$5,0)),0)*Z$25/100","v":{"$error":"#N/A"}},{"$f":"IFERROR(INDEX(熱需要量算定・原単位!$AK10:$BL10,MATCH(AA$20,熱需要量算定・原単位!$AK$5:$BL$5,0)),0)*AA$25/100","v":{"$error":"#N/A"}},{"$f":"IFERROR(INDEX(熱需要量算定・原単位!$AK10:$BL10,MATCH(AB$20,熱需要量算定・原単位!$AK$5:$BL$5,0)),0)*AB$25/100","v":{"$error":"#N/A"}},null,{"$f":"AD30+1","v":2},{"$f":"IFERROR(INDEX(熱需要量算定・原単位!$AK10:$BL10,MATCH(AE$20,熱需要量算定・原単位!$AK$5:$BL$5,0)),0)*AE$25/100","v":{"$error":"#N/A"}},{"$f":"IFERROR(INDEX(熱需要量算定・原単位!$AK10:$BL10,MATCH(AF$20,熱需要量算定・原単位!$AK$5:$BL$5,0)),0)*AF$25/100","v":{"$error":"#N/A"}},{"$f":"IFERROR(INDEX(熱需要量算定・原単位!$AK10:$BL10,MATCH(AG$20,熱需要量算定・原単位!$AK$5:$BL$5,0)),0)*AG$25/100","v":{"$error":"#N/A"}},{"$f":"IFERROR(INDEX(熱需要量算定・原単位!$AK10:$BL10,MATCH(AH$20,熱需要量算定・原単位!$AK$5:$BL$5,0)),0)*AH$25/100","v":{"$error":"#N/A"}},{"$f":"IFERROR(INDEX(熱需要量算定・原単位!$AK10:$BL10,MATCH(AI$20,熱需要量算定・原単位!$AK$5:$BL$5,0)),0)*AI$25/100","v":{"$error":"#N/A"}},{"$f":"IFERROR(INDEX(熱需要量算定・原単位!$AK10:$BL10,MATCH(AJ$20,熱需要量算定・原単位!$AK$5:$BL$5,0)),0)*AJ$25/100","v":{"$error":"#N/A"}},{"$f":"IFERROR(INDEX(熱需要量算定・原単位!$AK10:$BL10,MATCH(AK$20,熱需要量算定・原単位!$AK$5:$BL$5,0)),0)*AK$25/100","v":{"$error":"#N/A"}},{"$f":"IFERROR(INDEX(熱需要量算定・原単位!$AK10:$BL10,MATCH(AL$20,熱需要量算定・原単位!$AK$5:$BL$5,0)),0)*AL$25/100","v":{"$error":"#N/A"}},{"$f":"IFERROR(INDEX(熱需要量算定・原単位!$AK10:$BL10,MATCH(AM$20,熱需要量算定・原単位!$AK$5:$BL$5,0)),0)*AM$25/100","v":{"$error":"#N/A"}},{"$f":"IFERROR(INDEX(熱需要量算定・原単位!$AK10:$BL10,MATCH(AN$20,熱需要量算定・原単位!$AK$5:$BL$5,0)),0)*AN$25/100","v":{"$error":"#N/A"}},{"$f":"IFERROR(INDEX(熱需要量算定・原単位!$AK10:$BL10,MATCH(AO$20,熱需要量算定・原単位!$AK$5:$BL$5,0)),0)*AO$25/100","v":{"$error":"#N/A"}},{"$f":"IFERROR(INDEX(熱需要量算定・原単位!$AK10:$BL10,MATCH(AP$20,熱需要量算定・原単位!$AK$5:$BL$5,0)),0)*AP$25/100","v":{"$error":"#N/A"}}]
[null,3,{"$f":"IFERROR(INDEX(熱需要量算定・原単位!$AK11:$BL11,MATCH(C$20,熱需要量算定・原単位!$AK$5:$BL$5,0)),0)*C$25/100","v":{"$error":"#N/A"}},{"$f":"IFERROR(INDEX(熱需要量算定・原単位!$AK11:$BL11,MATCH(D$20,熱需要量算定・原単位!$AK$5:$BL$5,0)),0)*D$25/100","v":{"$error":"#N/A"}},{"$f":"IFERROR(INDEX(熱需要量算定・原単位!$AK11:$BL11,MATCH(E$20,熱需要量算定・原単位!$AK$5:$BL$5,0)),0)*E$25/100","v":{"$error":"#N/A"}},{"$f":"IFERROR(INDEX(熱需要量算定・原単位!$AK11:$BL11,MATCH(F$20,熱需要量算定・原単位!$AK$5:$BL$5,0)),0)*F$25/100","v":{"$error":"#N/A"}},{"$f":"IFERROR(INDEX(熱需要量算定・原単位!$AK11:$BL11,MATCH(G$20,熱需要量算定・原単位!$AK$5:$BL$5,0)),0)*G$25/100","v":{"$error":"#N/A"}},{"$f":"IFERROR(INDEX(熱需要量算定・原単位!$AK11:$BL11,MATCH(H$20,熱需要量算定・原単位!$AK$5:$BL$5,0)),0)*H$25/100","v":{"$error":"#N/A"}},{"$f":"IFERROR(INDEX(熱需要量算定・原単位!$AK11:$BL11,MATCH(I$20,熱需要量算定・原単位!$AK$5:$BL$5,0)),0)*I$25/100","v":{"$error":"#N/A"}},{"$f":"IFERROR(INDEX(熱需要量算定・原単位!$AK11:$BL11,MATCH(J$20,熱需要量算定・原単位!$AK$5:$BL$5,0)),0)*J$25/100","v":{"$error":"#N/A"}},{"$f":"IFERROR(INDEX(熱需要量算定・原単位!$AK11:$BL11,MATCH(K$20,熱需要量算定・原単位!$AK$5:$BL$5,0)),0)*K$25/100","v":{"$error":"#N/A"}},{"$f":"IFERROR(INDEX(熱需要量算定・原単位!$AK11:$BL11,MATCH(L$20,熱需要量算定・原単位!$AK$5:$BL$5,0)),0)*L$25/100","v":{"$error":"#N/A"}},{"$f":"IFERROR(INDEX(熱需要量算定・原単位!$AK11:$BL11,MATCH(M$20,熱需要量算定・原単位!$AK$5:$BL$5,0)),0)*M$25/100","v":{"$error":"#N/A"}},{"$f":"IFERROR(INDEX(熱需要量算定・原単位!$AK11:$BL11,MATCH(N$20,熱需要量算定・原単位!$AK$5:$BL$5,0)),0)*N$25/100","v":{"$error":"#N/A"}},null,3,{"$f":"IFERROR(INDEX(熱需要量算定・原単位!$AK11:$BL11,MATCH(Q$20,熱需要量算定・原単位!$AK$5:$BL$5,0)),0)*Q$25/100","v":{"$error":"#N/A"}},{"$f":"IFERROR(INDEX(熱需要量算定・原単位!$AK11:$BL11,MATCH(R$20,熱需要量算定・原単位!$AK$5:$BL$5,0)),0)*R$25/100","v":{"$error":"#N/A"}},{"$f":"IFERROR(INDEX(熱需要量算定・原単位!$AK11:$BL11,MATCH(S$20,熱需要量算定・原単位!$AK$5:$BL$5,0)),0)*S$25/100","v":{"$error":"#N/A"}},{"$f":"IFERROR(INDEX(熱需要量算定・原単位!$AK11:$BL11,MATCH(T$20,熱需要量算定・原単位!$AK$5:$BL$5,0)),0)*T$25/100","v":{"$error":"#N/A"}},{"$f":"IFERROR(INDEX(熱需要量算定・原単位!$AK11:$BL11,MATCH(U$20,熱需要量算定・原単位!$AK$5:$BL$5,0)),0)*U$25/100","v":{"$error":"#N/A"}},{"$f":"IFERROR(INDEX(熱需要量算定・原単位!$AK11:$BL11,MATCH(V$20,熱需要量算定・原単位!$AK$5:$BL$5,0)),0)*V$25/100","v":{"$error":"#N/A"}},{"$f":"IFERROR(INDEX(熱需要量算定・原単位!$AK11:$BL11,MATCH(W$20,熱需要量算定・原単位!$AK$5:$BL$5,0)),0)*W$25/100","v":{"$error":"#N/A"}},{"$f":"IFERROR(INDEX(熱需要量算定・原単位!$AK11:$BL11,MATCH(X$20,熱需要量算定・原単位!$AK$5:$BL$5,0)),0)*X$25/100","v":{"$error":"#N/A"}},{"$f":"IFERROR(INDEX(熱需要量算定・原単位!$AK11:$BL11,MATCH(Y$20,熱需要量算定・原単位!$AK$5:$BL$5,0)),0)*Y$25/100","v":{"$error":"#N/A"}},{"$f":"IFERROR(INDEX(熱需要量算定・原単位!$AK11:$BL11,MATCH(Z$20,熱需要量算定・原単位!$AK$5:$BL$5,0)),0)*Z$25/100","v":{"$error":"#N/A"}},{"$f":"IFERROR(INDEX(熱需要量算定・原単位!$AK11:$BL11,MATCH(AA$20,熱需要量算定・原単位!$AK$5:$BL$5,0)),0)*AA$25/100","v":{"$error":"#N/A"}},{"$f":"IFERROR(INDEX(熱需要量算定・原単位!$AK11:$BL11,MATCH(AB$20,熱需要量算定・原単位!$AK$5:$BL$5,0)),0)*AB$25/100","v":{"$error":"#N/A"}},null,3,{"$f":"IFERROR(INDEX(熱需要量算定・原単位!$AK11:$BL11,MATCH(AE$20,熱需要量算定・原単位!$AK$5:$BL$5,0)),0)*AE$25/100","v":{"$error":"#N/A"}},{"$f":"IFERROR(INDEX(熱需要量算定・原単位!$AK11:$BL11,MATCH(AF$20,熱需要量算定・原単位!$AK$5:$BL$5,0)),0)*AF$25/100","v":{"$error":"#N/A"}},{"$f":"IFERROR(INDEX(熱需要量算定・原単位!$AK11:$BL11,MATCH(AG$20,熱需要量算定・原単位!$AK$5:$BL$5,0)),0)*AG$25/100","v":{"$error":"#N/A"}},{"$f":"IFERROR(INDEX(熱需要量算定・原単位!$AK11:$BL11,MATCH(AH$20,熱需要量算定・原単位!$AK$5:$BL$5,0)),0)*AH$25/100","v":{"$error":"#N/A"}},{"$f":"IFERROR(INDEX(熱需要量算定・原単位!$AK11:$BL11,MATCH(AI$20,熱需要量算定・原単位!$AK$5:$BL$5,0)),0)*AI$25/100","v":{"$error":"#N/A"}},{"$f":"IFERROR(INDEX(熱需要量算定・原単位!$AK11:$BL11,MATCH(AJ$20,熱需要量算定・原単位!$AK$5:$BL$5,0)),0)*AJ$25/100","v":{"$error":"#N/A"}},{"$f":"IFERROR(INDEX(熱需要量算定・原単位!$AK11:$BL11,MATCH(AK$20,熱需要量算定・原単位!$AK$5:$BL$5,0)),0)*AK$25/100","v":{"$error":"#N/A"}},{"$f":"IFERROR(INDEX(熱需要量算定・原単位!$AK11:$BL11,MATCH(AL$20,熱需要量算定・原単位!$AK$5:$BL$5,0)),0)*AL$25/100","v":{"$error":"#N/A"}},{"$f":"IFERROR(INDEX(熱需要量算定・原単位!$AK11:$BL11,MATCH(AM$20,熱需要量算定・原単位!$AK$5:$BL$5,0)),0)*AM$25/100","v":{"$error":"#N/A"}},{"$f":"IFERROR(INDEX(熱需要量算定・原単位!$AK11:$BL11,MATCH(AN$20,熱需要量算定・原単位!$AK$5:$BL$5,0)),0)*AN$25/100","v":{"$error":"#N/A"}},{"$f":"IFERROR(INDEX(熱需要量算定・原単位!$AK11:$BL11,MATCH(AO$20,熱需要量算定・原単位!$AK$5:$BL$5,0)),0)*AO$25/100","v":{"$error":"#N/A"}},{"$f":"IFERROR(INDEX(熱需要量算定・原単位!$AK11:$BL11,MATCH(AP$20,熱需要量算定・原単位!$AK$5:$BL$5,0)),0)*AP$25/100","v":{"$error":"#N/A"}}]
[null,4,{"$f":"IFERROR(INDEX(熱需要量算定・原単位!$AK12:$BL12,MATCH(C$20,熱需要量算定・原単位!$AK$5:$BL$5,0)),0)*C$25/100","v":{"$error":"#N/A"}},{"$f":"IFERROR(INDEX(熱需要量算定・原単位!$AK12:$BL12,MATCH(D$20,熱需要量算定・原単位!$AK$5:$BL$5,0)),0)*D$25/100","v":{"$error":"#N/A"}},{"$f":"IFERROR(INDEX(熱需要量算定・原単位!$AK12:$BL12,MATCH(E$20,熱需要量算定・原単位!$AK$5:$BL$5,0)),0)*E$25/100","v":{"$error":"#N/A"}},{"$f":"IFERROR(INDEX(熱需要量算定・原単位!$AK12:$BL12,MATCH(F$20,熱需要量算定・原単位!$AK$5:$BL$5,0)),0)*F$25/100","v":{"$error":"#N/A"}},{"$f":"IFERROR(INDEX(熱需要量算定・原単位!$AK12:$BL12,MATCH(G$20,熱需要量算定・原単位!$AK$5:$BL$5,0)),0)*G$25/100","v":{"$error":"#N/A"}},{"$f":"IFERROR(INDEX(熱需要量算定・原単位!$AK12:$BL12,MATCH(H$20,熱需要量算定・原単位!$AK$5:$BL$5,0)),0)*H$25/100","v":{"$error":"#N/A"}},{"$f":"IFERROR(INDEX(熱需要量算定・原単位!$AK12:$BL12,MATCH(I$20,熱需要量算定・原単位!$AK$5:$BL$5,0)),0)*I$25/100","v":{"$error":"#N/A"}},{"$f":"IFERROR(INDEX(熱需要量算定・原単位!$AK12:$BL12,MATCH(J$20,熱需要量算定・原単位!$AK$5:$BL$5,0)),0)*J$25/100","v":{"$error":"#N/A"}},{"$f":"IFERROR(INDEX(熱需要量算定・原単位!$AK12:$BL12,MATCH(K$20,熱需要量算定・原単位!$AK$5:$BL$5,0)),0)*K$25/100","v":{"$error":"#N/A"}},{"$f":"IFERROR(INDEX(熱需要量算定・原単位!$AK12:$BL12,MATCH(L$20,熱需要量算定・原単位!$AK$5:$BL$5,0)),0)*L$25/100","v":{"$error":"#N/A"}},{"$f":"IFERROR(INDEX(熱需要量算定・原単位!$AK12:$BL12,MATCH(M$20,熱需要量算定・原単位!$AK$5:$BL$5,0)),0)*M$25/100","v":{"$error":"#N/A"}},{"$f":"IFERROR(INDEX(熱需要量算定・原単位!$AK12:$BL12,MATCH(N$20,熱需要量算定・原単位!$AK$5:$BL$5,0)),0)*N$25/100","v":{"$error":"#N/A"}},null,4,{"$f":"IFERROR(INDEX(熱需要量算定・原単位!$AK12:$BL12,MATCH(Q$20,熱需要量算定・原単位!$AK$5:$BL$5,0)),0)*Q$25/100","v":{"$error":"#N/A"}},{"$f":"IFERROR(INDEX(熱需要量算定・原単位!$AK12:$BL12,MATCH(R$20,熱需要量算定・原単位!$AK$5:$BL$5,0)),0)*R$25/100","v":{"$error":"#N/A"}},{"$f":"IFERROR(INDEX(熱需要量算定・原単位!$AK12:$BL12,MATCH(S$20,熱需要量算定・原単位!$AK$5:$BL$5,0)),0)*S$25/100","v":{"$error":"#N/A"}},{"$f":"IFERROR(INDEX(熱需要量算定・原単位!$AK12:$BL12,MATCH(T$20,熱需要量算定・原単位!$AK$5:$BL$5,0)),0)*T$25/100","v":{"$error":"#N/A"}},{"$f":"IFERROR(INDEX(熱需要量算定・原単位!$AK12:$BL12,MATCH(U$20,熱需要量算定・原単位!$AK$5:$BL$5,0)),0)*U$25/100","v":{"$error":"#N/A"}},{"$f":"IFERROR(INDEX(熱需要量算定・原単位!$AK12:$BL12,MATCH(V$20,熱需要量算定・原単位!$AK$5:$BL$5,0)),0)*V$25/100","v":{"$error":"#N/A"}},{"$f":"IFERROR(INDEX(熱需要量算定・原単位!$AK12:$BL12,MATCH(W$20,熱需要量算定・原単位!$AK$5:$BL$5,0)),0)*W$25/100","v":{"$error":"#N/A"}},{"$f":"IFERROR(INDEX(熱需要量算定・原単位!$AK12:$BL12,MATCH(X$20,熱需要量算定・原単位!$AK$5:$BL$5,0)),0)*X$25/100","v":{"$error":"#N/A"}},{"$f":"IFERROR(INDEX(熱需要量算定・原単位!$AK12:$BL12,MATCH(Y$20,熱需要量算定・原単位!$AK$5:$BL$5,0)),0)*Y$25/100","v":{"$error":"#N/A"}},{"$f":"IFERROR(INDEX(熱需要量算定・原単位!$AK12:$BL12,MATCH(Z$20,熱需要量算定・原単位!$AK$5:$BL$5,0)),0)*Z$25/100","v":{"$error":"#N/A"}},{"$f":"IFERROR(INDEX(熱需要量算定・原単位!$AK12:$BL12,MATCH(AA$20,熱需要量算定・原単位!$AK$5:$BL$5,0)),0)*AA$25/100","v":{"$error":"#N/A"}},{"$f":"IFERROR(INDEX(熱需要量算定・原単位!$AK12:$BL12,MATCH(AB$20,熱需要量算定・原単位!$AK$5:$BL$5,0)),0)*AB$25/100","v":{"$error":"#N/A"}},null,4,{"$f":"IFERROR(INDEX(熱需要量算定・原単位!$AK12:$BL12,MATCH(AE$20,熱需要量算定・原単位!$AK$5:$BL$5,0)),0)*AE$25/100","v":{"$error":"#N/A"}},{"$f":"IFERROR(INDEX(熱需要量算定・原単位!$AK12:$BL12,MATCH(AF$20,熱需要量算定・原単位!$AK$5:$BL$5,0)),0)*AF$25/100","v":{"$error":"#N/A"}},{"$f":"IFERROR(INDEX(熱需要量算定・原単位!$AK12:$BL12,MATCH(AG$20,熱需要量算定・原単位!$AK$5:$BL$5,0)),0)*AG$25/100","v":{"$error":"#N/A"}},{"$f":"IFERROR(INDEX(熱需要量算定・原単位!$AK12:$BL12,MATCH(AH$20,熱需要量算定・原単位!$AK$5:$BL$5,0)),0)*AH$25/100","v":{"$error":"#N/A"}},{"$f":"IFERROR(INDEX(熱需要量算定・原単位!$AK12:$BL12,MATCH(AI$20,熱需要量算定・原単位!$AK$5:$BL$5,0)),0)*AI$25/100","v":{"$error":"#N/A"}},{"$f":"IFERROR(INDEX(熱需要量算定・原単位!$AK12:$BL12,MATCH(AJ$20,熱需要量算定・原単位!$AK$5:$BL$5,0)),0)*AJ$25/100","v":{"$error":"#N/A"}},{"$f":"IFERROR(INDEX(熱需要量算定・原単位!$AK12:$BL12,MATCH(AK$20,熱需要量算定・原単位!$AK$5:$BL$5,0)),0)*AK$25/100","v":{"$error":"#N/A"}},{"$f":"IFERROR(INDEX(熱需要量算定・原単位!$AK12:$BL12,MATCH(AL$20,熱需要量算定・原単位!$AK$5:$BL$5,0)),0)*AL$25/100","v":{"$error":"#N/A"}},{"$f":"IFERROR(INDEX(熱需要量算定・原単位!$AK12:$BL12,MATCH(AM$20,熱需要量算定・原単位!$AK$5:$BL$5,0)),0)*AM$25/100","v":{"$error":"#N/A"}},{"$f":"IFERROR(INDEX(熱需要量算定・原単位!$AK12:$BL12,MATCH(AN$20,熱需要量算定・原単位!$AK$5:$BL$5,0)),0)*AN$25/100","v":{"$error":"#N/A"}},{"$f":"IFERROR(INDEX(熱需要量算定・原単位!$AK12:$BL12,MATCH(AO$20,熱需要量算定・原単位!$AK$5:$BL$5,0)),0)*AO$25/100","v":{"$error":"#N/A"}},{"$f":"IFERROR(INDEX(熱需要量算定・原単位!$AK12:$BL12,MATCH(AP$20,熱需要量算定・原単位!$AK$5:$BL$5,0)),0)*AP$25/100","v":{"$error":"#N/A"}}]
[null,5,{"$f":"IFERROR(INDEX(熱需要量算定・原単位!$AK13:$BL13,MATCH(C$20,熱需要量算定・原単位!$AK$5:$BL$5,0)),0)*C$25/100","v":{"$error":"#N/A"}},{"$f":"IFERROR(INDEX(熱需要量算定・原単位!$AK13:$BL13,MATCH(D$20,熱需要量算定・原単位!$AK$5:$BL$5,0)),0)*D$25/100","v":{"$error":"#N/A"}},{"$f":"IFERROR(INDEX(熱需要量算定・原単位!$AK13:$BL13,MATCH(E$20,熱需要量算定・原単位!$AK$5:$BL$5,0)),0)*E$25/100","v":{"$error":"#N/A"}},{"$f":"IFERROR(INDEX(熱需要量算定・原単位!$AK13:$BL13,MATCH(F$20,熱需要量算定・原単位!$AK$5:$BL$5,0)),0)*F$25/100","v":{"$error":"#N/A"}},{"$f":"IFERROR(INDEX(熱需要量算定・原単位!$AK13:$BL13,MATCH(G$20,熱需要量算定・原単位!$AK$5:$BL$5,0)),0)*G$25/100","v":{"$error":"#N/A"}},{"$f":"IFERROR(INDEX(熱需要量算定・原単位!$AK13:$BL13,MATCH(H$20,熱需要量算定・原単位!$AK$5:$BL$5,0)),0)*H$25/100","v":{"$error":"#N/A"}},{"$f":"IFERROR(INDEX(熱需要量算定・原単位!$AK13:$BL13,MATCH(I$20,熱需要量算定・原単位!$AK$5:$BL$5,0)),0)*I$25/100","v":{"$error":"#N/A"}},{"$f":"IFERROR(INDEX(熱需要量算定・原単位!$AK13:$BL13,MATCH(J$20,熱需要量算定・原単位!$AK$5:$BL$5,0)),0)*J$25/100","v":{"$error":"#N/A"}},{"$f":"IFERROR(INDEX(熱需要量算定・原単位!$AK13:$BL13,MATCH(K$20,熱需要量算定・原単位!$AK$5:$BL$5,0)),0)*K$25/100","v":{"$error":"#N/A"}},{"$f":"IFERROR(INDEX(熱需要量算定・原単位!$AK13:$BL13,MATCH(L$20,熱需要量算定・原単位!$AK$5:$BL$5,0)),0)*L$25/100","v":{"$error":"#N/A"}},{"$f":"IFERROR(INDEX(熱需要量算定・原単位!$AK13:$BL13,MATCH(M$20,熱需要量算定・原単位!$AK$5:$BL$5,0)),0)*M$25/100","v":{"$error":"#N/A"}},{"$f":"IFERROR(INDEX(熱需要量算定・原単位!$AK13:$BL13,MATCH(N$20,熱需要量算定・原単位!$AK$5:$BL$5,0)),0)*N$25/100","v":{"$error":"#N/A"}},null,5,{"$f":"IFERROR(INDEX(熱需要量算定・原単位!$AK13:$BL13,MATCH(Q$20,熱需要量算定・原単位!$AK$5:$BL$5,0)),0)*Q$25/100","v":{"$error":"#N/A"}},{"$f":"IFERROR(INDEX(熱需要量算定・原単位!$AK13:$BL13,MATCH(R$20,熱需要量算定・原単位!$AK$5:$BL$5,0)),0)*R$25/100","v":{"$error":"#N/A"}},{"$f":"IFERROR(INDEX(熱需要量算定・原単位!$AK13:$BL13,MATCH(S$20,熱需要量算定・原単位!$AK$5:$BL$5,0)),0)*S$25/100","v":{"$error":"#N/A"}},{"$f":"IFERROR(INDEX(熱需要量算定・原単位!$AK13:$BL13,MATCH(T$20,熱需要量算定・原単位!$AK$5:$BL$5,0)),0)*T$25/100","v":{"$error":"#N/A"}},{"$f":"IFERROR(INDEX(熱需要量算定・原単位!$AK13:$BL13,MATCH(U$20,熱需要量算定・原単位!$AK$5:$BL$5,0)),0)*U$25/100","v":{"$error":"#N/A"}},{"$f":"IFERROR(INDEX(熱需要量算定・原単位!$AK13:$BL13,MATCH(V$20,熱需要量算定・原単位!$AK$5:$BL$5,0)),0)*V$25/100","v":{"$error":"#N/A"}},{"$f":"IFERROR(INDEX(熱需要量算定・原単位!$AK13:$BL13,MATCH(W$20,熱需要量算定・原単位!$AK$5:$BL$5,0)),0)*W$25/100","v":{"$error":"#N/A"}},{"$f":"IFERROR(INDEX(熱需要量算定・原単位!$AK13:$BL13,MATCH(X$20,熱需要量算定・原単位!$AK$5:$BL$5,0)),0)*X$25/100","v":{"$error":"#N/A"}},{"$f":"IFERROR(INDEX(熱需要量算定・原単位!$AK13:$BL13,MATCH(Y$20,熱需要量算定・原単位!$AK$5:$BL$5,0)),0)*Y$25/100","v":{"$error":"#N/A"}},{"$f":"IFERROR(INDEX(熱需要量算定・原単位!$AK13:$BL13,MATCH(Z$20,熱需要量算定・原単位!$AK$5:$BL$5,0)),0)*Z$25/100","v":{"$error":"#N/A"}},{"$f":"IFERROR(INDEX(熱需要量算定・原単位!$AK13:$BL13,MATCH(AA$20,熱需要量算定・原単位!$AK$5:$BL$5,0)),0)*AA$25/100","v":{"$error":"#N/A"}},{"$f":"IFERROR(INDEX(熱需要量算定・原単位!$AK13:$BL13,MATCH(AB$20,熱需要量算定・原単位!$AK$5:$BL$5,0)),0)*AB$25/100","v":{"$error":"#N/A"}},null,5,{"$f":"IFERROR(INDEX(熱需要量算定・原単位!$AK13:$BL13,MATCH(AE$20,熱需要量算定・原単位!$AK$5:$BL$5,0)),0)*AE$25/100","v":{"$error":"#N/A"}},{"$f":"IFERROR(INDEX(熱需要量算定・原単位!$AK13:$BL13,MATCH(AF$20,熱需要量算定・原単位!$AK$5:$BL$5,0)),0)*AF$25/100","v":{"$error":"#N/A"}},{"$f":"IFERROR(INDEX(熱需要量算定・原単位!$AK13:$BL13,MATCH(AG$20,熱需要量算定・原単位!$AK$5:$BL$5,0)),0)*AG$25/100","v":{"$error":"#N/A"}},{"$f":"IFERROR(INDEX(熱需要量算定・原単位!$AK13:$BL13,MATCH(AH$20,熱需要量算定・原単位!$AK$5:$BL$5,0)),0)*AH$25/100","v":{"$error":"#N/A"}},{"$f":"IFERROR(INDEX(熱需要量算定・原単位!$AK13:$BL13,MATCH(AI$20,熱需要量算定・原単位!$AK$5:$BL$5,0)),0)*AI$25/100","v":{"$error":"#N/A"}},{"$f":"IFERROR(INDEX(熱需要量算定・原単位!$AK13:$BL13,MATCH(AJ$20,熱需要量算定・原単位!$AK$5:$BL$5,0)),0)*AJ$25/100","v":{"$error":"#N/A"}},{"$f":"IFERROR(INDEX(熱需要量算定・原単位!$AK13:$BL13,MATCH(AK$20,熱需要量算定・原単位!$AK$5:$BL$5,0)),0)*AK$25/100","v":{"$error":"#N/A"}},{"$f":"IFERROR(INDEX(熱需要量算定・原単位!$AK13:$BL13,MATCH(AL$20,熱需要量算定・原単位!$AK$5:$BL$5,0)),0)*AL$25/100","v":{"$error":"#N/A"}},{"$f":"IFERROR(INDEX(熱需要量算定・原単位!$AK13:$BL13,MATCH(AM$20,熱需要量算定・原単位!$AK$5:$BL$5,0)),0)*AM$25/100","v":{"$error":"#N/A"}},{"$f":"IFERROR(INDEX(熱需要量算定・原単位!$AK13:$BL13,MATCH(AN$20,熱需要量算定・原単位!$AK$5:$BL$5,0)),0)*AN$25/100","v":{"$error":"#N/A"}},{"$f":"IFERROR(INDEX(熱需要量算定・原単位!$AK13:$BL13,MATCH(AO$20,熱需要量算定・原単位!$AK$5:$BL$5,0)),0)*AO$25/100","v":{"$error":"#N/A"}},{"$f":"IFERROR(INDEX(熱需要量算定・原単位!$AK13:$BL13,MATCH(AP$20,熱需要量算定・原単位!$AK$5:$BL$5,0)),0)*AP$25/100","v":{"$error":"#N/A"}}]
[null,6,{"$f":"IFERROR(INDEX(熱需要量算定・原単位!$AK14:$BL14,MATCH(C$20,熱需要量算定・原単位!$AK$5:$BL$5,0)),0)*C$25/100","v":{"$error":"#N/A"}},{"$f":"IFERROR(INDEX(熱需要量算定・原単位!$AK14:$BL14,MATCH(D$20,熱需要量算定・原単位!$AK$5:$BL$5,0)),0)*D$25/100","v":{"$error":"#N/A"}},{"$f":"IFERROR(INDEX(熱需要量算定・原単位!$AK14:$BL14,MATCH(E$20,熱需要量算定・原単位!$AK$5:$BL$5,0)),0)*E$25/100","v":{"$error":"#N/A"}},{"$f":"IFERROR(INDEX(熱需要量算定・原単位!$AK14:$BL14,MATCH(F$20,熱需要量算定・原単位!$AK$5:$BL$5,0)),0)*F$25/100","v":{"$error":"#N/A"}},{"$f":"IFERROR(INDEX(熱需要量算定・原単位!$AK14:$BL14,MATCH(G$20,熱需要量算定・原単位!$AK$5:$BL$5,0)),0)*G$25/100","v":{"$error":"#N/A"}},{"$f":"IFERROR(INDEX(熱需要量算定・原単位!$AK14:$BL14,MATCH(H$20,熱需要量算定・原単位!$AK$5:$BL$5,0)),0)*H$25/100","v":{"$error":"#N/A"}},{"$f":"IFERROR(INDEX(熱需要量算定・原単位!$AK14:$BL14,MATCH(I$20,熱需要量算定・原単位!$AK$5:$BL$5,0)),0)*I$25/100","v":{"$error":"#N/A"}},{"$f":"IFERROR(INDEX(熱需要量算定・原単位!$AK14:$BL14,MATCH(J$20,熱需要量算定・原単位!$AK$5:$BL$5,0)),0)*J$25/100","v":{"$error":"#N/A"}},{"$f":"IFERROR(INDEX(熱需要量算定・原単位!$AK14:$BL14,MATCH(K$20,熱需要量算定・原単位!$AK$5:$BL$5,0)),0)*K$25/100","v":{"$error":"#N/A"}},{"$f":"IFERROR(INDEX(熱需要量算定・原単位!$AK14:$BL14,MATCH(L$20,熱需要量算定・原単位!$AK$5:$BL$5,0)),0)*L$25/100","v":{"$error":"#N/A"}},{"$f":"IFERROR(INDEX(熱需要量算定・原単位!$AK14:$BL14,MATCH(M$20,熱需要量算定・原単位!$AK$5:$BL$5,0)),0)*M$25/100","v":{"$error":"#N/A"}},{"$f":"IFERROR(INDEX(熱需要量算定・原単位!$AK14:$BL14,MATCH(N$20,熱需要量算定・原単位!$AK$5:$BL$5,0)),0)*N$25/100","v":{"$error":"#N/A"}},null,6,{"$f":"IFERROR(INDEX(熱需要量算定・原単位!$AK14:$BL14,MATCH(Q$20,熱需要量算定・原単位!$AK$5:$BL$5,0)),0)*Q$25/100","v":{"$error":"#N/A"}},{"$f":"IFERROR(INDEX(熱需要量算定・原単位!$AK14:$BL14,MATCH(R$20,熱需要量算定・原単位!$AK$5:$BL$5,0)),0)*R$25/100","v":{"$error":"#N/A"}},{"$f":"IFERROR(INDEX(熱需要量算定・原単位!$AK14:$BL14,MATCH(S$20,熱需要量算定・原単位!$AK$5:$BL$5,0)),0)*S$25/100","v":{"$error":"#N/A"}},{"$f":"IFERROR(INDEX(熱需要量算定・原単位!$AK14:$BL14,MATCH(T$20,熱需要量算定・原単位!$AK$5:$BL$5,0)),0)*T$25/100","v":{"$error":"#N/A"}},{"$f":"IFERROR(INDEX(熱需要量算定・原単位!$AK14:$BL14,MATCH(U$20,熱需要量算定・原単位!$AK$5:$BL$5,0)),0)*U$25/100","v":{"$error":"#N/A"}},{"$f":"IFERROR(INDEX(熱需要量算定・原単位!$AK14:$BL14,MATCH(V$20,熱需要量算定・原単位!$AK$5:$BL$5,0)),0)*V$25/100","v":{"$error":"#N/A"}},{"$f":"IFERROR(INDEX(熱需要量算定・原単位!$AK14:$BL14,MATCH(W$20,熱需要量算定・原単位!$AK$5:$BL$5,0)),0)*W$25/100","v":{"$error":"#N/A"}},{"$f":"IFERROR(INDEX(熱需要量算定・原単位!$AK14:$BL14,MATCH(X$20,熱需要量算定・原単位!$AK$5:$BL$5,0)),0)*X$25/100","v":{"$error":"#N/A"}},{"$f":"IFERROR(INDEX(熱需要量算定・原単位!$AK14:$BL14,MATCH(Y$20,熱需要量算定・原単位!$AK$5:$BL$5,0)),0)*Y$25/100","v":{"$error":"#N/A"}},{"$f":"IFERROR(INDEX(熱需要量算定・原単位!$AK14:$BL14,MATCH(Z$20,熱需要量算定・原単位!$AK$5:$BL$5,0)),0)*Z$25/100","v":{"$error":"#N/A"}},{"$f":"IFERROR(INDEX(熱需要量算定・原単位!$AK14:$BL14,MATCH(AA$20,熱需要量算定・原単位!$AK$5:$BL$5,0)),0)*AA$25/100","v":{"$error":"#N/A"}},{"$f":"IFERROR(INDEX(熱需要量算定・原単位!$AK14:$BL14,MATCH(AB$20,熱需要量算定・原単位!$AK$5:$BL$5,0)),0)*AB$25/100","v":{"$error":"#N/A"}},null,6,{"$f":"IFERROR(INDEX(熱需要量算定・原単位!$AK14:$BL14,MATCH(AE$20,熱需要量算定・原単位!$AK$5:$BL$5,0)),0)*AE$25/100","v":{"$error":"#N/A"}},{"$f":"IFERROR(INDEX(熱需要量算定・原単位!$AK14:$BL14,MATCH(AF$20,熱需要量算定・原単位!$AK$5:$BL$5,0)),0)*AF$25/100","v":{"$error":"#N/A"}},{"$f":"IFERROR(INDEX(熱需要量算定・原単位!$AK14:$BL14,MATCH(AG$20,熱需要量算定・原単位!$AK$5:$BL$5,0)),0)*AG$25/100","v":{"$error":"#N/A"}},{"$f":"IFERROR(INDEX(熱需要量算定・原単位!$AK14:$BL14,MATCH(AH$20,熱需要量算定・原単位!$AK$5:$BL$5,0)),0)*AH$25/100","v":{"$error":"#N/A"}},{"$f":"IFERROR(INDEX(熱需要量算定・原単位!$AK14:$BL14,MATCH(AI$20,熱需要量算定・原単位!$AK$5:$BL$5,0)),0)*AI$25/100","v":{"$error":"#N/A"}},{"$f":"IFERROR(INDEX(熱需要量算定・原単位!$AK14:$BL14,MATCH(AJ$20,熱需要量算定・原単位!$AK$5:$BL$5,0)),0)*AJ$25/100","v":{"$error":"#N/A"}},{"$f":"IFERROR(INDEX(熱需要量算定・原単位!$AK14:$BL14,MATCH(AK$20,熱需要量算定・原単位!$AK$5:$BL$5,0)),0)*AK$25/100","v":{"$error":"#N/A"}},{"$f":"IFERROR(INDEX(熱需要量算定・原単位!$AK14:$BL14,MATCH(AL$20,熱需要量算定・原単位!$AK$5:$BL$5,0)),0)*AL$25/100","v":{"$error":"#N/A"}},{"$f":"IFERROR(INDEX(熱需要量算定・原単位!$AK14:$BL14,MATCH(AM$20,熱需要量算定・原単位!$AK$5:$BL$5,0)),0)*AM$25/100","v":{"$error":"#N/A"}},{"$f":"IFERROR(INDEX(熱需要量算定・原単位!$AK14:$BL14,MATCH(AN$20,熱需要量算定・原単位!$AK$5:$BL$5,0)),0)*AN$25/100","v":{"$error":"#N/A"}},{"$f":"IFERROR(INDEX(熱需要量算定・原単位!$AK14:$BL14,MATCH(AO$20,熱需要量算定・原単位!$AK$5:$BL$5,0)),0)*AO$25/100","v":{"$error":"#N/A"}},{"$f":"IFERROR(INDEX(熱需要量算定・原単位!$AK14:$BL14,MATCH(AP$20,熱需要量算定・原単位!$AK$5:$BL$5,0)),0)*AP$25/100","v":{"$error":"#N/A"}}]
[null,7,{"$f":"IFERROR(INDEX(熱需要量算定・原単位!$AK15:$BL15,MATCH(C$20,熱需要量算定・原単位!$AK$5:$BL$5,0)),0)*C$25/100","v":{"$error":"#N/A"}},{"$f":"IFERROR(INDEX(熱需要量算定・原単位!$AK15:$BL15,MATCH(D$20,熱需要量算定・原単位!$AK$5:$BL$5,0)),0)*D$25/100","v":{"$error":"#N/A"}},{"$f":"IFERROR(INDEX(熱需要量算定・原単位!$AK15:$BL15,MATCH(E$20,熱需要量算定・原単位!$AK$5:$BL$5,0)),0)*E$25/100","v":{"$error":"#N/A"}},{"$f":"IFERROR(INDEX(熱需要量算定・原単位!$AK15:$BL15,MATCH(F$20,熱需要量算定・原単位!$AK$5:$BL$5,0)),0)*F$25/100","v":{"$error":"#N/A"}},{"$f":"IFERROR(INDEX(熱需要量算定・原単位!$AK15:$BL15,MATCH(G$20,熱需要量算定・原単位!$AK$5:$BL$5,0)),0)*G$25/100","v":{"$error":"#N/A"}},{"$f":"IFERROR(INDEX(熱需要量算定・原単位!$AK15:$BL15,MATCH(H$20,熱需要量算定・原単位!$AK$5:$BL$5,0)),0)*H$25/100","v":{"$error":"#N/A"}},{"$f":"IFERROR(INDEX(熱需要量算定・原単位!$AK15:$BL15,MATCH(I$20,熱需要量算定・原単位!$AK$5:$BL$5,0)),0)*I$25/100","v":{"$error":"#N/A"}},{"$f":"IFERROR(INDEX(熱需要量算定・原単位!$AK15:$BL15,MATCH(J$20,熱需要量算定・原単位!$AK$5:$BL$5,0)),0)*J$25/100","v":{"$error":"#N/A"}},{"$f":"IFERROR(INDEX(熱需要量算定・原単位!$AK15:$BL15,MATCH(K$20,熱需要量算定・原単位!$AK$5:$BL$5,0)),0)*K$25/100","v":{"$error":"#N/A"}},{"$f":"IFERROR(INDEX(熱需要量算定・原単位!$AK15:$BL15,MATCH(L$20,熱需要量算定・原単位!$AK$5:$BL$5,0)),0)*L$25/100","v":{"$error":"#N/A"}},{"$f":"IFERROR(INDEX(熱需要量算定・原単位!$AK15:$BL15,MATCH(M$20,熱需要量算定・原単位!$AK$5:$BL$5,0)),0)*M$25/100","v":{"$error":"#N/A"}},{"$f":"IFERROR(INDEX(熱需要量算定・原単位!$AK15:$BL15,MATCH(N$20,熱需要量算定・原単位!$AK$5:$BL$5,0)),0)*N$25/100","v":{"$error":"#N/A"}},null,7,{"$f":"IFERROR(INDEX(熱需要量算定・原単位!$AK15:$BL15,MATCH(Q$20,熱需要量算定・原単位!$AK$5:$BL$5,0)),0)*Q$25/100","v":{"$error":"#N/A"}},{"$f":"IFERROR(INDEX(熱需要量算定・原単位!$AK15:$BL15,MATCH(R$20,熱需要量算定・原単位!$AK$5:$BL$5,0)),0)*R$25/100","v":{"$error":"#N/A"}},{"$f":"IFERROR(INDEX(熱需要量算定・原単位!$AK15:$BL15,MATCH(S$20,熱需要量算定・原単位!$AK$5:$BL$5,0)),0)*S$25/100","v":{"$error":"#N/A"}},{"$f":"IFERROR(INDEX(熱需要量算定・原単位!$AK15:$BL15,MATCH(T$20,熱需要量算定・原単位!$AK$5:$BL$5,0)),0)*T$25/100","v":{"$error":"#N/A"}},{"$f":"IFERROR(INDEX(熱需要量算定・原単位!$AK15:$BL15,MATCH(U$20,熱需要量算定・原単位!$AK$5:$BL$5,0)),0)*U$25/100","v":{"$error":"#N/A"}},{"$f":"IFERROR(INDEX(熱需要量算定・原単位!$AK15:$BL15,MATCH(V$20,熱需要量算定・原単位!$AK$5:$BL$5,0)),0)*V$25/100","v":{"$error":"#N/A"}},{"$f":"IFERROR(INDEX(熱需要量算定・原単位!$AK15:$BL15,MATCH(W$20,熱需要量算定・原単位!$AK$5:$BL$5,0)),0)*W$25/100","v":{"$error":"#N/A"}},{"$f":"IFERROR(INDEX(熱需要量算定・原単位!$AK15:$BL15,MATCH(X$20,熱需要量算定・原単位!$AK$5:$BL$5,0)),0)*X$25/100","v":{"$error":"#N/A"}},{"$f":"IFERROR(INDEX(熱需要量算定・原単位!$AK15:$BL15,MATCH(Y$20,熱需要量算定・原単位!$AK$5:$BL$5,0)),0)*Y$25/100","v":{"$error":"#N/A"}},{"$f":"IFERROR(INDEX(熱需要量算定・原単位!$AK15:$BL15,MATCH(Z$20,熱需要量算定・原単位!$AK$5:$BL$5,0)),0)*Z$25/100","v":{"$error":"#N/A"}},{"$f":"IFERROR(INDEX(熱需要量算定・原単位!$AK15:$BL15,MATCH(AA$20,熱需要量算定・原単位!$AK$5:$BL$5,0)),0)*AA$25/100","v":{"$error":"#N/A"}},{"$f":"IFERROR(INDEX(熱需要量算定・原単位!$AK15:$BL15,MATCH(AB$20,熱需要量算定・原単位!$AK$5:$BL$5,0)),0)*AB$25/100","v":{"$error":"#N/A"}},null,7,{"$f":"IFERROR(INDEX(熱需要量算定・原単位!$AK15:$BL15,MATCH(AE$20,熱需要量算定・原単位!$AK$5:$BL$5,0)),0)*AE$25/100","v":{"$error":"#N/A"}},{"$f":"IFERROR(INDEX(熱需要量算定・原単位!$AK15:$BL15,MATCH(AF$20,熱需要量算定・原単位!$AK$5:$BL$5,0)),0)*AF$25/100","v":{"$error":"#N/A"}},{"$f":"IFERROR(INDEX(熱需要量算定・原単位!$AK15:$BL15,MATCH(AG$20,熱需要量算定・原単位!$AK$5:$BL$5,0)),0)*AG$25/100","v":{"$error":"#N/A"}},{"$f":"IFERROR(INDEX(熱需要量算定・原単位!$AK15:$BL15,MATCH(AH$20,熱需要量算定・原単位!$AK$5:$BL$5,0)),0)*AH$25/100","v":{"$error":"#N/A"}},{"$f":"IFERROR(INDEX(熱需要量算定・原単位!$AK15:$BL15,MATCH(AI$20,熱需要量算定・原単位!$AK$5:$BL$5,0)),0)*AI$25/100","v":{"$error":"#N/A"}},{"$f":"IFERROR(INDEX(熱需要量算定・原単位!$AK15:$BL15,MATCH(AJ$20,熱需要量算定・原単位!$AK$5:$BL$5,0)),0)*AJ$25/100","v":{"$error":"#N/A"}},{"$f":"IFERROR(INDEX(熱需要量算定・原単位!$AK15:$BL15,MATCH(AK$20,熱需要量算定・原単位!$AK$5:$BL$5,0)),0)*AK$25/100","v":{"$error":"#N/A"}},{"$f":"IFERROR(INDEX(熱需要量算定・原単位!$AK15:$BL15,MATCH(AL$20,熱需要量算定・原単位!$AK$5:$BL$5,0)),0)*AL$25/100","v":{"$error":"#N/A"}},{"$f":"IFERROR(INDEX(熱需要量算定・原単位!$AK15:$BL15,MATCH(AM$20,熱需要量算定・原単位!$AK$5:$BL$5,0)),0)*AM$25/100","v":{"$error":"#N/A"}},{"$f":"IFERROR(INDEX(熱需要量算定・原単位!$AK15:$BL15,MATCH(AN$20,熱需要量算定・原単位!$AK$5:$BL$5,0)),0)*AN$25/100","v":{"$error":"#N/A"}},{"$f":"IFERROR(INDEX(熱需要量算定・原単位!$AK15:$BL15,MATCH(AO$20,熱需要量算定・原単位!$AK$5:$BL$5,0)),0)*AO$25/100","v":{"$error":"#N/A"}},{"$f":"IFERROR(INDEX(熱需要量算定・原単位!$AK15:$BL15,MATCH(AP$20,熱需要量算定・原単位!$AK$5:$BL$5,0)),0)*AP$25/100","v":{"$error":"#N/A"}}]
[null,8,{"$f":"IFERROR(INDEX(熱需要量算定・原単位!$AK16:$BL16,MATCH(C$20,熱需要量算定・原単位!$AK$5:$BL$5,0)),0)*C$25/100","v":{"$error":"#N/A"}},{"$f":"IFERROR(INDEX(熱需要量算定・原単位!$AK16:$BL16,MATCH(D$20,熱需要量算定・原単位!$AK$5:$BL$5,0)),0)*D$25/100","v":{"$error":"#N/A"}},{"$f":"IFERROR(INDEX(熱需要量算定・原単位!$AK16:$BL16,MATCH(E$20,熱需要量算定・原単位!$AK$5:$BL$5,0)),0)*E$25/100","v":{"$error":"#N/A"}},{"$f":"IFERROR(INDEX(熱需要量算定・原単位!$AK16:$BL16,MATCH(F$20,熱需要量算定・原単位!$AK$5:$BL$5,0)),0)*F$25/100","v":{"$error":"#N/A"}},{"$f":"IFERROR(INDEX(熱需要量算定・原単位!$AK16:$BL16,MATCH(G$20,熱需要量算定・原単位!$AK$5:$BL$5,0)),0)*G$25/100","v":{"$error":"#N/A"}},{"$f":"IFERROR(INDEX(熱需要量算定・原単位!$AK16:$BL16,MATCH(H$20,熱需要量算定・原単位!$AK$5:$BL$5,0)),0)*H$25/100","v":{"$error":"#N/A"}},{"$f":"IFERROR(INDEX(熱需要量算定・原単位!$AK16:$BL16,MATCH(I$20,熱需要量算定・原単位!$AK$5:$BL$5,0)),0)*I$25/100","v":{"$error":"#N/A"}},{"$f":"IFERROR(INDEX(熱需要量算定・原単位!$AK16:$BL16,MATCH(J$20,熱需要量算定・原単位!$AK$5:$BL$5,0)),0)*J$25/100","v":{"$error":"#N/A"}},{"$f":"IFERROR(INDEX(熱需要量算定・原単位!$AK16:$BL16,MATCH(K$20,熱需要量算定・原単位!$AK$5:$BL$5,0)),0)*K$25/100","v":{"$error":"#N/A"}},{"$f":"IFERROR(INDEX(熱需要量算定・原単位!$AK16:$BL16,MATCH(L$20,熱需要量算定・原単位!$AK$5:$BL$5,0)),0)*L$25/100","v":{"$error":"#N/A"}},{"$f":"IFERROR(INDEX(熱需要量算定・原単位!$AK16:$BL16,MATCH(M$20,熱需要量算定・原単位!$AK$5:$BL$5,0)),0)*M$25/100","v":{"$error":"#N/A"}},{"$f":"IFERROR(INDEX(熱需要量算定・原単位!$AK16:$BL16,MATCH(N$20,熱需要量算定・原単位!$AK$5:$BL$5,0)),0)*N$25/100","v":{"$error":"#N/A"}},null,8,{"$f":"IFERROR(INDEX(熱需要量算定・原単位!$AK16:$BL16,MATCH(Q$20,熱需要量算定・原単位!$AK$5:$BL$5,0)),0)*Q$25/100","v":{"$error":"#N/A"}},{"$f":"IFERROR(INDEX(熱需要量算定・原単位!$AK16:$BL16,MATCH(R$20,熱需要量算定・原単位!$AK$5:$BL$5,0)),0)*R$25/100","v":{"$error":"#N/A"}},{"$f":"IFERROR(INDEX(熱需要量算定・原単位!$AK16:$BL16,MATCH(S$20,熱需要量算定・原単位!$AK$5:$BL$5,0)),0)*S$25/100","v":{"$error":"#N/A"}},{"$f":"IFERROR(INDEX(熱需要量算定・原単位!$AK16:$BL16,MATCH(T$20,熱需要量算定・原単位!$AK$5:$BL$5,0)),0)*T$25/100","v":{"$error":"#N/A"}},{"$f":"IFERROR(INDEX(熱需要量算定・原単位!$AK16:$BL16,MATCH(U$20,熱需要量算定・原単位!$AK$5:$BL$5,0)),0)*U$25/100","v":{"$error":"#N/A"}},{"$f":"IFERROR(INDEX(熱需要量算定・原単位!$AK16:$BL16,MATCH(V$20,熱需要量算定・原単位!$AK$5:$BL$5,0)),0)*V$25/100","v":{"$error":"#N/A"}},{"$f":"IFERROR(INDEX(熱需要量算定・原単位!$AK16:$BL16,MATCH(W$20,熱需要量算定・原単位!$AK$5:$BL$5,0)),0)*W$25/100","v":{"$error":"#N/A"}},{"$f":"IFERROR(INDEX(熱需要量算定・原単位!$AK16:$BL16,MATCH(X$20,熱需要量算定・原単位!$AK$5:$BL$5,0)),0)*X$25/100","v":{"$error":"#N/A"}},{"$f":"IFERROR(INDEX(熱需要量算定・原単位!$AK16:$BL16,MATCH(Y$20,熱需要量算定・原単位!$AK$5:$BL$5,0)),0)*Y$25/100","v":{"$error":"#N/A"}},{"$f":"IFERROR(INDEX(熱需要量算定・原単位!$AK16:$BL16,MATCH(Z$20,熱需要量算定・原単位!$AK$5:$BL$5,0)),0)*Z$25/100","v":{"$error":"#N/A"}},{"$f":"IFERROR(INDEX(熱需要量算定・原単位!$AK16:$BL16,MATCH(AA$20,熱需要量算定・原単位!$AK$5:$BL$5,0)),0)*AA$25/100","v":{"$error":"#N/A"}},{"$f":"IFERROR(INDEX(熱需要量算定・原単位!$AK16:$BL16,MATCH(AB$20,熱需要量算定・原単位!$AK$5:$BL$5,0)),0)*AB$25/100","v":{"$error":"#N/A"}},null,8,{"$f":"IFERROR(INDEX(熱需要量算定・原単位!$AK16:$BL16,MATCH(AE$20,熱需要量算定・原単位!$AK$5:$BL$5,0)),0)*AE$25/100","v":{"$error":"#N/A"}},{"$f":"IFERROR(INDEX(熱需要量算定・原単位!$AK16:$BL16,MATCH(AF$20,熱需要量算定・原単位!$AK$5:$BL$5,0)),0)*AF$25/100","v":{"$error":"#N/A"}},{"$f":"IFERROR(INDEX(熱需要量算定・原単位!$AK16:$BL16,MATCH(AG$20,熱需要量算定・原単位!$AK$5:$BL$5,0)),0)*AG$25/100","v":{"$error":"#N/A"}},{"$f":"IFERROR(INDEX(熱需要量算定・原単位!$AK16:$BL16,MATCH(AH$20,熱需要量算定・原単位!$AK$5:$BL$5,0)),0)*AH$25/100","v":{"$error":"#N/A"}},{"$f":"IFERROR(INDEX(熱需要量算定・原単位!$AK16:$BL16,MATCH(AI$20,熱需要量算定・原単位!$AK$5:$BL$5,0)),0)*AI$25/100","v":{"$error":"#N/A"}},{"$f":"IFERROR(INDEX(熱需要量算定・原単位!$AK16:$BL16,MATCH(AJ$20,熱需要量算定・原単位!$AK$5:$BL$5,0)),0)*AJ$25/100","v":{"$error":"#N/A"}},{"$f":"IFERROR(INDEX(熱需要量算定・原単位!$AK16:$BL16,MATCH(AK$20,熱需要量算定・原単位!$AK$5:$BL$5,0)),0)*AK$25/100","v":{"$error":"#N/A"}},{"$f":"IFERROR(INDEX(熱需要量算定・原単位!$AK16:$BL16,MATCH(AL$20,熱需要量算定・原単位!$AK$5:$BL$5,0)),0)*AL$25/100","v":{"$error":"#N/A"}},{"$f":"IFERROR(INDEX(熱需要量算定・原単位!$AK16:$BL16,MATCH(AM$20,熱需要量算定・原単位!$AK$5:$BL$5,0)),0)*AM$25/100","v":{"$error":"#N/A"}},{"$f":"IFERROR(INDEX(熱需要量算定・原単位!$AK16:$BL16,MATCH(AN$20,熱需要量算定・原単位!$AK$5:$BL$5,0)),0)*AN$25/100","v":{"$error":"#N/A"}},{"$f":"IFERROR(INDEX(熱需要量算定・原単位!$AK16:$BL16,MATCH(AO$20,熱需要量算定・原単位!$AK$5:$BL$5,0)),0)*AO$25/100","v":{"$error":"#N/A"}},{"$f":"IFERROR(INDEX(熱需要量算定・原単位!$AK16:$BL16,MATCH(AP$20,熱需要量算定・原単位!$AK$5:$BL$5,0)),0)*AP$25/100","v":{"$error":"#N/A"}}]
[null,9,{"$f":"IFERROR(INDEX(熱需要量算定・原単位!$AK17:$BL17,MATCH(C$20,熱需要量算定・原単位!$AK$5:$BL$5,0)),0)*C$25/100","v":{"$error":"#N/A"}},{"$f":"IFERROR(INDEX(熱需要量算定・原単位!$AK17:$BL17,MATCH(D$20,熱需要量算定・原単位!$AK$5:$BL$5,0)),0)*D$25/100","v":{"$error":"#N/A"}},{"$f":"IFERROR(INDEX(熱需要量算定・原単位!$AK17:$BL17,MATCH(E$20,熱需要量算定・原単位!$AK$5:$BL$5,0)),0)*E$25/100","v":{"$error":"#N/A"}},{"$f":"IFERROR(INDEX(熱需要量算定・原単位!$AK17:$BL17,MATCH(F$20,熱需要量算定・原単位!$AK$5:$BL$5,0)),0)*F$25/100","v":{"$error":"#N/A"}},{"$f":"IFERROR(INDEX(熱需要量算定・原単位!$AK17:$BL17,MATCH(G$20,熱需要量算定・原単位!$AK$5:$BL$5,0)),0)*G$25/100","v":{"$error":"#N/A"}},{"$f":"IFERROR(INDEX(熱需要量算定・原単位!$AK17:$BL17,MATCH(H$20,熱需要量算定・原単位!$AK$5:$BL$5,0)),0)*H$25/100","v":{"$error":"#N/A"}},{"$f":"IFERROR(INDEX(熱需要量算定・原単位!$AK17:$BL17,MATCH(I$20,熱需要量算定・原単位!$AK$5:$BL$5,0)),0)*I$25/100","v":{"$error":"#N/A"}},{"$f":"IFERROR(INDEX(熱需要量算定・原単位!$AK17:$BL17,MATCH(J$20,熱需要量算定・原単位!$AK$5:$BL$5,0)),0)*J$25/100","v":{"$error":"#N/A"}},{"$f":"IFERROR(INDEX(熱需要量算定・原単位!$AK17:$BL17,MATCH(K$20,熱需要量算定・原単位!$AK$5:$BL$5,0)),0)*K$25/100","v":{"$error":"#N/A"}},{"$f":"IFERROR(INDEX(熱需要量算定・原単位!$AK17:$BL17,MATCH(L$20,熱需要量算定・原単位!$AK$5:$BL$5,0)),0)*L$25/100","v":{"$error":"#N/A"}},{"$f":"IFERROR(INDEX(熱需要量算定・原単位!$AK17:$BL17,MATCH(M$20,熱需要量算定・原単位!$AK$5:$BL$5,0)),0)*M$25/100","v":{"$error":"#N/A"}},{"$f":"IFERROR(INDEX(熱需要量算定・原単位!$AK17:$BL17,MATCH(N$20,熱需要量算定・原単位!$AK$5:$BL$5,0)),0)*N$25/100","v":{"$error":"#N/A"}},null,9,{"$f":"IFERROR(INDEX(熱需要量算定・原単位!$AK17:$BL17,MATCH(Q$20,熱需要量算定・原単位!$AK$5:$BL$5,0)),0)*Q$25/100","v":{"$error":"#N/A"}},{"$f":"IFERROR(INDEX(熱需要量算定・原単位!$AK17:$BL17,MATCH(R$20,熱需要量算定・原単位!$AK$5:$BL$5,0)),0)*R$25/100","v":{"$error":"#N/A"}},{"$f":"IFERROR(INDEX(熱需要量算定・原単位!$AK17:$BL17,MATCH(S$20,熱需要量算定・原単位!$AK$5:$BL$5,0)),0)*S$25/100","v":{"$error":"#N/A"}},{"$f":"IFERROR(INDEX(熱需要量算定・原単位!$AK17:$BL17,MATCH(T$20,熱需要量算定・原単位!$AK$5:$BL$5,0)),0)*T$25/100","v":{"$error":"#N/A"}},{"$f":"IFERROR(INDEX(熱需要量算定・原単位!$AK17:$BL17,MATCH(U$20,熱需要量算定・原単位!$AK$5:$BL$5,0)),0)*U$25/100","v":{"$error":"#N/A"}},{"$f":"IFERROR(INDEX(熱需要量算定・原単位!$AK17:$BL17,MATCH(V$20,熱需要量算定・原単位!$AK$5:$BL$5,0)),0)*V$25/100","v":{"$error":"#N/A"}},{"$f":"IFERROR(INDEX(熱需要量算定・原単位!$AK17:$BL17,MATCH(W$20,熱需要量算定・原単位!$AK$5:$BL$5,0)),0)*W$25/100","v":{"$error":"#N/A"}},{"$f":"IFERROR(INDEX(熱需要量算定・原単位!$AK17:$BL17,MATCH(X$20,熱需要量算定・原単位!$AK$5:$BL$5,0)),0)*X$25/100","v":{"$error":"#N/A"}},{"$f":"IFERROR(INDEX(熱需要量算定・原単位!$AK17:$BL17,MATCH(Y$20,熱需要量算定・原単位!$AK$5:$BL$5,0)),0)*Y$25/100","v":{"$error":"#N/A"}},{"$f":"IFERROR(INDEX(熱需要量算定・原単位!$AK17:$BL17,MATCH(Z$20,熱需要量算定・原単位!$AK$5:$BL$5,0)),0)*Z$25/100","v":{"$error":"#N/A"}},{"$f":"IFERROR(INDEX(熱需要量算定・原単位!$AK17:$BL17,MATCH(AA$20,熱需要量算定・原単位!$AK$5:$BL$5,0)),0)*AA$25/100","v":{"$error":"#N/A"}},{"$f":"IFERROR(INDEX(熱需要量算定・原単位!$AK17:$BL17,MATCH(AB$20,熱需要量算定・原単位!$AK$5:$BL$5,0)),0)*AB$25/100","v":{"$error":"#N/A"}},null,9,{"$f":"IFERROR(INDEX(熱需要量算定・原単位!$AK17:$BL17,MATCH(AE$20,熱需要量算定・原単位!$AK$5:$BL$5,0)),0)*AE$25/100","v":{"$error":"#N/A"}},{"$f":"IFERROR(INDEX(熱需要量算定・原単位!$AK17:$BL17,MATCH(AF$20,熱需要量算定・原単位!$AK$5:$BL$5,0)),0)*AF$25/100","v":{"$error":"#N/A"}},{"$f":"IFERROR(INDEX(熱需要量算定・原単位!$AK17:$BL17,MATCH(AG$20,熱需要量算定・原単位!$AK$5:$BL$5,0)),0)*AG$25/100","v":{"$error":"#N/A"}},{"$f":"IFERROR(INDEX(熱需要量算定・原単位!$AK17:$BL17,MATCH(AH$20,熱需要量算定・原単位!$AK$5:$BL$5,0)),0)*AH$25/100","v":{"$error":"#N/A"}},{"$f":"IFERROR(INDEX(熱需要量算定・原単位!$AK17:$BL17,MATCH(AI$20,熱需要量算定・原単位!$AK$5:$BL$5,0)),0)*AI$25/100","v":{"$error":"#N/A"}},{"$f":"IFERROR(INDEX(熱需要量算定・原単位!$AK17:$BL17,MATCH(AJ$20,熱需要量算定・原単位!$AK$5:$BL$5,0)),0)*AJ$25/100","v":{"$error":"#N/A"}},{"$f":"IFERROR(INDEX(熱需要量算定・原単位!$AK17:$BL17,MATCH(AK$20,熱需要量算定・原単位!$AK$5:$BL$5,0)),0)*AK$25/100","v":{"$error":"#N/A"}},{"$f":"IFERROR(INDEX(熱需要量算定・原単位!$AK17:$BL17,MATCH(AL$20,熱需要量算定・原単位!$AK$5:$BL$5,0)),0)*AL$25/100","v":{"$error":"#N/A"}},{"$f":"IFERROR(INDEX(熱需要量算定・原単位!$AK17:$BL17,MATCH(AM$20,熱需要量算定・原単位!$AK$5:$BL$5,0)),0)*AM$25/100","v":{"$error":"#N/A"}},{"$f":"IFERROR(INDEX(熱需要量算定・原単位!$AK17:$BL17,MATCH(AN$20,熱需要量算定・原単位!$AK$5:$BL$5,0)),0)*AN$25/100","v":{"$error":"#N/A"}},{"$f":"IFERROR(INDEX(熱需要量算定・原単位!$AK17:$BL17,MATCH(AO$20,熱需要量算定・原単位!$AK$5:$BL$5,0)),0)*AO$25/100","v":{"$error":"#N/A"}},{"$f":"IFERROR(INDEX(熱需要量算定・原単位!$AK17:$BL17,MATCH(AP$20,熱需要量算定・原単位!$AK$5:$BL$5,0)),0)*AP$25/100","v":{"$error":"#N/A"}}]
[null,10,{"$f":"IFERROR(INDEX(熱需要量算定・原単位!$AK18:$BL18,MATCH(C$20,熱需要量算定・原単位!$AK$5:$BL$5,0)),0)*C$25/100","v":{"$error":"#N/A"}},{"$f":"IFERROR(INDEX(熱需要量算定・原単位!$AK18:$BL18,MATCH(D$20,熱需要量算定・原単位!$AK$5:$BL$5,0)),0)*D$25/100","v":{"$error":"#N/A"}},{"$f":"IFERROR(INDEX(熱需要量算定・原単位!$AK18:$BL18,MATCH(E$20,熱需要量算定・原単位!$AK$5:$BL$5,0)),0)*E$25/100","v":{"$error":"#N/A"}},{"$f":"IFERROR(INDEX(熱需要量算定・原単位!$AK18:$BL18,MATCH(F$20,熱需要量算定・原単位!$AK$5:$BL$5,0)),0)*F$25/100","v":{"$error":"#N/A"}},{"$f":"IFERROR(INDEX(熱需要量算定・原単位!$AK18:$BL18,MATCH(G$20,熱需要量算定・原単位!$AK$5:$BL$5,0)),0)*G$25/100","v":{"$error":"#N/A"}},{"$f":"IFERROR(INDEX(熱需要量算定・原単位!$AK18:$BL18,MATCH(H$20,熱需要量算定・原単位!$AK$5:$BL$5,0)),0)*H$25/100","v":{"$error":"#N/A"}},{"$f":"IFERROR(INDEX(熱需要量算定・原単位!$AK18:$BL18,MATCH(I$20,熱需要量算定・原単位!$AK$5:$BL$5,0)),0)*I$25/100","v":{"$error":"#N/A"}},{"$f":"IFERROR(INDEX(熱需要量算定・原単位!$AK18:$BL18,MATCH(J$20,熱需要量算定・原単位!$AK$5:$BL$5,0)),0)*J$25/100","v":{"$error":"#N/A"}},{"$f":"IFERROR(INDEX(熱需要量算定・原単位!$AK18:$BL18,MATCH(K$20,熱需要量算定・原単位!$AK$5:$BL$5,0)),0)*K$25/100","v":{"$error":"#N/A"}},{"$f":"IFERROR(INDEX(熱需要量算定・原単位!$AK18:$BL18,MATCH(L$20,熱需要量算定・原単位!$AK$5:$BL$5,0)),0)*L$25/100","v":{"$error":"#N/A"}},{"$f":"IFERROR(INDEX(熱需要量算定・原単位!$AK18:$BL18,MATCH(M$20,熱需要量算定・原単位!$AK$5:$BL$5,0)),0)*M$25/100","v":{"$error":"#N/A"}},{"$f":"IFERROR(INDEX(熱需要量算定・原単位!$AK18:$BL18,MATCH(N$20,熱需要量算定・原単位!$AK$5:$BL$5,0)),0)*N$25/100","v":{"$error":"#N/A"}},null,10,{"$f":"IFERROR(INDEX(熱需要量算定・原単位!$AK18:$BL18,MATCH(Q$20,熱需要量算定・原単位!$AK$5:$BL$5,0)),0)*Q$25/100","v":{"$error":"#N/A"}},{"$f":"IFERROR(INDEX(熱需要量算定・原単位!$AK18:$BL18,MATCH(R$20,熱需要量算定・原単位!$AK$5:$BL$5,0)),0)*R$25/100","v":{"$error":"#N/A"}},{"$f":"IFERROR(INDEX(熱需要量算定・原単位!$AK18:$BL18,MATCH(S$20,熱需要量算定・原単位!$AK$5:$BL$5,0)),0)*S$25/100","v":{"$error":"#N/A"}},{"$f":"IFERROR(INDEX(熱需要量算定・原単位!$AK18:$BL18,MATCH(T$20,熱需要量算定・原単位!$AK$5:$BL$5,0)),0)*T$25/100","v":{"$error":"#N/A"}},{"$f":"IFERROR(INDEX(熱需要量算定・原単位!$AK18:$BL18,MATCH(U$20,熱需要量算定・原単位!$AK$5:$BL$5,0)),0)*U$25/100","v":{"$error":"#N/A"}},{"$f":"IFERROR(INDEX(熱需要量算定・原単位!$AK18:$BL18,MATCH(V$20,熱需要量算定・原単位!$AK$5:$BL$5,0)),0)*V$25/100","v":{"$error":"#N/A"}},{"$f":"IFERROR(INDEX(熱需要量算定・原単位!$AK18:$BL18,MATCH(W$20,熱需要量算定・原単位!$AK$5:$BL$5,0)),0)*W$25/100","v":{"$error":"#N/A"}},{"$f":"IFERROR(INDEX(熱需要量算定・原単位!$AK18:$BL18,MATCH(X$20,熱需要量算定・原単位!$AK$5:$BL$5,0)),0)*X$25/100","v":{"$error":"#N/A"}},{"$f":"IFERROR(INDEX(熱需要量算定・原単位!$AK18:$BL18,MATCH(Y$20,熱需要量算定・原単位!$AK$5:$BL$5,0)),0)*Y$25/100","v":{"$error":"#N/A"}},{"$f":"IFERROR(INDEX(熱需要量算定・原単位!$AK18:$BL18,MATCH(Z$20,熱需要量算定・原単位!$AK$5:$BL$5,0)),0)*Z$25/100","v":{"$error":"#N/A"}},{"$f":"IFERROR(INDEX(熱需要量算定・原単位!$AK18:$BL18,MATCH(AA$20,熱需要量算定・原単位!$AK$5:$BL$5,0)),0)*AA$25/100","v":{"$error":"#N/A"}},{"$f":"IFERROR(INDEX(熱需要量算定・原単位!$AK18:$BL18,MATCH(AB$20,熱需要量算定・原単位!$AK$5:$BL$5,0)),0)*AB$25/100","v":{"$error":"#N/A"}},null,10,{"$f":"IFERROR(INDEX(熱需要量算定・原単位!$AK18:$BL18,MATCH(AE$20,熱需要量算定・原単位!$AK$5:$BL$5,0)),0)*AE$25/100","v":{"$error":"#N/A"}},{"$f":"IFERROR(INDEX(熱需要量算定・原単位!$AK18:$BL18,MATCH(AF$20,熱需要量算定・原単位!$AK$5:$BL$5,0)),0)*AF$25/100","v":{"$error":"#N/A"}},{"$f":"IFERROR(INDEX(熱需要量算定・原単位!$AK18:$BL18,MATCH(AG$20,熱需要量算定・原単位!$AK$5:$BL$5,0)),0)*AG$25/100","v":{"$error":"#N/A"}},{"$f":"IFERROR(INDEX(熱需要量算定・原単位!$AK18:$BL18,MATCH(AH$20,熱需要量算定・原単位!$AK$5:$BL$5,0)),0)*AH$25/100","v":{"$error":"#N/A"}},{"$f":"IFERROR(INDEX(熱需要量算定・原単位!$AK18:$BL18,MATCH(AI$20,熱需要量算定・原単位!$AK$5:$BL$5,0)),0)*AI$25/100","v":{"$error":"#N/A"}},{"$f":"IFERROR(INDEX(熱需要量算定・原単位!$AK18:$BL18,MATCH(AJ$20,熱需要量算定・原単位!$AK$5:$BL$5,0)),0)*AJ$25/100","v":{"$error":"#N/A"}},{"$f":"IFERROR(INDEX(熱需要量算定・原単位!$AK18:$BL18,MATCH(AK$20,熱需要量算定・原単位!$AK$5:$BL$5,0)),0)*AK$25/100","v":{"$error":"#N/A"}},{"$f":"IFERROR(INDEX(熱需要量算定・原単位!$AK18:$BL18,MATCH(AL$20,熱需要量算定・原単位!$AK$5:$BL$5,0)),0)*AL$25/100","v":{"$error":"#N/A"}},{"$f":"IFERROR(INDEX(熱需要量算定・原単位!$AK18:$BL18,MATCH(AM$20,熱需要量算定・原単位!$AK$5:$BL$5,0)),0)*AM$25/100","v":{"$error":"#N/A"}},{"$f":"IFERROR(INDEX(熱需要量算定・原単位!$AK18:$BL18,MATCH(AN$20,熱需要量算定・原単位!$AK$5:$BL$5,0)),0)*AN$25/100","v":{"$error":"#N/A"}},{"$f":"IFERROR(INDEX(熱需要量算定・原単位!$AK18:$BL18,MATCH(AO$20,熱需要量算定・原単位!$AK$5:$BL$5,0)),0)*AO$25/100","v":{"$error":"#N/A"}},{"$f":"IFERROR(INDEX(熱需要量算定・原単位!$AK18:$BL18,MATCH(AP$20,熱需要量算定・原単位!$AK$5:$BL$5,0)),0)*AP$25/100","v":{"$error":"#N/A"}}]
[null,11,{"$f":"IFERROR(INDEX(熱需要量算定・原単位!$AK19:$BL19,MATCH(C$20,熱需要量算定・原単位!$AK$5:$BL$5,0)),0)*C$25/100","v":{"$error":"#N/A"}},{"$f":"IFERROR(INDEX(熱需要量算定・原単位!$AK19:$BL19,MATCH(D$20,熱需要量算定・原単位!$AK$5:$BL$5,0)),0)*D$25/100","v":{"$error":"#N/A"}},{"$f":"IFERROR(INDEX(熱需要量算定・原単位!$AK19:$BL19,MATCH(E$20,熱需要量算定・原単位!$AK$5:$BL$5,0)),0)*E$25/100","v":{"$error":"#N/A"}},{"$f":"IFERROR(INDEX(熱需要量算定・原単位!$AK19:$BL19,MATCH(F$20,熱需要量算定・原単位!$AK$5:$BL$5,0)),0)*F$25/100","v":{"$error":"#N/A"}},{"$f":"IFERROR(INDEX(熱需要量算定・原単位!$AK19:$BL19,MATCH(G$20,熱需要量算定・原単位!$AK$5:$BL$5,0)),0)*G$25/100","v":{"$error":"#N/A"}},{"$f":"IFERROR(INDEX(熱需要量算定・原単位!$AK19:$BL19,MATCH(H$20,熱需要量算定・原単位!$AK$5:$BL$5,0)),0)*H$25/100","v":{"$error":"#N/A"}},{"$f":"IFERROR(INDEX(熱需要量算定・原単位!$AK19:$BL19,MATCH(I$20,熱需要量算定・原単位!$AK$5:$BL$5,0)),0)*I$25/100","v":{"$error":"#N/A"}},{"$f":"IFERROR(INDEX(熱需要量算定・原単位!$AK19:$BL19,MATCH(J$20,熱需要量算定・原単位!$AK$5:$BL$5,0)),0)*J$25/100","v":{"$error":"#N/A"}},{"$f":"IFERROR(INDEX(熱需要量算定・原単位!$AK19:$BL19,MATCH(K$20,熱需要量算定・原単位!$AK$5:$BL$5,0)),0)*K$25/100","v":{"$error":"#N/A"}},{"$f":"IFERROR(INDEX(熱需要量算定・原単位!$AK19:$BL19,MATCH(L$20,熱需要量算定・原単位!$AK$5:$BL$5,0)),0)*L$25/100","v":{"$error":"#N/A"}},{"$f":"IFERROR(INDEX(熱需要量算定・原単位!$AK19:$BL19,MATCH(M$20,熱需要量算定・原単位!$AK$5:$BL$5,0)),0)*M$25/100","v":{"$error":"#N/A"}},{"$f":"IFERROR(INDEX(熱需要量算定・原単位!$AK19:$BL19,MATCH(N$20,熱需要量算定・原単位!$AK$5:$BL$5,0)),0)*N$25/100","v":{"$error":"#N/A"}},null,11,{"$f":"IFERROR(INDEX(熱需要量算定・原単位!$AK19:$BL19,MATCH(Q$20,熱需要量算定・原単位!$AK$5:$BL$5,0)),0)*Q$25/100","v":{"$error":"#N/A"}},{"$f":"IFERROR(INDEX(熱需要量算定・原単位!$AK19:$BL19,MATCH(R$20,熱需要量算定・原単位!$AK$5:$BL$5,0)),0)*R$25/100","v":{"$error":"#N/A"}},{"$f":"IFERROR(INDEX(熱需要量算定・原単位!$AK19:$BL19,MATCH(S$20,熱需要量算定・原単位!$AK$5:$BL$5,0)),0)*S$25/100","v":{"$error":"#N/A"}},{"$f":"IFERROR(INDEX(熱需要量算定・原単位!$AK19:$BL19,MATCH(T$20,熱需要量算定・原単位!$AK$5:$BL$5,0)),0)*T$25/100","v":{"$error":"#N/A"}},{"$f":"IFERROR(INDEX(熱需要量算定・原単位!$AK19:$BL19,MATCH(U$20,熱需要量算定・原単位!$AK$5:$BL$5,0)),0)*U$25/100","v":{"$error":"#N/A"}},{"$f":"IFERROR(INDEX(熱需要量算定・原単位!$AK19:$BL19,MATCH(V$20,熱需要量算定・原単位!$AK$5:$BL$5,0)),0)*V$25/100","v":{"$error":"#N/A"}},{"$f":"IFERROR(INDEX(熱需要量算定・原単位!$AK19:$BL19,MATCH(W$20,熱需要量算定・原単位!$AK$5:$BL$5,0)),0)*W$25/100","v":{"$error":"#N/A"}},{"$f":"IFERROR(INDEX(熱需要量算定・原単位!$AK19:$BL19,MATCH(X$20,熱需要量算定・原単位!$AK$5:$BL$5,0)),0)*X$25/100","v":{"$error":"#N/A"}},{"$f":"IFERROR(INDEX(熱需要量算定・原単位!$AK19:$BL19,MATCH(Y$20,熱需要量算定・原単位!$AK$5:$BL$5,0)),0)*Y$25/100","v":{"$error":"#N/A"}},{"$f":"IFERROR(INDEX(熱需要量算定・原単位!$AK19:$BL19,MATCH(Z$20,熱需要量算定・原単位!$AK$5:$BL$5,0)),0)*Z$25/100","v":{"$error":"#N/A"}},{"$f":"IFERROR(INDEX(熱需要量算定・原単位!$AK19:$BL19,MATCH(AA$20,熱需要量算定・原単位!$AK$5:$BL$5,0)),0)*AA$25/100","v":{"$error":"#N/A"}},{"$f":"IFERROR(INDEX(熱需要量算定・原単位!$AK19:$BL19,MATCH(AB$20,熱需要量算定・原単位!$AK$5:$BL$5,0)),0)*AB$25/100","v":{"$error":"#N/A"}},null,11,{"$f":"IFERROR(INDEX(熱需要量算定・原単位!$AK19:$BL19,MATCH(AE$20,熱需要量算定・原単位!$AK$5:$BL$5,0)),0)*AE$25/100","v":{"$error":"#N/A"}},{"$f":"IFERROR(INDEX(熱需要量算定・原単位!$AK19:$BL19,MATCH(AF$20,熱需要量算定・原単位!$AK$5:$BL$5,0)),0)*AF$25/100","v":{"$error":"#N/A"}},{"$f":"IFERROR(INDEX(熱需要量算定・原単位!$AK19:$BL19,MATCH(AG$20,熱需要量算定・原単位!$AK$5:$BL$5,0)),0)*AG$25/100","v":{"$error":"#N/A"}},{"$f":"IFERROR(INDEX(熱需要量算定・原単位!$AK19:$BL19,MATCH(AH$20,熱需要量算定・原単位!$AK$5:$BL$5,0)),0)*AH$25/100","v":{"$error":"#N/A"}},{"$f":"IFERROR(INDEX(熱需要量算定・原単位!$AK19:$BL19,MATCH(AI$20,熱需要量算定・原単位!$AK$5:$BL$5,0)),0)*AI$25/100","v":{"$error":"#N/A"}},{"$f":"IFERROR(INDEX(熱需要量算定・原単位!$AK19:$BL19,MATCH(AJ$20,熱需要量算定・原単位!$AK$5:$BL$5,0)),0)*AJ$25/100","v":{"$error":"#N/A"}},{"$f":"IFERROR(INDEX(熱需要量算定・原単位!$AK19:$BL19,MATCH(AK$20,熱需要量算定・原単位!$AK$5:$BL$5,0)),0)*AK$25/100","v":{"$error":"#N/A"}},{"$f":"IFERROR(INDEX(熱需要量算定・原単位!$AK19:$BL19,MATCH(AL$20,熱需要量算定・原単位!$AK$5:$BL$5,0)),0)*AL$25/100","v":{"$error":"#N/A"}},{"$f":"IFERROR(INDEX(熱需要量算定・原単位!$AK19:$BL19,MATCH(AM$20,熱需要量算定・原単位!$AK$5:$BL$5,0)),0)*AM$25/100","v":{"$error":"#N/A"}},{"$f":"IFERROR(INDEX(熱需要量算定・原単位!$AK19:$BL19,MATCH(AN$20,熱需要量算定・原単位!$AK$5:$BL$5,0)),0)*AN$25/100","v":{"$error":"#N/A"}},{"$f":"IFERROR(INDEX(熱需要量算定・原単位!$AK19:$BL19,MATCH(AO$20,熱需要量算定・原単位!$AK$5:$BL$5,0)),0)*AO$25/100","v":{"$error":"#N/A"}},{"$f":"IFERROR(INDEX(熱需要量算定・原単位!$AK19:$BL19,MATCH(AP$20,熱需要量算定・原単位!$AK$5:$BL$5,0)),0)*AP$25/100","v":{"$error":"#N/A"}}]
[null,12,{"$f":"IFERROR(INDEX(熱需要量算定・原単位!$AK20:$BL20,MATCH(C$20,熱需要量算定・原単位!$AK$5:$BL$5,0)),0)*C$25/100","v":{"$error":"#N/A"}},{"$f":"IFERROR(INDEX(熱需要量算定・原単位!$AK20:$BL20,MATCH(D$20,熱需要量算定・原単位!$AK$5:$BL$5,0)),0)*D$25/100","v":{"$error":"#N/A"}},{"$f":"IFERROR(INDEX(熱需要量算定・原単位!$AK20:$BL20,MATCH(E$20,熱需要量算定・原単位!$AK$5:$BL$5,0)),0)*E$25/100","v":{"$error":"#N/A"}},{"$f":"IFERROR(INDEX(熱需要量算定・原単位!$AK20:$BL20,MATCH(F$20,熱需要量算定・原単位!$AK$5:$BL$5,0)),0)*F$25/100","v":{"$error":"#N/A"}},{"$f":"IFERROR(INDEX(熱需要量算定・原単位!$AK20:$BL20,MATCH(G$20,熱需要量算定・原単位!$AK$5:$BL$5,0)),0)*G$25/100","v":{"$error":"#N/A"}},{"$f":"IFERROR(INDEX(熱需要量算定・原単位!$AK20:$BL20,MATCH(H$20,熱需要量算定・原単位!$AK$5:$BL$5,0)),0)*H$25/100","v":{"$error":"#N/A"}},{"$f":"IFERROR(INDEX(熱需要量算定・原単位!$AK20:$BL20,MATCH(I$20,熱需要量算定・原単位!$AK$5:$BL$5,0)),0)*I$25/100","v":{"$error":"#N/A"}},{"$f":"IFERROR(INDEX(熱需要量算定・原単位!$AK20:$BL20,MATCH(J$20,熱需要量算定・原単位!$AK$5:$BL$5,0)),0)*J$25/100","v":{"$error":"#N/A"}},{"$f":"IFERROR(INDEX(熱需要量算定・原単位!$AK20:$BL20,MATCH(K$20,熱需要量算定・原単位!$AK$5:$BL$5,0)),0)*K$25/100","v":{"$error":"#N/A"}},{"$f":"IFERROR(INDEX(熱需要量算定・原単位!$AK20:$BL20,MATCH(L$20,熱需要量算定・原単位!$AK$5:$BL$5,0)),0)*L$25/100","v":{"$error":"#N/A"}},{"$f":"IFERROR(INDEX(熱需要量算定・原単位!$AK20:$BL20,MATCH(M$20,熱需要量算定・原単位!$AK$5:$BL$5,0)),0)*M$25/100","v":{"$error":"#N/A"}},{"$f":"IFERROR(INDEX(熱需要量算定・原単位!$AK20:$BL20,MATCH(N$20,熱需要量算定・原単位!$AK$5:$BL$5,0)),0)*N$25/100","v":{"$error":"#N/A"}},null,12,{"$f":"IFERROR(INDEX(熱需要量算定・原単位!$AK20:$BL20,MATCH(Q$20,熱需要量算定・原単位!$AK$5:$BL$5,0)),0)*Q$25/100","v":{"$error":"#N/A"}},{"$f":"IFERROR(INDEX(熱需要量算定・原単位!$AK20:$BL20,MATCH(R$20,熱需要量算定・原単位!$AK$5:$BL$5,0)),0)*R$25/100","v":{"$error":"#N/A"}},{"$f":"IFERROR(INDEX(熱需要量算定・原単位!$AK20:$BL20,MATCH(S$20,熱需要量算定・原単位!$AK$5:$BL$5,0)),0)*S$25/100","v":{"$error":"#N/A"}},{"$f":"IFERROR(INDEX(熱需要量算定・原単位!$AK20:$BL20,MATCH(T$20,熱需要量算定・原単位!$AK$5:$BL$5,0)),0)*T$25/100","v":{"$error":"#N/A"}},{"$f":"IFERROR(INDEX(熱需要量算定・原単位!$AK20:$BL20,MATCH(U$20,熱需要量算定・原単位!$AK$5:$BL$5,0)),0)*U$25/100","v":{"$error":"#N/A"}},{"$f":"IFERROR(INDEX(熱需要量算定・原単位!$AK20:$BL20,MATCH(V$20,熱需要量算定・原単位!$AK$5:$BL$5,0)),0)*V$25/100","v":{"$error":"#N/A"}},{"$f":"IFERROR(INDEX(熱需要量算定・原単位!$AK20:$BL20,MATCH(W$20,熱需要量算定・原単位!$AK$5:$BL$5,0)),0)*W$25/100","v":{"$error":"#N/A"}},{"$f":"IFERROR(INDEX(熱需要量算定・原単位!$AK20:$BL20,MATCH(X$20,熱需要量算定・原単位!$AK$5:$BL$5,0)),0)*X$25/100","v":{"$error":"#N/A"}},{"$f":"IFERROR(INDEX(熱需要量算定・原単位!$AK20:$BL20,MATCH(Y$20,熱需要量算定・原単位!$AK$5:$BL$5,0)),0)*Y$25/100","v":{"$error":"#N/A"}},{"$f":"IFERROR(INDEX(熱需要量算定・原単位!$AK20:$BL20,MATCH(Z$20,熱需要量算定・原単位!$AK$5:$BL$5,0)),0)*Z$25/100","v":{"$error":"#N/A"}},{"$f":"IFERROR(INDEX(熱需要量算定・原単位!$AK20:$BL20,MATCH(AA$20,熱需要量算定・原単位!$AK$5:$BL$5,0)),0)*AA$25/100","v":{"$error":"#N/A"}},{"$f":"IFERROR(INDEX(熱需要量算定・原単位!$AK20:$BL20,MATCH(AB$20,熱需要量算定・原単位!$AK$5:$BL$5,0)),0)*AB$25/100","v":{"$error":"#N/A"}},null,12,{"$f":"IFERROR(INDEX(熱需要量算定・原単位!$AK20:$BL20,MATCH(AE$20,熱需要量算定・原単位!$AK$5:$BL$5,0)),0)*AE$25/100","v":{"$error":"#N/A"}},{"$f":"IFERROR(INDEX(熱需要量算定・原単位!$AK20:$BL20,MATCH(AF$20,熱需要量算定・原単位!$AK$5:$BL$5,0)),0)*AF$25/100","v":{"$error":"#N/A"}},{"$f":"IFERROR(INDEX(熱需要量算定・原単位!$AK20:$BL20,MATCH(AG$20,熱需要量算定・原単位!$AK$5:$BL$5,0)),0)*AG$25/100","v":{"$error":"#N/A"}},{"$f":"IFERROR(INDEX(熱需要量算定・原単位!$AK20:$BL20,MATCH(AH$20,熱需要量算定・原単位!$AK$5:$BL$5,0)),0)*AH$25/100","v":{"$error":"#N/A"}},{"$f":"IFERROR(INDEX(熱需要量算定・原単位!$AK20:$BL20,MATCH(AI$20,熱需要量算定・原単位!$AK$5:$BL$5,0)),0)*AI$25/100","v":{"$error":"#N/A"}},{"$f":"IFERROR(INDEX(熱需要量算定・原単位!$AK20:$BL20,MATCH(AJ$20,熱需要量算定・原単位!$AK$5:$BL$5,0)),0)*AJ$25/100","v":{"$error":"#N/A"}},{"$f":"IFERROR(INDEX(熱需要量算定・原単位!$AK20:$BL20,MATCH(AK$20,熱需要量算定・原単位!$AK$5:$BL$5,0)),0)*AK$25/100","v":{"$error":"#N/A"}},{"$f":"IFERROR(INDEX(熱需要量算定・原単位!$AK20:$BL20,MATCH(AL$20,熱需要量算定・原単位!$AK$5:$BL$5,0)),0)*AL$25/100","v":{"$error":"#N/A"}},{"$f":"IFERROR(INDEX(熱需要量算定・原単位!$AK20:$BL20,MATCH(AM$20,熱需要量算定・原単位!$AK$5:$BL$5,0)),0)*AM$25/100","v":{"$error":"#N/A"}},{"$f":"IFERROR(INDEX(熱需要量算定・原単位!$AK20:$BL20,MATCH(AN$20,熱需要量算定・原単位!$AK$5:$BL$5,0)),0)*AN$25/100","v":{"$error":"#N/A"}},{"$f":"IFERROR(INDEX(熱需要量算定・原単位!$AK20:$BL20,MATCH(AO$20,熱需要量算定・原単位!$AK$5:$BL$5,0)),0)*AO$25/100","v":{"$error":"#N/A"}},{"$f":"IFERROR(INDEX(熱需要量算定・原単位!$AK20:$BL20,MATCH(AP$20,熱需要量算定・原単位!$AK$5:$BL$5,0)),0)*AP$25/100","v":{"$error":"#N/A"}}]
[null,13,{"$f":"IFERROR(INDEX(熱需要量算定・原単位!$AK21:$BL21,MATCH(C$20,熱需要量算定・原単位!$AK$5:$BL$5,0)),0)*C$25/100","v":{"$error":"#N/A"}},{"$f":"IFERROR(INDEX(熱需要量算定・原単位!$AK21:$BL21,MATCH(D$20,熱需要量算定・原単位!$AK$5:$BL$5,0)),0)*D$25/100","v":{"$error":"#N/A"}},{"$f":"IFERROR(INDEX(熱需要量算定・原単位!$AK21:$BL21,MATCH(E$20,熱需要量算定・原単位!$AK$5:$BL$5,0)),0)*E$25/100","v":{"$error":"#N/A"}},{"$f":"IFERROR(INDEX(熱需要量算定・原単位!$AK21:$BL21,MATCH(F$20,熱需要量算定・原単位!$AK$5:$BL$5,0)),0)*F$25/100","v":{"$error":"#N/A"}},{"$f":"IFERROR(INDEX(熱需要量算定・原単位!$AK21:$BL21,MATCH(G$20,熱需要量算定・原単位!$AK$5:$BL$5,0)),0)*G$25/100","v":{"$error":"#N/A"}},{"$f":"IFERROR(INDEX(熱需要量算定・原単位!$AK21:$BL21,MATCH(H$20,熱需要量算定・原単位!$AK$5:$BL$5,0)),0)*H$25/100","v":{"$error":"#N/A"}},{"$f":"IFERROR(INDEX(熱需要量算定・原単位!$AK21:$BL21,MATCH(I$20,熱需要量算定・原単位!$AK$5:$BL$5,0)),0)*I$25/100","v":{"$error":"#N/A"}},{"$f":"IFERROR(INDEX(熱需要量算定・原単位!$AK21:$BL21,MATCH(J$20,熱需要量算定・原単位!$AK$5:$BL$5,0)),0)*J$25/100","v":{"$error":"#N/A"}},{"$f":"IFERROR(INDEX(熱需要量算定・原単位!$AK21:$BL21,MATCH(K$20,熱需要量算定・原単位!$AK$5:$BL$5,0)),0)*K$25/100","v":{"$error":"#N/A"}},{"$f":"IFERROR(INDEX(熱需要量算定・原単位!$AK21:$BL21,MATCH(L$20,熱需要量算定・原単位!$AK$5:$BL$5,0)),0)*L$25/100","v":{"$error":"#N/A"}},{"$f":"IFERROR(INDEX(熱需要量算定・原単位!$AK21:$BL21,MATCH(M$20,熱需要量算定・原単位!$AK$5:$BL$5,0)),0)*M$25/100","v":{"$error":"#N/A"}},{"$f":"IFERROR(INDEX(熱需要量算定・原単位!$AK21:$BL21,MATCH(N$20,熱需要量算定・原単位!$AK$5:$BL$5,0)),0)*N$25/100","v":{"$error":"#N/A"}},null,13,{"$f":"IFERROR(INDEX(熱需要量算定・原単位!$AK21:$BL21,MATCH(Q$20,熱需要量算定・原単位!$AK$5:$BL$5,0)),0)*Q$25/100","v":{"$error":"#N/A"}},{"$f":"IFERROR(INDEX(熱需要量算定・原単位!$AK21:$BL21,MATCH(R$20,熱需要量算定・原単位!$AK$5:$BL$5,0)),0)*R$25/100","v":{"$error":"#N/A"}},{"$f":"IFERROR(INDEX(熱需要量算定・原単位!$AK21:$BL21,MATCH(S$20,熱需要量算定・原単位!$AK$5:$BL$5,0)),0)*S$25/100","v":{"$error":"#N/A"}},{"$f":"IFERROR(INDEX(熱需要量算定・原単位!$AK21:$BL21,MATCH(T$20,熱需要量算定・原単位!$AK$5:$BL$5,0)),0)*T$25/100","v":{"$error":"#N/A"}},{"$f":"IFERROR(INDEX(熱需要量算定・原単位!$AK21:$BL21,MATCH(U$20,熱需要量算定・原単位!$AK$5:$BL$5,0)),0)*U$25/100","v":{"$error":"#N/A"}},{"$f":"IFERROR(INDEX(熱需要量算定・原単位!$AK21:$BL21,MATCH(V$20,熱需要量算定・原単位!$AK$5:$BL$5,0)),0)*V$25/100","v":{"$error":"#N/A"}},{"$f":"IFERROR(INDEX(熱需要量算定・原単位!$AK21:$BL21,MATCH(W$20,熱需要量算定・原単位!$AK$5:$BL$5,0)),0)*W$25/100","v":{"$error":"#N/A"}},{"$f":"IFERROR(INDEX(熱需要量算定・原単位!$AK21:$BL21,MATCH(X$20,熱需要量算定・原単位!$AK$5:$BL$5,0)),0)*X$25/100","v":{"$error":"#N/A"}},{"$f":"IFERROR(INDEX(熱需要量算定・原単位!$AK21:$BL21,MATCH(Y$20,熱需要量算定・原単位!$AK$5:$BL$5,0)),0)*Y$25/100","v":{"$error":"#N/A"}},{"$f":"IFERROR(INDEX(熱需要量算定・原単位!$AK21:$BL21,MATCH(Z$20,熱需要量算定・原単位!$AK$5:$BL$5,0)),0)*Z$25/100","v":{"$error":"#N/A"}},{"$f":"IFERROR(INDEX(熱需要量算定・原単位!$AK21:$BL21,MATCH(AA$20,熱需要量算定・原単位!$AK$5:$BL$5,0)),0)*AA$25/100","v":{"$error":"#N/A"}},{"$f":"IFERROR(INDEX(熱需要量算定・原単位!$AK21:$BL21,MATCH(AB$20,熱需要量算定・原単位!$AK$5:$BL$5,0)),0)*AB$25/100","v":{"$error":"#N/A"}},null,13,{"$f":"IFERROR(INDEX(熱需要量算定・原単位!$AK21:$BL21,MATCH(AE$20,熱需要量算定・原単位!$AK$5:$BL$5,0)),0)*AE$25/100","v":{"$error":"#N/A"}},{"$f":"IFERROR(INDEX(熱需要量算定・原単位!$AK21:$BL21,MATCH(AF$20,熱需要量算定・原単位!$AK$5:$BL$5,0)),0)*AF$25/100","v":{"$error":"#N/A"}},{"$f":"IFERROR(INDEX(熱需要量算定・原単位!$AK21:$BL21,MATCH(AG$20,熱需要量算定・原単位!$AK$5:$BL$5,0)),0)*AG$25/100","v":{"$error":"#N/A"}},{"$f":"IFERROR(INDEX(熱需要量算定・原単位!$AK21:$BL21,MATCH(AH$20,熱需要量算定・原単位!$AK$5:$BL$5,0)),0)*AH$25/100","v":{"$error":"#N/A"}},{"$f":"IFERROR(INDEX(熱需要量算定・原単位!$AK21:$BL21,MATCH(AI$20,熱需要量算定・原単位!$AK$5:$BL$5,0)),0)*AI$25/100","v":{"$error":"#N/A"}},{"$f":"IFERROR(INDEX(熱需要量算定・原単位!$AK21:$BL21,MATCH(AJ$20,熱需要量算定・原単位!$AK$5:$BL$5,0)),0)*AJ$25/100","v":{"$error":"#N/A"}},{"$f":"IFERROR(INDEX(熱需要量算定・原単位!$AK21:$BL21,MATCH(AK$20,熱需要量算定・原単位!$AK$5:$BL$5,0)),0)*AK$25/100","v":{"$error":"#N/A"}},{"$f":"IFERROR(INDEX(熱需要量算定・原単位!$AK21:$BL21,MATCH(AL$20,熱需要量算定・原単位!$AK$5:$BL$5,0)),0)*AL$25/100","v":{"$error":"#N/A"}},{"$f":"IFERROR(INDEX(熱需要量算定・原単位!$AK21:$BL21,MATCH(AM$20,熱需要量算定・原単位!$AK$5:$BL$5,0)),0)*AM$25/100","v":{"$error":"#N/A"}},{"$f":"IFERROR(INDEX(熱需要量算定・原単位!$AK21:$BL21,MATCH(AN$20,熱需要量算定・原単位!$AK$5:$BL$5,0)),0)*AN$25/100","v":{"$error":"#N/A"}},{"$f":"IFERROR(INDEX(熱需要量算定・原単位!$AK21:$BL21,MATCH(AO$20,熱需要量算定・原単位!$AK$5:$BL$5,0)),0)*AO$25/100","v":{"$error":"#N/A"}},{"$f":"IFERROR(INDEX(熱需要量算定・原単位!$AK21:$BL21,MATCH(AP$20,熱需要量算定・原単位!$AK$5:$BL$5,0)),0)*AP$25/100","v":{"$error":"#N/A"}}]
[null,14,{"$f":"IFERROR(INDEX(熱需要量算定・原単位!$AK22:$BL22,MATCH(C$20,熱需要量算定・原単位!$AK$5:$BL$5,0)),0)*C$25/100","v":{"$error":"#N/A"}},{"$f":"IFERROR(INDEX(熱需要量算定・原単位!$AK22:$BL22,MATCH(D$20,熱需要量算定・原単位!$AK$5:$BL$5,0)),0)*D$25/100","v":{"$error":"#N/A"}},{"$f":"IFERROR(INDEX(熱需要量算定・原単位!$AK22:$BL22,MATCH(E$20,熱需要量算定・原単位!$AK$5:$BL$5,0)),0)*E$25/100","v":{"$error":"#N/A"}},{"$f":"IFERROR(INDEX(熱需要量算定・原単位!$AK22:$BL22,MATCH(F$20,熱需要量算定・原単位!$AK$5:$BL$5,0)),0)*F$25/100","v":{"$error":"#N/A"}},{"$f":"IFERROR(INDEX(熱需要量算定・原単位!$AK22:$BL22,MATCH(G$20,熱需要量算定・原単位!$AK$5:$BL$5,0)),0)*G$25/100","v":{"$error":"#N/A"}},{"$f":"IFERROR(INDEX(熱需要量算定・原単位!$AK22:$BL22,MATCH(H$20,熱需要量算定・原単位!$AK$5:$BL$5,0)),0)*H$25/100","v":{"$error":"#N/A"}},{"$f":"IFERROR(INDEX(熱需要量算定・原単位!$AK22:$BL22,MATCH(I$20,熱需要量算定・原単位!$AK$5:$BL$5,0)),0)*I$25/100","v":{"$error":"#N/A"}},{"$f":"IFERROR(INDEX(熱需要量算定・原単位!$AK22:$BL22,MATCH(J$20,熱需要量算定・原単位!$AK$5:$BL$5,0)),0)*J$25/100","v":{"$error":"#N/A"}},{"$f":"IFERROR(INDEX(熱需要量算定・原単位!$AK22:$BL22,MATCH(K$20,熱需要量算定・原単位!$AK$5:$BL$5,0)),0)*K$25/100","v":{"$error":"#N/A"}},{"$f":"IFERROR(INDEX(熱需要量算定・原単位!$AK22:$BL22,MATCH(L$20,熱需要量算定・原単位!$AK$5:$BL$5,0)),0)*L$25/100","v":{"$error":"#N/A"}},{"$f":"IFERROR(INDEX(熱需要量算定・原単位!$AK22:$BL22,MATCH(M$20,熱需要量算定・原単位!$AK$5:$BL$5,0)),0)*M$25/100","v":{"$error":"#N/A"}},{"$f":"IFERROR(INDEX(熱需要量算定・原単位!$AK22:$BL22,MATCH(N$20,熱需要量算定・原単位!$AK$5:$BL$5,0)),0)*N$25/100","v":{"$error":"#N/A"}},null,14,{"$f":"IFERROR(INDEX(熱需要量算定・原単位!$AK22:$BL22,MATCH(Q$20,熱需要量算定・原単位!$AK$5:$BL$5,0)),0)*Q$25/100","v":{"$error":"#N/A"}},{"$f":"IFERROR(INDEX(熱需要量算定・原単位!$AK22:$BL22,MATCH(R$20,熱需要量算定・原単位!$AK$5:$BL$5,0)),0)*R$25/100","v":{"$error":"#N/A"}},{"$f":"IFERROR(INDEX(熱需要量算定・原単位!$AK22:$BL22,MATCH(S$20,熱需要量算定・原単位!$AK$5:$BL$5,0)),0)*S$25/100","v":{"$error":"#N/A"}},{"$f":"IFERROR(INDEX(熱需要量算定・原単位!$AK22:$BL22,MATCH(T$20,熱需要量算定・原単位!$AK$5:$BL$5,0)),0)*T$25/100","v":{"$error":"#N/A"}},{"$f":"IFERROR(INDEX(熱需要量算定・原単位!$AK22:$BL22,MATCH(U$20,熱需要量算定・原単位!$AK$5:$BL$5,0)),0)*U$25/100","v":{"$error":"#N/A"}},{"$f":"IFERROR(INDEX(熱需要量算定・原単位!$AK22:$BL22,MATCH(V$20,熱需要量算定・原単位!$AK$5:$BL$5,0)),0)*V$25/100","v":{"$error":"#N/A"}},{"$f":"IFERROR(INDEX(熱需要量算定・原単位!$AK22:$BL22,MATCH(W$20,熱需要量算定・原単位!$AK$5:$BL$5,0)),0)*W$25/100","v":{"$error":"#N/A"}},{"$f":"IFERROR(INDEX(熱需要量算定・原単位!$AK22:$BL22,MATCH(X$20,熱需要量算定・原単位!$AK$5:$BL$5,0)),0)*X$25/100","v":{"$error":"#N/A"}},{"$f":"IFERROR(INDEX(熱需要量算定・原単位!$AK22:$BL22,MATCH(Y$20,熱需要量算定・原単位!$AK$5:$BL$5,0)),0)*Y$25/100","v":{"$error":"#N/A"}},{"$f":"IFERROR(INDEX(熱需要量算定・原単位!$AK22:$BL22,MATCH(Z$20,熱需要量算定・原単位!$AK$5:$BL$5,0)),0)*Z$25/100","v":{"$error":"#N/A"}},{"$f":"IFERROR(INDEX(熱需要量算定・原単位!$AK22:$BL22,MATCH(AA$20,熱需要量算定・原単位!$AK$5:$BL$5,0)),0)*AA$25/100","v":{"$error":"#N/A"}},{"$f":"IFERROR(INDEX(熱需要量算定・原単位!$AK22:$BL22,MATCH(AB$20,熱需要量算定・原単位!$AK$5:$BL$5,0)),0)*AB$25/100","v":{"$error":"#N/A"}},null,14,{"$f":"IFERROR(INDEX(熱需要量算定・原単位!$AK22:$BL22,MATCH(AE$20,熱需要量算定・原単位!$AK$5:$BL$5,0)),0)*AE$25/100","v":{"$error":"#N/A"}},{"$f":"IFERROR(INDEX(熱需要量算定・原単位!$AK22:$BL22,MATCH(AF$20,熱需要量算定・原単位!$AK$5:$BL$5,0)),0)*AF$25/100","v":{"$error":"#N/A"}},{"$f":"IFERROR(INDEX(熱需要量算定・原単位!$AK22:$BL22,MATCH(AG$20,熱需要量算定・原単位!$AK$5:$BL$5,0)),0)*AG$25/100","v":{"$error":"#N/A"}},{"$f":"IFERROR(INDEX(熱需要量算定・原単位!$AK22:$BL22,MATCH(AH$20,熱需要量算定・原単位!$AK$5:$BL$5,0)),0)*AH$25/100","v":{"$error":"#N/A"}},{"$f":"IFERROR(INDEX(熱需要量算定・原単位!$AK22:$BL22,MATCH(AI$20,熱需要量算定・原単位!$AK$5:$BL$5,0)),0)*AI$25/100","v":{"$error":"#N/A"}},{"$f":"IFERROR(INDEX(熱需要量算定・原単位!$AK22:$BL22,MATCH(AJ$20,熱需要量算定・原単位!$AK$5:$BL$5,0)),0)*AJ$25/100","v":{"$error":"#N/A"}},{"$f":"IFERROR(INDEX(熱需要量算定・原単位!$AK22:$BL22,MATCH(AK$20,熱需要量算定・原単位!$AK$5:$BL$5,0)),0)*AK$25/100","v":{"$error":"#N/A"}},{"$f":"IFERROR(INDEX(熱需要量算定・原単位!$AK22:$BL22,MATCH(AL$20,熱需要量算定・原単位!$AK$5:$BL$5,0)),0)*AL$25/100","v":{"$error":"#N/A"}},{"$f":"IFERROR(INDEX(熱需要量算定・原単位!$AK22:$BL22,MATCH(AM$20,熱需要量算定・原単位!$AK$5:$BL$5,0)),0)*AM$25/100","v":{"$error":"#N/A"}},{"$f":"IFERROR(INDEX(熱需要量算定・原単位!$AK22:$BL22,MATCH(AN$20,熱需要量算定・原単位!$AK$5:$BL$5,0)),0)*AN$25/100","v":{"$error":"#N/A"}},{"$f":"IFERROR(INDEX(熱需要量算定・原単位!$AK22:$BL22,MATCH(AO$20,熱需要量算定・原単位!$AK$5:$BL$5,0)),0)*AO$25/100","v":{"$error":"#N/A"}},{"$f":"IFERROR(INDEX(熱需要量算定・原単位!$AK22:$BL22,MATCH(AP$20,熱需要量算定・原単位!$AK$5:$BL$5,0)),0)*AP$25/100","v":{"$error":"#N/A"}}]
[null,15,{"$f":"IFERROR(INDEX(熱需要量算定・原単位!$AK23:$BL23,MATCH(C$20,熱需要量算定・原単位!$AK$5:$BL$5,0)),0)*C$25/100","v":{"$error":"#N/A"}},{"$f":"IFERROR(INDEX(熱需要量算定・原単位!$AK23:$BL23,MATCH(D$20,熱需要量算定・原単位!$AK$5:$BL$5,0)),0)*D$25/100","v":{"$error":"#N/A"}},{"$f":"IFERROR(INDEX(熱需要量算定・原単位!$AK23:$BL23,MATCH(E$20,熱需要量算定・原単位!$AK$5:$BL$5,0)),0)*E$25/100","v":{"$error":"#N/A"}},{"$f":"IFERROR(INDEX(熱需要量算定・原単位!$AK23:$BL23,MATCH(F$20,熱需要量算定・原単位!$AK$5:$BL$5,0)),0)*F$25/100","v":{"$error":"#N/A"}},{"$f":"IFERROR(INDEX(熱需要量算定・原単位!$AK23:$BL23,MATCH(G$20,熱需要量算定・原単位!$AK$5:$BL$5,0)),0)*G$25/100","v":{"$error":"#N/A"}},{"$f":"IFERROR(INDEX(熱需要量算定・原単位!$AK23:$BL23,MATCH(H$20,熱需要量算定・原単位!$AK$5:$BL$5,0)),0)*H$25/100","v":{"$error":"#N/A"}},{"$f":"IFERROR(INDEX(熱需要量算定・原単位!$AK23:$BL23,MATCH(I$20,熱需要量算定・原単位!$AK$5:$BL$5,0)),0)*I$25/100","v":{"$error":"#N/A"}},{"$f":"IFERROR(INDEX(熱需要量算定・原単位!$AK23:$BL23,MATCH(J$20,熱需要量算定・原単位!$AK$5:$BL$5,0)),0)*J$25/100","v":{"$error":"#N/A"}},{"$f":"IFERROR(INDEX(熱需要量算定・原単位!$AK23:$BL23,MATCH(K$20,熱需要量算定・原単位!$AK$5:$BL$5,0)),0)*K$25/100","v":{"$error":"#N/A"}},{"$f":"IFERROR(INDEX(熱需要量算定・原単位!$AK23:$BL23,MATCH(L$20,熱需要量算定・原単位!$AK$5:$BL$5,0)),0)*L$25/100","v":{"$error":"#N/A"}},{"$f":"IFERROR(INDEX(熱需要量算定・原単位!$AK23:$BL23,MATCH(M$20,熱需要量算定・原単位!$AK$5:$BL$5,0)),0)*M$25/100","v":{"$error":"#N/A"}},{"$f":"IFERROR(INDEX(熱需要量算定・原単位!$AK23:$BL23,MATCH(N$20,熱需要量算定・原単位!$AK$5:$BL$5,0)),0)*N$25/100","v":{"$error":"#N/A"}},null,15,{"$f":"IFERROR(INDEX(熱需要量算定・原単位!$AK23:$BL23,MATCH(Q$20,熱需要量算定・原単位!$AK$5:$BL$5,0)),0)*Q$25/100","v":{"$error":"#N/A"}},{"$f":"IFERROR(INDEX(熱需要量算定・原単位!$AK23:$BL23,MATCH(R$20,熱需要量算定・原単位!$AK$5:$BL$5,0)),0)*R$25/100","v":{"$error":"#N/A"}},{"$f":"IFERROR(INDEX(熱需要量算定・原単位!$AK23:$BL23,MATCH(S$20,熱需要量算定・原単位!$AK$5:$BL$5,0)),0)*S$25/100","v":{"$error":"#N/A"}},{"$f":"IFERROR(INDEX(熱需要量算定・原単位!$AK23:$BL23,MATCH(T$20,熱需要量算定・原単位!$AK$5:$BL$5,0)),0)*T$25/100","v":{"$error":"#N/A"}},{"$f":"IFERROR(INDEX(熱需要量算定・原単位!$AK23:$BL23,MATCH(U$20,熱需要量算定・原単位!$AK$5:$BL$5,0)),0)*U$25/100","v":{"$error":"#N/A"}},{"$f":"IFERROR(INDEX(熱需要量算定・原単位!$AK23:$BL23,MATCH(V$20,熱需要量算定・原単位!$AK$5:$BL$5,0)),0)*V$25/100","v":{"$error":"#N/A"}},{"$f":"IFERROR(INDEX(熱需要量算定・原単位!$AK23:$BL23,MATCH(W$20,熱需要量算定・原単位!$AK$5:$BL$5,0)),0)*W$25/100","v":{"$error":"#N/A"}},{"$f":"IFERROR(INDEX(熱需要量算定・原単位!$AK23:$BL23,MATCH(X$20,熱需要量算定・原単位!$AK$5:$BL$5,0)),0)*X$25/100","v":{"$error":"#N/A"}},{"$f":"IFERROR(INDEX(熱需要量算定・原単位!$AK23:$BL23,MATCH(Y$20,熱需要量算定・原単位!$AK$5:$BL$5,0)),0)*Y$25/100","v":{"$error":"#N/A"}},{"$f":"IFERROR(INDEX(熱需要量算定・原単位!$AK23:$BL23,MATCH(Z$20,熱需要量算定・原単位!$AK$5:$BL$5,0)),0)*Z$25/100","v":{"$error":"#N/A"}},{"$f":"IFERROR(INDEX(熱需要量算定・原単位!$AK23:$BL23,MATCH(AA$20,熱需要量算定・原単位!$AK$5:$BL$5,0)),0)*AA$25/100","v":{"$error":"#N/A"}},{"$f":"IFERROR(INDEX(熱需要量算定・原単位!$AK23:$BL23,MATCH(AB$20,熱需要量算定・原単位!$AK$5:$BL$5,0)),0)*AB$25/100","v":{"$error":"#N/A"}},null,15,{"$f":"IFERROR(INDEX(熱需要量算定・原単位!$AK23:$BL23,MATCH(AE$20,熱需要量算定・原単位!$AK$5:$BL$5,0)),0)*AE$25/100","v":{"$error":"#N/A"}},{"$f":"IFERROR(INDEX(熱需要量算定・原単位!$AK23:$BL23,MATCH(AF$20,熱需要量算定・原単位!$AK$5:$BL$5,0)),0)*AF$25/100","v":{"$error":"#N/A"}},{"$f":"IFERROR(INDEX(熱需要量算定・原単位!$AK23:$BL23,MATCH(AG$20,熱需要量算定・原単位!$AK$5:$BL$5,0)),0)*AG$25/100","v":{"$error":"#N/A"}},{"$f":"IFERROR(INDEX(熱需要量算定・原単位!$AK23:$BL23,MATCH(AH$20,熱需要量算定・原単位!$AK$5:$BL$5,0)),0)*AH$25/100","v":{"$error":"#N/A"}},{"$f":"IFERROR(INDEX(熱需要量算定・原単位!$AK23:$BL23,MATCH(AI$20,熱需要量算定・原単位!$AK$5:$BL$5,0)),0)*AI$25/100","v":{"$error":"#N/A"}},{"$f":"IFERROR(INDEX(熱需要量算定・原単位!$AK23:$BL23,MATCH(AJ$20,熱需要量算定・原単位!$AK$5:$BL$5,0)),0)*AJ$25/100","v":{"$error":"#N/A"}},{"$f":"IFERROR(INDEX(熱需要量算定・原単位!$AK23:$BL23,MATCH(AK$20,熱需要量算定・原単位!$AK$5:$BL$5,0)),0)*AK$25/100","v":{"$error":"#N/A"}},{"$f":"IFERROR(INDEX(熱需要量算定・原単位!$AK23:$BL23,MATCH(AL$20,熱需要量算定・原単位!$AK$5:$BL$5,0)),0)*AL$25/100","v":{"$error":"#N/A"}},{"$f":"IFERROR(INDEX(熱需要量算定・原単位!$AK23:$BL23,MATCH(AM$20,熱需要量算定・原単位!$AK$5:$BL$5,0)),0)*AM$25/100","v":{"$error":"#N/A"}},{"$f":"IFERROR(INDEX(熱需要量算定・原単位!$AK23:$BL23,MATCH(AN$20,熱需要量算定・原単位!$AK$5:$BL$5,0)),0)*AN$25/100","v":{"$error":"#N/A"}},{"$f":"IFERROR(INDEX(熱需要量算定・原単位!$AK23:$BL23,MATCH(AO$20,熱需要量算定・原単位!$AK$5:$BL$5,0)),0)*AO$25/100","v":{"$error":"#N/A"}},{"$f":"IFERROR(INDEX(熱需要量算定・原単位!$AK23:$BL23,MATCH(AP$20,熱需要量算定・原単位!$AK$5:$BL$5,0)),0)*AP$25/100","v":{"$error":"#N/A"}}]
[null,16,{"$f":"IFERROR(INDEX(熱需要量算定・原単位!$AK24:$BL24,MATCH(C$20,熱需要量算定・原単位!$AK$5:$BL$5,0)),0)*C$25/100","v":{"$error":"#N/A"}},{"$f":"IFERROR(INDEX(熱需要量算定・原単位!$AK24:$BL24,MATCH(D$20,熱需要量算定・原単位!$AK$5:$BL$5,0)),0)*D$25/100","v":{"$error":"#N/A"}},{"$f":"IFERROR(INDEX(熱需要量算定・原単位!$AK24:$BL24,MATCH(E$20,熱需要量算定・原単位!$AK$5:$BL$5,0)),0)*E$25/100","v":{"$error":"#N/A"}},{"$f":"IFERROR(INDEX(熱需要量算定・原単位!$AK24:$BL24,MATCH(F$20,熱需要量算定・原単位!$AK$5:$BL$5,0)),0)*F$25/100","v":{"$error":"#N/A"}},{"$f":"IFERROR(INDEX(熱需要量算定・原単位!$AK24:$BL24,MATCH(G$20,熱需要量算定・原単位!$AK$5:$BL$5,0)),0)*G$25/100","v":{"$error":"#N/A"}},{"$f":"IFERROR(INDEX(熱需要量算定・原単位!$AK24:$BL24,MATCH(H$20,熱需要量算定・原単位!$AK$5:$BL$5,0)),0)*H$25/100","v":{"$error":"#N/A"}},{"$f":"IFERROR(INDEX(熱需要量算定・原単位!$AK24:$BL24,MATCH(I$20,熱需要量算定・原単位!$AK$5:$BL$5,0)),0)*I$25/100","v":{"$error":"#N/A"}},{"$f":"IFERROR(INDEX(熱需要量算定・原単位!$AK24:$BL24,MATCH(J$20,熱需要量算定・原単位!$AK$5:$BL$5,0)),0)*J$25/100","v":{"$error":"#N/A"}},{"$f":"IFERROR(INDEX(熱需要量算定・原単位!$AK24:$BL24,MATCH(K$20,熱需要量算定・原単位!$AK$5:$BL$5,0)),0)*K$25/100","v":{"$error":"#N/A"}},{"$f":"IFERROR(INDEX(熱需要量算定・原単位!$AK24:$BL24,MATCH(L$20,熱需要量算定・原単位!$AK$5:$BL$5,0)),0)*L$25/100","v":{"$error":"#N/A"}},{"$f":"IFERROR(INDEX(熱需要量算定・原単位!$AK24:$BL24,MATCH(M$20,熱需要量算定・原単位!$AK$5:$BL$5,0)),0)*M$25/100","v":{"$error":"#N/A"}},{"$f":"IFERROR(INDEX(熱需要量算定・原単位!$AK24:$BL24,MATCH(N$20,熱需要量算定・原単位!$AK$5:$BL$5,0)),0)*N$25/100","v":{"$error":"#N/A"}},null,16,{"$f":"IFERROR(INDEX(熱需要量算定・原単位!$AK24:$BL24,MATCH(Q$20,熱需要量算定・原単位!$AK$5:$BL$5,0)),0)*Q$25/100","v":{"$error":"#N/A"}},{"$f":"IFERROR(INDEX(熱需要量算定・原単位!$AK24:$BL24,MATCH(R$20,熱需要量算定・原単位!$AK$5:$BL$5,0)),0)*R$25/100","v":{"$error":"#N/A"}},{"$f":"IFERROR(INDEX(熱需要量算定・原単位!$AK24:$BL24,MATCH(S$20,熱需要量算定・原単位!$AK$5:$BL$5,0)),0)*S$25/100","v":{"$error":"#N/A"}},{"$f":"IFERROR(INDEX(熱需要量算定・原単位!$AK24:$BL24,MATCH(T$20,熱需要量算定・原単位!$AK$5:$BL$5,0)),0)*T$25/100","v":{"$error":"#N/A"}},{"$f":"IFERROR(INDEX(熱需要量算定・原単位!$AK24:$BL24,MATCH(U$20,熱需要量算定・原単位!$AK$5:$BL$5,0)),0)*U$25/100","v":{"$error":"#N/A"}},{"$f":"IFERROR(INDEX(熱需要量算定・原単位!$AK24:$BL24,MATCH(V$20,熱需要量算定・原単位!$AK$5:$BL$5,0)),0)*V$25/100","v":{"$error":"#N/A"}},{"$f":"IFERROR(INDEX(熱需要量算定・原単位!$AK24:$BL24,MATCH(W$20,熱需要量算定・原単位!$AK$5:$BL$5,0)),0)*W$25/100","v":{"$error":"#N/A"}},{"$f":"IFERROR(INDEX(熱需要量算定・原単位!$AK24:$BL24,MATCH(X$20,熱需要量算定・原単位!$AK$5:$BL$5,0)),0)*X$25/100","v":{"$error":"#N/A"}},{"$f":"IFERROR(INDEX(熱需要量算定・原単位!$AK24:$BL24,MATCH(Y$20,熱需要量算定・原単位!$AK$5:$BL$5,0)),0)*Y$25/100","v":{"$error":"#N/A"}},{"$f":"IFERROR(INDEX(熱需要量算定・原単位!$AK24:$BL24,MATCH(Z$20,熱需要量算定・原単位!$AK$5:$BL$5,0)),0)*Z$25/100","v":{"$error":"#N/A"}},{"$f":"IFERROR(INDEX(熱需要量算定・原単位!$AK24:$BL24,MATCH(AA$20,熱需要量算定・原単位!$AK$5:$BL$5,0)),0)*AA$25/100","v":{"$error":"#N/A"}},{"$f":"IFERROR(INDEX(熱需要量算定・原単位!$AK24:$BL24,MATCH(AB$20,熱需要量算定・原単位!$AK$5:$BL$5,0)),0)*AB$25/100","v":{"$error":"#N/A"}},null,16,{"$f":"IFERROR(INDEX(熱需要量算定・原単位!$AK24:$BL24,MATCH(AE$20,熱需要量算定・原単位!$AK$5:$BL$5,0)),0)*AE$25/100","v":{"$error":"#N/A"}},{"$f":"IFERROR(INDEX(熱需要量算定・原単位!$AK24:$BL24,MATCH(AF$20,熱需要量算定・原単位!$AK$5:$BL$5,0)),0)*AF$25/100","v":{"$error":"#N/A"}},{"$f":"IFERROR(INDEX(熱需要量算定・原単位!$AK24:$BL24,MATCH(AG$20,熱需要量算定・原単位!$AK$5:$BL$5,0)),0)*AG$25/100","v":{"$error":"#N/A"}},{"$f":"IFERROR(INDEX(熱需要量算定・原単位!$AK24:$BL24,MATCH(AH$20,熱需要量算定・原単位!$AK$5:$BL$5,0)),0)*AH$25/100","v":{"$error":"#N/A"}},{"$f":"IFERROR(INDEX(熱需要量算定・原単位!$AK24:$BL24,MATCH(AI$20,熱需要量算定・原単位!$AK$5:$BL$5,0)),0)*AI$25/100","v":{"$error":"#N/A"}},{"$f":"IFERROR(INDEX(熱需要量算定・原単位!$AK24:$BL24,MATCH(AJ$20,熱需要量算定・原単位!$AK$5:$BL$5,0)),0)*AJ$25/100","v":{"$error":"#N/A"}},{"$f":"IFERROR(INDEX(熱需要量算定・原単位!$AK24:$BL24,MATCH(AK$20,熱需要量算定・原単位!$AK$5:$BL$5,0)),0)*AK$25/100","v":{"$error":"#N/A"}},{"$f":"IFERROR(INDEX(熱需要量算定・原単位!$AK24:$BL24,MATCH(AL$20,熱需要量算定・原単位!$AK$5:$BL$5,0)),0)*AL$25/100","v":{"$error":"#N/A"}},{"$f":"IFERROR(INDEX(熱需要量算定・原単位!$AK24:$BL24,MATCH(AM$20,熱需要量算定・原単位!$AK$5:$BL$5,0)),0)*AM$25/100","v":{"$error":"#N/A"}},{"$f":"IFERROR(INDEX(熱需要量算定・原単位!$AK24:$BL24,MATCH(AN$20,熱需要量算定・原単位!$AK$5:$BL$5,0)),0)*AN$25/100","v":{"$error":"#N/A"}},{"$f":"IFERROR(INDEX(熱需要量算定・原単位!$AK24:$BL24,MATCH(AO$20,熱需要量算定・原単位!$AK$5:$BL$5,0)),0)*AO$25/100","v":{"$error":"#N/A"}},{"$f":"IFERROR(INDEX(熱需要量算定・原単位!$AK24:$BL24,MATCH(AP$20,熱需要量算定・原単位!$AK$5:$BL$5,0)),0)*AP$25/100","v":{"$error":"#N/A"}}]
[null,17,{"$f":"IFERROR(INDEX(熱需要量算定・原単位!$AK25:$BL25,MATCH(C$20,熱需要量算定・原単位!$AK$5:$BL$5,0)),0)*C$25/100","v":{"$error":"#N/A"}},{"$f":"IFERROR(INDEX(熱需要量算定・原単位!$AK25:$BL25,MATCH(D$20,熱需要量算定・原単位!$AK$5:$BL$5,0)),0)*D$25/100","v":{"$error":"#N/A"}},{"$f":"IFERROR(INDEX(熱需要量算定・原単位!$AK25:$BL25,MATCH(E$20,熱需要量算定・原単位!$AK$5:$BL$5,0)),0)*E$25/100","v":{"$error":"#N/A"}},{"$f":"IFERROR(INDEX(熱需要量算定・原単位!$AK25:$BL25,MATCH(F$20,熱需要量算定・原単位!$AK$5:$BL$5,0)),0)*F$25/100","v":{"$error":"#N/A"}},{"$f":"IFERROR(INDEX(熱需要量算定・原単位!$AK25:$BL25,MATCH(G$20,熱需要量算定・原単位!$AK$5:$BL$5,0)),0)*G$25/100","v":{"$error":"#N/A"}},{"$f":"IFERROR(INDEX(熱需要量算定・原単位!$AK25:$BL25,MATCH(H$20,熱需要量算定・原単位!$AK$5:$BL$5,0)),0)*H$25/100","v":{"$error":"#N/A"}},{"$f":"IFERROR(INDEX(熱需要量算定・原単位!$AK25:$BL25,MATCH(I$20,熱需要量算定・原単位!$AK$5:$BL$5,0)),0)*I$25/100","v":{"$error":"#N/A"}},{"$f":"IFERROR(INDEX(熱需要量算定・原単位!$AK25:$BL25,MATCH(J$20,熱需要量算定・原単位!$AK$5:$BL$5,0)),0)*J$25/100","v":{"$error":"#N/A"}},{"$f":"IFERROR(INDEX(熱需要量算定・原単位!$AK25:$BL25,MATCH(K$20,熱需要量算定・原単位!$AK$5:$BL$5,0)),0)*K$25/100","v":{"$error":"#N/A"}},{"$f":"IFERROR(INDEX(熱需要量算定・原単位!$AK25:$BL25,MATCH(L$20,熱需要量算定・原単位!$AK$5:$BL$5,0)),0)*L$25/100","v":{"$error":"#N/A"}},{"$f":"IFERROR(INDEX(熱需要量算定・原単位!$AK25:$BL25,MATCH(M$20,熱需要量算定・原単位!$AK$5:$BL$5,0)),0)*M$25/100","v":{"$error":"#N/A"}},{"$f":"IFERROR(INDEX(熱需要量算定・原単位!$AK25:$BL25,MATCH(N$20,熱需要量算定・原単位!$AK$5:$BL$5,0)),0)*N$25/100","v":{"$error":"#N/A"}},null,17,{"$f":"IFERROR(INDEX(熱需要量算定・原単位!$AK25:$BL25,MATCH(Q$20,熱需要量算定・原単位!$AK$5:$BL$5,0)),0)*Q$25/100","v":{"$error":"#N/A"}},{"$f":"IFERROR(INDEX(熱需要量算定・原単位!$AK25:$BL25,MATCH(R$20,熱需要量算定・原単位!$AK$5:$BL$5,0)),0)*R$25/100","v":{"$error":"#N/A"}},{"$f":"IFERROR(INDEX(熱需要量算定・原単位!$AK25:$BL25,MATCH(S$20,熱需要量算定・原単位!$AK$5:$BL$5,0)),0)*S$25/100","v":{"$error":"#N/A"}},{"$f":"IFERROR(INDEX(熱需要量算定・原単位!$AK25:$BL25,MATCH(T$20,熱需要量算定・原単位!$AK$5:$BL$5,0)),0)*T$25/100","v":{"$error":"#N/A"}},{"$f":"IFERROR(INDEX(熱需要量算定・原単位!$AK25:$BL25,MATCH(U$20,熱需要量算定・原単位!$AK$5:$BL$5,0)),0)*U$25/100","v":{"$error":"#N/A"}},{"$f":"IFERROR(INDEX(熱需要量算定・原単位!$AK25:$BL25,MATCH(V$20,熱需要量算定・原単位!$AK$5:$BL$5,0)),0)*V$25/100","v":{"$error":"#N/A"}},{"$f":"IFERROR(INDEX(熱需要量算定・原単位!$AK25:$BL25,MATCH(W$20,熱需要量算定・原単位!$AK$5:$BL$5,0)),0)*W$25/100","v":{"$error":"#N/A"}},{"$f":"IFERROR(INDEX(熱需要量算定・原単位!$AK25:$BL25,MATCH(X$20,熱需要量算定・原単位!$AK$5:$BL$5,0)),0)*X$25/100","v":{"$error":"#N/A"}},{"$f":"IFERROR(INDEX(熱需要量算定・原単位!$AK25:$BL25,MATCH(Y$20,熱需要量算定・原単位!$AK$5:$BL$5,0)),0)*Y$25/100","v":{"$error":"#N/A"}},{"$f":"IFERROR(INDEX(熱需要量算定・原単位!$AK25:$BL25,MATCH(Z$20,熱需要量算定・原単位!$AK$5:$BL$5,0)),0)*Z$25/100","v":{"$error":"#N/A"}},{"$f":"IFERROR(INDEX(熱需要量算定・原単位!$AK25:$BL25,MATCH(AA$20,熱需要量算定・原単位!$AK$5:$BL$5,0)),0)*AA$25/100","v":{"$error":"#N/A"}},{"$f":"IFERROR(INDEX(熱需要量算定・原単位!$AK25:$BL25,MATCH(AB$20,熱需要量算定・原単位!$AK$5:$BL$5,0)),0)*AB$25/100","v":{"$error":"#N/A"}},null,17,{"$f":"IFERROR(INDEX(熱需要量算定・原単位!$AK25:$BL25,MATCH(AE$20,熱需要量算定・原単位!$AK$5:$BL$5,0)),0)*AE$25/100","v":{"$error":"#N/A"}},{"$f":"IFERROR(INDEX(熱需要量算定・原単位!$AK25:$BL25,MATCH(AF$20,熱需要量算定・原単位!$AK$5:$BL$5,0)),0)*AF$25/100","v":{"$error":"#N/A"}},{"$f":"IFERROR(INDEX(熱需要量算定・原単位!$AK25:$BL25,MATCH(AG$20,熱需要量算定・原単位!$AK$5:$BL$5,0)),0)*AG$25/100","v":{"$error":"#N/A"}},{"$f":"IFERROR(INDEX(熱需要量算定・原単位!$AK25:$BL25,MATCH(AH$20,熱需要量算定・原単位!$AK$5:$BL$5,0)),0)*AH$25/100","v":{"$error":"#N/A"}},{"$f":"IFERROR(INDEX(熱需要量算定・原単位!$AK25:$BL25,MATCH(AI$20,熱需要量算定・原単位!$AK$5:$BL$5,0)),0)*AI$25/100","v":{"$error":"#N/A"}},{"$f":"IFERROR(INDEX(熱需要量算定・原単位!$AK25:$BL25,MATCH(AJ$20,熱需要量算定・原単位!$AK$5:$BL$5,0)),0)*AJ$25/100","v":{"$error":"#N/A"}},{"$f":"IFERROR(INDEX(熱需要量算定・原単位!$AK25:$BL25,MATCH(AK$20,熱需要量算定・原単位!$AK$5:$BL$5,0)),0)*AK$25/100","v":{"$error":"#N/A"}},{"$f":"IFERROR(INDEX(熱需要量算定・原単位!$AK25:$BL25,MATCH(AL$20,熱需要量算定・原単位!$AK$5:$BL$5,0)),0)*AL$25/100","v":{"$error":"#N/A"}},{"$f":"IFERROR(INDEX(熱需要量算定・原単位!$AK25:$BL25,MATCH(AM$20,熱需要量算定・原単位!$AK$5:$BL$5,0)),0)*AM$25/100","v":{"$error":"#N/A"}},{"$f":"IFERROR(INDEX(熱需要量算定・原単位!$AK25:$BL25,MATCH(AN$20,熱需要量算定・原単位!$AK$5:$BL$5,0)),0)*AN$25/100","v":{"$error":"#N/A"}},{"$f":"IFERROR(INDEX(熱需要量算定・原単位!$AK25:$BL25,MATCH(AO$20,熱需要量算定・原単位!$AK$5:$BL$5,0)),0)*AO$25/100","v":{"$error":"#N/A"}},{"$f":"IFERROR(INDEX(熱需要量算定・原単位!$AK25:$BL25,MATCH(AP$20,熱需要量算定・原単位!$AK$5:$BL$5,0)),0)*AP$25/100","v":{"$error":"#N/A"}}]
[null,18,{"$f":"IFERROR(INDEX(熱需要量算定・原単位!$AK26:$BL26,MATCH(C$20,熱需要量算定・原単位!$AK$5:$BL$5,0)),0)*C$25/100","v":{"$error":"#N/A"}},{"$f":"IFERROR(INDEX(熱需要量算定・原単位!$AK26:$BL26,MATCH(D$20,熱需要量算定・原単位!$AK$5:$BL$5,0)),0)*D$25/100","v":{"$error":"#N/A"}},{"$f":"IFERROR(INDEX(熱需要量算定・原単位!$AK26:$BL26,MATCH(E$20,熱需要量算定・原単位!$AK$5:$BL$5,0)),0)*E$25/100","v":{"$error":"#N/A"}},{"$f":"IFERROR(INDEX(熱需要量算定・原単位!$AK26:$BL26,MATCH(F$20,熱需要量算定・原単位!$AK$5:$BL$5,0)),0)*F$25/100","v":{"$error":"#N/A"}},{"$f":"IFERROR(INDEX(熱需要量算定・原単位!$AK26:$BL26,MATCH(G$20,熱需要量算定・原単位!$AK$5:$BL$5,0)),0)*G$25/100","v":{"$error":"#N/A"}},{"$f":"IFERROR(INDEX(熱需要量算定・原単位!$AK26:$BL26,MATCH(H$20,熱需要量算定・原単位!$AK$5:$BL$5,0)),0)*H$25/100","v":{"$error":"#N/A"}},{"$f":"IFERROR(INDEX(熱需要量算定・原単位!$AK26:$BL26,MATCH(I$20,熱需要量算定・原単位!$AK$5:$BL$5,0)),0)*I$25/100","v":{"$error":"#N/A"}},{"$f":"IFERROR(INDEX(熱需要量算定・原単位!$AK26:$BL26,MATCH(J$20,熱需要量算定・原単位!$AK$5:$BL$5,0)),0)*J$25/100","v":{"$error":"#N/A"}},{"$f":"IFERROR(INDEX(熱需要量算定・原単位!$AK26:$BL26,MATCH(K$20,熱需要量算定・原単位!$AK$5:$BL$5,0)),0)*K$25/100","v":{"$error":"#N/A"}},{"$f":"IFERROR(INDEX(熱需要量算定・原単位!$AK26:$BL26,MATCH(L$20,熱需要量算定・原単位!$AK$5:$BL$5,0)),0)*L$25/100","v":{"$error":"#N/A"}},{"$f":"IFERROR(INDEX(熱需要量算定・原単位!$AK26:$BL26,MATCH(M$20,熱需要量算定・原単位!$AK$5:$BL$5,0)),0)*M$25/100","v":{"$error":"#N/A"}},{"$f":"IFERROR(INDEX(熱需要量算定・原単位!$AK26:$BL26,MATCH(N$20,熱需要量算定・原単位!$AK$5:$BL$5,0)),0)*N$25/100","v":{"$error":"#N/A"}},null,18,{"$f":"IFERROR(INDEX(熱需要量算定・原単位!$AK26:$BL26,MATCH(Q$20,熱需要量算定・原単位!$AK$5:$BL$5,0)),0)*Q$25/100","v":{"$error":"#N/A"}},{"$f":"IFERROR(INDEX(熱需要量算定・原単位!$AK26:$BL26,MATCH(R$20,熱需要量算定・原単位!$AK$5:$BL$5,0)),0)*R$25/100","v":{"$error":"#N/A"}},{"$f":"IFERROR(INDEX(熱需要量算定・原単位!$AK26:$BL26,MATCH(S$20,熱需要量算定・原単位!$AK$5:$BL$5,0)),0)*S$25/100","v":{"$error":"#N/A"}},{"$f":"IFERROR(INDEX(熱需要量算定・原単位!$AK26:$BL26,MATCH(T$20,熱需要量算定・原単位!$AK$5:$BL$5,0)),0)*T$25/100","v":{"$error":"#N/A"}},{"$f":"IFERROR(INDEX(熱需要量算定・原単位!$AK26:$BL26,MATCH(U$20,熱需要量算定・原単位!$AK$5:$BL$5,0)),0)*U$25/100","v":{"$error":"#N/A"}},{"$f":"IFERROR(INDEX(熱需要量算定・原単位!$AK26:$BL26,MATCH(V$20,熱需要量算定・原単位!$AK$5:$BL$5,0)),0)*V$25/100","v":{"$error":"#N/A"}},{"$f":"IFERROR(INDEX(熱需要量算定・原単位!$AK26:$BL26,MATCH(W$20,熱需要量算定・原単位!$AK$5:$BL$5,0)),0)*W$25/100","v":{"$error":"#N/A"}},{"$f":"IFERROR(INDEX(熱需要量算定・原単位!$AK26:$BL26,MATCH(X$20,熱需要量算定・原単位!$AK$5:$BL$5,0)),0)*X$25/100","v":{"$error":"#N/A"}},{"$f":"IFERROR(INDEX(熱需要量算定・原単位!$AK26:$BL26,MATCH(Y$20,熱需要量算定・原単位!$AK$5:$BL$5,0)),0)*Y$25/100","v":{"$error":"#N/A"}},{"$f":"IFERROR(INDEX(熱需要量算定・原単位!$AK26:$BL26,MATCH(Z$20,熱需要量算定・原単位!$AK$5:$BL$5,0)),0)*Z$25/100","v":{"$error":"#N/A"}},{"$f":"IFERROR(INDEX(熱需要量算定・原単位!$AK26:$BL26,MATCH(AA$20,熱需要量算定・原単位!$AK$5:$BL$5,0)),0)*AA$25/100","v":{"$error":"#N/A"}},{"$f":"IFERROR(INDEX(熱需要量算定・原単位!$AK26:$BL26,MATCH(AB$20,熱需要量算定・原単位!$AK$5:$BL$5,0)),0)*AB$25/100","v":{"$error":"#N/A"}},null,18,{"$f":"IFERROR(INDEX(熱需要量算定・原単位!$AK26:$BL26,MATCH(AE$20,熱需要量算定・原単位!$AK$5:$BL$5,0)),0)*AE$25/100","v":{"$error":"#N/A"}},{"$f":"IFERROR(INDEX(熱需要量算定・原単位!$AK26:$BL26,MATCH(AF$20,熱需要量算定・原単位!$AK$5:$BL$5,0)),0)*AF$25/100","v":{"$error":"#N/A"}},{"$f":"IFERROR(INDEX(熱需要量算定・原単位!$AK26:$BL26,MATCH(AG$20,熱需要量算定・原単位!$AK$5:$BL$5,0)),0)*AG$25/100","v":{"$error":"#N/A"}},{"$f":"IFERROR(INDEX(熱需要量算定・原単位!$AK26:$BL26,MATCH(AH$20,熱需要量算定・原単位!$AK$5:$BL$5,0)),0)*AH$25/100","v":{"$error":"#N/A"}},{"$f":"IFERROR(INDEX(熱需要量算定・原単位!$AK26:$BL26,MATCH(AI$20,熱需要量算定・原単位!$AK$5:$BL$5,0)),0)*AI$25/100","v":{"$error":"#N/A"}},{"$f":"IFERROR(INDEX(熱需要量算定・原単位!$AK26:$BL26,MATCH(AJ$20,熱需要量算定・原単位!$AK$5:$BL$5,0)),0)*AJ$25/100","v":{"$error":"#N/A"}},{"$f":"IFERROR(INDEX(熱需要量算定・原単位!$AK26:$BL26,MATCH(AK$20,熱需要量算定・原単位!$AK$5:$BL$5,0)),0)*AK$25/100","v":{"$error":"#N/A"}},{"$f":"IFERROR(INDEX(熱需要量算定・原単位!$AK26:$BL26,MATCH(AL$20,熱需要量算定・原単位!$AK$5:$BL$5,0)),0)*AL$25/100","v":{"$error":"#N/A"}},{"$f":"IFERROR(INDEX(熱需要量算定・原単位!$AK26:$BL26,MATCH(AM$20,熱需要量算定・原単位!$AK$5:$BL$5,0)),0)*AM$25/100","v":{"$error":"#N/A"}},{"$f":"IFERROR(INDEX(熱需要量算定・原単位!$AK26:$BL26,MATCH(AN$20,熱需要量算定・原単位!$AK$5:$BL$5,0)),0)*AN$25/100","v":{"$error":"#N/A"}},{"$f":"IFERROR(INDEX(熱需要量算定・原単位!$AK26:$BL26,MATCH(AO$20,熱需要量算定・原単位!$AK$5:$BL$5,0)),0)*AO$25/100","v":{"$error":"#N/A"}},{"$f":"IFERROR(INDEX(熱需要量算定・原単位!$AK26:$BL26,MATCH(AP$20,熱需要量算定・原単位!$AK$5:$BL$5,0)),0)*AP$25/100","v":{"$error":"#N/A"}}]
[null,19,{"$f":"IFERROR(INDEX(熱需要量算定・原単位!$AK27:$BL27,MATCH(C$20,熱需要量算定・原単位!$AK$5:$BL$5,0)),0)*C$25/100","v":{"$error":"#N/A"}},{"$f":"IFERROR(INDEX(熱需要量算定・原単位!$AK27:$BL27,MATCH(D$20,熱需要量算定・原単位!$AK$5:$BL$5,0)),0)*D$25/100","v":{"$error":"#N/A"}},{"$f":"IFERROR(INDEX(熱需要量算定・原単位!$AK27:$BL27,MATCH(E$20,熱需要量算定・原単位!$AK$5:$BL$5,0)),0)*E$25/100","v":{"$error":"#N/A"}},{"$f":"IFERROR(INDEX(熱需要量算定・原単位!$AK27:$BL27,MATCH(F$20,熱需要量算定・原単位!$AK$5:$BL$5,0)),0)*F$25/100","v":{"$error":"#N/A"}},{"$f":"IFERROR(INDEX(熱需要量算定・原単位!$AK27:$BL27,MATCH(G$20,熱需要量算定・原単位!$AK$5:$BL$5,0)),0)*G$25/100","v":{"$error":"#N/A"}},{"$f":"IFERROR(INDEX(熱需要量算定・原単位!$AK27:$BL27,MATCH(H$20,熱需要量算定・原単位!$AK$5:$BL$5,0)),0)*H$25/100","v":{"$error":"#N/A"}},{"$f":"IFERROR(INDEX(熱需要量算定・原単位!$AK27:$BL27,MATCH(I$20,熱需要量算定・原単位!$AK$5:$BL$5,0)),0)*I$25/100","v":{"$error":"#N/A"}},{"$f":"IFERROR(INDEX(熱需要量算定・原単位!$AK27:$BL27,MATCH(J$20,熱需要量算定・原単位!$AK$5:$BL$5,0)),0)*J$25/100","v":{"$error":"#N/A"}},{"$f":"IFERROR(INDEX(熱需要量算定・原単位!$AK27:$BL27,MATCH(K$20,熱需要量算定・原単位!$AK$5:$BL$5,0)),0)*K$25/100","v":{"$error":"#N/A"}},{"$f":"IFERROR(INDEX(熱需要量算定・原単位!$AK27:$BL27,MATCH(L$20,熱需要量算定・原単位!$AK$5:$BL$5,0)),0)*L$25/100","v":{"$error":"#N/A"}},{"$f":"IFERROR(INDEX(熱需要量算定・原単位!$AK27:$BL27,MATCH(M$20,熱需要量算定・原単位!$AK$5:$BL$5,0)),0)*M$25/100","v":{"$error":"#N/A"}},{"$f":"IFERROR(INDEX(熱需要量算定・原単位!$AK27:$BL27,MATCH(N$20,熱需要量算定・原単位!$AK$5:$BL$5,0)),0)*N$25/100","v":{"$error":"#N/A"}},null,19,{"$f":"IFERROR(INDEX(熱需要量算定・原単位!$AK27:$BL27,MATCH(Q$20,熱需要量算定・原単位!$AK$5:$BL$5,0)),0)*Q$25/100","v":{"$error":"#N/A"}},{"$f":"IFERROR(INDEX(熱需要量算定・原単位!$AK27:$BL27,MATCH(R$20,熱需要量算定・原単位!$AK$5:$BL$5,0)),0)*R$25/100","v":{"$error":"#N/A"}},{"$f":"IFERROR(INDEX(熱需要量算定・原単位!$AK27:$BL27,MATCH(S$20,熱需要量算定・原単位!$AK$5:$BL$5,0)),0)*S$25/100","v":{"$error":"#N/A"}},{"$f":"IFERROR(INDEX(熱需要量算定・原単位!$AK27:$BL27,MATCH(T$20,熱需要量算定・原単位!$AK$5:$BL$5,0)),0)*T$25/100","v":{"$error":"#N/A"}},{"$f":"IFERROR(INDEX(熱需要量算定・原単位!$AK27:$BL27,MATCH(U$20,熱需要量算定・原単位!$AK$5:$BL$5,0)),0)*U$25/100","v":{"$error":"#N/A"}},{"$f":"IFERROR(INDEX(熱需要量算定・原単位!$AK27:$BL27,MATCH(V$20,熱需要量算定・原単位!$AK$5:$BL$5,0)),0)*V$25/100","v":{"$error":"#N/A"}},{"$f":"IFERROR(INDEX(熱需要量算定・原単位!$AK27:$BL27,MATCH(W$20,熱需要量算定・原単位!$AK$5:$BL$5,0)),0)*W$25/100","v":{"$error":"#N/A"}},{"$f":"IFERROR(INDEX(熱需要量算定・原単位!$AK27:$BL27,MATCH(X$20,熱需要量算定・原単位!$AK$5:$BL$5,0)),0)*X$25/100","v":{"$error":"#N/A"}},{"$f":"IFERROR(INDEX(熱需要量算定・原単位!$AK27:$BL27,MATCH(Y$20,熱需要量算定・原単位!$AK$5:$BL$5,0)),0)*Y$25/100","v":{"$error":"#N/A"}},{"$f":"IFERROR(INDEX(熱需要量算定・原単位!$AK27:$BL27,MATCH(Z$20,熱需要量算定・原単位!$AK$5:$BL$5,0)),0)*Z$25/100","v":{"$error":"#N/A"}},{"$f":"IFERROR(INDEX(熱需要量算定・原単位!$AK27:$BL27,MATCH(AA$20,熱需要量算定・原単位!$AK$5:$BL$5,0)),0)*AA$25/100","v":{"$error":"#N/A"}},{"$f":"IFERROR(INDEX(熱需要量算定・原単位!$AK27:$BL27,MATCH(AB$20,熱需要量算定・原単位!$AK$5:$BL$5,0)),0)*AB$25/100","v":{"$error":"#N/A"}},null,19,{"$f":"IFERROR(INDEX(熱需要量算定・原単位!$AK27:$BL27,MATCH(AE$20,熱需要量算定・原単位!$AK$5:$BL$5,0)),0)*AE$25/100","v":{"$error":"#N/A"}},{"$f":"IFERROR(INDEX(熱需要量算定・原単位!$AK27:$BL27,MATCH(AF$20,熱需要量算定・原単位!$AK$5:$BL$5,0)),0)*AF$25/100","v":{"$error":"#N/A"}},{"$f":"IFERROR(INDEX(熱需要量算定・原単位!$AK27:$BL27,MATCH(AG$20,熱需要量算定・原単位!$AK$5:$BL$5,0)),0)*AG$25/100","v":{"$error":"#N/A"}},{"$f":"IFERROR(INDEX(熱需要量算定・原単位!$AK27:$BL27,MATCH(AH$20,熱需要量算定・原単位!$AK$5:$BL$5,0)),0)*AH$25/100","v":{"$error":"#N/A"}},{"$f":"IFERROR(INDEX(熱需要量算定・原単位!$AK27:$BL27,MATCH(AI$20,熱需要量算定・原単位!$AK$5:$BL$5,0)),0)*AI$25/100","v":{"$error":"#N/A"}},{"$f":"IFERROR(INDEX(熱需要量算定・原単位!$AK27:$BL27,MATCH(AJ$20,熱需要量算定・原単位!$AK$5:$BL$5,0)),0)*AJ$25/100","v":{"$error":"#N/A"}},{"$f":"IFERROR(INDEX(熱需要量算定・原単位!$AK27:$BL27,MATCH(AK$20,熱需要量算定・原単位!$AK$5:$BL$5,0)),0)*AK$25/100","v":{"$error":"#N/A"}},{"$f":"IFERROR(INDEX(熱需要量算定・原単位!$AK27:$BL27,MATCH(AL$20,熱需要量算定・原単位!$AK$5:$BL$5,0)),0)*AL$25/100","v":{"$error":"#N/A"}},{"$f":"IFERROR(INDEX(熱需要量算定・原単位!$AK27:$BL27,MATCH(AM$20,熱需要量算定・原単位!$AK$5:$BL$5,0)),0)*AM$25/100","v":{"$error":"#N/A"}},{"$f":"IFERROR(INDEX(熱需要量算定・原単位!$AK27:$BL27,MATCH(AN$20,熱需要量算定・原単位!$AK$5:$BL$5,0)),0)*AN$25/100","v":{"$error":"#N/A"}},{"$f":"IFERROR(INDEX(熱需要量算定・原単位!$AK27:$BL27,MATCH(AO$20,熱需要量算定・原単位!$AK$5:$BL$5,0)),0)*AO$25/100","v":{"$error":"#N/A"}},{"$f":"IFERROR(INDEX(熱需要量算定・原単位!$AK27:$BL27,MATCH(AP$20,熱需要量算定・原単位!$AK$5:$BL$5,0)),0)*AP$25/100","v":{"$error":"#N/A"}}]
[null,20,{"$f":"IFERROR(INDEX(熱需要量算定・原単位!$AK28:$BL28,MATCH(C$20,熱需要量算定・原単位!$AK$5:$BL$5,0)),0)*C$25/100","v":{"$error":"#N/A"}},{"$f":"IFERROR(INDEX(熱需要量算定・原単位!$AK28:$BL28,MATCH(D$20,熱需要量算定・原単位!$AK$5:$BL$5,0)),0)*D$25/100","v":{"$error":"#N/A"}},{"$f":"IFERROR(INDEX(熱需要量算定・原単位!$AK28:$BL28,MATCH(E$20,熱需要量算定・原単位!$AK$5:$BL$5,0)),0)*E$25/100","v":{"$error":"#N/A"}},{"$f":"IFERROR(INDEX(熱需要量算定・原単位!$AK28:$BL28,MATCH(F$20,熱需要量算定・原単位!$AK$5:$BL$5,0)),0)*F$25/100","v":{"$error":"#N/A"}},{"$f":"IFERROR(INDEX(熱需要量算定・原単位!$AK28:$BL28,MATCH(G$20,熱需要量算定・原単位!$AK$5:$BL$5,0)),0)*G$25/100","v":{"$error":"#N/A"}},{"$f":"IFERROR(INDEX(熱需要量算定・原単位!$AK28:$BL28,MATCH(H$20,熱需要量算定・原単位!$AK$5:$BL$5,0)),0)*H$25/100","v":{"$error":"#N/A"}},{"$f":"IFERROR(INDEX(熱需要量算定・原単位!$AK28:$BL28,MATCH(I$20,熱需要量算定・原単位!$AK$5:$BL$5,0)),0)*I$25/100","v":{"$error":"#N/A"}},{"$f":"IFERROR(INDEX(熱需要量算定・原単位!$AK28:$BL28,MATCH(J$20,熱需要量算定・原単位!$AK$5:$BL$5,0)),0)*J$25/100","v":{"$error":"#N/A"}},{"$f":"IFERROR(INDEX(熱需要量算定・原単位!$AK28:$BL28,MATCH(K$20,熱需要量算定・原単位!$AK$5:$BL$5,0)),0)*K$25/100","v":{"$error":"#N/A"}},{"$f":"IFERROR(INDEX(熱需要量算定・原単位!$AK28:$BL28,MATCH(L$20,熱需要量算定・原単位!$AK$5:$BL$5,0)),0)*L$25/100","v":{"$error":"#N/A"}},{"$f":"IFERROR(INDEX(熱需要量算定・原単位!$AK28:$BL28,MATCH(M$20,熱需要量算定・原単位!$AK$5:$BL$5,0)),0)*M$25/100","v":{"$error":"#N/A"}},{"$f":"IFERROR(INDEX(熱需要量算定・原単位!$AK28:$BL28,MATCH(N$20,熱需要量算定・原単位!$AK$5:$BL$5,0)),0)*N$25/100","v":{"$error":"#N/A"}},null,20,{"$f":"IFERROR(INDEX(熱需要量算定・原単位!$AK28:$BL28,MATCH(Q$20,熱需要量算定・原単位!$AK$5:$BL$5,0)),0)*Q$25/100","v":{"$error":"#N/A"}},{"$f":"IFERROR(INDEX(熱需要量算定・原単位!$AK28:$BL28,MATCH(R$20,熱需要量算定・原単位!$AK$5:$BL$5,0)),0)*R$25/100","v":{"$error":"#N/A"}},{"$f":"IFERROR(INDEX(熱需要量算定・原単位!$AK28:$BL28,MATCH(S$20,熱需要量算定・原単位!$AK$5:$BL$5,0)),0)*S$25/100","v":{"$error":"#N/A"}},{"$f":"IFERROR(INDEX(熱需要量算定・原単位!$AK28:$BL28,MATCH(T$20,熱需要量算定・原単位!$AK$5:$BL$5,0)),0)*T$25/100","v":{"$error":"#N/A"}},{"$f":"IFERROR(INDEX(熱需要量算定・原単位!$AK28:$BL28,MATCH(U$20,熱需要量算定・原単位!$AK$5:$BL$5,0)),0)*U$25/100","v":{"$error":"#N/A"}},{"$f":"IFERROR(INDEX(熱需要量算定・原単位!$AK28:$BL28,MATCH(V$20,熱需要量算定・原単位!$AK$5:$BL$5,0)),0)*V$25/100","v":{"$error":"#N/A"}},{"$f":"IFERROR(INDEX(熱需要量算定・原単位!$AK28:$BL28,MATCH(W$20,熱需要量算定・原単位!$AK$5:$BL$5,0)),0)*W$25/100","v":{"$error":"#N/A"}},{"$f":"IFERROR(INDEX(熱需要量算定・原単位!$AK28:$BL28,MATCH(X$20,熱需要量算定・原単位!$AK$5:$BL$5,0)),0)*X$25/100","v":{"$error":"#N/A"}},{"$f":"IFERROR(INDEX(熱需要量算定・原単位!$AK28:$BL28,MATCH(Y$20,熱需要量算定・原単位!$AK$5:$BL$5,0)),0)*Y$25/100","v":{"$error":"#N/A"}},{"$f":"IFERROR(INDEX(熱需要量算定・原単位!$AK28:$BL28,MATCH(Z$20,熱需要量算定・原単位!$AK$5:$BL$5,0)),0)*Z$25/100","v":{"$error":"#N/A"}},{"$f":"IFERROR(INDEX(熱需要量算定・原単位!$AK28:$BL28,MATCH(AA$20,熱需要量算定・原単位!$AK$5:$BL$5,0)),0)*AA$25/100","v":{"$error":"#N/A"}},{"$f":"IFERROR(INDEX(熱需要量算定・原単位!$AK28:$BL28,MATCH(AB$20,熱需要量算定・原単位!$AK$5:$BL$5,0)),0)*AB$25/100","v":{"$error":"#N/A"}},null,20,{"$f":"IFERROR(INDEX(熱需要量算定・原単位!$AK28:$BL28,MATCH(AE$20,熱需要量算定・原単位!$AK$5:$BL$5,0)),0)*AE$25/100","v":{"$error":"#N/A"}},{"$f":"IFERROR(INDEX(熱需要量算定・原単位!$AK28:$BL28,MATCH(AF$20,熱需要量算定・原単位!$AK$5:$BL$5,0)),0)*AF$25/100","v":{"$error":"#N/A"}},{"$f":"IFERROR(INDEX(熱需要量算定・原単位!$AK28:$BL28,MATCH(AG$20,熱需要量算定・原単位!$AK$5:$BL$5,0)),0)*AG$25/100","v":{"$error":"#N/A"}},{"$f":"IFERROR(INDEX(熱需要量算定・原単位!$AK28:$BL28,MATCH(AH$20,熱需要量算定・原単位!$AK$5:$BL$5,0)),0)*AH$25/100","v":{"$error":"#N/A"}},{"$f":"IFERROR(INDEX(熱需要量算定・原単位!$AK28:$BL28,MATCH(AI$20,熱需要量算定・原単位!$AK$5:$BL$5,0)),0)*AI$25/100","v":{"$error":"#N/A"}},{"$f":"IFERROR(INDEX(熱需要量算定・原単位!$AK28:$BL28,MATCH(AJ$20,熱需要量算定・原単位!$AK$5:$BL$5,0)),0)*AJ$25/100","v":{"$error":"#N/A"}},{"$f":"IFERROR(INDEX(熱需要量算定・原単位!$AK28:$BL28,MATCH(AK$20,熱需要量算定・原単位!$AK$5:$BL$5,0)),0)*AK$25/100","v":{"$error":"#N/A"}},{"$f":"IFERROR(INDEX(熱需要量算定・原単位!$AK28:$BL28,MATCH(AL$20,熱需要量算定・原単位!$AK$5:$BL$5,0)),0)*AL$25/100","v":{"$error":"#N/A"}},{"$f":"IFERROR(INDEX(熱需要量算定・原単位!$AK28:$BL28,MATCH(AM$20,熱需要量算定・原単位!$AK$5:$BL$5,0)),0)*AM$25/100","v":{"$error":"#N/A"}},{"$f":"IFERROR(INDEX(熱需要量算定・原単位!$AK28:$BL28,MATCH(AN$20,熱需要量算定・原単位!$AK$5:$BL$5,0)),0)*AN$25/100","v":{"$error":"#N/A"}},{"$f":"IFERROR(INDEX(熱需要量算定・原単位!$AK28:$BL28,MATCH(AO$20,熱需要量算定・原単位!$AK$5:$BL$5,0)),0)*AO$25/100","v":{"$error":"#N/A"}},{"$f":"IFERROR(INDEX(熱需要量算定・原単位!$AK28:$BL28,MATCH(AP$20,熱需要量算定・原単位!$AK$5:$BL$5,0)),0)*AP$25/100","v":{"$error":"#N/A"}}]
[null,21,{"$f":"IFERROR(INDEX(熱需要量算定・原単位!$AK29:$BL29,MATCH(C$20,熱需要量算定・原単位!$AK$5:$BL$5,0)),0)*C$25/100","v":{"$error":"#N/A"}},{"$f":"IFERROR(INDEX(熱需要量算定・原単位!$AK29:$BL29,MATCH(D$20,熱需要量算定・原単位!$AK$5:$BL$5,0)),0)*D$25/100","v":{"$error":"#N/A"}},{"$f":"IFERROR(INDEX(熱需要量算定・原単位!$AK29:$BL29,MATCH(E$20,熱需要量算定・原単位!$AK$5:$BL$5,0)),0)*E$25/100","v":{"$error":"#N/A"}},{"$f":"IFERROR(INDEX(熱需要量算定・原単位!$AK29:$BL29,MATCH(F$20,熱需要量算定・原単位!$AK$5:$BL$5,0)),0)*F$25/100","v":{"$error":"#N/A"}},{"$f":"IFERROR(INDEX(熱需要量算定・原単位!$AK29:$BL29,MATCH(G$20,熱需要量算定・原単位!$AK$5:$BL$5,0)),0)*G$25/100","v":{"$error":"#N/A"}},{"$f":"IFERROR(INDEX(熱需要量算定・原単位!$AK29:$BL29,MATCH(H$20,熱需要量算定・原単位!$AK$5:$BL$5,0)),0)*H$25/100","v":{"$error":"#N/A"}},{"$f":"IFERROR(INDEX(熱需要量算定・原単位!$AK29:$BL29,MATCH(I$20,熱需要量算定・原単位!$AK$5:$BL$5,0)),0)*I$25/100","v":{"$error":"#N/A"}},{"$f":"IFERROR(INDEX(熱需要量算定・原単位!$AK29:$BL29,MATCH(J$20,熱需要量算定・原単位!$AK$5:$BL$5,0)),0)*J$25/100","v":{"$error":"#N/A"}},{"$f":"IFERROR(INDEX(熱需要量算定・原単位!$AK29:$BL29,MATCH(K$20,熱需要量算定・原単位!$AK$5:$BL$5,0)),0)*K$25/100","v":{"$error":"#N/A"}},{"$f":"IFERROR(INDEX(熱需要量算定・原単位!$AK29:$BL29,MATCH(L$20,熱需要量算定・原単位!$AK$5:$BL$5,0)),0)*L$25/100","v":{"$error":"#N/A"}},{"$f":"IFERROR(INDEX(熱需要量算定・原単位!$AK29:$BL29,MATCH(M$20,熱需要量算定・原単位!$AK$5:$BL$5,0)),0)*M$25/100","v":{"$error":"#N/A"}},{"$f":"IFERROR(INDEX(熱需要量算定・原単位!$AK29:$BL29,MATCH(N$20,熱需要量算定・原単位!$AK$5:$BL$5,0)),0)*N$25/100","v":{"$error":"#N/A"}},null,21,{"$f":"IFERROR(INDEX(熱需要量算定・原単位!$AK29:$BL29,MATCH(Q$20,熱需要量算定・原単位!$AK$5:$BL$5,0)),0)*Q$25/100","v":{"$error":"#N/A"}},{"$f":"IFERROR(INDEX(熱需要量算定・原単位!$AK29:$BL29,MATCH(R$20,熱需要量算定・原単位!$AK$5:$BL$5,0)),0)*R$25/100","v":{"$error":"#N/A"}},{"$f":"IFERROR(INDEX(熱需要量算定・原単位!$AK29:$BL29,MATCH(S$20,熱需要量算定・原単位!$AK$5:$BL$5,0)),0)*S$25/100","v":{"$error":"#N/A"}},{"$f":"IFERROR(INDEX(熱需要量算定・原単位!$AK29:$BL29,MATCH(T$20,熱需要量算定・原単位!$AK$5:$BL$5,0)),0)*T$25/100","v":{"$error":"#N/A"}},{"$f":"IFERROR(INDEX(熱需要量算定・原単位!$AK29:$BL29,MATCH(U$20,熱需要量算定・原単位!$AK$5:$BL$5,0)),0)*U$25/100","v":{"$error":"#N/A"}},{"$f":"IFERROR(INDEX(熱需要量算定・原単位!$AK29:$BL29,MATCH(V$20,熱需要量算定・原単位!$AK$5:$BL$5,0)),0)*V$25/100","v":{"$error":"#N/A"}},{"$f":"IFERROR(INDEX(熱需要量算定・原単位!$AK29:$BL29,MATCH(W$20,熱需要量算定・原単位!$AK$5:$BL$5,0)),0)*W$25/100","v":{"$error":"#N/A"}},{"$f":"IFERROR(INDEX(熱需要量算定・原単位!$AK29:$BL29,MATCH(X$20,熱需要量算定・原単位!$AK$5:$BL$5,0)),0)*X$25/100","v":{"$error":"#N/A"}},{"$f":"IFERROR(INDEX(熱需要量算定・原単位!$AK29:$BL29,MATCH(Y$20,熱需要量算定・原単位!$AK$5:$BL$5,0)),0)*Y$25/100","v":{"$error":"#N/A"}},{"$f":"IFERROR(INDEX(熱需要量算定・原単位!$AK29:$BL29,MATCH(Z$20,熱需要量算定・原単位!$AK$5:$BL$5,0)),0)*Z$25/100","v":{"$error":"#N/A"}},{"$f":"IFERROR(INDEX(熱需要量算定・原単位!$AK29:$BL29,MATCH(AA$20,熱需要量算定・原単位!$AK$5:$BL$5,0)),0)*AA$25/100","v":{"$error":"#N/A"}},{"$f":"IFERROR(INDEX(熱需要量算定・原単位!$AK29:$BL29,MATCH(AB$20,熱需要量算定・原単位!$AK$5:$BL$5,0)),0)*AB$25/100","v":{"$error":"#N/A"}},null,21,{"$f":"IFERROR(INDEX(熱需要量算定・原単位!$AK29:$BL29,MATCH(AE$20,熱需要量算定・原単位!$AK$5:$BL$5,0)),0)*AE$25/100","v":{"$error":"#N/A"}},{"$f":"IFERROR(INDEX(熱需要量算定・原単位!$AK29:$BL29,MATCH(AF$20,熱需要量算定・原単位!$AK$5:$BL$5,0)),0)*AF$25/100","v":{"$error":"#N/A"}},{"$f":"IFERROR(INDEX(熱需要量算定・原単位!$AK29:$BL29,MATCH(AG$20,熱需要量算定・原単位!$AK$5:$BL$5,0)),0)*AG$25/100","v":{"$error":"#N/A"}},{"$f":"IFERROR(INDEX(熱需要量算定・原単位!$AK29:$BL29,MATCH(AH$20,熱需要量算定・原単位!$AK$5:$BL$5,0)),0)*AH$25/100","v":{"$error":"#N/A"}},{"$f":"IFERROR(INDEX(熱需要量算定・原単位!$AK29:$BL29,MATCH(AI$20,熱需要量算定・原単位!$AK$5:$BL$5,0)),0)*AI$25/100","v":{"$error":"#N/A"}},{"$f":"IFERROR(INDEX(熱需要量算定・原単位!$AK29:$BL29,MATCH(AJ$20,熱需要量算定・原単位!$AK$5:$BL$5,0)),0)*AJ$25/100","v":{"$error":"#N/A"}},{"$f":"IFERROR(INDEX(熱需要量算定・原単位!$AK29:$BL29,MATCH(AK$20,熱需要量算定・原単位!$AK$5:$BL$5,0)),0)*AK$25/100","v":{"$error":"#N/A"}},{"$f":"IFERROR(INDEX(熱需要量算定・原単位!$AK29:$BL29,MATCH(AL$20,熱需要量算定・原単位!$AK$5:$BL$5,0)),0)*AL$25/100","v":{"$error":"#N/A"}},{"$f":"IFERROR(INDEX(熱需要量算定・原単位!$AK29:$BL29,MATCH(AM$20,熱需要量算定・原単位!$AK$5:$BL$5,0)),0)*AM$25/100","v":{"$error":"#N/A"}},{"$f":"IFERROR(INDEX(熱需要量算定・原単位!$AK29:$BL29,MATCH(AN$20,熱需要量算定・原単位!$AK$5:$BL$5,0)),0)*AN$25/100","v":{"$error":"#N/A"}},{"$f":"IFERROR(INDEX(熱需要量算定・原単位!$AK29:$BL29,MATCH(AO$20,熱需要量算定・原単位!$AK$5:$BL$5,0)),0)*AO$25/100","v":{"$error":"#N/A"}},{"$f":"IFERROR(INDEX(熱需要量算定・原単位!$AK29:$BL29,MATCH(AP$20,熱需要量算定・原単位!$AK$5:$BL$5,0)),0)*AP$25/100","v":{"$error":"#N/A"}}]
[null,22,{"$f":"IFERROR(INDEX(熱需要量算定・原単位!$AK30:$BL30,MATCH(C$20,熱需要量算定・原単位!$AK$5:$BL$5,0)),0)*C$25/100","v":{"$error":"#N/A"}},{"$f":"IFERROR(INDEX(熱需要量算定・原単位!$AK30:$BL30,MATCH(D$20,熱需要量算定・原単位!$AK$5:$BL$5,0)),0)*D$25/100","v":{"$error":"#N/A"}},{"$f":"IFERROR(INDEX(熱需要量算定・原単位!$AK30:$BL30,MATCH(E$20,熱需要量算定・原単位!$AK$5:$BL$5,0)),0)*E$25/100","v":{"$error":"#N/A"}},{"$f":"IFERROR(INDEX(熱需要量算定・原単位!$AK30:$BL30,MATCH(F$20,熱需要量算定・原単位!$AK$5:$BL$5,0)),0)*F$25/100","v":{"$error":"#N/A"}},{"$f":"IFERROR(INDEX(熱需要量算定・原単位!$AK30:$BL30,MATCH(G$20,熱需要量算定・原単位!$AK$5:$BL$5,0)),0)*G$25/100","v":{"$error":"#N/A"}},{"$f":"IFERROR(INDEX(熱需要量算定・原単位!$AK30:$BL30,MATCH(H$20,熱需要量算定・原単位!$AK$5:$BL$5,0)),0)*H$25/100","v":{"$error":"#N/A"}},{"$f":"IFERROR(INDEX(熱需要量算定・原単位!$AK30:$BL30,MATCH(I$20,熱需要量算定・原単位!$AK$5:$BL$5,0)),0)*I$25/100","v":{"$error":"#N/A"}},{"$f":"IFERROR(INDEX(熱需要量算定・原単位!$AK30:$BL30,MATCH(J$20,熱需要量算定・原単位!$AK$5:$BL$5,0)),0)*J$25/100","v":{"$error":"#N/A"}},{"$f":"IFERROR(INDEX(熱需要量算定・原単位!$AK30:$BL30,MATCH(K$20,熱需要量算定・原単位!$AK$5:$BL$5,0)),0)*K$25/100","v":{"$error":"#N/A"}},{"$f":"IFERROR(INDEX(熱需要量算定・原単位!$AK30:$BL30,MATCH(L$20,熱需要量算定・原単位!$AK$5:$BL$5,0)),0)*L$25/100","v":{"$error":"#N/A"}},{"$f":"IFERROR(INDEX(熱需要量算定・原単位!$AK30:$BL30,MATCH(M$20,熱需要量算定・原単位!$AK$5:$BL$5,0)),0)*M$25/100","v":{"$error":"#N/A"}},{"$f":"IFERROR(INDEX(熱需要量算定・原単位!$AK30:$BL30,MATCH(N$20,熱需要量算定・原単位!$AK$5:$BL$5,0)),0)*N$25/100","v":{"$error":"#N/A"}},null,22,{"$f":"IFERROR(INDEX(熱需要量算定・原単位!$AK30:$BL30,MATCH(Q$20,熱需要量算定・原単位!$AK$5:$BL$5,0)),0)*Q$25/100","v":{"$error":"#N/A"}},{"$f":"IFERROR(INDEX(熱需要量算定・原単位!$AK30:$BL30,MATCH(R$20,熱需要量算定・原単位!$AK$5:$BL$5,0)),0)*R$25/100","v":{"$error":"#N/A"}},{"$f":"IFERROR(INDEX(熱需要量算定・原単位!$AK30:$BL30,MATCH(S$20,熱需要量算定・原単位!$AK$5:$BL$5,0)),0)*S$25/100","v":{"$error":"#N/A"}},{"$f":"IFERROR(INDEX(熱需要量算定・原単位!$AK30:$BL30,MATCH(T$20,熱需要量算定・原単位!$AK$5:$BL$5,0)),0)*T$25/100","v":{"$error":"#N/A"}},{"$f":"IFERROR(INDEX(熱需要量算定・原単位!$AK30:$BL30,MATCH(U$20,熱需要量算定・原単位!$AK$5:$BL$5,0)),0)*U$25/100","v":{"$error":"#N/A"}},{"$f":"IFERROR(INDEX(熱需要量算定・原単位!$AK30:$BL30,MATCH(V$20,熱需要量算定・原単位!$AK$5:$BL$5,0)),0)*V$25/100","v":{"$error":"#N/A"}},{"$f":"IFERROR(INDEX(熱需要量算定・原単位!$AK30:$BL30,MATCH(W$20,熱需要量算定・原単位!$AK$5:$BL$5,0)),0)*W$25/100","v":{"$error":"#N/A"}},{"$f":"IFERROR(INDEX(熱需要量算定・原単位!$AK30:$BL30,MATCH(X$20,熱需要量算定・原単位!$AK$5:$BL$5,0)),0)*X$25/100","v":{"$error":"#N/A"}},{"$f":"IFERROR(INDEX(熱需要量算定・原単位!$AK30:$BL30,MATCH(Y$20,熱需要量算定・原単位!$AK$5:$BL$5,0)),0)*Y$25/100","v":{"$error":"#N/A"}},{"$f":"IFERROR(INDEX(熱需要量算定・原単位!$AK30:$BL30,MATCH(Z$20,熱需要量算定・原単位!$AK$5:$BL$5,0)),0)*Z$25/100","v":{"$error":"#N/A"}},{"$f":"IFERROR(INDEX(熱需要量算定・原単位!$AK30:$BL30,MATCH(AA$20,熱需要量算定・原単位!$AK$5:$BL$5,0)),0)*AA$25/100","v":{"$error":"#N/A"}},{"$f":"IFERROR(INDEX(熱需要量算定・原単位!$AK30:$BL30,MATCH(AB$20,熱需要量算定・原単位!$AK$5:$BL$5,0)),0)*AB$25/100","v":{"$error":"#N/A"}},null,22,{"$f":"IFERROR(INDEX(熱需要量算定・原単位!$AK30:$BL30,MATCH(AE$20,熱需要量算定・原単位!$AK$5:$BL$5,0)),0)*AE$25/100","v":{"$error":"#N/A"}},{"$f":"IFERROR(INDEX(熱需要量算定・原単位!$AK30:$BL30,MATCH(AF$20,熱需要量算定・原単位!$AK$5:$BL$5,0)),0)*AF$25/100","v":{"$error":"#N/A"}},{"$f":"IFERROR(INDEX(熱需要量算定・原単位!$AK30:$BL30,MATCH(AG$20,熱需要量算定・原単位!$AK$5:$BL$5,0)),0)*AG$25/100","v":{"$error":"#N/A"}},{"$f":"IFERROR(INDEX(熱需要量算定・原単位!$AK30:$BL30,MATCH(AH$20,熱需要量算定・原単位!$AK$5:$BL$5,0)),0)*AH$25/100","v":{"$error":"#N/A"}},{"$f":"IFERROR(INDEX(熱需要量算定・原単位!$AK30:$BL30,MATCH(AI$20,熱需要量算定・原単位!$AK$5:$BL$5,0)),0)*AI$25/100","v":{"$error":"#N/A"}},{"$f":"IFERROR(INDEX(熱需要量算定・原単位!$AK30:$BL30,MATCH(AJ$20,熱需要量算定・原単位!$AK$5:$BL$5,0)),0)*AJ$25/100","v":{"$error":"#N/A"}},{"$f":"IFERROR(INDEX(熱需要量算定・原単位!$AK30:$BL30,MATCH(AK$20,熱需要量算定・原単位!$AK$5:$BL$5,0)),0)*AK$25/100","v":{"$error":"#N/A"}},{"$f":"IFERROR(INDEX(熱需要量算定・原単位!$AK30:$BL30,MATCH(AL$20,熱需要量算定・原単位!$AK$5:$BL$5,0)),0)*AL$25/100","v":{"$error":"#N/A"}},{"$f":"IFERROR(INDEX(熱需要量算定・原単位!$AK30:$BL30,MATCH(AM$20,熱需要量算定・原単位!$AK$5:$BL$5,0)),0)*AM$25/100","v":{"$error":"#N/A"}},{"$f":"IFERROR(INDEX(熱需要量算定・原単位!$AK30:$BL30,MATCH(AN$20,熱需要量算定・原単位!$AK$5:$BL$5,0)),0)*AN$25/100","v":{"$error":"#N/A"}},{"$f":"IFERROR(INDEX(熱需要量算定・原単位!$AK30:$BL30,MATCH(AO$20,熱需要量算定・原単位!$AK$5:$BL$5,0)),0)*AO$25/100","v":{"$error":"#N/A"}},{"$f":"IFERROR(INDEX(熱需要量算定・原単位!$AK30:$BL30,MATCH(AP$20,熱需要量算定・原単位!$AK$5:$BL$5,0)),0)*AP$25/100","v":{"$error":"#N/A"}}]
[null,23,{"$f":"IFERROR(INDEX(熱需要量算定・原単位!$AK31:$BL31,MATCH(C$20,熱需要量算定・原単位!$AK$5:$BL$5,0)),0)*C$25/100","v":{"$error":"#N/A"}},{"$f":"IFERROR(INDEX(熱需要量算定・原単位!$AK31:$BL31,MATCH(D$20,熱需要量算定・原単位!$AK$5:$BL$5,0)),0)*D$25/100","v":{"$error":"#N/A"}},{"$f":"IFERROR(INDEX(熱需要量算定・原単位!$AK31:$BL31,MATCH(E$20,熱需要量算定・原単位!$AK$5:$BL$5,0)),0)*E$25/100","v":{"$error":"#N/A"}},{"$f":"IFERROR(INDEX(熱需要量算定・原単位!$AK31:$BL31,MATCH(F$20,熱需要量算定・原単位!$AK$5:$BL$5,0)),0)*F$25/100","v":{"$error":"#N/A"}},{"$f":"IFERROR(INDEX(熱需要量算定・原単位!$AK31:$BL31,MATCH(G$20,熱需要量算定・原単位!$AK$5:$BL$5,0)),0)*G$25/100","v":{"$error":"#N/A"}},{"$f":"IFERROR(INDEX(熱需要量算定・原単位!$AK31:$BL31,MATCH(H$20,熱需要量算定・原単位!$AK$5:$BL$5,0)),0)*H$25/100","v":{"$error":"#N/A"}},{"$f":"IFERROR(INDEX(熱需要量算定・原単位!$AK31:$BL31,MATCH(I$20,熱需要量算定・原単位!$AK$5:$BL$5,0)),0)*I$25/100","v":{"$error":"#N/A"}},{"$f":"IFERROR(INDEX(熱需要量算定・原単位!$AK31:$BL31,MATCH(J$20,熱需要量算定・原単位!$AK$5:$BL$5,0)),0)*J$25/100","v":{"$error":"#N/A"}},{"$f":"IFERROR(INDEX(熱需要量算定・原単位!$AK31:$BL31,MATCH(K$20,熱需要量算定・原単位!$AK$5:$BL$5,0)),0)*K$25/100","v":{"$error":"#N/A"}},{"$f":"IFERROR(INDEX(熱需要量算定・原単位!$AK31:$BL31,MATCH(L$20,熱需要量算定・原単位!$AK$5:$BL$5,0)),0)*L$25/100","v":{"$error":"#N/A"}},{"$f":"IFERROR(INDEX(熱需要量算定・原単位!$AK31:$BL31,MATCH(M$20,熱需要量算定・原単位!$AK$5:$BL$5,0)),0)*M$25/100","v":{"$error":"#N/A"}},{"$f":"IFERROR(INDEX(熱需要量算定・原単位!$AK31:$BL31,MATCH(N$20,熱需要量算定・原単位!$AK$5:$BL$5,0)),0)*N$25/100","v":{"$error":"#N/A"}},null,23,{"$f":"IFERROR(INDEX(熱需要量算定・原単位!$AK31:$BL31,MATCH(Q$20,熱需要量算定・原単位!$AK$5:$BL$5,0)),0)*Q$25/100","v":{"$error":"#N/A"}},{"$f":"IFERROR(INDEX(熱需要量算定・原単位!$AK31:$BL31,MATCH(R$20,熱需要量算定・原単位!$AK$5:$BL$5,0)),0)*R$25/100","v":{"$error":"#N/A"}},{"$f":"IFERROR(INDEX(熱需要量算定・原単位!$AK31:$BL31,MATCH(S$20,熱需要量算定・原単位!$AK$5:$BL$5,0)),0)*S$25/100","v":{"$error":"#N/A"}},{"$f":"IFERROR(INDEX(熱需要量算定・原単位!$AK31:$BL31,MATCH(T$20,熱需要量算定・原単位!$AK$5:$BL$5,0)),0)*T$25/100","v":{"$error":"#N/A"}},{"$f":"IFERROR(INDEX(熱需要量算定・原単位!$AK31:$BL31,MATCH(U$20,熱需要量算定・原単位!$AK$5:$BL$5,0)),0)*U$25/100","v":{"$error":"#N/A"}},{"$f":"IFERROR(INDEX(熱需要量算定・原単位!$AK31:$BL31,MATCH(V$20,熱需要量算定・原単位!$AK$5:$BL$5,0)),0)*V$25/100","v":{"$error":"#N/A"}},{"$f":"IFERROR(INDEX(熱需要量算定・原単位!$AK31:$BL31,MATCH(W$20,熱需要量算定・原単位!$AK$5:$BL$5,0)),0)*W$25/100","v":{"$error":"#N/A"}},{"$f":"IFERROR(INDEX(熱需要量算定・原単位!$AK31:$BL31,MATCH(X$20,熱需要量算定・原単位!$AK$5:$BL$5,0)),0)*X$25/100","v":{"$error":"#N/A"}},{"$f":"IFERROR(INDEX(熱需要量算定・原単位!$AK31:$BL31,MATCH(Y$20,熱需要量算定・原単位!$AK$5:$BL$5,0)),0)*Y$25/100","v":{"$error":"#N/A"}},{"$f":"IFERROR(INDEX(熱需要量算定・原単位!$AK31:$BL31,MATCH(Z$20,熱需要量算定・原単位!$AK$5:$BL$5,0)),0)*Z$25/100","v":{"$error":"#N/A"}},{"$f":"IFERROR(INDEX(熱需要量算定・原単位!$AK31:$BL31,MATCH(AA$20,熱需要量算定・原単位!$AK$5:$BL$5,0)),0)*AA$25/100","v":{"$error":"#N/A"}},{"$f":"IFERROR(INDEX(熱需要量算定・原単位!$AK31:$BL31,MATCH(AB$20,熱需要量算定・原単位!$AK$5:$BL$5,0)),0)*AB$25/100","v":{"$error":"#N/A"}},null,23,{"$f":"IFERROR(INDEX(熱需要量算定・原単位!$AK31:$BL31,MATCH(AE$20,熱需要量算定・原単位!$AK$5:$BL$5,0)),0)*AE$25/100","v":{"$error":"#N/A"}},{"$f":"IFERROR(INDEX(熱需要量算定・原単位!$AK31:$BL31,MATCH(AF$20,熱需要量算定・原単位!$AK$5:$BL$5,0)),0)*AF$25/100","v":{"$error":"#N/A"}},{"$f":"IFERROR(INDEX(熱需要量算定・原単位!$AK31:$BL31,MATCH(AG$20,熱需要量算定・原単位!$AK$5:$BL$5,0)),0)*AG$25/100","v":{"$error":"#N/A"}},{"$f":"IFERROR(INDEX(熱需要量算定・原単位!$AK31:$BL31,MATCH(AH$20,熱需要量算定・原単位!$AK$5:$BL$5,0)),0)*AH$25/100","v":{"$error":"#N/A"}},{"$f":"IFERROR(INDEX(熱需要量算定・原単位!$AK31:$BL31,MATCH(AI$20,熱需要量算定・原単位!$AK$5:$BL$5,0)),0)*AI$25/100","v":{"$error":"#N/A"}},{"$f":"IFERROR(INDEX(熱需要量算定・原単位!$AK31:$BL31,MATCH(AJ$20,熱需要量算定・原単位!$AK$5:$BL$5,0)),0)*AJ$25/100","v":{"$error":"#N/A"}},{"$f":"IFERROR(INDEX(熱需要量算定・原単位!$AK31:$BL31,MATCH(AK$20,熱需要量算定・原単位!$AK$5:$BL$5,0)),0)*AK$25/100","v":{"$error":"#N/A"}},{"$f":"IFERROR(INDEX(熱需要量算定・原単位!$AK31:$BL31,MATCH(AL$20,熱需要量算定・原単位!$AK$5:$BL$5,0)),0)*AL$25/100","v":{"$error":"#N/A"}},{"$f":"IFERROR(INDEX(熱需要量算定・原単位!$AK31:$BL31,MATCH(AM$20,熱需要量算定・原単位!$AK$5:$BL$5,0)),0)*AM$25/100","v":{"$error":"#N/A"}},{"$f":"IFERROR(INDEX(熱需要量算定・原単位!$AK31:$BL31,MATCH(AN$20,熱需要量算定・原単位!$AK$5:$BL$5,0)),0)*AN$25/100","v":{"$error":"#N/A"}},{"$f":"IFERROR(INDEX(熱需要量算定・原単位!$AK31:$BL31,MATCH(AO$20,熱需要量算定・原単位!$AK$5:$BL$5,0)),0)*AO$25/100","v":{"$error":"#N/A"}},{"$f":"IFERROR(INDEX(熱需要量算定・原単位!$AK31:$BL31,MATCH(AP$20,熱需要量算定・原単位!$AK$5:$BL$5,0)),0)*AP$25/100","v":{"$error":"#N/A"}}]
[null,24,{"$f":"IFERROR(INDEX(熱需要量算定・原単位!$AK32:$BL32,MATCH(C$20,熱需要量算定・原単位!$AK$5:$BL$5,0)),0)*C$25/100","v":{"$error":"#N/A"}},{"$f":"IFERROR(INDEX(熱需要量算定・原単位!$AK32:$BL32,MATCH(D$20,熱需要量算定・原単位!$AK$5:$BL$5,0)),0)*D$25/100","v":{"$error":"#N/A"}},{"$f":"IFERROR(INDEX(熱需要量算定・原単位!$AK32:$BL32,MATCH(E$20,熱需要量算定・原単位!$AK$5:$BL$5,0)),0)*E$25/100","v":{"$error":"#N/A"}},{"$f":"IFERROR(INDEX(熱需要量算定・原単位!$AK32:$BL32,MATCH(F$20,熱需要量算定・原単位!$AK$5:$BL$5,0)),0)*F$25/100","v":{"$error":"#N/A"}},{"$f":"IFERROR(INDEX(熱需要量算定・原単位!$AK32:$BL32,MATCH(G$20,熱需要量算定・原単位!$AK$5:$BL$5,0)),0)*G$25/100","v":{"$error":"#N/A"}},{"$f":"IFERROR(INDEX(熱需要量算定・原単位!$AK32:$BL32,MATCH(H$20,熱需要量算定・原単位!$AK$5:$BL$5,0)),0)*H$25/100","v":{"$error":"#N/A"}},{"$f":"IFERROR(INDEX(熱需要量算定・原単位!$AK32:$BL32,MATCH(I$20,熱需要量算定・原単位!$AK$5:$BL$5,0)),0)*I$25/100","v":{"$error":"#N/A"}},{"$f":"IFERROR(INDEX(熱需要量算定・原単位!$AK32:$BL32,MATCH(J$20,熱需要量算定・原単位!$AK$5:$BL$5,0)),0)*J$25/100","v":{"$error":"#N/A"}},{"$f":"IFERROR(INDEX(熱需要量算定・原単位!$AK32:$BL32,MATCH(K$20,熱需要量算定・原単位!$AK$5:$BL$5,0)),0)*K$25/100","v":{"$error":"#N/A"}},{"$f":"IFERROR(INDEX(熱需要量算定・原単位!$AK32:$BL32,MATCH(L$20,熱需要量算定・原単位!$AK$5:$BL$5,0)),0)*L$25/100","v":{"$error":"#N/A"}},{"$f":"IFERROR(INDEX(熱需要量算定・原単位!$AK32:$BL32,MATCH(M$20,熱需要量算定・原単位!$AK$5:$BL$5,0)),0)*M$25/100","v":{"$error":"#N/A"}},{"$f":"IFERROR(INDEX(熱需要量算定・原単位!$AK32:$BL32,MATCH(N$20,熱需要量算定・原単位!$AK$5:$BL$5,0)),0)*N$25/100","v":{"$error":"#N/A"}},null,24,{"$f":"IFERROR(INDEX(熱需要量算定・原単位!$AK32:$BL32,MATCH(Q$20,熱需要量算定・原単位!$AK$5:$BL$5,0)),0)*Q$25/100","v":{"$error":"#N/A"}},{"$f":"IFERROR(INDEX(熱需要量算定・原単位!$AK32:$BL32,MATCH(R$20,熱需要量算定・原単位!$AK$5:$BL$5,0)),0)*R$25/100","v":{"$error":"#N/A"}},{"$f":"IFERROR(INDEX(熱需要量算定・原単位!$AK32:$BL32,MATCH(S$20,熱需要量算定・原単位!$AK$5:$BL$5,0)),0)*S$25/100","v":{"$error":"#N/A"}},{"$f":"IFERROR(INDEX(熱需要量算定・原単位!$AK32:$BL32,MATCH(T$20,熱需要量算定・原単位!$AK$5:$BL$5,0)),0)*T$25/100","v":{"$error":"#N/A"}},{"$f":"IFERROR(INDEX(熱需要量算定・原単位!$AK32:$BL32,MATCH(U$20,熱需要量算定・原単位!$AK$5:$BL$5,0)),0)*U$25/100","v":{"$error":"#N/A"}},{"$f":"IFERROR(INDEX(熱需要量算定・原単位!$AK32:$BL32,MATCH(V$20,熱需要量算定・原単位!$AK$5:$BL$5,0)),0)*V$25/100","v":{"$error":"#N/A"}},{"$f":"IFERROR(INDEX(熱需要量算定・原単位!$AK32:$BL32,MATCH(W$20,熱需要量算定・原単位!$AK$5:$BL$5,0)),0)*W$25/100","v":{"$error":"#N/A"}},{"$f":"IFERROR(INDEX(熱需要量算定・原単位!$AK32:$BL32,MATCH(X$20,熱需要量算定・原単位!$AK$5:$BL$5,0)),0)*X$25/100","v":{"$error":"#N/A"}},{"$f":"IFERROR(INDEX(熱需要量算定・原単位!$AK32:$BL32,MATCH(Y$20,熱需要量算定・原単位!$AK$5:$BL$5,0)),0)*Y$25/100","v":{"$error":"#N/A"}},{"$f":"IFERROR(INDEX(熱需要量算定・原単位!$AK32:$BL32,MATCH(Z$20,熱需要量算定・原単位!$AK$5:$BL$5,0)),0)*Z$25/100","v":{"$error":"#N/A"}},{"$f":"IFERROR(INDEX(熱需要量算定・原単位!$AK32:$BL32,MATCH(AA$20,熱需要量算定・原単位!$AK$5:$BL$5,0)),0)*AA$25/100","v":{"$error":"#N/A"}},{"$f":"IFERROR(INDEX(熱需要量算定・原単位!$AK32:$BL32,MATCH(AB$20,熱需要量算定・原単位!$AK$5:$BL$5,0)),0)*AB$25/100","v":{"$error":"#N/A"}},null,24,{"$f":"IFERROR(INDEX(熱需要量算定・原単位!$AK32:$BL32,MATCH(AE$20,熱需要量算定・原単位!$AK$5:$BL$5,0)),0)*AE$25/100","v":{"$error":"#N/A"}},{"$f":"IFERROR(INDEX(熱需要量算定・原単位!$AK32:$BL32,MATCH(AF$20,熱需要量算定・原単位!$AK$5:$BL$5,0)),0)*AF$25/100","v":{"$error":"#N/A"}},{"$f":"IFERROR(INDEX(熱需要量算定・原単位!$AK32:$BL32,MATCH(AG$20,熱需要量算定・原単位!$AK$5:$BL$5,0)),0)*AG$25/100","v":{"$error":"#N/A"}},{"$f":"IFERROR(INDEX(熱需要量算定・原単位!$AK32:$BL32,MATCH(AH$20,熱需要量算定・原単位!$AK$5:$BL$5,0)),0)*AH$25/100","v":{"$error":"#N/A"}},{"$f":"IFERROR(INDEX(熱需要量算定・原単位!$AK32:$BL32,MATCH(AI$20,熱需要量算定・原単位!$AK$5:$BL$5,0)),0)*AI$25/100","v":{"$error":"#N/A"}},{"$f":"IFERROR(INDEX(熱需要量算定・原単位!$AK32:$BL32,MATCH(AJ$20,熱需要量算定・原単位!$AK$5:$BL$5,0)),0)*AJ$25/100","v":{"$error":"#N/A"}},{"$f":"IFERROR(INDEX(熱需要量算定・原単位!$AK32:$BL32,MATCH(AK$20,熱需要量算定・原単位!$AK$5:$BL$5,0)),0)*AK$25/100","v":{"$error":"#N/A"}},{"$f":"IFERROR(INDEX(熱需要量算定・原単位!$AK32:$BL32,MATCH(AL$20,熱需要量算定・原単位!$AK$5:$BL$5,0)),0)*AL$25/100","v":{"$error":"#N/A"}},{"$f":"IFERROR(INDEX(熱需要量算定・原単位!$AK32:$BL32,MATCH(AM$20,熱需要量算定・原単位!$AK$5:$BL$5,0)),0)*AM$25/100","v":{"$error":"#N/A"}},{"$f":"IFERROR(INDEX(熱需要量算定・原単位!$AK32:$BL32,MATCH(AN$20,熱需要量算定・原単位!$AK$5:$BL$5,0)),0)*AN$25/100","v":{"$error":"#N/A"}},{"$f":"IFERROR(INDEX(熱需要量算定・原単位!$AK32:$BL32,MATCH(AO$20,熱需要量算定・原単位!$AK$5:$BL$5,0)),0)*AO$25/100","v":{"$error":"#N/A"}},{"$f":"IFERROR(INDEX(熱需要量算定・原単位!$AK32:$BL32,MATCH(AP$20,熱需要量算定・原単位!$AK$5:$BL$5,0)),0)*AP$25/100","v":{"$error":"#N/A"}}]
[null,"合計",{"$f":"SUM(C30:C53)","v":{"$error":"#N/A"}},{"$error":"#N/A"},{"$error":"#N/A"},{"$error":"#N/A"},{"$error":"#N/A"},{"$error":"#N/A"},{"$error":"#N/A"},{"$error":"#N/A"},{"$error":"#N/A"},{"$error":"#N/A"},{"$error":"#N/A"},{"$error":"#N/A"},null,"合計",{"$f":"SUM(Q30:Q53)","v":{"$error":"#N/A"}},{"$error":"#N/A"},{"$error":"#N/A"},{"$error":"#N/A"},{"$error":"#N/A"},{"$error":"#N/A"},{"$error":"#N/A"},{"$error":"#N/A"},{"$error":"#N/A"},{"$error":"#N/A"},{"$error":"#N/A"},{"$error":"#N/A"},null,"合計",{"$f":"SUM(AE30:AE53)","v":{"$error":"#N/A"}},{"$error":"#N/A"},{"$error":"#N/A"},{"$error":"#N/A"},{"$error":"#N/A"},{"$error":"#N/A"},{"$error":"#N/A"},{"$error":"#N/A"},{"$error":"#N/A"},{"$error":"#N/A"},{"$error":"#N/A"},{"$error":"#N/A"}]
[null,"平均",{"$f":"AVERAGE(C30:C53)","v":{"$error":"#N/A"}},{"$error":"#N/A"},{"$error":"#N/A"},{"$error":"#N/A"},{"$error":"#N/A"},{"$error":"#N/A"},{"$error":"#N/A"},{"$error":"#N/A"},{"$error":"#N/A"},{"$error":"#N/A"},{"$error":"#N/A"},{"$error":"#N/A"},null,"平均",{"$f":"AVERAGE(Q30:Q53)","v":{"$error":"#N/A"}},{"$error":"#N/A"},{"$error":"#N/A"},{"$error":"#N/A"},{"$error":"#N/A"},{"$error":"#N/A"},{"$error":"#N/A"},{"$error":"#N/A"},{"$error":"#N/A"},{"$error":"#N/A"},{"$error":"#N/A"},{"$error":"#N/A"},null,"平均",{"$f":"AVERAGE(AE30:AE53)","v":{"$error":"#N/A"}},{"$error":"#N/A"},{"$error":"#N/A"},{"$error":"#N/A"},{"$error":"#N/A"},{"$error":"#N/A"},{"$error":"#N/A"},{"$error":"#N/A"},{"$error":"#N/A"},{"$error":"#N/A"},{"$error":"#N/A"},{"$error":"#N/A"}]
[]
[null,"冷房","時刻別",null,null,null,null,null,null,null,null,null,"単位","kW",null,"暖房","時刻別",null,null,null,null,null,null,null,null,null,"単位","kW",null,"給湯","時刻別",null,null,null,null,null,null,null,null,null,"単位","kW"]
[null,null,"4月","5月","6月","7月","8月","9月","10月","11月","12月","1月","2月","3月",null,null,"4月","5月","6月","7月","8月","9月","10月","11月","12月","1月","2月","3月",null,null,"4月","5月","6月","7月","8月","9月","10月","11月","12月","1月","2月","3月"]
[null,"時間","中間期","中間期","夏期","夏期","夏期","夏期","中間期","中間期","冬期","冬期","冬期","冬期",null,"時間","中間期","中間期","夏期","夏期","夏期","夏期","中間期","中間期","冬期","冬期","冬期","冬期",null,"時間","中間期","中間期","夏期","夏期","夏期","夏期","中間期","中間期","冬期","冬期","冬期","冬期"]
[null,1,{"$f":"C30/3.6","v":{"$error":"#N/A"}},{"$error":"#N/A"},{"$error":"#N/A"},{"$error":"#N/A"},{"$error":"#N/A"},{"$error":"#N/A"},{"$error":"#N/A"},{"$error":"#N/A"},{"$error":"#N/A"},{"$error":"#N/A"},{"$error":"#N/A"},{"$error":"#N/A"},null,1,{"$f":"Q30/3.6","v":{"$error":"#N/A"}},{"$error":"#N/A"},{"$error":"#N/A"},{"$error":"#N/A"},{"$error":"#N/A"},{"$error":"#N/A"},{"$error":"#N/A"},{"$error":"#N/A"},{"$error":"#N/A"},{"$error":"#N/A"},{"$error":"#N/A"},{"$error":"#N/A"},null,1,{"$f":"AE30/3.6","v":{"$error":"#N/A"}},{"$error":"#N/A"},{"$error":"#N/A"},{"$error":"#N/A"},{"$error":"#N/A"},{"$error":"#N/A"},{"$error":"#N/A"},{"$error":"#N/A"},{"$error":"#N/A"},{"$error":"#N/A"},{"$error":"#N/A"},{"$error":"#N/A"}]
[null,{"$f":"B60+1","v":2},{"$f":"C31/3.6","v":{"$error":"#N/A"}},{"$error":"#N/A"},{"$error":"#N/A"},{"$error":"#N/A"},{"$error":"#N/A"},{"$error":"#N/A"},{"$error":"#N/A"},{"$error":"#N/A"},{"$error":"#N/A"},{"$error":"#N/A"},{"$error":"#N/A"},{"$error":"#N/A"},null,{"$f":"P60+1","v":2},{"$f":"Q31/3.6","v":{"$error":"#N/A"}},{"$error":"#N/A"},{"$error":"#N/A"},{"$error":"#N/A"},{"$error":"#N/A"},{"$error":"#N/A"},{"$error":"#N/A"},{"$error":"#N/A"},{"$error":"#N/A"},{"$error":"#N/A"},{"$error":"#N/A"},{"$error":"#N/A"},null,{"$f":"AD60+1","v":2},{"$f":"AE31/3.6","v":{"$error":"#N/A"}},{"$error":"#N/A"},{"$error":"#N/A"},{"$error":"#N/A"},{"$error":"#N/A"},{"$error":"#N/A"},{"$error":"#N/A"},{"$error":"#N/A"},{"$error":"#N/A"},{"$error":"#N/A"},{"$error":"#N/A"},{"$error":"#N/A"}]
[null,3,{"$f":"C32/3.6","v":{"$error":"#N/A"}},{"$error":"#N/A"},{"$error":"#N/A"},{"$error":"#N/A"},{"$error":"#N/A"},{"$error":"#N/A"},{"$error":"#N/A"},{"$error":"#N/A"},{"$error":"#N/A"},{"$error":"#N/A"},{"$error":"#N/A"},{"$error":"#N/A"},null,3,{"$f":"Q32/3.6","v":{"$error":"#N/A"}},{"$error":"#N/A"},{"$error":"#N/A"},{"$error":"#N/A"},{"$error":"#N/A"},{"$error":"#N/A"},{"$error":"#N/A"},{"$error":"#N/A"},{"$error":"#N/A"},{"$error":"#N/A"},{"$error":"#N/A"},{"$error":"#N/A"},null,3,{"$f":"AE32/3.6","v":{"$error":"#N/A"}},{"$error":"#N/A"},{"$error":"#N/A"},{"$error":"#N/A"},{"$error":"#N/A"},{"$error":"#N/A"},{"$error":"#N/A"},{"$error":"#N/A"},{"$error":"#N/A"},{"$error":"#N/A"},{"$error":"#N/A"},{"$error":"#N/A"}]
[null,4,{"$f":"C33/3.6","v":{"$error":"#N/A"}},{"$error":"#N/A"},{"$error":"#N/A"},{"$error":"#N/A"},{"$error":"#N/A"},{"$error":"#N/A"},{"$error":"#N/A"},{"$error":"#N/A"},{"$error":"#N/A"},{"$error":"#N/A"},{"$error":"#N/A"},{"$error":"#N/A"},null,4,{"$f":"Q33/3.6","v":{"$error":"#N/A"}},{"$error":"#N/A"},{"$error":"#N/A"},{"$error":"#N/A"},{"$error":"#N/A"},{"$error":"#N/A"},{"$error":"#N/A"},{"$error":"#N/A"},{"$error":"#N/A"},{"$error":"#N/A"},{"$error":"#N/A"},{"$error":"#N/A"},null,4,{"$f":"AE33/3.6","v":{"$error":"#N/A"}},{"$error":"#N/A"},{"$error":"#N/A"},{"$error":"#N/A"},{"$error":"#N/A"},{"$error":"#N/A"},{"$error":"#N/A"},{"$error":"#N/A"},{"$error":"#N/A"},{"$error":"#N/A"},{"$error":"#N/A"},{"$error":"#N/A"}]
[null,5,{"$f":"C34/3.6","v":{"$error":"#N/A"}},{"$error":"#N/A"},{"$error":"#N/A"},{"$error":"#N/A"},{"$error":"#N/A"},{"$error":"#N/A"},{"$error":"#N/A"},{"$error":"#N/A"},{"$error":"#N/A"},{"$error":"#N/A"},{"$error":"#N/A"},{"$error":"#N/A"},null,5,{"$f":"Q34/3.6","v":{"$error":"#N/A"}},{"$error":"#N/A"},{"$error":"#N/A"},{"$error":"#N/A"},{"$error":"#N/A"},{"$error":"#N/A"},{"$error":"#N/A"},{"$error":"#N/A"},{"$error":"#N/A"},{"$error":"#N/A"},{"$error":"#N/A"},{"$error":"#N/A"},null,5,{"$f":"AE34/3.6","v":{"$error":"#N/A"}},{"$error":"#N/A"},{"$error":"#N/A"},{"$error":"#N/A"},{"$error":"#N/A"},{"$error":"#N/A"},{"$error":"#N/A"},{"$error":"#N/A"},{"$error":"#N/A"},{"$error":"#N/A"},{"$error":"#N/A"},{"$error":"#N/A"}]
[null,6,{"$f":"C35/3.6","v":{"$error":"#N/A"}},{"$error":"#N/A"},{"$error":"#N/A"},{"$error":"#N/A"},{"$error":"#N/A"},{"$error":"#N/A"},{"$error":"#N/A"},{"$error":"#N/A"},{"$error":"#N/A"},{"$error":"#N/A"},{"$error":"#N/A"},{"$error":"#N/A"},null,6,{"$f":"Q35/3.6","v":{"$error":"#N/A"}},{"$error":"#N/A"},{"$error":"#N/A"},{"$error":"#N/A"},{"$error":"#N/A"},{"$error":"#N/A"},{"$error":"#N/A"},{"$error":"#N/A"},{"$error":"#N/A"},{"$error":"#N/A"},{"$error":"#N/A"},{"$error":"#N/A"},null,6,{"$f":"AE35/3.6","v":{"$error":"#N/A"}},{"$error":"#N/A"},{"$error":"#N/A"},{"$error":"#N/A"},{"$error":"#N/A"},{"$error":"#N/A"},{"$error":"#N/A"},{"$error":"#N/A"},{"$error":"#N/A"},{"$error":"#N/A"},{"$error":"#N/A"},{"$error":"#N/A"}]
[null,7,{"$f":"C36/3.6","v":{"$error":"#N/A"}},{"$error":"#N/A"},{"$error":"#N/A"},{"$error":"#N/A"},{"$error":"#N/A"},{"$error":"#N/A"},{"$error":"#N/A"},{"$error":"#N/A"},{"$error":"#N/A"},{"$error":"#N/A"},{"$error":"#N/A"},{"$error":"#N/A"},null,7,{"$f":"Q36/3.6","v":{"$error":"#N/A"}},{"$error":"#N/A"},{"$error":"#N/A"},{"$error":"#N/A"},{"$error":"#N/A"},{"$error":"#N/A"},{"$error":"#N/A"},{"$error":"#N/A"},{"$error":"#N/A"},{"$error":"#N/A"},{"$error":"#N/A"},{"$error":"#N/A"},null,7,{"$f":"AE36/3.6","v":{"$error":"#N/A"}},{"$error":"#N/A"},{"$error":"#N/A"},{"$error":"#N/A"},{"$error":"#N/A"},{"$error":"#N/A"},{"$error":"#N/A"},{"$error":"#N/A"},{"$error":"#N/A"},{"$error":"#N/A"},{"$error":"#N/A"},{"$error":"#N/A"}]
[null,8,{"$f":"C37/3.6","v":{"$error":"#N/A"}},{"$error":"#N/A"},{"$error":"#N/A"},{"$error":"#N/A"},{"$error":"#N/A"},{"$error":"#N/A"},{"$error":"#N/A"},{"$error":"#N/A"},{"$error":"#N/A"},{"$error":"#N/A"},{"$error":"#N/A"},{"$error":"#N/A"},null,8,{"$f":"Q37/3.6","v":{"$error":"#N/A"}},{"$error":"#N/A"},{"$error":"#N/A"},{"$error":"#N/A"},{"$error":"#N/A"},{"$error":"#N/A"},{"$error":"#N/A"},{"$error":"#N/A"},{"$error":"#N/A"},{"$error":"#N/A"},{"$error":"#N/A"},{"$error":"#N/A"},null,8,{"$f":"AE37/3.6","v":{"$error":"#N/A"}},{"$error":"#N/A"},{"$error":"#N/A"},{"$error":"#N/A"},{"$error":"#N/A"},{"$error":"#N/A"},{"$error":"#N/A"},{"$error":"#N/A"},{"$error":"#N/A"},{"$error":"#N/A"},{"$error":"#N/A"},{"$error":"#N/A"}]
[null,9,{"$f":"C38/3.6","v":{"$error":"#N/A"}},{"$error":"#N/A"},{"$error":"#N/A"},{"$error":"#N/A"},{"$error":"#N/A"},{"$error":"#N/A"},{"$error":"#N/A"},{"$error":"#N/A"},{"$error":"#N/A"},{"$error":"#N/A"},{"$error":"#N/A"},{"$error":"#N/A"},null,9,{"$f":"Q38/3.6","v":{"$error":"#N/A"}},{"$error":"#N/A"},{"$error":"#N/A"},{"$error":"#N/A"},{"$error":"#N/A"},{"$error":"#N/A"},{"$error":"#N/A"},{"$error":"#N/A"},{"$error":"#N/A"},{"$error":"#N/A"},{"$error":"#N/A"},{"$error":"#N/A"},null,9,{"$f":"AE38/3.6","v":{"$error":"#N/A"}},{"$error":"#N/A"},{"$error":"#N/A"},{"$error":"#N/A"},{"$error":"#N/A"},{"$error":"#N/A"},{"$error":"#N/A"},{"$error":"#N/A"},{"$error":"#N/A"},{"$error":"#N/A"},{"$error":"#N/A"},{"$error":"#N/A"}]
[null,10,{"$f":"C39/3.6","v":{"$error":"#N/A"}},{"$error":"#N/A"},{"$error":"#N/A"},{"$error":"#N/A"},{"$error":"#N/A"},{"$error":"#N/A"},{"$error":"#N/A"},{"$error":"#N/A"},{"$error":"#N/A"},{"$error":"#N/A"},{"$error":"#N/A"},{"$error":"#N/A"},null,10,{"$f":"Q39/3.6","v":{"$error":"#N/A"}},{"$error":"#N/A"},{"$error":"#N/A"},{"$error":"#N/A"},{"$error":"#N/A"},{"$error":"#N/A"},{"$error":"#N/A"},{"$error":"#N/A"},{"$error":"#N/A"},{"$error":"#N/A"},{"$error":"#N/A"},{"$error":"#N/A"},null,10,{"$f":"AE39/3.6","v":{"$error":"#N/A"}},{"$error":"#N/A"},{"$error":"#N/A"},{"$error":"#N/A"},{"$error":"#N/A"},{"$error":"#N/A"},{"$error":"#N/A"},{"$error":"#N/A"},{"$error":"#N/A"},{"$error":"#N/A"},{"$error":"#N/A"},{"$error":"#N/A"}]
[null,11,{"$f":"C40/3.6","v":{"$error":"#N/A"}},{"$error":"#N/A"},{"$error":"#N/A"},{"$error":"#N/A"},{"$error":"#N/A"},{"$error":"#N/A"},{"$error":"#N/A"},{"$error":"#N/A"},{"$error":"#N/A"},{"$error":"#N/A"},{"$error":"#N/A"},{"$error":"#N/A"},null,11,{"$f":"Q40/3.6","v":{"$error":"#N/A"}},{"$error":"#N/A"},{"$error":"#N/A"},{"$error":"#N/A"},{"$error":"#N/A"},{"$error":"#N/A"},{"$error":"#N/A"},{"$error":"#N/A"},{"$error":"#N/A"},{"$error":"#N/A"},{"$error":"#N/A"},{"$error":"#N/A"},null,11,{"$f":"AE40/3.6","v":{"$error":"#N/A"}},{"$error":"#N/A"},{"$error":"#N/A"},{"$error":"#N/A"},{"$error":"#N/A"},{"$error":"#N/A"},{"$error":"#N/A"},{"$error":"#N/A"},{"$error":"#N/A"},{"$error":"#N/A"},{"$error":"#N/A"},{"$error":"#N/A"}]
[null,12,{"$f":"C41/3.6","v":{"$error":"#N/A"}},{"$error":"#N/A"},{"$error":"#N/A"},{"$error":"#N/A"},{"$error":"#N/A"},{"$error":"#N/A"},{"$error":"#N/A"},{"$error":"#N/A"},{"$error":"#N/A"},{"$error":"#N/A"},{"$error":"#N/A"},{"$error":"#N/A"},null,12,{"$f":"Q41/3.6","v":{"$error":"#N/A"}},{"$error":"#N/A"},{"$error":"#N/A"},{"$error":"#N/A"},{"$error":"#N/A"},{"$error":"#N/A"},{"$error":"#N/A"},{"$error":"#N/A"},{"$error":"#N/A"},{"$error":"#N/A"},{"$error":"#N/A"},{"$error":"#N/A"},null,12,{"$f":"AE41/3.6","v":{"$error":"#N/A"}},{"$error":"#N/A"},{"$error":"#N/A"},{"$error":"#N/A"},{"$error":"#N/A"},{"$error":"#N/A"},{"$error":"#N/A"},{"$error":"#N/A"},{"$error":"#N/A"},{"$error":"#N/A"},{"$error":"#N/A"},{"$error":"#N/A"}]
[null,13,{"$f":"C42/3.6","v":{"$error":"#N/A"}},{"$error":"#N/A"},{"$error":"#N/A"},{"$error":"#N/A"},{"$error":"#N/A"},{"$error":"#N/A"},{"$error":"#N/A"},{"$error":"#N/A"},{"$error":"#N/A"},{"$error":"#N/A"},{"$error":"#N/A"},{"$error":"#N/A"},null,13,{"$f":"Q42/3.6","v":{"$error":"#N/A"}},{"$error":"#N/A"},{"$error":"#N/A"},{"$error":"#N/A"},{"$error":"#N/A"},{"$error":"#N/A"},{"$error":"#N/A"},{"$error":"#N/A"},{"$error":"#N/A"},{"$error":"#N/A"},{"$error":"#N/A"},{"$error":"#N/A"},null,13,{"$f":"AE42/3.6","v":{"$error":"#N/A"}},{"$error":"#N/A"},{"$error":"#N/A"},{"$error":"#N/A"},{"$error":"#N/A"},{"$error":"#N/A"},{"$error":"#N/A"},{"$error":"#N/A"},{"$error":"#N/A"},{"$error":"#N/A"},{"$error":"#N/A"},{"$error":"#N/A"}]
[null,14,{"$f":"C43/3.6","v":{"$error":"#N/A"}},{"$error":"#N/A"},{"$error":"#N/A"},{"$error":"#N/A"},{"$error":"#N/A"},{"$error":"#N/A"},{"$error":"#N/A"},{"$error":"#N/A"},{"$error":"#N/A"},{"$error":"#N/A"},{"$error":"#N/A"},{"$error":"#N/A"},null,14,{"$f":"Q43/3.6","v":{"$error":"#N/A"}},{"$error":"#N/A"},{"$error":"#N/A"},{"$error":"#N/A"},{"$error":"#N/A"},{"$error":"#N/A"},{"$error":"#N/A"},{"$error":"#N/A"},{"$error":"#N/A"},{"$error":"#N/A"},{"$error":"#N/A"},{"$error":"#N/A"},null,14,{"$f":"AE43/3.6","v":{"$error":"#N/A"}},{"$error":"#N/A"},{"$error":"#N/A"},{"$error":"#N/A"},{"$error":"#N/A"},{"$error":"#N/A"},{"$error":"#N/A"},{"$error":"#N/A"},{"$error":"#N/A"},{"$error":"#N/A"},{"$error":"#N/A"},{"$error":"#N/A"}]
[null,15,{"$f":"C44/3.6","v":{"$error":"#N/A"}},{"$error":"#N/A"},{"$error":"#N/A"},{"$error":"#N/A"},{"$error":"#N/A"},{"$error":"#N/A"},{"$error":"#N/A"},{"$error":"#N/A"},{"$error":"#N/A"},{"$error":"#N/A"},{"$error":"#N/A"},{"$error":"#N/A"},null,15,{"$f":"Q44/3.6","v":{"$error":"#N/A"}},{"$error":"#N/A"},{"$error":"#N/A"},{"$error":"#N/A"},{"$error":"#N/A"},{"$error":"#N/A"},{"$error":"#N/A"},{"$error":"#N/A"},{"$error":"#N/A"},{"$error":"#N/A"},{"$error":"#N/A"},{"$error":"#N/A"},null,15,{"$f":"AE44/3.6","v":{"$error":"#N/A"}},{"$error":"#N/A"},{"$error":"#N/A"},{"$error":"#N/A"},{"$error":"#N/A"},{"$error":"#N/A"},{"$error":"#N/A"},{"$error":"#N/A"},{"$error":"#N/A"},{"$error":"#N/A"},{"$error":"#N/A"},{"$error":"#N/A"}]
[null,16,{"$f":"C45/3.6","v":{"$error":"#N/A"}},{"$error":"#N/A"},{"$error":"#N/A"},{"$error":"#N/A"},{"$error":"#N/A"},{"$error":"#N/A"},{"$error":"#N/A"},{"$error":"#N/A"},{"$error":"#N/A"},{"$error":"#N/A"},{"$error":"#N/A"},{"$error":"#N/A"},null,16,{"$f":"Q45/3.6","v":{"$error":"#N/A"}},{"$error":"#N/A"},{"$error":"#N/A"},{"$error":"#N/A"},{"$error":"#N/A"},{"$error":"#N/A"},{"$error":"#N/A"},{"$error":"#N/A"},{"$error":"#N/A"},{"$error":"#N/A"},{"$error":"#N/A"},{"$error":"#N/A"},null,16,{"$f":"AE45/3.6","v":{"$error":"#N/A"}},{"$error":"#N/A"},{"$error":"#N/A"},{"$error":"#N/A"},{"$error":"#N/A"},{"$error":"#N/A"},{"$error":"#N/A"},{"$error":"#N/A"},{"$error":"#N/A"},{"$error":"#N/A"},{"$error":"#N/A"},{"$error":"#N/A"}]
[null,17,{"$f":"C46/3.6","v":{"$error":"#N/A"}},{"$error":"#N/A"},{"$error":"#N/A"},{"$error":"#N/A"},{"$error":"#N/A"},{"$error":"#N/A"},{"$error":"#N/A"},{"$error":"#N/A"},{"$error":"#N/A"},{"$error":"#N/A"},{"$error":"#N/A"},{"$error":"#N/A"},null,17,{"$f":"Q46/3.6","v":{"$error":"#N/A"}},{"$error":"#N/A"},{"$error":"#N/A"},{"$error":"#N/A"},{"$error":"#N/A"},{"$error":"#N/A"},{"$error":"#N/A"},{"$error":"#N/A"},{"$error":"#N/A"},{"$error":"#N/A"},{"$error":"#N/A"},{"$error":"#N/A"},null,17,{"$f":"AE46/3.6","v":{"$error":"#N/A"}},{"$error":"#N/A"},{"$error":"#N/A"},{"$error":"#N/A"},{"$error":"#N/A"},{"$error":"#N/A"},{"$error":"#N/A"},{"$error":"#N/A"},{"$error":"#N/A"},{"$error":"#N/A"},{"$error":"#N/A"},{"$error":"#N/A"}]
[null,18,{"$f":"C47/3.6","v":{"$error":"#N/A"}},{"$error":"#N/A"},{"$error":"#N/A"},{"$error":"#N/A"},{"$error":"#N/A"},{"$error":"#N/A"},{"$error":"#N/A"},{"$error":"#N/A"},{"$error":"#N/A"},{"$error":"#N/A"},{"$error":"#N/A"},{"$error":"#N/A"},null,18,{"$f":"Q47/3.6","v":{"$error":"#N/A"}},{"$error":"#N/A"},{"$error":"#N/A"},{"$error":"#N/A"},{"$error":"#N/A"},{"$error":"#N/A"},{"$error":"#N/A"},{"$error":"#N/A"},{"$error":"#N/A"},{"$error":"#N/A"},{"$error":"#N/A"},{"$error":"#N/A"},null,18,{"$f":"AE47/3.6","v":{"$error":"#N/A"}},{"$error":"#N/A"},{"$error":"#N/A"},{"$error":"#N/A"},{"$error":"#N/A"},{"$error":"#N/A"},{"$error":"#N/A"},{"$error":"#N/A"},{"$error":"#N/A"},{"$error":"#N/A"},{"$error":"#N/A"},{"$error":"#N/A"}]
[null,19,{"$f":"C48/3.6","v":{"$error":"#N/A"}},{"$error":"#N/A"},{"$error":"#N/A"},{"$error":"#N/A"},{"$error":"#N/A"},{"$error":"#N/A"},{"$error":"#N/A"},{"$error":"#N/A"},{"$error":"#N/A"},{"$error":"#N/A"},{"$error":"#N/A"},{"$error":"#N/A"},null,19,{"$f":"Q48/3.6","v":{"$error":"#N/A"}},{"$error":"#N/A"},{"$error":"#N/A"},{"$error":"#N/A"},{"$error":"#N/A"},{"$error":"#N/A"},{"$error":"#N/A"},{"$error":"#N/A"},{"$error":"#N/A"},{"$error":"#N/A"},{"$error":"#N/A"},{"$error":"#N/A"},null,19,{"$f":"AE48/3.6","v":{"$error":"#N/A"}},{"$error":"#N/A"},{"$error":"#N/A"},{"$error":"#N/A"},{"$error":"#N/A"},{"$error":"#N/A"},{"$error":"#N/A"},{"$error":"#N/A"},{"$error":"#N/A"},{"$error":"#N/A"},{"$error":"#N/A"},{"$error":"#N/A"}]
[null,20,{"$f":"C49/3.6","v":{"$error":"#N/A"}},{"$error":"#N/A"},{"$error":"#N/A"},{"$error":"#N/A"},{"$error":"#N/A"},{"$error":"#N/A"},{"$error":"#N/A"},{"$error":"#N/A"},{"$error":"#N/A"},{"$error":"#N/A"},{"$error":"#N/A"},{"$error":"#N/A"},null,20,{"$f":"Q49/3.6","v":{"$error":"#N/A"}},{"$error":"#N/A"},{"$error":"#N/A"},{"$error":"#N/A"},{"$error":"#N/A"},{"$error":"#N/A"},{"$error":"#N/A"},{"$error":"#N/A"},{"$error":"#N/A"},{"$error":"#N/A"},{"$error":"#N/A"},{"$error":"#N/A"},null,20,{"$f":"AE49/3.6","v":{"$error":"#N/A"}},{"$error":"#N/A"},{"$error":"#N/A"},{"$error":"#N/A"},{"$error":"#N/A"},{"$error":"#N/A"},{"$error":"#N/A"},{"$error":"#N/A"},{"$error":"#N/A"},{"$error":"#N/A"},{"$error":"#N/A"},{"$error":"#N/A"}]
[null,21,{"$f":"C50/3.6","v":{"$error":"#N/A"}},{"$error":"#N/A"},{"$error":"#N/A"},{"$error":"#N/A"},{"$error":"#N/A"},{"$error":"#N/A"},{"$error":"#N/A"},{"$error":"#N/A"},{"$error":"#N/A"},{"$error":"#N/A"},{"$error":"#N/A"},{"$error":"#N/A"},null,21,{"$f":"Q50/3.6","v":{"$error":"#N/A"}},{"$error":"#N/A"},{"$error":"#N/A"},{"$error":"#N/A"},{"$error":"#N/A"},{"$error":"#N/A"},{"$error":"#N/A"},{"$error":"#N/A"},{"$error":"#N/A"},{"$error":"#N/A"},{"$error":"#N/A"},{"$error":"#N/A"},null,21,{"$f":"AE50/3.6","v":{"$error":"#N/A"}},{"$error":"#N/A"},{"$error":"#N/A"},{"$error":"#N/A"},{"$error":"#N/A"},{"$error":"#N/A"},{"$error":"#N/A"},{"$error":"#N/A"},{"$error":"#N/A"},{"$error":"#N/A"},{"$error":"#N/A"},{"$error":"#N/A"}]
[null,22,{"$f":"C51/3.6","v":{"$error":"#N/A"}},{"$error":"#N/A"},{"$error":"#N/A"},{"$error":"#N/A"},{"$error":"#N/A"},{"$error":"#N/A"},{"$error":"#N/A"},{"$error":"#N/A"},{"$error":"#N/A"},{"$error":"#N/A"},{"$error":"#N/A"},{"$error":"#N/A"},null,22,{"$f":"Q51/3.6","v":{"$error":"#N/A"}},{"$error":"#N/A"},{"$error":"#N/A"},{"$error":"#N/A"},{"$error":"#N/A"},{"$error":"#N/A"},{"$error":"#N/A"},{"$error":"#N/A"},{"$error":"#N/A"},{"$error":"#N/A"},{"$error":"#N/A"},{"$error":"#N/A"},null,22,{"$f":"AE51/3.6","v":{"$error":"#N/A"}},{"$error":"#N/A"},{"$error":"#N/A"},{"$error":"#N/A"},{"$error":"#N/A"},{"$error":"#N/A"},{"$error":"#N/A"},{"$error":"#N/A"},{"$error":"#N/A"},{"$error":"#N/A"},{"$error":"#N/A"},{"$error":"#N/A"}]
[null,23,{"$f":"C52/3.6","v":{"$error":"#N/A"}},{"$error":"#N/A"},{"$error":"#N/A"},{"$error":"#N/A"},{"$error":"#N/A"},{"$error":"#N/A"},{"$error":"#N/A"},{"$error":"#N/A"},{"$error":"#N/A"},{"$error":"#N/A"},{"$error":"#N/A"},{"$error":"#N/A"},null,23,{"$f":"Q52/3.6","v":{"$error":"#N/A"}},{"$error":"#N/A"},{"$error":"#N/A"},{"$error":"#N/A"},{"$error":"#N/A"},{"$error":"#N/A"},{"$error":"#N/A"},{"$error":"#N/A"},{"$error":"#N/A"},{"$error":"#N/A"},{"$error":"#N/A"},{"$error":"#N/A"},null,23,{"$f":"AE52/3.6","v":{"$error":"#N/A"}},{"$error":"#N/A"},{"$error":"#N/A"},{"$error":"#N/A"},{"$error":"#N/A"},{"$error":"#N/A"},{"$error":"#N/A"},{"$error":"#N/A"},{"$error":"#N/A"},{"$error":"#N/A"},{"$error":"#N/A"},{"$error":"#N/A"}]
[null,24,{"$f":"C53/3.6","v":{"$error":"#N/A"}},{"$error":"#N/A"},{"$error":"#N/A"},{"$error":"#N/A"},{"$error":"#N/A"},{"$error":"#N/A"},{"$error":"#N/A"},{"$error":"#N/A"},{"$error":"#N/A"},{"$error":"#N/A"},{"$error":"#N/A"},{"$error":"#N/A"},null,24,{"$f":"Q53/3.6","v":{"$error":"#N/A"}},{"$error":"#N/A"},{"$error":"#N/A"},{"$error":"#N/A"},{"$error":"#N/A"},{"$error":"#N/A"},{"$error":"#N/A"},{"$error":"#N/A"},{"$error":"#N/A"},{"$error":"#N/A"},{"$error":"#N/A"},{"$error":"#N/A"},null,24,{"$f":"AE53/3.6","v":{"$error":"#N/A"}},{"$error":"#N/A"},{"$error":"#N/A"},{"$error":"#N/A"},{"$error":"#N/A"},{"$error":"#N/A"},{"$error":"#N/A"},{"$error":"#N/A"},{"$error":"#N/A"},{"$error":"#N/A"},{"$error":"#N/A"},{"$error":"#N/A"}]
[null,"合計",{"$f":"SUM(C60:C83)","v":{"$error":"#N/A"}},{"$error":"#N/A"},{"$error":"#N/A"},{"$error":"#N/A"},{"$error":"#N/A"},{"$error":"#N/A"},{"$error":"#N/A"},{"$error":"#N/A"},{"$error":"#N/A"},{"$error":"#N/A"},{"$error":"#N/A"},{"$error":"#N/A"},null,"合計",{"$f":"SUM(Q60:Q83)","v":{"$error":"#N/A"}},{"$error":"#N/A"},{"$error":"#N/A"},{"$error":"#N/A"},{"$error":"#N/A"},{"$error":"#N/A"},{"$error":"#N/A"},{"$error":"#N/A"},{"$error":"#N/A"},{"$error":"#N/A"},{"$error":"#N/A"},{"$error":"#N/A"},null,"合計",{"$f":"SUM(AE60:AE83)","v":{"$error":"#N/A"}},{"$error":"#N/A"},{"$error":"#N/A"},{"$error":"#N/A"},{"$error":"#N/A"},{"$error":"#N/A"},{"$error":"#N/A"},{"$error":"#N/A"},{"$error":"#N/A"},{"$error":"#N/A"},{"$error":"#N/A"},{"$error":"#N/A"}]
[null,"平均",{"$f":"AVERAGE(C60:C83)","v":{"$error":"#N/A"}},{"$error":"#N/A"},{"$error":"#N/A"},{"$error":"#N/A"},{"$error":"#N/A"},{"$error":"#N/A"},{"$error":"#N/A"},{"$error":"#N/A"},{"$error":"#N/A"},{"$error":"#N/A"},{"$error":"#N/A"},{"$error":"#N/A"},null,"平均",{"$f":"AVERAGE(Q60:Q83)","v":{"$error":"#N/A"}},{"$error":"#N/A"},{"$error":"#N/A"},{"$error":"#N/A"},{"$error":"#N/A"},{"$error":"#N/A"},{"$error":"#N/A"},{"$error":"#N/A"},{"$error":"#N/A"},{"$error":"#N/A"},{"$error":"#N/A"},{"$error":"#N/A"},null,"平均",{"$f":"AVERAGE(AE60:AE83)","v":{"$error":"#N/A"}},{"$error":"#N/A"},{"$error":"#N/A"},{"$error":"#N/A"},{"$error":"#N/A"},{"$error":"#N/A"},{"$error":"#N/A"},{"$error":"#N/A"},{"$error":"#N/A"},{"$error":"#N/A"},{"$error":"#N/A"},{"$error":"#N/A"}]
[]
[]
[]
[]
[]
[]
[]
[]
[]
[]
[]
[]
[]
[]
[]
[]
[]
[]
[]
[]
[]
[]
[]
[]
[]
[]
[]
[]
[null,"・負荷率",null,null,null,null,null,null,null,null,null,null,null,null,null,"・負荷率",null,null,null,null,null,null,null,null,null,null,null,null,null,"・負荷率"]
[null,"定格能力",null,"kW",null,null,null,null,null,null,null,null,null,null,null,"定格能力",null,"kW",null,null,null,null,null,null,null,null,null,null,null,"定格能力",null,"kW"]
[null,"冷房","時刻別",null,null,null,null,null,null,null,null,null,"単位","-",null,"暖房","時刻別",null,null,null,null,null,null,null,null,null,"単位","-",null,"給湯","時刻別",null,null,null,null,null,null,null,null,null,"単位","-"]
[null,null,"4月","5月","6月","7月","8月","9月","10月","11月","12月","1月","2月","3月",null,null,"4月","5月","6月","7月","8月","9月","10月","11月","12月","1月","2月","3月",null,null,"4月","5月","6月","7月","8月","9月","10月","11月","12月","1月","2月","3月"]
[null,"時間","中間期","中間期","夏期","夏期","夏期","夏期","中間期","中間期","冬期","冬期","冬期","冬期",null,"時間","中間期","中間期","夏期","夏期","夏期","夏期","中間期","中間期","冬期","冬期","冬期","冬期",null,"時間","中間期","中間期","夏期","夏期","夏期","夏期","中間期","中間期","冬期","冬期","冬期","冬期"]
[null,1,{"$f":"C60/$C$115","v":{"$error":"#N/A"}},{"$error":"#N/A"},{"$error":"#N/A"},{"$error":"#N/A"},{"$error":"#N/A"},{"$error":"#N/A"},{"$error":"#N/A"},{"$error":"#N/A"},{"$error":"#N/A"},{"$error":"#N/A"},{"$error":"#N/A"},{"$error":"#N/A"},null,1,{"$f":"Q60/$Q$115","v":{"$error":"#N/A"}},{"$error":"#N/A"},{"$error":"#N/A"},{"$error":"#N/A"},{"$error":"#N/A"},{"$error":"#N/A"},{"$error":"#N/A"},{"$error":"#N/A"},{"$error":"#N/A"},{"$error":"#N/A"},{"$error":"#N/A"},{"$error":"#N/A"},null,1,{"$f":"AE60/$AE$115","v":{"$error":"#N/A"}},{"$error":"#N/A"},{"$error":"#N/A"},{"$error":"#N/A"},{"$error":"#N/A"},{"$error":"#N/A"},{"$error":"#N/A"},{"$error":"#N/A"},{"$error":"#N/A"},{"$error":"#N/A"},{"$error":"#N/A"},{"$error":"#N/A"}]
[null,{"$f":"B119+1","v":2},{"$f":"C61/$C$115","v":{"$error":"#N/A"}},{"$error":"#N/A"},{"$error":"#N/A"},{"$error":"#N/A"},{"$error":"#N/A"},{"$error":"#N/A"},{"$error":"#N/A"},{"$error":"#N/A"},{"$error":"#N/A"},{"$error":"#N/A"},{"$error":"#N/A"},{"$error":"#N/A"},null,{"$f":"P119+1","v":2},{"$f":"Q61/$Q$115","v":{"$error":"#N/A"}},{"$error":"#N/A"},{"$error":"#N/A"},{"$error":"#N/A"},{"$error":"#N/A"},{"$error":"#N/A"},{"$error":"#N/A"},{"$error":"#N/A"},{"$error":"#N/A"},{"$error":"#N/A"},{"$error":"#N/A"},{"$error":"#N/A"},null,{"$f":"AD119+1","v":2},{"$f":"AE61/$AE$115","v":{"$error":"#N/A"}},{"$error":"#N/A"},{"$error":"#N/A"},{"$error":"#N/A"},{"$error":"#N/A"},{"$error":"#N/A"},{"$error":"#N/A"},{"$error":"#N/A"},{"$error":"#N/A"},{"$error":"#N/A"},{"$error":"#N/A"},{"$error":"#N/A"}]
[null,3,{"$f":"C62/$C$115","v":{"$error":"#N/A"}},{"$error":"#N/A"},{"$error":"#N/A"},{"$error":"#N/A"},{"$error":"#N/A"},{"$error":"#N/A"},{"$error":"#N/A"},{"$error":"#N/A"},{"$error":"#N/A"},{"$error":"#N/A"},{"$error":"#N/A"},{"$error":"#N/A"},null,3,{"$f":"Q62/$Q$115","v":{"$error":"#N/A"}},{"$error":"#N/A"},{"$error":"#N/A"},{"$error":"#N/A"},{"$error":"#N/A"},{"$error":"#N/A"},{"$error":"#N/A"},{"$error":"#N/A"},{"$error":"#N/A"},{"$error":"#N/A"},{"$error":"#N/A"},{"$error":"#N/A"},null,3,{"$f":"AE62/$AE$115","v":{"$error":"#N/A"}},{"$error":"#N/A"},{"$error":"#N/A"},{"$error":"#N/A"},{"$error":"#N/A"},{"$error":"#N/A"},{"$error":"#N/A"},{"$error":"#N/A"},{"$error":"#N/A"},{"$error":"#N/A"},{"$error":"#N/A"},{"$error":"#N/A"}]
[null,4,{"$f":"C63/$C$115","v":{"$error":"#N/A"}},{"$error":"#N/A"},{"$error":"#N/A"},{"$error":"#N/A"},{"$error":"#N/A"},{"$error":"#N/A"},{"$error":"#N/A"},{"$error":"#N/A"},{"$error":"#N/A"},{"$error":"#N/A"},{"$error":"#N/A"},{"$error":"#N/A"},null,4,{"$f":"Q63/$Q$115","v":{"$error":"#N/A"}},{"$error":"#N/A"},{"$error":"#N/A"},{"$error":"#N/A"},{"$error":"#N/A"},{"$error":"#N/A"},{"$error":"#N/A"},{"$error":"#N/A"},{"$error":"#N/A"},{"$error":"#N/A"},{"$error":"#N/A"},{"$error":"#N/A"},null,4,{"$f":"AE63/$AE$115","v":{"$error":"#N/A"}},{"$error":"#N/A"},{"$error":"#N/A"},{"$error":"#N/A"},{"$error":"#N/A"},{"$error":"#N/A"},{"$error":"#N/A"},{"$error":"#N/A"},{"$error":"#N/A"},{"$error":"#N/A"},{"$error":"#N/A"},{"$error":"#N/A"}]
[null,5,{"$f":"C64/$C$115","v":{"$error":"#N/A"}},{"$error":"#N/A"},{"$error":"#N/A"},{"$error":"#N/A"},{"$error":"#N/A"},{"$error":"#N/A"},{"$error":"#N/A"},{"$error":"#N/A"},{"$error":"#N/A"},{"$error":"#N/A"},{"$error":"#N/A"},{"$error":"#N/A"},null,5,{"$f":"Q64/$Q$115","v":{"$error":"#N/A"}},{"$error":"#N/A"},{"$error":"#N/A"},{"$error":"#N/A"},{"$error":"#N/A"},{"$error":"#N/A"},{"$error":"#N/A"},{"$error":"#N/A"},{"$error":"#N/A"},{"$error":"#N/A"},{"$error":"#N/A"},{"$error":"#N/A"},null,5,{"$f":"AE64/$AE$115","v":{"$error":"#N/A"}},{"$error":"#N/A"},{"$error":"#N/A"},{"$error":"#N/A"},{"$error":"#N/A"},{"$error":"#N/A"},{"$error":"#N/A"},{"$error":"#N/A"},{"$error":"#N/A"},{"$error":"#N/A"},{"$error":"#N/A"},{"$error":"#N/A"}]
[null,6,{"$f":"C65/$C$115","v":{"$error":"#N/A"}},{"$error":"#N/A"},{"$error":"#N/A"},{"$error":"#N/A"},{"$error":"#N/A"},{"$error":"#N/A"},{"$error":"#N/A"},{"$error":"#N/A"},{"$error":"#N/A"},{"$error":"#N/A"},{"$error":"#N/A"},{"$error":"#N/A"},null,6,{"$f":"Q65/$Q$115","v":{"$error":"#N/A"}},{"$error":"#N/A"},{"$error":"#N/A"},{"$error":"#N/A"},{"$error":"#N/A"},{"$error":"#N/A"},{"$error":"#N/A"},{"$error":"#N/A"},{"$error":"#N/A"},{"$error":"#N/A"},{"$error":"#N/A"},{"$error":"#N/A"},null,6,{"$f":"AE65/$AE$115","v":{"$error":"#N/A"}},{"$error":"#N/A"},{"$error":"#N/A"},{"$error":"#N/A"},{"$error":"#N/A"},{"$error":"#N/A"},{"$error":"#N/A"},{"$error":"#N/A"},{"$error":"#N/A"},{"$error":"#N/A"},{"$error":"#N/A"},{"$error":"#N/A"}]
[null,7,{"$f":"C66/$C$115","v":{"$error":"#N/A"}},{"$error":"#N/A"},{"$error":"#N/A"},{"$error":"#N/A"},{"$error":"#N/A"},{"$error":"#N/A"},{"$error":"#N/A"},{"$error":"#N/A"},{"$error":"#N/A"},{"$error":"#N/A"},{"$error":"#N/A"},{"$error":"#N/A"},null,7,{"$f":"Q66/$Q$115","v":{"$error":"#N/A"}},{"$error":"#N/A"},{"$error":"#N/A"},{"$error":"#N/A"},{"$error":"#N/A"},{"$error":"#N/A"},{"$error":"#N/A"},{"$error":"#N/A"},{"$error":"#N/A"},{"$error":"#N/A"},{"$error":"#N/A"},{"$error":"#N/A"},null,7,{"$f":"AE66/$AE$115","v":{"$error":"#N/A"}},{"$error":"#N/A"},{"$error":"#N/A"},{"$error":"#N/A"},{"$error":"#N/A"},{"$error":"#N/A"},{"$error":"#N/A"},{"$error":"#N/A"},{"$error":"#N/A"},{"$error":"#N/A"},{"$error":"#N/A"},{"$error":"#N/A"}]
[null,8,{"$f":"C67/$C$115","v":{"$error":"#N/A"}},{"$error":"#N/A"},{"$error":"#N/A"},{"$error":"#N/A"},{"$error":"#N/A"},{"$error":"#N/A"},{"$error":"#N/A"},{"$error":"#N/A"},{"$error":"#N/A"},{"$error":"#N/A"},{"$error":"#N/A"},{"$error":"#N/A"},null,8,{"$f":"Q67/$Q$115","v":{"$error":"#N/A"}},{"$error":"#N/A"},{"$error":"#N/A"},{"$error":"#N/A"},{"$error":"#N/A"},{"$error":"#N/A"},{"$error":"#N/A"},{"$error":"#N/A"},{"$error":"#N/A"},{"$error":"#N/A"},{"$error":"#N/A"},{"$error":"#N/A"},null,8,{"$f":"AE67/$AE$115","v":{"$error":"#N/A"}},{"$error":"#N/A"},{"$error":"#N/A"},{"$error":"#N/A"},{"$error":"#N/A"},{"$error":"#N/A"},{"$error":"#N/A"},{"$error":"#N/A"},{"$error":"#N/A"},{"$error":"#N/A"},{"$error":"#N/A"},{"$error":"#N/A"}]
[null,9,{"$f":"C68/$C$115","v":{"$error":"#N/A"}},{"$error":"#N/A"},{"$error":"#N/A"},{"$error":"#N/A"},{"$error":"#N/A"},{"$error":"#N/A"},{"$error":"#N/A"},{"$error":"#N/A"},{"$error":"#N/A"},{"$error":"#N/A"},{"$error":"#N/A"},{"$error":"#N/A"},null,9,{"$f":"Q68/$Q$115","v":{"$error":"#N/A"}},{"$error":"#N/A"},{"$error":"#N/A"},{"$error":"#N/A"},{"$error":"#N/A"},{"$error":"#N/A"},{"$error":"#N/A"},{"$error":"#N/A"},{"$error":"#N/A"},{"$error":"#N/A"},{"$error":"#N/A"},{"$error":"#N/A"},null,9,{"$f":"AE68/$AE$115","v":{"$error":"#N/A"}},{"$error":"#N/A"},{"$error":"#N/A"},{"$error":"#N/A"},{"$error":"#N/A"},{"$error":"#N/A"},{"$error":"#N/A"},{"$error":"#N/A"},{"$error":"#N/A"},{"$error":"#N/A"},{"$error":"#N/A"},{"$error":"#N/A"}]
[null,10,{"$f":"C69/$C$115","v":{"$error":"#N/A"}},{"$error":"#N/A"},{"$error":"#N/A"},{"$error":"#N/A"},{"$error":"#N/A"},{"$error":"#N/A"},{"$error":"#N/A"},{"$error":"#N/A"},{"$error":"#N/A"},{"$error":"#N/A"},{"$error":"#N/A"},{"$error":"#N/A"},null,10,{"$f":"Q69/$Q$115","v":{"$error":"#N/A"}},{"$error":"#N/A"},{"$error":"#N/A"},{"$error":"#N/A"},{"$error":"#N/A"},{"$error":"#N/A"},{"$error":"#N/A"},{"$error":"#N/A"},{"$error":"#N/A"},{"$error":"#N/A"},{"$error":"#N/A"},{"$error":"#N/A"},null,10,{"$f":"AE69/$AE$115","v":{"$error":"#N/A"}},{"$error":"#N/A"},{"$error":"#N/A"},{"$error":"#N/A"},{"$error":"#N/A"},{"$error":"#N/A"},{"$error":"#N/A"},{"$error":"#N/A"},{"$error":"#N/A"},{"$error":"#N/A"},{"$error":"#N/A"},{"$error":"#N/A"}]
[null,11,{"$f":"C70/$C$115","v":{"$error":"#N/A"}},{"$error":"#N/A"},{"$error":"#N/A"},{"$error":"#N/A"},{"$error":"#N/A"},{"$error":"#N/A"},{"$error":"#N/A"},{"$error":"#N/A"},{"$error":"#N/A"},{"$error":"#N/A"},{"$error":"#N/A"},{"$error":"#N/A"},null,11,{"$f":"Q70/$Q$115","v":{"$error":"#N/A"}},{"$error":"#N/A"},{"$error":"#N/A"},{"$error":"#N/A"},{"$error":"#N/A"},{"$error":"#N/A"},{"$error":"#N/A"},{"$error":"#N/A"},{"$error":"#N/A"},{"$error":"#N/A"},{"$error":"#N/A"},{"$error":"#N/A"},null,11,{"$f":"AE70/$AE$115","v":{"$error":"#N/A"}},{"$error":"#N/A"},{"$error":"#N/A"},{"$error":"#N/A"},{"$error":"#N/A"},{"$error":"#N/A"},{"$error":"#N/A"},{"$error":"#N/A"},{"$error":"#N/A"},{"$error":"#N/A"},{"$error":"#N/A"},{"$error":"#N/A"}]
[null,12,{"$f":"C71/$C$115","v":{"$error":"#N/A"}},{"$error":"#N/A"},{"$error":"#N/A"},{"$error":"#N/A"},{"$error":"#N/A"},{"$error":"#N/A"},{"$error":"#N/A"},{"$error":"#N/A"},{"$error":"#N/A"},{"$error":"#N/A"},{"$error":"#N/A"},{"$error":"#N/A"},null,12,{"$f":"Q71/$Q$115","v":{"$error":"#N/A"}},{"$error":"#N/A"},{"$error":"#N/A"},{"$error":"#N/A"},{"$error":"#N/A"},{"$error":"#N/A"},{"$error":"#N/A"},{"$error":"#N/A"},{"$error":"#N/A"},{"$error":"#N/A"},{"$error":"#N/A"},{"$error":"#N/A"},null,12,{"$f":"AE71/$AE$115","v":{"$error":"#N/A"}},{"$error":"#N/A"},{"$error":"#N/A"},{"$error":"#N/A"},{"$error":"#N/A"},{"$error":"#N/A"},{"$error":"#N/A"},{"$error":"#N/A"},{"$error":"#N/A"},{"$error":"#N/A"},{"$error":"#N/A"},{"$error":"#N/A"}]
[null,13,{"$f":"C72/$C$115","v":{"$error":"#N/A"}},{"$error":"#N/A"},{"$error":"#N/A"},{"$error":"#N/A"},{"$error":"#N/A"},{"$error":"#N/A"},{"$error":"#N/A"},{"$error":"#N/A"},{"$error":"#N/A"},{"$error":"#N/A"},{"$error":"#N/A"},{"$error":"#N/A"},null,13,{"$f":"Q72/$Q$115","v":{"$error":"#N/A"}},{"$error":"#N/A"},{"$error":"#N/A"},{"$error":"#N/A"},{"$error":"#N/A"},{"$error":"#N/A"},{"$error":"#N/A"},{"$error":"#N/A"},{"$error":"#N/A"},{"$error":"#N/A"},{"$error":"#N/A"},{"$error":"#N/A"},null,13,{"$f":"AE72/$AE$115","v":{"$error":"#N/A"}},{"$error":"#N/A"},{"$error":"#N/A"},{"$error":"#N/A"},{"$error":"#N/A"},{"$error":"#N/A"},{"$error":"#N/A"},{"$error":"#N/A"},{"$error":"#N/A"},{"$error":"#N/A"},{"$error":"#N/A"},{"$error":"#N/A"}]
[null,14,{"$f":"C73/$C$115","v":{"$error":"#N/A"}},{"$error":"#N/A"},{"$error":"#N/A"},{"$error":"#N/A"},{"$error":"#N/A"},{"$error":"#N/A"},{"$error":"#N/A"},{"$error":"#N/A"},{"$error":"#N/A"},{"$error":"#N/A"},{"$error":"#N/A"},{"$error":"#N/A"},null,14,{"$f":"Q73/$Q$115","v":{"$error":"#N/A"}},{"$error":"#N/A"},{"$error":"#N/A"},{"$error":"#N/A"},{"$error":"#N/A"},{"$error":"#N/A"},{"$error":"#N/A"},{"$error":"#N/A"},{"$error":"#N/A"},{"$error":"#N/A"},{"$error":"#N/A"},{"$error":"#N/A"},null,14,{"$f":"AE73/$AE$115","v":{"$error":"#N/A"}},{"$error":"#N/A"},{"$error":"#N/A"},{"$error":"#N/A"},{"$error":"#N/A"},{"$error":"#N/A"},{"$error":"#N/A"},{"$error":"#N/A"},{"$error":"#N/A"},{"$error":"#N/A"},{"$error":"#N/A"},{"$error":"#N/A"}]
[null,15,{"$f":"C74/$C$115","v":{"$error":"#N/A"}},{"$error":"#N/A"},{"$error":"#N/A"},{"$error":"#N/A"},{"$error":"#N/A"},{"$error":"#N/A"},{"$error":"#N/A"},{"$error":"#N/A"},{"$error":"#N/A"},{"$error":"#N/A"},{"$error":"#N/A"},{"$error":"#N/A"},null,15,{"$f":"Q74/$Q$115","v":{"$error":"#N/A"}},{"$error":"#N/A"},{"$error":"#N/A"},{"$error":"#N/A"},{"$error":"#N/A"},{"$error":"#N/A"},{"$error":"#N/A"},{"$error":"#N/A"},{"$error":"#N/A"},{"$error":"#N/A"},{"$error":"#N/A"},{"$error":"#N/A"},null,15,{"$f":"AE74/$AE$115","v":{"$error":"#N/A"}},{"$error":"#N/A"},{"$error":"#N/A"},{"$error":"#N/A"},{"$error":"#N/A"},{"$error":"#N/A"},{"$error":"#N/A"},{"$error":"#N/A"},{"$error":"#N/A"},{"$error":"#N/A"},{"$error":"#N/A"},{"$error":"#N/A"}]
[null,16,{"$f":"C75/$C$115","v":{"$error":"#N/A"}},{"$error":"#N/A"},{"$error":"#N/A"},{"$error":"#N/A"},{"$error":"#N/A"},{"$error":"#N/A"},{"$error":"#N/A"},{"$error":"#N/A"},{"$error":"#N/A"},{"$error":"#N/A"},{"$error":"#N/A"},{"$error":"#N/A"},null,16,{"$f":"Q75/$Q$115","v":{"$error":"#N/A"}},{"$error":"#N/A"},{"$error":"#N/A"},{"$error":"#N/A"},{"$error":"#N/A"},{"$error":"#N/A"},{"$error":"#N/A"},{"$error":"#N/A"},{"$error":"#N/A"},{"$error":"#N/A"},{"$error":"#N/A"},{"$error":"#N/A"},null,16,{"$f":"AE75/$AE$115","v":{"$error":"#N/A"}},{"$error":"#N/A"},{"$error":"#N/A"},{"$error":"#N/A"},{"$error":"#N/A"},{"$error":"#N/A"},{"$error":"#N/A"},{"$error":"#N/A"},{"$error":"#N/A"},{"$error":"#N/A"},{"$error":"#N/A"},{"$error":"#N/A"}]
[null,17,{"$f":"C76/$C$115","v":{"$error":"#N/A"}},{"$error":"#N/A"},{"$error":"#N/A"},{"$error":"#N/A"},{"$error":"#N/A"},{"$error":"#N/A"},{"$error":"#N/A"},{"$error":"#N/A"},{"$error":"#N/A"},{"$error":"#N/A"},{"$error":"#N/A"},{"$error":"#N/A"},null,17,{"$f":"Q76/$Q$115","v":{"$error":"#N/A"}},{"$error":"#N/A"},{"$error":"#N/A"},{"$error":"#N/A"},{"$error":"#N/A"},{"$error":"#N/A"},{"$error":"#N/A"},{"$error":"#N/A"},{"$error":"#N/A"},{"$error":"#N/A"},{"$error":"#N/A"},{"$error":"#N/A"},null,17,{"$f":"AE76/$AE$115","v":{"$error":"#N/A"}},{"$error":"#N/A"},{"$error":"#N/A"},{"$error":"#N/A"},{"$error":"#N/A"},{"$error":"#N/A"},{"$error":"#N/A"},{"$error":"#N/A"},{"$error":"#N/A"},{"$error":"#N/A"},{"$error":"#N/A"},{"$error":"#N/A"}]
[null,18,{"$f":"C77/$C$115","v":{"$error":"#N/A"}},{"$error":"#N/A"},{"$error":"#N/A"},{"$error":"#N/A"},{"$error":"#N/A"},{"$error":"#N/A"},{"$error":"#N/A"},{"$error":"#N/A"},{"$error":"#N/A"},{"$error":"#N/A"},{"$error":"#N/A"},{"$error":"#N/A"},null,18,{"$f":"Q77/$Q$115","v":{"$error":"#N/A"}},{"$error":"#N/A"},{"$error":"#N/A"},{"$error":"#N/A"},{"$error":"#N/A"},{"$error":"#N/A"},{"$error":"#N/A"},{"$error":"#N/A"},{"$error":"#N/A"},{"$error":"#N/A"},{"$error":"#N/A"},{"$error":"#N/A"},null,18,{"$f":"AE77/$AE$115","v":{"$error":"#N/A"}},{"$error":"#N/A"},{"$error":"#N/A"},{"$error":"#N/A"},{"$error":"#N/A"},{"$error":"#N/A"},{"$error":"#N/A"},{"$error":"#N/A"},{"$error":"#N/A"},{"$error":"#N/A"},{"$error":"#N/A"},{"$error":"#N/A"}]
[null,19,{"$f":"C78/$C$115","v":{"$error":"#N/A"}},{"$error":"#N/A"},{"$error":"#N/A"},{"$error":"#N/A"},{"$error":"#N/A"},{"$error":"#N/A"},{"$error":"#N/A"},{"$error":"#N/A"},{"$error":"#N/A"},{"$error":"#N/A"},{"$error":"#N/A"},{"$error":"#N/A"},null,19,{"$f":"Q78/$Q$115","v":{"$error":"#N/A"}},{"$error":"#N/A"},{"$error":"#N/A"},{"$error":"#N/A"},{"$error":"#N/A"},{"$error":"#N/A"},{"$error":"#N/A"},{"$error":"#N/A"},{"$error":"#N/A"},{"$error":"#N/A"},{"$error":"#N/A"},{"$error":"#N/A"},null,19,{"$f":"AE78/$AE$115","v":{"$error":"#N/A"}},{"$error":"#N/A"},{"$error":"#N/A"},{"$error":"#N/A"},{"$error":"#N/A"},{"$error":"#N/A"},{"$error":"#N/A"},{"$error":"#N/A"},{"$error":"#N/A"},{"$error":"#N/A"},{"$error":"#N/A"},{"$error":"#N/A"}]
[null,20,{"$f":"C79/$C$115","v":{"$error":"#N/A"}},{"$error":"#N/A"},{"$error":"#N/A"},{"$error":"#N/A"},{"$error":"#N/A"},{"$error":"#N/A"},{"$error":"#N/A"},{"$error":"#N/A"},{"$error":"#N/A"},{"$error":"#N/A"},{"$error":"#N/A"},{"$error":"#N/A"},null,20,{"$f":"Q79/$Q$115","v":{"$error":"#N/A"}},{"$error":"#N/A"},{"$error":"#N/A"},{"$error":"#N/A"},{"$error":"#N/A"},{"$error":"#N/A"},{"$error":"#N/A"},{"$error":"#N/A"},{"$error":"#N/A"},{"$error":"#N/A"},{"$error":"#N/A"},{"$error":"#N/A"},null,20,{"$f":"AE79/$AE$115","v":{"$error":"#N/A"}},{"$error":"#N/A"},{"$error":"#N/A"},{"$error":"#N/A"},{"$error":"#N/A"},{"$error":"#N/A"},{"$error":"#N/A"},{"$error":"#N/A"},{"$error":"#N/A"},{"$error":"#N/A"},{"$error":"#N/A"},{"$error":"#N/A"}]
[null,21,{"$f":"C80/$C$115","v":{"$error":"#N/A"}},{"$error":"#N/A"},{"$error":"#N/A"},{"$error":"#N/A"},{"$error":"#N/A"},{"$error":"#N/A"},{"$error":"#N/A"},{"$error":"#N/A"},{"$error":"#N/A"},{"$error":"#N/A"},{"$error":"#N/A"},{"$error":"#N/A"},null,21,{"$f":"Q80/$Q$115","v":{"$error":"#N/A"}},{"$error":"#N/A"},{"$error":"#N/A"},{"$error":"#N/A"},{"$error":"#N/A"},{"$error":"#N/A"},{"$error":"#N/A"},{"$error":"#N/A"},{"$error":"#N/A"},{"$error":"#N/A"},{"$error":"#N/A"},{"$error":"#N/A"},null,21,{"$f":"AE80/$AE$115","v":{"$error":"#N/A"}},{"$error":"#N/A"},{"$error":"#N/A"},{"$error":"#N/A"},{"$error":"#N/A"},{"$error":"#N/A"},{"$error":"#N/A"},{"$error":"#N/A"},{"$error":"#N/A"},{"$error":"#N/A"},{"$error":"#N/A"},{"$error":"#N/A"}]
[null,22,{"$f":"C81/$C$115","v":{"$error":"#N/A"}},{"$error":"#N/A"},{"$error":"#N/A"},{"$error":"#N/A"},{"$error":"#N/A"},{"$error":"#N/A"},{"$error":"#N/A"},{"$error":"#N/A"},{"$error":"#N/A"},{"$error":"#N/A"},{"$error":"#N/A"},{"$error":"#N/A"},null,22,{"$f":"Q81/$Q$115","v":{"$error":"#N/A"}},{"$error":"#N/A"},{"$error":"#N/A"},{"$error":"#N/A"},{"$error":"#N/A"},{"$error":"#N/A"},{"$error":"#N/A"},{"$error":"#N/A"},{"$error":"#N/A"},{"$error":"#N/A"},{"$error":"#N/A"},{"$error":"#N/A"},null,22,{"$f":"AE81/$AE$115","v":{"$error":"#N/A"}},{"$error":"#N/A"},{"$error":"#N/A"},{"$error":"#N/A"},{"$error":"#N/A"},{"$error":"#N/A"},{"$error":"#N/A"},{"$error":"#N/A"},{"$error":"#N/A"},{"$error":"#N/A"},{"$error":"#N/A"},{"$error":"#N/A"}]
[null,23,{"$f":"C82/$C$115","v":{"$error":"#N/A"}},{"$error":"#N/A"},{"$error":"#N/A"},{"$error":"#N/A"},{"$error":"#N/A"},{"$error":"#N/A"},{"$error":"#N/A"},{"$error":"#N/A"},{"$error":"#N/A"},{"$error":"#N/A"},{"$error":"#N/A"},{"$error":"#N/A"},null,23,{"$f":"Q82/$Q$115","v":{"$error":"#N/A"}},{"$error":"#N/A"},{"$error":"#N/A"},{"$error":"#N/A"},{"$error":"#N/A"},{"$error":"#N/A"},{"$error":"#N/A"},{"$error":"#N/A"},{"$error":"#N/A"},{"$error":"#N/A"},{"$error":"#N/A"},{"$error":"#N/A"},null,23,{"$f":"AE82/$AE$115","v":{"$error":"#N/A"}},{"$error":"#N/A"},{"$error":"#N/A"},{"$error":"#N/A"},{"$error":"#N/A"},{"$error":"#N/A"},{"$error":"#N/A"},{"$error":"#N/A"},{"$error":"#N/A"},{"$error":"#N/A"},{"$error":"#N/A"},{"$error":"#N/A"}]
[null,24,{"$f":"C83/$C$115","v":{"$error":"#N/A"}},{"$error":"#N/A"},{"$error":"#N/A"},{"$error":"#N/A"},{"$error":"#N/A"},{"$error":"#N/A"},{"$error":"#N/A"},{"$error":"#N/A"},{"$error":"#N/A"},{"$error":"#N/A"},{"$error":"#N/A"},{"$error":"#N/A"},null,24,{"$f":"Q83/$Q$115","v":{"$error":"#N/A"}},{"$error":"#N/A"},{"$error":"#N/A"},{"$error":"#N/A"},{"$error":"#N/A"},{"$error":"#N/A"},{"$error":"#N/A"},{"$error":"#N/A"},{"$error":"#N/A"},{"$error":"#N/A"},{"$error":"#N/A"},{"$error":"#N/A"},null,24,{"$f":"AE83/$AE$115","v":{"$error":"#N/A"}},{"$error":"#N/A"},{"$error":"#N/A"},{"$error":"#N/A"},{"$error":"#N/A"},{"$error":"#N/A"},{"$error":"#N/A"},{"$error":"#N/A"},{"$error":"#N/A"},{"$error":"#N/A"},{"$error":"#N/A"},{"$error":"#N/A"}]
[null,"平均",{"$f":"AVERAGE(C119:C142)","v":{"$error":"#N/A"}},{"$error":"#N/A"},{"$error":"#N/A"},{"$error":"#N/A"},{"$error":"#N/A"},{"$error":"#N/A"},{"$error":"#N/A"},{"$error":"#N/A"},{"$error":"#N/A"},{"$error":"#N/A"},{"$error":"#N/A"},{"$error":"#N/A"},null,"平均",{"$f":"AVERAGE(Q119:Q142)","v":{"$error":"#N/A"}},{"$error":"#N/A"},{"$error":"#N/A"},{"$error":"#N/A"},{"$error":"#N/A"},{"$error":"#N/A"},{"$error":"#N/A"},{"$error":"#N/A"},{"$error":"#N/A"},{"$error":"#N/A"},{"$error":"#N/A"},{"$error":"#N/A"},null,"平均",{"$f":"AVERAGE(AE119:AE142)","v":{"$error":"#N/A"}},{"$error":"#N/A"},{"$error":"#N/A"},{"$error":"#N/A"},{"$error":"#N/A"},{"$error":"#N/A"},{"$error":"#N/A"},{"$error":"#N/A"},{"$error":"#N/A"},{"$error":"#N/A"},{"$error":"#N/A"},{"$error":"#N/A"}]

{"sheet":"融雪熱需要量算定","index":20,"n_rows":50,"n_cols":48,"rows_kept":50,"cut":false,"hidden":true,"merged":[]}
[null,null,null,null,null,null,null,null,null,"気象庁データから積雪深さ0cm以上の日を融雪が必要な日とした。"]
["■設計発熱量",null,null,null,"■都道府県ごとの設計発熱量設定",null,null,null,null,"■日最深積雪0cm以上日数",null,null,null,null,null,null,null,null,null,null,null,null,null,null,null,"■熱需要量計算（必要発熱量）",null,null,null,null,"■熱需要量計算（月別）"]
["該当地域","設計発熱量[W/m2]",null,null,"地域区分","都道府県","設計発熱量","備考",null,"都道府県","地域",{"$f":"積雪日数!II2","v":"2019-01-01"},{"$f":"積雪日数!IJ2","v":"2019-02-01"},{"$f":"積雪日数!IK2","v":"2019-03-01"},{"$f":"積雪日数!IL2","v":"2019-04-01"},{"$f":"積雪日数!IM2","v":"2019-05-01"},{"$f":"積雪日数!IN2","v":"2019-06-01"},{"$f":"積雪日数!IO2","v":"2019-07-01"},{"$f":"積雪日数!IP2","v":"2019-08-01"},{"$f":"積雪日数!IQ2","v":"2019-09-01"},{"$f":"積雪日数!IR2","v":"2019-10-01"},{"$f":"積雪日数!IS2","v":"2019-11-01"},{"$f":"積雪日数!IT2","v":"2019-12-01"},{"$f":"積雪日数!IU2","v":"年間合計"},null,"項目","単位","値","備考",null,"項目","単位","4月","5月","6月","7月","8月","9月","10月","11月","12月","1月","2月","3月","合計","最大","最小","備考"]
["関東以南のち方",200,null,null,"北海道","北海道",{"$f":"B6","v":300},"北海道は幅があるため、中間の値とする。",null,"北海道",{"$f":"積雪日数!IE3","v":"札幌"},{"$f":"積雪日数!II3","v":31},{"$f":"積雪日数!IJ3","v":28.2},{"$f":"積雪日数!IK3","v":29.6},{"$f":"積雪日数!IL3","v":6.4},{"$f":"積雪日数!IM3","v":0},{"$f":"積雪日数!IN3","v":0},{"$f":"積雪日数!IO3","v":0},{"$f":"積雪日数!IP3","v":0},{"$f":"積雪日数!IQ3","v":0},{"$f":"積雪日数!IR3","v":0.6},{"$f":"積雪日数!IS3","v":8.6999999999999993},{"$f":"積雪日数!IT3","v":27.9},{"$f":"積雪日数!IU3","v":132.4},null,"都道府県",null,{"$f":"入力シート!C7","v":0},null,null,"必要発熱量","kW",{"$f":"$AB$7","v":{"$error":"#N/A"}},{"$error":"#N/A"},{"$error":"#N/A"},{"$error":"#N/A"},{"$error":"#N/A"},{"$error":"#N/A"},{"$error":"#N/A"},{"$error":"#N/A"},{"$error":"#N/A"},{"$f":"$AB$7","v":{"$error":"#N/A"}},{"$error":"#N/A"},{"$error":"#N/A"}]
["東北、北陸、道南地方",250,null,null,"東北","青森県",{"$f":"$B$5","v":250},null,null,"青森県",{"$f":"積雪日数!IE4","v":"青森"},{"$f":"積雪日数!II4","v":30.8},{"$f":"積雪日数!IJ4","v":28.1},{"$f":"積雪日数!IK4","v":25},{"$f":"積雪日数!IL4","v":3.4},{"$f":"積雪日数!IM4","v":0},{"$f":"積雪日数!IN4","v":0},{"$f":"積雪日数!IO4","v":0},{"$f":"積雪日数!IP4","v":0},{"$f":"積雪日数!IQ4","v":0},{"$f":"積雪日数!IR4","v":0},{"$f":"積雪日数!IS4","v":6.6},{"$f":"積雪日数!IT4","v":24.3},{"$f":"積雪日数!IU4","v":118.2},null,"設計発熱量","W/m",{"$f":"VLOOKUP(AB4,F3:G50,2,FALSE)","v":{"$error":"#N/A"}},null,null,"融雪日数","日/月",{"$f":"VLOOKUP(AB4,J3:X50,6,FALSE)","v":{"$error":"#N/A"}},{"$f":"VLOOKUP(AB4,J3:X50,7,FALSE)","v":{"$error":"#N/A"}},{"$f":"VLOOKUP(AB4,J3:X50,8,FALSE)","v":{"$error":"#N/A"}},{"$f":"VLOOKUP(AB4,J3:X50,9,FALSE)","v":{"$error":"#N/A"}},{"$f":"VLOOKUP(AB4,J3:X50,10,FALSE)","v":{"$error":"#N/A"}},{"$f":"VLOOKUP(AB4,J3:X50,11,FALSE)","v":{"$error":"#N/A"}},{"$f":"VLOOKUP(AB4,J3:X50,12,FALSE)","v":{"$error":"#N/A"}},{"$f":"VLOOKUP(AB4,J3:X50,13,FALSE)","v":{"$error":"#N/A"}},{"$f":"VLOOKUP(AB4,J3:X50,14,FALSE)","v":{"$error":"#N/A"}},{"$f":"VLOOKUP(AB4,J3:X50,3,FALSE)","v":{"$error":"#N/A"}},{"$f":"VLOOKUP(AB4,J3:X50,4,FALSE)","v":{"$error":"#N/A"}},{"$f":"VLOOKUP(AB4,J3:X50,5,FALSE)","v":{"$error":"#N/A"}},{"$f":"SUM(AG5:AR5)","v":{"$error":"#N/A"}},{"$f":"MAX(AG5:AR5)","v":{"$error":"#N/A"}},{"$f":"MIN(AG5:AR5)","v":{"$error":"#N/A"}}]
["東北山間部、道央地方",300,null,null,"東北","岩手県",{"$f":"$B$5","v":250},null,null,"岩手県",{"$f":"積雪日数!IE5","v":"盛岡"},{"$f":"積雪日数!II5","v":26.8},{"$f":"積雪日数!IJ5","v":25.3},{"$f":"積雪日数!IK5","v":15.3},{"$f":"積雪日数!IL5","v":1.4},{"$f":"積雪日数!IM5","v":0},{"$f":"積雪日数!IN5","v":0},{"$f":"積雪日数!IO5","v":0},{"$f":"積雪日数!IP5","v":0},{"$f":"積雪日数!IQ5","v":0},{"$f":"積雪日数!IR5","v":0},{"$f":"積雪日数!IS5","v":2.8},{"$f":"積雪日数!IT5","v":16.3},{"$f":"積雪日数!IU5","v":87.9},null,"対象面積","m2",{"$f":"入力シート!C11","v":0},null,null,"月別熱需要量：融雪","MJ/月",{"$f":"AG7*3.6","v":{"$error":"#N/A"}},{"$error":"#N/A"},{"$error":"#N/A"},{"$error":"#N/A"},{"$error":"#N/A"},{"$error":"#N/A"},{"$error":"#N/A"},{"$error":"#N/A"},{"$error":"#N/A"},{"$error":"#N/A"},{"$error":"#N/A"},{"$error":"#N/A"},{"$f":"SUM(AG6:AR6)","v":{"$error":"#N/A"}},{"$f":"MAX(AG6:AR6)","v":{"$error":"#N/A"}},{"$f":"MIN(AG6:AR6)","v":{"$error":"#N/A"}}]
["同等、道北地方",350,null,null,"東北","宮城県",250,null,null,"宮城県",{"$f":"積雪日数!IE6","v":"仙台"},{"$f":"積雪日数!II6","v":13},{"$f":"積雪日数!IJ6","v":11},{"$f":"積雪日数!IK6","v":5.6},{"$f":"積雪日数!IL6","v":0.5},{"$f":"積雪日数!IM6","v":0},{"$f":"積雪日数!IN6","v":0},{"$f":"積雪日数!IO6","v":0},{"$f":"積雪日数!IP6","v":0},{"$f":"積雪日数!IQ6","v":0},{"$f":"積雪日数!IR6","v":0},{"$f":"積雪日数!IS6","v":0.4},{"$f":"積雪日数!IT6","v":5.2},{"$f":"積雪日数!IU6","v":35.700000000000003},null,"必要発熱量","kW",{"$f":"AB5*AB6/1000","v":{"$error":"#N/A"}},null,null,null,"kWh/月",{"$f":"AG4*24*AG5","v":{"$error":"#N/A"}},{"$error":"#N/A"},{"$error":"#N/A"},{"$error":"#N/A"},{"$error":"#N/A"},{"$error":"#N/A"},{"$error":"#N/A"},{"$error":"#N/A"},{"$error":"#N/A"},{"$error":"#N/A"},{"$error":"#N/A"},{"$error":"#N/A"},{"$f":"SUM(AG7:AR7)","v":{"$error":"#N/A"}},{"$f":"MAX(AG7:AR7)","v":{"$error":"#N/A"}},{"$f":"MIN(AG7:AR7)","v":{"$error":"#N/A"}}]
[null,null,null,null,"東北","秋田県",250,null,null,"秋田県",{"$f":"積雪日数!IE7","v":"秋田"},{"$f":"積雪日数!II7","v":27.3},{"$f":"積雪日数!IJ7","v":24.4},{"$f":"積雪日数!IK7","v":13.5},{"$f":"積雪日数!IL7","v":0.5},{"$f":"積雪日数!IM7","v":0},{"$f":"積雪日数!IN7","v":0},{"$f":"積雪日数!IO7","v":0},{"$f":"積雪日数!IP7","v":0},{"$f":"積雪日数!IQ7","v":0},{"$f":"積雪日数!IR7","v":0},{"$f":"積雪日数!IS7","v":3},{"$f":"積雪日数!IT7","v":16.600000000000001},{"$f":"積雪日数!IU7","v":85.300000000000011}]
[null,null,null,null,"東北","山形県",250,null,null,"山形県",{"$f":"積雪日数!IE8","v":"山形"},{"$f":"積雪日数!II8","v":27.8},{"$f":"積雪日数!IJ8","v":26},{"$f":"積雪日数!IK8","v":14.4},{"$f":"積雪日数!IL8","v":1},{"$f":"積雪日数!IM8","v":0},{"$f":"積雪日数!IN8","v":0},{"$f":"積雪日数!IO8","v":0},{"$f":"積雪日数!IP8","v":0},{"$f":"積雪日数!IQ8","v":0},{"$f":"積雪日数!IR8","v":0},{"$f":"積雪日数!IS8","v":2.4},{"$f":"積雪日数!IT8","v":14.8},{"$f":"積雪日数!IU8","v":86.4}]
[null,null,null,null,"東北","福島県",250,null,null,"福島県",{"$f":"積雪日数!IE9","v":"福島"},{"$f":"積雪日数!II9","v":17.899999999999999},{"$f":"積雪日数!IJ9","v":13.5},{"$f":"積雪日数!IK9","v":6.3},{"$f":"積雪日数!IL9","v":0.4},{"$f":"積雪日数!IM9","v":0},{"$f":"積雪日数!IN9","v":0},{"$f":"積雪日数!IO9","v":0},{"$f":"積雪日数!IP9","v":0},{"$f":"積雪日数!IQ9","v":0},{"$f":"積雪日数!IR9","v":0},{"$f":"積雪日数!IS9","v":0.4},{"$f":"積雪日数!IT9","v":6.8},{"$f":"積雪日数!IU9","v":45.29999999999999}]
[null,null,null,null,"関東","茨城県",{"$f":"$B$4","v":200},null,null,"茨城県",{"$f":"積雪日数!IE10","v":"水戸"},{"$f":"積雪日数!II10","v":2.6},{"$f":"積雪日数!IJ10","v":3.1},{"$f":"積雪日数!IK10","v":1.1000000000000001},{"$f":"積雪日数!IL10","v":0.1},{"$f":"積雪日数!IM10","v":0},{"$f":"積雪日数!IN10","v":0},{"$f":"積雪日数!IO10","v":0},{"$f":"積雪日数!IP10","v":0},{"$f":"積雪日数!IQ10","v":0},{"$f":"積雪日数!IR10","v":0},{"$f":"積雪日数!IS10","v":0},{"$f":"積雪日数!IT10","v":0.5},{"$f":"積雪日数!IU10","v":7.4}]
[null,null,null,null,"関東","栃木県",{"$f":"$B$4","v":200},null,null,"栃木県",{"$f":"積雪日数!IE11","v":"宇都宮"},{"$f":"積雪日数!II11","v":3.6},{"$f":"積雪日数!IJ11","v":3.8},{"$f":"積雪日数!IK11","v":1.9},{"$f":"積雪日数!IL11","v":0.2},{"$f":"積雪日数!IM11","v":0},{"$f":"積雪日数!IN11","v":0},{"$f":"積雪日数!IO11","v":0},{"$f":"積雪日数!IP11","v":0},{"$f":"積雪日数!IQ11","v":0},{"$f":"積雪日数!IR11","v":0},{"$f":"積雪日数!IS11","v":0},{"$f":"積雪日数!IT11","v":1.1000000000000001},{"$f":"積雪日数!IU11","v":10.6}]
[null,null,null,null,"関東","群馬県",200,null,null,"群馬県",{"$f":"積雪日数!IE12","v":"前橋"},{"$f":"積雪日数!II12","v":2.9},{"$f":"積雪日数!IJ12","v":3.5},{"$f":"積雪日数!IK12","v":1.7},{"$f":"積雪日数!IL12","v":0.2},{"$f":"積雪日数!IM12","v":0},{"$f":"積雪日数!IN12","v":0},{"$f":"積雪日数!IO12","v":0},{"$f":"積雪日数!IP12","v":0},{"$f":"積雪日数!IQ12","v":0},{"$f":"積雪日数!IR12","v":0},{"$f":"積雪日数!IS12","v":0},{"$f":"積雪日数!IT12","v":1},{"$f":"積雪日数!IU12","v":9.2999999999999989}]
["国土交通省 北海道開発局「北海道開発局道路設計要領 第5集 電気通信施設 第４章ロードヒーティング設備」",null,null,null,"関東","埼玉県",200,null,null,"埼玉県",{"$f":"積雪日数!IE13","v":"熊谷"},{"$f":"積雪日数!II13","v":2.5},{"$f":"積雪日数!IJ13","v":2.8},{"$f":"積雪日数!IK13","v":1.2},{"$f":"積雪日数!IL13","v":0.2},{"$f":"積雪日数!IM13","v":0},{"$f":"積雪日数!IN13","v":0},{"$f":"積雪日数!IO13","v":0},{"$f":"積雪日数!IP13","v":0},{"$f":"積雪日数!IQ13","v":0},{"$f":"積雪日数!IR13","v":0},{"$f":"積雪日数!IS13","v":0},{"$f":"積雪日数!IT13","v":0.5},{"$f":"積雪日数!IU13","v":7.2}]
["https://www.hkd.mlit.go.jp/ky/kn/dou_ken/ud49g700000022du.html",null,null,null,"関東","千葉県",200,null,null,"千葉県",{"$f":"積雪日数!IE14","v":"千葉"},{"$f":"積雪日数!II14","v":0.9},{"$f":"積雪日数!IJ14","v":1.2},{"$f":"積雪日数!IK14","v":0.3},{"$f":"積雪日数!IL14","v":0},{"$f":"積雪日数!IM14","v":0},{"$f":"積雪日数!IN14","v":0},{"$f":"積雪日数!IO14","v":0},{"$f":"積雪日数!IP14","v":0},{"$f":"積雪日数!IQ14","v":0},{"$f":"積雪日数!IR14","v":0},{"$f":"積雪日数!IS14","v":0},{"$f":"積雪日数!IT14","v":0.1},{"$f":"積雪日数!IU14","v":2.5}]
[null,null,null,null,"関東","東京都",200,null,null,"東京都",{"$f":"積雪日数!IE15","v":"東京"},{"$f":"積雪日数!II15","v":1.6},{"$f":"積雪日数!IJ15","v":2},{"$f":"積雪日数!IK15","v":0.8},{"$f":"積雪日数!IL15","v":0.1},{"$f":"積雪日数!IM15","v":0},{"$f":"積雪日数!IN15","v":0},{"$f":"積雪日数!IO15","v":0},{"$f":"積雪日数!IP15","v":0},{"$f":"積雪日数!IQ15","v":0},{"$f":"積雪日数!IR15","v":0},{"$f":"積雪日数!IS15","v":0},{"$f":"積雪日数!IT15","v":0.4},{"$f":"積雪日数!IU15","v":4.9000000000000004}]
[null,null,null,null,"関東","神奈川県",200,null,null,"神奈川県",{"$f":"積雪日数!IE16","v":"横浜"},{"$f":"積雪日数!II16","v":1.6},{"$f":"積雪日数!IJ16","v":2.2999999999999998},{"$f":"積雪日数!IK16","v":0.7},{"$f":"積雪日数!IL16","v":0},{"$f":"積雪日数!IM16","v":0},{"$f":"積雪日数!IN16","v":0},{"$f":"積雪日数!IO16","v":0},{"$f":"積雪日数!IP16","v":0},{"$f":"積雪日数!IQ16","v":0},{"$f":"積雪日数!IR16","v":0},{"$f":"積雪日数!IS16","v":0},{"$f":"積雪日数!IT16","v":0.3},{"$f":"積雪日数!IU16","v":4.8999999999999995}]
[null,null,null,null,"北陸","新潟県",200,null,null,"新潟県",{"$f":"積雪日数!IE17","v":"新潟"},{"$f":"積雪日数!II17","v":19.8},{"$f":"積雪日数!IJ17","v":18.399999999999999},{"$f":"積雪日数!IK17","v":6.5},{"$f":"積雪日数!IL17","v":0.2},{"$f":"積雪日数!IM17","v":0},{"$f":"積雪日数!IN17","v":0},{"$f":"積雪日数!IO17","v":0},{"$f":"積雪日数!IP17","v":0},{"$f":"積雪日数!IQ17","v":0},{"$f":"積雪日数!IR17","v":0},{"$f":"積雪日数!IS17","v":0.7},{"$f":"積雪日数!IT17","v":8.6},{"$f":"積雪日数!IU17","v":54.20000000000001}]
[null,null,null,null,"北陸","富山県",200,null,null,"富山県",{"$f":"積雪日数!IE18","v":"富山"},{"$f":"積雪日数!II18","v":21.7},{"$f":"積雪日数!IJ18","v":19.399999999999999},{"$f":"積雪日数!IK18","v":7.9},{"$f":"積雪日数!IL18","v":0.3},{"$f":"積雪日数!IM18","v":0},{"$f":"積雪日数!IN18","v":0},{"$f":"積雪日数!IO18","v":0},{"$f":"積雪日数!IP18","v":0},{"$f":"積雪日数!IQ18","v":0},{"$f":"積雪日数!IR18","v":0},{"$f":"積雪日数!IS18","v":0.5},{"$f":"積雪日数!IT18","v":8.6},{"$f":"積雪日数!IU18","v":58.399999999999991}]
[null,null,null,null,"北陸","石川県",200,null,null,"石川県",{"$f":"積雪日数!IE19","v":"金沢"},{"$f":"積雪日数!II19","v":18.7},{"$f":"積雪日数!IJ19","v":16.899999999999999},{"$f":"積雪日数!IK19","v":6.2},{"$f":"積雪日数!IL19","v":0.2},{"$f":"積雪日数!IM19","v":0},{"$f":"積雪日数!IN19","v":0},{"$f":"積雪日数!IO19","v":0},{"$f":"積雪日数!IP19","v":0},{"$f":"積雪日数!IQ19","v":0},{"$f":"積雪日数!IR19","v":0},{"$f":"積雪日数!IS19","v":0.6},{"$f":"積雪日数!IT19","v":7.1},{"$f":"積雪日数!IU19","v":49.7}]
[null,null,null,null,"北陸","福井県",200,null,null,"福井県",{"$f":"積雪日数!IE20","v":"福井"},{"$f":"積雪日数!II20","v":19.899999999999999},{"$f":"積雪日数!IJ20","v":17.5},{"$f":"積雪日数!IK20","v":5.9},{"$f":"積雪日数!IL20","v":0.1},{"$f":"積雪日数!IM20","v":0},{"$f":"積雪日数!IN20","v":0},{"$f":"積雪日数!IO20","v":0},{"$f":"積雪日数!IP20","v":0},{"$f":"積雪日数!IQ20","v":0},{"$f":"積雪日数!IR20","v":0},{"$f":"積雪日数!IS20","v":0.3},{"$f":"積雪日数!IT20","v":7.6},{"$f":"積雪日数!IU20","v":51.3}]
[null,null,null,null,"山梨県","山梨県",200,null,null,"山梨県",{"$f":"積雪日数!IE21","v":"甲府"},{"$f":"積雪日数!II21","v":4.5},{"$f":"積雪日数!IJ21","v":3.1},{"$f":"積雪日数!IK21","v":0.9},{"$f":"積雪日数!IL21","v":0.1},{"$f":"積雪日数!IM21","v":0},{"$f":"積雪日数!IN21","v":0},{"$f":"積雪日数!IO21","v":0},{"$f":"積雪日数!IP21","v":0},{"$f":"積雪日数!IQ21","v":0},{"$f":"積雪日数!IR21","v":0},{"$f":"積雪日数!IS21","v":0},{"$f":"積雪日数!IT21","v":0.6},{"$f":"積雪日数!IU21","v":9.1999999999999993}]
[null,null,null,null,"長野県","長野県",200,null,null,"長野県",{"$f":"積雪日数!IE22","v":"長野"},{"$f":"積雪日数!II22","v":22.9},{"$f":"積雪日数!IJ22","v":19.600000000000001},{"$f":"積雪日数!IK22","v":8.1999999999999993},{"$f":"積雪日数!IL22","v":0.6},{"$f":"積雪日数!IM22","v":0},{"$f":"積雪日数!IN22","v":0},{"$f":"積雪日数!IO22","v":0},{"$f":"積雪日数!IP22","v":0},{"$f":"積雪日数!IQ22","v":0},{"$f":"積雪日数!IR22","v":0},{"$f":"積雪日数!IS22","v":0.9},{"$f":"積雪日数!IT22","v":10.8},{"$f":"積雪日数!IU22","v":63}]
[null,null,null,null,"東海","岐阜県",200,null,null,"岐阜県",{"$f":"積雪日数!IE23","v":"岐阜"},{"$f":"積雪日数!II23","v":5},{"$f":"積雪日数!IJ23","v":4.8},{"$f":"積雪日数!IK23","v":0.9},{"$f":"積雪日数!IL23","v":0},{"$f":"積雪日数!IM23","v":0},{"$f":"積雪日数!IN23","v":0},{"$f":"積雪日数!IO23","v":0},{"$f":"積雪日数!IP23","v":0},{"$f":"積雪日数!IQ23","v":0},{"$f":"積雪日数!IR23","v":0},{"$f":"積雪日数!IS23","v":0},{"$f":"積雪日数!IT23","v":2.4},{"$f":"積雪日数!IU23","v":13.100000000000001}]
[null,null,null,null,"静岡県","静岡県",200,null,null,"静岡県",{"$f":"積雪日数!IE24","v":"静岡"},{"$f":"積雪日数!II24","v":0},{"$f":"積雪日数!IJ24","v":0.2},{"$f":"積雪日数!IK24","v":0},{"$f":"積雪日数!IL24","v":0},{"$f":"積雪日数!IM24","v":0},{"$f":"積雪日数!IN24","v":0},{"$f":"積雪日数!IO24","v":0},{"$f":"積雪日数!IP24","v":0},{"$f":"積雪日数!IQ24","v":0},{"$f":"積雪日数!IR24","v":0},{"$f":"積雪日数!IS24","v":0},{"$f":"積雪日数!IT24","v":0},{"$f":"積雪日数!IU24","v":0.2}]
[null,null,null,null,"東海","愛知県",200,null,null,"愛知県",{"$f":"積雪日数!IE25","v":"名古屋"},{"$f":"積雪日数!II25","v":2.1},{"$f":"積雪日数!IJ25","v":2.8},{"$f":"積雪日数!IK25","v":0.4},{"$f":"積雪日数!IL25","v":0},{"$f":"積雪日数!IM25","v":0},{"$f":"積雪日数!IN25","v":0},{"$f":"積雪日数!IO25","v":0},{"$f":"積雪日数!IP25","v":0},{"$f":"積雪日数!IQ25","v":0},{"$f":"積雪日数!IR25","v":0},{"$f":"積雪日数!IS25","v":0},{"$f":"積雪日数!IT25","v":0.9},{"$f":"積雪日数!IU25","v":6.2000000000000011}]
[null,null,null,null,"東海","三重県",200,null,null,"三重県",{"$f":"積雪日数!IE26","v":"津"},{"$f":"積雪日数!II26","v":1.5},{"$f":"積雪日数!IJ26","v":2.2000000000000002},{"$f":"積雪日数!IK26","v":0.4},{"$f":"積雪日数!IL26","v":0},{"$f":"積雪日数!IM26","v":0},{"$f":"積雪日数!IN26","v":0},{"$f":"積雪日数!IO26","v":0},{"$f":"積雪日数!IP26","v":0},{"$f":"積雪日数!IQ26","v":0},{"$f":"積雪日数!IR26","v":0},{"$f":"積雪日数!IS26","v":0},{"$f":"積雪日数!IT26","v":0.4},{"$f":"積雪日数!IU26","v":4.5000000000000009}]
[null,null,null,null,"近畿","滋賀県",200,null,null,"滋賀県",{"$f":"積雪日数!IE27","v":"彦根"},{"$f":"積雪日数!II27","v":10.1},{"$f":"積雪日数!IJ27","v":9.1999999999999993},{"$f":"積雪日数!IK27","v":2.2999999999999998},{"$f":"積雪日数!IL27","v":0.1},{"$f":"積雪日数!IM27","v":0},{"$f":"積雪日数!IN27","v":0},{"$f":"積雪日数!IO27","v":0},{"$f":"積雪日数!IP27","v":0},{"$f":"積雪日数!IQ27","v":0},{"$f":"積雪日数!IR27","v":0},{"$f":"積雪日数!IS27","v":0},{"$f":"積雪日数!IT27","v":3.5},{"$f":"積雪日数!IU27","v":25.2}]
[null,null,null,null,"近畿","京都府",200,null,null,"京都府",{"$f":"積雪日数!IE28","v":"京都"},{"$f":"積雪日数!II28","v":3.1},{"$f":"積雪日数!IJ28","v":3.9},{"$f":"積雪日数!IK28","v":1},{"$f":"積雪日数!IL28","v":0},{"$f":"積雪日数!IM28","v":0},{"$f":"積雪日数!IN28","v":0},{"$f":"積雪日数!IO28","v":0},{"$f":"積雪日数!IP28","v":0},{"$f":"積雪日数!IQ28","v":0},{"$f":"積雪日数!IR28","v":0},{"$f":"積雪日数!IS28","v":0},{"$f":"積雪日数!IT28","v":1.2},{"$f":"積雪日数!IU28","v":9.1999999999999993}]
[null,null,null,null,"近畿","大阪府",200,null,null,"大阪府",{"$f":"積雪日数!IE29","v":"大阪"},{"$f":"積雪日数!II29","v":0.3},{"$f":"積雪日数!IJ29","v":0.9},{"$f":"積雪日数!IK29","v":0.2},{"$f":"積雪日数!IL29","v":0},{"$f":"積雪日数!IM29","v":0},{"$f":"積雪日数!IN29","v":0},{"$f":"積雪日数!IO29","v":0},{"$f":"積雪日数!IP29","v":0},{"$f":"積雪日数!IQ29","v":0},{"$f":"積雪日数!IR29","v":0},{"$f":"積雪日数!IS29","v":0},{"$f":"積雪日数!IT29","v":0.1},{"$f":"積雪日数!IU29","v":1.5}]
[null,null,null,null,"近畿","兵庫県",200,null,null,"兵庫県",{"$f":"積雪日数!IE30","v":"神戸"},{"$f":"積雪日数!II30","v":0.5},{"$f":"積雪日数!IJ30","v":1.2},{"$f":"積雪日数!IK30","v":0.5},{"$f":"積雪日数!IL30","v":0},{"$f":"積雪日数!IM30","v":0},{"$f":"積雪日数!IN30","v":0},{"$f":"積雪日数!IO30","v":0},{"$f":"積雪日数!IP30","v":0},{"$f":"積雪日数!IQ30","v":0},{"$f":"積雪日数!IR30","v":0},{"$f":"積雪日数!IS30","v":0},{"$f":"積雪日数!IT30","v":0.4},{"$f":"積雪日数!IU30","v":2.6}]
[null,null,null,null,"近畿","奈良県",200,null,null,"奈良県",{"$f":"積雪日数!IE31","v":"奈良"},{"$f":"積雪日数!II31","v":1.4},{"$f":"積雪日数!IJ31","v":1.9},{"$f":"積雪日数!IK31","v":0.8},{"$f":"積雪日数!IL31","v":0},{"$f":"積雪日数!IM31","v":0},{"$f":"積雪日数!IN31","v":0},{"$f":"積雪日数!IO31","v":0},{"$f":"積雪日数!IP31","v":0},{"$f":"積雪日数!IQ31","v":0},{"$f":"積雪日数!IR31","v":0},{"$f":"積雪日数!IS31","v":0},{"$f":"積雪日数!IT31","v":0.7},{"$f":"積雪日数!IU31","v":4.8}]
[null,null,null,null,"近畿","和歌山県",200,null,null,"和歌山県",{"$f":"積雪日数!IE32","v":"和歌山"},{"$f":"積雪日数!II32","v":0.9},{"$f":"積雪日数!IJ32","v":1},{"$f":"積雪日数!IK32","v":0.1},{"$f":"積雪日数!IL32","v":0},{"$f":"積雪日数!IM32","v":0},{"$f":"積雪日数!IN32","v":0},{"$f":"積雪日数!IO32","v":0},{"$f":"積雪日数!IP32","v":0},{"$f":"積雪日数!IQ32","v":0},{"$f":"積雪日数!IR32","v":0},{"$f":"積雪日数!IS32","v":0},{"$f":"積雪日数!IT32","v":0.2},{"$f":"積雪日数!IU32","v":2.2000000000000002}]
[null,null,null,null,"中国","鳥取県",200,null,null,"鳥取県",{"$f":"積雪日数!IE33","v":"鳥取"},{"$f":"積雪日数!II33","v":15.5},{"$f":"積雪日数!IJ33","v":13.2},{"$f":"積雪日数!IK33","v":4},{"$f":"積雪日数!IL33","v":0.2},{"$f":"積雪日数!IM33","v":0},{"$f":"積雪日数!IN33","v":0},{"$f":"積雪日数!IO33","v":0},{"$f":"積雪日数!IP33","v":0},{"$f":"積雪日数!IQ33","v":0},{"$f":"積雪日数!IR33","v":0},{"$f":"積雪日数!IS33","v":0.1},{"$f":"積雪日数!IT33","v":6.7},{"$f":"積雪日数!IU33","v":39.70000000000001}]
[null,null,null,null,"中国","島根県",200,null,null,"島根県",{"$f":"積雪日数!IE34","v":"松江"},{"$f":"積雪日数!II34","v":11.2},{"$f":"積雪日数!IJ34","v":9.1},{"$f":"積雪日数!IK34","v":2.1},{"$f":"積雪日数!IL34","v":0.1},{"$f":"積雪日数!IM34","v":0},{"$f":"積雪日数!IN34","v":0},{"$f":"積雪日数!IO34","v":0},{"$f":"積雪日数!IP34","v":0},{"$f":"積雪日数!IQ34","v":0},{"$f":"積雪日数!IR34","v":0},{"$f":"積雪日数!IS34","v":0.2},{"$f":"積雪日数!IT34","v":4.3},{"$f":"積雪日数!IU34","v":27}]
[null,null,null,null,"中国","岡山県",200,null,null,"岡山県",{"$f":"積雪日数!IE35","v":"岡山"},{"$f":"積雪日数!II35","v":0.9},{"$f":"積雪日数!IJ35","v":1.1000000000000001},{"$f":"積雪日数!IK35","v":0.4},{"$f":"積雪日数!IL35","v":0},{"$f":"積雪日数!IM35","v":0},{"$f":"積雪日数!IN35","v":0},{"$f":"積雪日数!IO35","v":0},{"$f":"積雪日数!IP35","v":0},{"$f":"積雪日数!IQ35","v":0},{"$f":"積雪日数!IR35","v":0},{"$f":"積雪日数!IS35","v":0},{"$f":"積雪日数!IT35","v":0.1},{"$f":"積雪日数!IU35","v":2.5}]
[null,null,null,null,"中国","広島県",200,null,null,"広島県",{"$f":"積雪日数!IE36","v":"広島"},{"$f":"積雪日数!II36","v":2.7},{"$f":"積雪日数!IJ36","v":2.2999999999999998},{"$f":"積雪日数!IK36","v":0.7},{"$f":"積雪日数!IL36","v":0},{"$f":"積雪日数!IM36","v":0},{"$f":"積雪日数!IN36","v":0},{"$f":"積雪日数!IO36","v":0},{"$f":"積雪日数!IP36","v":0},{"$f":"積雪日数!IQ36","v":0},{"$f":"積雪日数!IR36","v":0},{"$f":"積雪日数!IS36","v":0},{"$f":"積雪日数!IT36","v":1.2},{"$f":"積雪日数!IU36","v":6.9}]
[null,null,null,null,"中国","山口県",200,null,null,"山口県",{"$f":"積雪日数!IE37","v":"山口"},{"$f":"積雪日数!II37","v":3.2},{"$f":"積雪日数!IJ37","v":2.1},{"$f":"積雪日数!IK37","v":0.5},{"$f":"積雪日数!IL37","v":0},{"$f":"積雪日数!IM37","v":0},{"$f":"積雪日数!IN37","v":0},{"$f":"積雪日数!IO37","v":0},{"$f":"積雪日数!IP37","v":0},{"$f":"積雪日数!IQ37","v":0},{"$f":"積雪日数!IR37","v":0},{"$f":"積雪日数!IS37","v":0},{"$f":"積雪日数!IT37","v":1.2},{"$f":"積雪日数!IU37","v":7.0000000000000009}]
[null,null,null,null,"四国","徳島県",200,null,null,"徳島県",{"$f":"積雪日数!IE38","v":"徳島"},{"$f":"積雪日数!II38","v":1.2},{"$f":"積雪日数!IJ38","v":1.2},{"$f":"積雪日数!IK38","v":0.2},{"$f":"積雪日数!IL38","v":0},{"$f":"積雪日数!IM38","v":0},{"$f":"積雪日数!IN38","v":0},{"$f":"積雪日数!IO38","v":0},{"$f":"積雪日数!IP38","v":0},{"$f":"積雪日数!IQ38","v":0},{"$f":"積雪日数!IR38","v":0},{"$f":"積雪日数!IS38","v":0},{"$f":"積雪日数!IT38","v":0.2},{"$f":"積雪日数!IU38","v":2.8000000000000003}]
[null,null,null,null,"四国","香川県",200,null,null,"香川県",{"$f":"積雪日数!IE39","v":"高松"},{"$f":"積雪日数!II39","v":0.8},{"$f":"積雪日数!IJ39","v":1.1000000000000001},{"$f":"積雪日数!IK39","v":0.3},{"$f":"積雪日数!IL39","v":0},{"$f":"積雪日数!IM39","v":0},{"$f":"積雪日数!IN39","v":0},{"$f":"積雪日数!IO39","v":0},{"$f":"積雪日数!IP39","v":0},{"$f":"積雪日数!IQ39","v":0},{"$f":"積雪日数!IR39","v":0},{"$f":"積雪日数!IS39","v":0},{"$f":"積雪日数!IT39","v":0.1},{"$f":"積雪日数!IU39","v":2.3000000000000003}]
[null,null,null,null,"四国","愛媛県",200,null,null,"愛媛県",{"$f":"積雪日数!IE40","v":"松山"},{"$f":"積雪日数!II40","v":0.8},{"$f":"積雪日数!IJ40","v":1.1000000000000001},{"$f":"積雪日数!IK40","v":0.2},{"$f":"積雪日数!IL40","v":0},{"$f":"積雪日数!IM40","v":0},{"$f":"積雪日数!IN40","v":0},{"$f":"積雪日数!IO40","v":0},{"$f":"積雪日数!IP40","v":0},{"$f":"積雪日数!IQ40","v":0},{"$f":"積雪日数!IR40","v":0},{"$f":"積雪日数!IS40","v":0},{"$f":"積雪日数!IT40","v":0.2},{"$f":"積雪日数!IU40","v":2.3000000000000003}]
[null,null,null,null,"四国","高知県",200,null,null,"高知県",{"$f":"積雪日数!IE41","v":"高知"},{"$f":"積雪日数!II41","v":0.4},{"$f":"積雪日数!IJ41","v":0.2},{"$f":"積雪日数!IK41","v":0.1},{"$f":"積雪日数!IL41","v":0},{"$f":"積雪日数!IM41","v":0},{"$f":"積雪日数!IN41","v":0},{"$f":"積雪日数!IO41","v":0},{"$f":"積雪日数!IP41","v":0},{"$f":"積雪日数!IQ41","v":0},{"$f":"積雪日数!IR41","v":0},{"$f":"積雪日数!IS41","v":0},{"$f":"積雪日数!IT41","v":0.2},{"$f":"積雪日数!IU41","v":0.90000000000000013}]
[null,null,null,null,"九州","福岡県",200,null,null,"福岡県",{"$f":"積雪日数!IE42","v":"福岡"},{"$f":"積雪日数!II42","v":1.7},{"$f":"積雪日数!IJ42","v":0.9},{"$f":"積雪日数!IK42","v":0.3},{"$f":"積雪日数!IL42","v":0},{"$f":"積雪日数!IM42","v":0},{"$f":"積雪日数!IN42","v":0},{"$f":"積雪日数!IO42","v":0},{"$f":"積雪日数!IP42","v":0},{"$f":"積雪日数!IQ42","v":0},{"$f":"積雪日数!IR42","v":0},{"$f":"積雪日数!IS42","v":0.1},{"$f":"積雪日数!IT42","v":0.8},{"$f":"積雪日数!IU42","v":3.8}]
[null,null,null,null,"九州","佐賀県",200,null,null,"佐賀県",{"$f":"積雪日数!IE43","v":"佐賀"},{"$f":"積雪日数!II43","v":1.8},{"$f":"積雪日数!IJ43","v":1.3},{"$f":"積雪日数!IK43","v":0.3},{"$f":"積雪日数!IL43","v":0},{"$f":"積雪日数!IM43","v":0},{"$f":"積雪日数!IN43","v":0},{"$f":"積雪日数!IO43","v":0},{"$f":"積雪日数!IP43","v":0},{"$f":"積雪日数!IQ43","v":0},{"$f":"積雪日数!IR43","v":0},{"$f":"積雪日数!IS43","v":0},{"$f":"積雪日数!IT43","v":0.6},{"$f":"積雪日数!IU43","v":4}]
[null,null,null,null,"九州","長崎県",200,null,null,"長崎県",{"$f":"積雪日数!IE44","v":"長崎"},{"$f":"積雪日数!II44","v":1.2},{"$f":"積雪日数!IJ44","v":0.9},{"$f":"積雪日数!IK44","v":0.2},{"$f":"積雪日数!IL44","v":0},{"$f":"積雪日数!IM44","v":0},{"$f":"積雪日数!IN44","v":0},{"$f":"積雪日数!IO44","v":0},{"$f":"積雪日数!IP44","v":0},{"$f":"積雪日数!IQ44","v":0},{"$f":"積雪日数!IR44","v":0},{"$f":"積雪日数!IS44","v":0},{"$f":"積雪日数!IT44","v":0.2},{"$f":"積雪日数!IU44","v":2.5000000000000004}]
[null,null,null,null,"九州","熊本県",200,null,null,"熊本県",{"$f":"積雪日数!IE45","v":"熊本"},{"$f":"積雪日数!II45","v":1},{"$f":"積雪日数!IJ45","v":0.8},{"$f":"積雪日数!IK45","v":0.1},{"$f":"積雪日数!IL45","v":0},{"$f":"積雪日数!IM45","v":0},{"$f":"積雪日数!IN45","v":0},{"$f":"積雪日数!IO45","v":0},{"$f":"積雪日数!IP45","v":0},{"$f":"積雪日数!IQ45","v":0},{"$f":"積雪日数!IR45","v":0},{"$f":"積雪日数!IS45","v":0},{"$f":"積雪日数!IT45","v":0.3},{"$f":"積雪日数!IU45","v":2.2000000000000002}]
[null,null,null,null,"九州","大分県",200,null,null,"大分県",{"$f":"積雪日数!IE46","v":"大分"},{"$f":"積雪日数!II46","v":0.5},{"$f":"積雪日数!IJ46","v":0.4},{"$f":"積雪日数!IK46","v":0.1},{"$f":"積雪日数!IL46","v":0},{"$f":"積雪日数!IM46","v":0},{"$f":"積雪日数!IN46","v":0},{"$f":"積雪日数!IO46","v":0},{"$f":"積雪日数!IP46","v":0},{"$f":"積雪日数!IQ46","v":0},{"$f":"積雪日数!IR46","v":0},{"$f":"積雪日数!IS46","v":0},{"$f":"積雪日数!IT46","v":0.1},{"$f":"積雪日数!IU46","v":1.1000000000000001}]
[null,null,null,null,"九州","宮崎県",200,null,null,"宮崎県",{"$f":"積雪日数!IE47","v":"宮崎"},{"$f":"積雪日数!II47","v":0.1},{"$f":"積雪日数!IJ47","v":0},{"$f":"積雪日数!IK47","v":0},{"$f":"積雪日数!IL47","v":0},{"$f":"積雪日数!IM47","v":0},{"$f":"積雪日数!IN47","v":0},{"$f":"積雪日数!IO47","v":0},{"$f":"積雪日数!IP47","v":0},{"$f":"積雪日数!IQ47","v":0},{"$f":"積雪日数!IR47","v":0},{"$f":"積雪日数!IS47","v":0},{"$f":"積雪日数!IT47","v":0},{"$f":"積雪日数!IU47","v":0.1}]
[null,null,null,null,"九州","鹿児島県",200,null,null,"鹿児島県",{"$f":"積雪日数!IE48","v":"鹿児島"},{"$f":"積雪日数!II48","v":0.6},{"$f":"積雪日数!IJ48","v":0.6},{"$f":"積雪日数!IK48","v":0},{"$f":"積雪日数!IL48","v":0},{"$f":"積雪日数!IM48","v":0},{"$f":"積雪日数!IN48","v":0},{"$f":"積雪日数!IO48","v":0},{"$f":"積雪日数!IP48","v":0},{"$f":"積雪日数!IQ48","v":0},{"$f":"積雪日数!IR48","v":0},{"$f":"積雪日数!IS48","v":0},{"$f":"積雪日数!IT48","v":0.1},{"$f":"積雪日数!IU48","v":1.3}]
[null,null,null,null,"沖縄","沖縄県",200,null,null,"沖縄県",{"$f":"積雪日数!IE49","v":"那覇"},{"$f":"積雪日数!II49","v":0},{"$f":"積雪日数!IJ49","v":0},{"$f":"積雪日数!IK49","v":0},{"$f":"積雪日数!IL49","v":0},{"$f":"積雪日数!IM49","v":0},{"$f":"積雪日数!IN49","v":0},{"$f":"積雪日数!IO49","v":0},{"$f":"積雪日数!IP49","v":0},{"$f":"積雪日数!IQ49","v":0},{"$f":"積雪日数!IR49","v":0},{"$f":"積雪日数!IS49","v":0},{"$f":"積雪日数!IT49","v":0},{"$f":"積雪日数!IU49","v":0}]

{"sheet":"下水熱ポテンシャル","index":21,"n_rows":27,"n_cols":29,"rows_kept":27,"cut":false,"hidden":true,"merged":[]}
[]
[null,"■下水関連の入力情報",null,null,null,null,"■熱需給マッチング"]
[null,"・下水熱利用の設定",null,null,null,null,"・下水熱ポテンシャルの算定",null,null,null,null,"・下水熱ポテンシャル、利用可能熱量"]
[null,"項目","単位","値","備考",null,"項目","単位","値","備考",null,"項目","単位","4月","5月","6月","7月","8月","9月","10月","11月","12月","1月","2月","3月","合計","最大","最小","備考"]
[null,"下水熱量の設定方法選択",null,{"$f":"入力シート!C44","v":"下水流量と下水温度を入力"},null,null,"下水流量","m3/年",{"$f":"D6","v":0},null,null,"月日数",null,{"$f":"熱需要量算定・原単位!D24","v":30},{"$f":"熱需要量算定・原単位!E24","v":31},{"$f":"熱需要量算定・原単位!F24","v":30},{"$f":"熱需要量算定・原単位!G24","v":31},{"$f":"熱需要量算定・原単位!H24","v":31},{"$f":"熱需要量算定・原単位!I24","v":30},{"$f":"熱需要量算定・原単位!J24","v":31},{"$f":"熱需要量算定・原単位!K24","v":30},{"$f":"熱需要量算定・原単位!L24","v":31},{"$f":"熱需要量算定・原単位!M24","v":31},{"$f":"熱需要量算定・原単位!N24","v":28},{"$f":"熱需要量算定・原単位!O24","v":31},{"$f":"SUM(N5:Y5)","v":365},{"$f":"MAX(N5:Y5)","v":31},{"$f":"MIN(N5:Y5)","v":28}]
[null,"熱利用場所の下水流量","m3/年",{"$f":"入力シート!C45","v":0},null,null,"下水流量","m3/h",{"$f":"I5/8760","v":0},null,null,"下水温度","℃",{"$f":"下水温度!F3","v":{"$error":"#N/A"}},{"$f":"下水温度!G3","v":{"$error":"#N/A"}},{"$f":"下水温度!H3","v":{"$error":"#N/A"}},{"$f":"下水温度!I3","v":{"$error":"#N/A"}},{"$f":"下水温度!J3","v":{"$error":"#N/A"}},{"$f":"下水温度!K3","v":{"$error":"#N/A"}},{"$f":"下水温度!L3","v":{"$error":"#N/A"}},{"$f":"下水温度!M3","v":{"$error":"#N/A"}},{"$f":"下水温度!N3","v":{"$error":"#N/A"}},{"$f":"下水温度!C3","v":{"$error":"#N/A"}},{"$f":"下水温度!D3","v":{"$error":"#N/A"}},{"$f":"下水温度!E3","v":{"$error":"#N/A"}},null,{"$f":"MAX(N6:Y6)","v":{"$error":"#N/A"}},{"$f":"MIN(N6:Y6)","v":{"$error":"#N/A"}}]
[null,"熱利用場所の下水温度","℃",{"$f":"入力シート!C46","v":0},null,null,"下水流量","L/min",{"$f":"I5*1000/365/24/60","v":0},null,null,"下水熱ポテンシャル","MJ/月",{"$f":"$I$13*N5/$Z$5","v":{"$error":"#N/A"}},{"$error":"#N/A"},{"$error":"#N/A"},{"$error":"#N/A"},{"$error":"#N/A"},{"$error":"#N/A"},{"$error":"#N/A"},{"$error":"#N/A"},{"$error":"#N/A"},{"$error":"#N/A"},{"$error":"#N/A"},{"$error":"#N/A"},{"$f":"SUM(N7:Y7)","v":{"$error":"#N/A"}},{"$f":"MAX(N7:Y7)","v":{"$error":"#N/A"}},{"$f":"MIN(N7:Y7)","v":{"$error":"#N/A"}},"月割する。"]
[null,"熱利用場所の下水熱ポテンシャル","MJ/年",{"$f":"入力シート!C47","v":1000000},null,null,"下水温度","℃",{"$f":"AVERAGE(下水温度!C3:N3)","v":{"$error":"#N/A"}},null,null,null,"kWh/月",{"$f":"N7/3.6","v":{"$error":"#N/A"}},{"$f":"O7/3.6","v":{"$error":"#N/A"}},{"$error":"#N/A"},{"$error":"#N/A"},{"$error":"#N/A"},{"$error":"#N/A"},{"$error":"#N/A"},{"$error":"#N/A"},{"$error":"#N/A"},{"$error":"#N/A"},{"$error":"#N/A"},{"$error":"#N/A"},{"$f":"SUM(N8:Y8)","v":{"$error":"#N/A"}},{"$f":"MAX(N8:Y8)","v":{"$error":"#N/A"}},{"$f":"MIN(N8:Y8)","v":{"$error":"#N/A"}}]
[null,"下水熱利用システムの種類",null,{"$f":"入力シート!C56","v":0},null,null,"熱利用温度差(デフォルト設定)","℃",5,null,null,"熱利用用途","-",{"$f":"IF($I$24=\"給湯\",\"給湯\",IF($I$24=\"空調\",熱需要量算定・原単位!D39,IF($I$24=\"融雪\",\"融雪\",\"\")))","v":""},{"$f":"IF($I$24=\"給湯\",\"給湯\",IF($I$24=\"空調\",熱需要量算定・原単位!E39,IF($I$24=\"融雪\",\"融雪\",\"\")))","v":""},{"$f":"IF($I$24=\"給湯\",\"給湯\",IF($I$24=\"空調\",熱需要量算定・原単位!F39,IF($I$24=\"融雪\",\"融雪\",\"\")))","v":""},{"$f":"IF($I$24=\"給湯\",\"給湯\",IF($I$24=\"空調\",熱需要量算定・原単位!G39,IF($I$24=\"融雪\",\"融雪\",\"\")))","v":""},{"$f":"IF($I$24=\"給湯\",\"給湯\",IF($I$24=\"空調\",熱需要量算定・原単位!H39,IF($I$24=\"融雪\",\"融雪\",\"\")))","v":""},{"$f":"IF($I$24=\"給湯\",\"給湯\",IF($I$24=\"空調\",熱需要量算定・原単位!I39,IF($I$24=\"融雪\",\"融雪\",\"\")))","v":""},{"$f":"IF($I$24=\"給湯\",\"給湯\",IF($I$24=\"空調\",熱需要量算定・原単位!J39,IF($I$24=\"融雪\",\"融雪\",\"\")))","v":""},{"$f":"IF($I$24=\"給湯\",\"給湯\",IF($I$24=\"空調\",熱需要量算定・原単位!K39,IF($I$24=\"融雪\",\"融雪\",\"\")))","v":""},{"$f":"IF($I$24=\"給湯\",\"給湯\",IF($I$24=\"空調\",熱需要量算定・原単位!L39,IF($I$24=\"融雪\",\"融雪\",\"\")))","v":""},{"$f":"IF($I$24=\"給湯\",\"給湯\",IF($I$24=\"空調\",熱需要量算定・原単位!M39,IF($I$24=\"融雪\",\"融雪\",\"\")))","v":""},{"$f":"IF($I$24=\"給湯\",\"給湯\",IF($I$24=\"空調\",熱需要量算定・原単位!N39,IF($I$24=\"融雪\",\"融雪\",\"\")))","v":""},{"$f":"IF($I$24=\"給湯\",\"給湯\",IF($I$24=\"空調\",熱需要量算定・原単位!O39,IF($I$24=\"融雪\",\"融雪\",\"\")))","v":""}]
[null,null,null,null,null,null,"熱利用温度差","℃",{"$f":"IF(I8-I9<5,0,I9)","v":{"$error":"#N/A"}},"熱利用後5℃を下回るなら0℃とする。",null,"（参考）月別熱需要量","MJ/月",{"$f":"IF($I$24=\"給湯\",熱需要量算定・原単位!D46,IF($I$24=\"空調\",熱需要量算定・原単位!D40,IF($I$24=\"融雪\",融雪熱需要量算定!AG6,\"\")))","v":""},{"$f":"IF($I$24=\"給湯\",熱需要量算定・原単位!E46,IF($I$24=\"空調\",熱需要量算定・原単位!E40,IF($I$24=\"融雪\",融雪熱需要量算定!AH6,\"\")))","v":""},{"$f":"IF($I$24=\"給湯\",熱需要量算定・原単位!F46,IF($I$24=\"空調\",熱需要量算定・原単位!F40,IF($I$24=\"融雪\",融雪熱需要量算定!AI6,\"\")))","v":""},{"$f":"IF($I$24=\"給湯\",熱需要量算定・原単位!G46,IF($I$24=\"空調\",熱需要量算定・原単位!G40,IF($I$24=\"融雪\",融雪熱需要量算定!AJ6,\"\")))","v":""},{"$f":"IF($I$24=\"給湯\",熱需要量算定・原単位!H46,IF($I$24=\"空調\",熱需要量算定・原単位!H40,IF($I$24=\"融雪\",融雪熱需要量算定!AK6,\"\")))","v":""},{"$f":"IF($I$24=\"給湯\",熱需要量算定・原単位!I46,IF($I$24=\"空調\",熱需要量算定・原単位!I40,IF($I$24=\"融雪\",融雪熱需要量算定!AL6,\"\")))","v":""},{"$f":"IF($I$24=\"給湯\",熱需要量算定・原単位!J46,IF($I$24=\"空調\",熱需要量算定・原単位!J40,IF($I$24=\"融雪\",融雪熱需要量算定!AM6,\"\")))","v":""},{"$f":"IF($I$24=\"給湯\",熱需要量算定・原単位!K46,IF($I$24=\"空調\",熱需要量算定・原単位!K40,IF($I$24=\"融雪\",融雪熱需要量算定!AN6,\"\")))","v":""},{"$f":"IF($I$24=\"給湯\",熱需要量算定・原単位!L46,IF($I$24=\"空調\",熱需要量算定・原単位!L40,IF($I$24=\"融雪\",融雪熱需要量算定!AO6,\"\")))","v":""},{"$f":"IF($I$24=\"給湯\",熱需要量算定・原単位!M46,IF($I$24=\"空調\",熱需要量算定・原単位!M40,IF($I$24=\"融雪\",融雪熱需要量算定!AP6,\"\")))","v":""},{"$f":"IF($I$24=\"給湯\",熱需要量算定・原単位!N46,IF($I$24=\"空調\",熱需要量算定・原単位!N40,IF($I$24=\"融雪\",融雪熱需要量算定!AQ6,\"\")))","v":""},{"$f":"IF($I$24=\"給湯\",熱需要量算定・原単位!O46,IF($I$24=\"空調\",熱需要量算定・原単位!O40,IF($I$24=\"融雪\",融雪熱需要量算定!AR6,\"\")))","v":""},{"$f":"SUM(N10:Y10)","v":0},{"$f":"MAX(N10:Y10)","v":0},{"$f":"MIN(N10:Y10)","v":0}]
[null,null,null,null,null,null,"下水熱ポテンシャル(流量温度から)","MJ/年",{"$f":"D19*I5*I10","v":{"$error":"#N/A"}},"容積比熱×下水流量×熱利用温度差",null,null,"kWh/月",{"$f":"IF($I$24=\"給湯\",熱需要量算定・原単位!D47,IF($I$24=\"空調\",熱需要量算定・原単位!D41,IF($I$24=\"融雪\",融雪熱需要量算定!AG7,\"\")))","v":""},{"$f":"IF($I$24=\"給湯\",熱需要量算定・原単位!E47,IF($I$24=\"空調\",熱需要量算定・原単位!E41,IF($I$24=\"融雪\",融雪熱需要量算定!AH7,\"\")))","v":""},{"$f":"IF($I$24=\"給湯\",熱需要量算定・原単位!F47,IF($I$24=\"空調\",熱需要量算定・原単位!F41,IF($I$24=\"融雪\",融雪熱需要量算定!AI7,\"\")))","v":""},{"$f":"IF($I$24=\"給湯\",熱需要量算定・原単位!G47,IF($I$24=\"空調\",熱需要量算定・原単位!G41,IF($I$24=\"融雪\",融雪熱需要量算定!AJ7,\"\")))","v":""},{"$f":"IF($I$24=\"給湯\",熱需要量算定・原単位!H47,IF($I$24=\"空調\",熱需要量算定・原単位!H41,IF($I$24=\"融雪\",融雪熱需要量算定!AK7,\"\")))","v":""},{"$f":"IF($I$24=\"給湯\",熱需要量算定・原単位!I47,IF($I$24=\"空調\",熱需要量算定・原単位!I41,IF($I$24=\"融雪\",融雪熱需要量算定!AL7,\"\")))","v":""},{"$f":"IF($I$24=\"給湯\",熱需要量算定・原単位!J47,IF($I$24=\"空調\",熱需要量算定・原単位!J41,IF($I$24=\"融雪\",融雪熱需要量算定!AM7,\"\")))","v":""},{"$f":"IF($I$24=\"給湯\",熱需要量算定・原単位!K47,IF($I$24=\"空調\",熱需要量算定・原単位!K41,IF($I$24=\"融雪\",融雪熱需要量算定!AN7,\"\")))","v":""},{"$f":"IF($I$24=\"給湯\",熱需要量算定・原単位!L47,IF($I$24=\"空調\",熱需要量算定・原単位!L41,IF($I$24=\"融雪\",融雪熱需要量算定!AO7,\"\")))","v":""},{"$f":"IF($I$24=\"給湯\",熱需要量算定・原単位!M47,IF($I$24=\"空調\",熱需要量算定・原単位!M41,IF($I$24=\"融雪\",融雪熱需要量算定!AP7,\"\")))","v":""},{"$f":"IF($I$24=\"給湯\",熱需要量算定・原単位!N47,IF($I$24=\"空調\",熱需要量算定・原単位!N41,IF($I$24=\"融雪\",融雪熱需要量算定!AQ7,\"\")))","v":""},{"$f":"IF($I$24=\"給湯\",熱需要量算定・原単位!O47,IF($I$24=\"空調\",熱需要量算定・原単位!O41,IF($I$24=\"融雪\",融雪熱需要量算定!AR7,\"\")))","v":""},{"$f":"SUM(N11:Y11)","v":0},{"$f":"MAX(N11:Y11)","v":0},{"$f":"MIN(N11:Y11)","v":0}]
[null,null,null,null,null,null,"下水熱ポテンシャル(直接入力)","MJ/年",{"$f":"D8","v":1000000},null,null,"熱源水入口温度（加熱）","℃",{"$f":"N6-5","v":{"$error":"#N/A"}},{"$f":"O6-5","v":{"$error":"#N/A"}},{"$error":"#N/A"},{"$error":"#N/A"},{"$error":"#N/A"},{"$error":"#N/A"},{"$error":"#N/A"},{"$error":"#N/A"},{"$error":"#N/A"},{"$error":"#N/A"},{"$error":"#N/A"},{"$error":"#N/A"},null,null,null,"5℃差想定"]
[null,null,null,null,null,null,"下水熱ポテンシャル","MJ/年",{"$f":"IF(D5=選択リスト設定!N3,I11,IF(D5=選択リスト設定!N4,I12,0))","v":{"$error":"#N/A"}},null,null,"熱源水入口温度（冷却）","℃",{"$f":"N6+5","v":{"$error":"#N/A"}},{"$f":"O6+5","v":{"$error":"#N/A"}},{"$error":"#N/A"},{"$error":"#N/A"},{"$error":"#N/A"},{"$error":"#N/A"},{"$error":"#N/A"},{"$error":"#N/A"},{"$error":"#N/A"},{"$error":"#N/A"},{"$error":"#N/A"},{"$error":"#N/A"}]
[null,null,null,null,null,null,null,null,null,null,null,"COP","給湯",{"$f":"HP性能曲線!$E$11*N12+HP性能曲線!$F$11","v":{"$error":"#N/A"}},{"$f":"HP性能曲線!$E$11*O12+HP性能曲線!$F$11","v":{"$error":"#N/A"}},{"$f":"HP性能曲線!$E$11*P12+HP性能曲線!$F$11","v":{"$error":"#N/A"}},{"$f":"HP性能曲線!$E$11*Q12+HP性能曲線!$F$11","v":{"$error":"#N/A"}},{"$f":"HP性能曲線!$E$11*R12+HP性能曲線!$F$11","v":{"$error":"#N/A"}},{"$f":"HP性能曲線!$E$11*S12+HP性能曲線!$F$11","v":{"$error":"#N/A"}},{"$f":"HP性能曲線!$E$11*T12+HP性能曲線!$F$11","v":{"$error":"#N/A"}},{"$f":"HP性能曲線!$E$11*U12+HP性能曲線!$F$11","v":{"$error":"#N/A"}},{"$f":"HP性能曲線!$E$11*V12+HP性能曲線!$F$11","v":{"$error":"#N/A"}},{"$f":"HP性能曲線!$E$11*W12+HP性能曲線!$F$11","v":{"$error":"#N/A"}},{"$f":"HP性能曲線!$E$11*X12+HP性能曲線!$F$11","v":{"$error":"#N/A"}},{"$f":"HP性能曲線!$E$11*Y12+HP性能曲線!$F$11","v":{"$error":"#N/A"}}]
[null,"■係数",null,null,null,null,"・熱需要量",null,null,null,null,"COP","冷房",{"$f":"HP性能曲線!$E$9*N13+HP性能曲線!$F$9","v":{"$error":"#N/A"}},{"$f":"HP性能曲線!$E$9*O13+HP性能曲線!$F$9","v":{"$error":"#N/A"}},{"$f":"HP性能曲線!$E$9*P13+HP性能曲線!$F$9","v":{"$error":"#N/A"}},{"$f":"HP性能曲線!$E$9*Q13+HP性能曲線!$F$9","v":{"$error":"#N/A"}},{"$f":"HP性能曲線!$E$9*R13+HP性能曲線!$F$9","v":{"$error":"#N/A"}},{"$f":"HP性能曲線!$E$9*S13+HP性能曲線!$F$9","v":{"$error":"#N/A"}},{"$f":"HP性能曲線!$E$9*T13+HP性能曲線!$F$9","v":{"$error":"#N/A"}},{"$f":"HP性能曲線!$E$9*U13+HP性能曲線!$F$9","v":{"$error":"#N/A"}},{"$f":"HP性能曲線!$E$9*V13+HP性能曲線!$F$9","v":{"$error":"#N/A"}},{"$f":"HP性能曲線!$E$9*W13+HP性能曲線!$F$9","v":{"$error":"#N/A"}},{"$f":"HP性能曲線!$E$9*X13+HP性能曲線!$F$9","v":{"$error":"#N/A"}},{"$f":"HP性能曲線!$E$9*Y13+HP性能曲線!$F$9","v":{"$error":"#N/A"}}]
[null,"項目","値","単位","備考",null,"項目","単位","値","備考",null,"COP","暖房",{"$f":"HP性能曲線!$E$10*N12+HP性能曲線!$F$10","v":{"$error":"#N/A"}},{"$f":"HP性能曲線!$E$10*O12+HP性能曲線!$F$10","v":{"$error":"#N/A"}},{"$f":"HP性能曲線!$E$10*P12+HP性能曲線!$F$10","v":{"$error":"#N/A"}},{"$f":"HP性能曲線!$E$10*Q12+HP性能曲線!$F$10","v":{"$error":"#N/A"}},{"$f":"HP性能曲線!$E$10*R12+HP性能曲線!$F$10","v":{"$error":"#N/A"}},{"$f":"HP性能曲線!$E$10*S12+HP性能曲線!$F$10","v":{"$error":"#N/A"}},{"$f":"HP性能曲線!$E$10*T12+HP性能曲線!$F$10","v":{"$error":"#N/A"}},{"$f":"HP性能曲線!$E$10*U12+HP性能曲線!$F$10","v":{"$error":"#N/A"}},{"$f":"HP性能曲線!$E$10*V12+HP性能曲線!$F$10","v":{"$error":"#N/A"}},{"$f":"HP性能曲線!$E$10*W12+HP性能曲線!$F$10","v":{"$error":"#N/A"}},{"$f":"HP性能曲線!$E$10*X12+HP性能曲線!$F$10","v":{"$error":"#N/A"}},{"$f":"HP性能曲線!$E$10*Y12+HP性能曲線!$F$10","v":{"$error":"#N/A"}}]
[null,{"$f":"係数・物性!B4","v":"水の比熱"},{"$f":"係数・物性!C4","v":"kJ/kgK"},{"$f":"係数・物性!D4","v":4.1790000000000003},null,null,"給湯","MJ/年",{"$f":"熱需要量算定・原単位!P46","v":{"$error":"#N/A"}},"熱需要量算定・原単位より",null,"COP","融雪",1,1,1,1,1,1,1,1,1,1,1,1]
[null,{"$f":"係数・物性!B5","v":"水の密度"},{"$f":"係数・物性!C5","v":"kg/m3"},{"$f":"係数・物性!D5","v":996.62},null,null,"冷房","MJ/年",{"$f":"SUMIF(熱需要量算定・原単位!D39:O39,G18,熱需要量算定・原単位!D40:O40)","v":{"$error":"#N/A"}},"熱需要量算定・原単位より",null,"COP","-",{"$f":"IF(N9=\"給湯\",N14,IF(N9=\"冷房\",N15,IF(N9=\"暖房\",N16,IF(N9=\"融雪\",N17,1))))","v":1},1,1,1,1,1,1,1,1,1,1,1]
[null,{"$f":"係数・物性!B6","v":"容積比熱"},{"$f":"係数・物性!C6","v":"MJ/m3K"},{"$f":"係数・物性!D6","v":4.1648749800000004},null,null,"暖房","MJ/年",{"$f":"SUMIF(熱需要量算定・原単位!D39:O39,G19,熱需要量算定・原単位!D40:O40)","v":{"$error":"#N/A"}},"熱需要量算定・原単位より",null,"下水熱利用可能熱量","給湯",{"$f":"N14/(N14-1)*N$7","v":{"$error":"#N/A"}},{"$f":"O14/(O14-1)*O$7","v":{"$error":"#N/A"}},{"$f":"P14/(P14-1)*P$7","v":{"$error":"#N/A"}},{"$error":"#N/A"},{"$error":"#N/A"},{"$error":"#N/A"},{"$error":"#N/A"},{"$error":"#N/A"},{"$error":"#N/A"},{"$error":"#N/A"},{"$error":"#N/A"},{"$error":"#N/A"},{"$f":"SUM(N19:Y19)","v":{"$error":"#N/A"}},{"$f":"MAX(N19:Y19)","v":{"$error":"#N/A"}},{"$f":"MIN(N19:Y19)","v":{"$error":"#N/A"}}]
[null,null,null,null,null,null,"融雪","MJ/年",{"$f":"融雪熱需要量算定!AS6","v":{"$error":"#N/A"}},"融雪熱需要量算定より",null,null,"冷房",{"$f":"N15/(N15+1)*N$7","v":{"$error":"#N/A"}},{"$f":"O15/(O15+1)*O$7","v":{"$error":"#N/A"}},{"$error":"#N/A"},{"$error":"#N/A"},{"$error":"#N/A"},{"$error":"#N/A"},{"$error":"#N/A"},{"$error":"#N/A"},{"$error":"#N/A"},{"$error":"#N/A"},{"$error":"#N/A"},{"$error":"#N/A"},{"$error":"#N/A"},{"$error":"#N/A"},{"$error":"#N/A"}]
[null,null,null,null,null,null,null,null,null,null,null,null,"暖房",{"$f":"N16/(N16-1)*N$7","v":{"$error":"#N/A"}},{"$f":"O16/(O16-1)*O$7","v":{"$error":"#N/A"}},{"$error":"#N/A"},{"$error":"#N/A"},{"$error":"#N/A"},{"$error":"#N/A"},{"$error":"#N/A"},{"$error":"#N/A"},{"$error":"#N/A"},{"$error":"#N/A"},{"$error":"#N/A"},{"$error":"#N/A"},{"$error":"#N/A"},{"$error":"#N/A"},{"$error":"#N/A"}]
[null,null,null,null,null,null,"・マッチング",null,null,null,null,null,"融雪",{"$f":"N$7","v":{"$error":"#N/A"}},{"$f":"O$7","v":{"$error":"#N/A"}},{"$error":"#N/A"},{"$error":"#N/A"},{"$error":"#N/A"},{"$error":"#N/A"},{"$error":"#N/A"},{"$error":"#N/A"},{"$error":"#N/A"},{"$error":"#N/A"},{"$error":"#N/A"},{"$error":"#N/A"},{"$error":"#N/A"},{"$error":"#N/A"},{"$error":"#N/A"}]
[null,null,null,null,null,null,"項目","単位","値","備考",null,"下水熱利用可能熱量","MJ/月",{"$f":"IF(N9=\"給湯\",N19,IF(N9=\"冷房\",N20,IF(N9=\"暖房\",N21,IF(N9=\"融雪\",N22,1))))","v":1},1,1,1,1,1,1,1,1,1,1,1,12,1,1]
[null,null,null,null,null,null,"熱利用用途",null,{"$f":"入力シート!C8","v":0},null,null,null,"kWh/月",{"$f":"N23/3.6","v":0.27777777777777779},{"$f":"O23/3.6","v":0.27777777777777779},0.27777777777777779,0.27777777777777779,0.27777777777777779,0.27777777777777779,0.27777777777777779,0.27777777777777779,0.27777777777777779,0.27777777777777779,0.27777777777777779,0.27777777777777779,3.3333333333333326,0.27777777777777779,0.27777777777777779]
[null,null,null,null,null,null,"熱需要量","MJ/年",{"$f":"IF(I24=\"給湯\",I17,IF(I24=\"空調\",I18+I19,IF(I24=\"融雪\",I20,\"\")))","v":""}]
[null,null,null,null,null,null,"下水熱ポテンシャル","MJ/年",{"$f":"IF(I24=\"融雪\",I13*SUM(融雪熱需要量算定!AG5:AR5)/365,I13)","v":{"$error":"#N/A"}},"融雪の場合は融雪期間のみに日数割している。"]
[null,null,null,null,null,null,"マッチング",null,{"$f":"IF(I26<=I25,\"需要過多\",\"供給過多\")","v":{"$error":"#N/A"}},{"$f":"IF(I26<=I25,\"熱需要量≧下水熱ポテンシャル\",\"熱需要量≦下水熱ポテンシャル\")","v":{"$error":"#N/A"}}]

{"sheet":"マッチング","index":22,"n_rows":119,"n_cols":28,"rows_kept":119,"cut":false,"hidden":true,"merged":[]}
[null,"■マッチング"]
[]
[null,"■熱需要量"]
[null,"項目","項目","単位","4月","5月","6月","7月","8月","9月","10月","11月","12月","1月","2月","3月","合計","最大","最小","備考"]
[null,"熱需要量","給湯","MJ/月",{"$f":"熱需要量算定・原単位!D46","v":{"$error":"#N/A"}},{"$f":"熱需要量算定・原単位!E46","v":{"$error":"#N/A"}},{"$f":"熱需要量算定・原単位!F46","v":{"$error":"#N/A"}},{"$f":"熱需要量算定・原単位!G46","v":{"$error":"#N/A"}},{"$f":"熱需要量算定・原単位!H46","v":{"$error":"#N/A"}},{"$f":"熱需要量算定・原単位!I46","v":{"$error":"#N/A"}},{"$f":"熱需要量算定・原単位!J46","v":{"$error":"#N/A"}},{"$f":"熱需要量算定・原単位!K46","v":{"$error":"#N/A"}},{"$f":"熱需要量算定・原単位!L46","v":{"$error":"#N/A"}},{"$f":"熱需要量算定・原単位!M46","v":{"$error":"#N/A"}},{"$f":"熱需要量算定・原単位!N46","v":{"$error":"#N/A"}},{"$f":"熱需要量算定・原単位!O46","v":{"$error":"#N/A"}},{"$f":"SUM(E5:P5)","v":{"$error":"#N/A"}},{"$f":"MAX(E5:P5)","v":{"$error":"#N/A"}},{"$f":"MIN(E5:P5)","v":{"$error":"#N/A"}}]
[null,null,"空調","MJ/月",{"$f":"熱需要量算定・原単位!D40","v":{"$error":"#N/A"}},{"$f":"熱需要量算定・原単位!E40","v":{"$error":"#N/A"}},{"$f":"熱需要量算定・原単位!F40","v":{"$error":"#N/A"}},{"$f":"熱需要量算定・原単位!G40","v":{"$error":"#N/A"}},{"$f":"熱需要量算定・原単位!H40","v":{"$error":"#N/A"}},{"$f":"熱需要量算定・原単位!I40","v":{"$error":"#N/A"}},{"$f":"熱需要量算定・原単位!J40","v":{"$error":"#N/A"}},{"$f":"熱需要量算定・原単位!K40","v":{"$error":"#N/A"}},{"$f":"熱需要量算定・原単位!L40","v":{"$error":"#N/A"}},{"$f":"熱需要量算定・原単位!M40","v":{"$error":"#N/A"}},{"$f":"熱需要量算定・原単位!N40","v":{"$error":"#N/A"}},{"$f":"熱需要量算定・原単位!O40","v":{"$error":"#N/A"}},{"$f":"SUM(E6:P6)","v":{"$error":"#N/A"}},{"$f":"MAX(E6:P6)","v":{"$error":"#N/A"}},{"$f":"MIN(E6:P6)","v":{"$error":"#N/A"}}]
[null,null,"冷房","MJ/月",{"$f":"熱需要量算定・原単位!D30","v":{"$error":"#N/A"}},{"$f":"熱需要量算定・原単位!E30","v":{"$error":"#N/A"}},{"$f":"熱需要量算定・原単位!F30","v":{"$error":"#N/A"}},{"$f":"熱需要量算定・原単位!G30","v":{"$error":"#N/A"}},{"$f":"熱需要量算定・原単位!H30","v":{"$error":"#N/A"}},{"$f":"熱需要量算定・原単位!I30","v":{"$error":"#N/A"}},{"$f":"熱需要量算定・原単位!J30","v":{"$error":"#N/A"}},{"$f":"熱需要量算定・原単位!K30","v":{"$error":"#N/A"}},{"$f":"熱需要量算定・原単位!L30","v":{"$error":"#N/A"}},{"$f":"熱需要量算定・原単位!M30","v":{"$error":"#N/A"}},{"$f":"熱需要量算定・原単位!N30","v":{"$error":"#N/A"}},{"$f":"熱需要量算定・原単位!O30","v":{"$error":"#N/A"}},{"$f":"SUM(E7:P7)","v":{"$error":"#N/A"}},{"$f":"MAX(E7:P7)","v":{"$error":"#N/A"}},{"$f":"MIN(E7:P7)","v":{"$error":"#N/A"}}]
[null,null,"暖房","MJ/月",{"$f":"熱需要量算定・原単位!D33","v":{"$error":"#N/A"}},{"$f":"熱需要量算定・原単位!E33","v":{"$error":"#N/A"}},{"$f":"熱需要量算定・原単位!F33","v":{"$error":"#N/A"}},{"$f":"熱需要量算定・原単位!G33","v":{"$error":"#N/A"}},{"$f":"熱需要量算定・原単位!H33","v":{"$error":"#N/A"}},{"$f":"熱需要量算定・原単位!I33","v":{"$error":"#N/A"}},{"$f":"熱需要量算定・原単位!J33","v":{"$error":"#N/A"}},{"$f":"熱需要量算定・原単位!K33","v":{"$error":"#N/A"}},{"$f":"熱需要量算定・原単位!L33","v":{"$error":"#N/A"}},{"$f":"熱需要量算定・原単位!M33","v":{"$error":"#N/A"}},{"$f":"熱需要量算定・原単位!N33","v":{"$error":"#N/A"}},{"$f":"熱需要量算定・原単位!O33","v":{"$error":"#N/A"}},{"$error":"#N/A"},{"$error":"#N/A"},{"$error":"#N/A"}]
[null,null,"融雪","MJ/月",{"$f":"融雪熱需要量算定!AG6","v":{"$error":"#N/A"}},{"$f":"融雪熱需要量算定!AH6","v":{"$error":"#N/A"}},{"$f":"融雪熱需要量算定!AI6","v":{"$error":"#N/A"}},{"$f":"融雪熱需要量算定!AJ6","v":{"$error":"#N/A"}},{"$f":"融雪熱需要量算定!AK6","v":{"$error":"#N/A"}},{"$f":"融雪熱需要量算定!AL6","v":{"$error":"#N/A"}},{"$f":"融雪熱需要量算定!AM6","v":{"$error":"#N/A"}},{"$f":"融雪熱需要量算定!AN6","v":{"$error":"#N/A"}},{"$f":"融雪熱需要量算定!AO6","v":{"$error":"#N/A"}},{"$f":"融雪熱需要量算定!AP6","v":{"$error":"#N/A"}},{"$f":"融雪熱需要量算定!AQ6","v":{"$error":"#N/A"}},{"$f":"融雪熱需要量算定!AR6","v":{"$error":"#N/A"}},{"$error":"#N/A"},{"$error":"#N/A"},{"$error":"#N/A"}]
[null,"選択した熱利用用途","用途",null,{"$f":"下水熱ポテンシャル!N9","v":""},{"$f":"下水熱ポテンシャル!O9","v":""},{"$f":"下水熱ポテンシャル!P9","v":""},{"$f":"下水熱ポテンシャル!Q9","v":""},{"$f":"下水熱ポテンシャル!R9","v":""},{"$f":"下水熱ポテンシャル!S9","v":""},{"$f":"下水熱ポテンシャル!T9","v":""},{"$f":"下水熱ポテンシャル!U9","v":""},{"$f":"下水熱ポテンシャル!V9","v":""},{"$f":"下水熱ポテンシャル!W9","v":""},{"$f":"下水熱ポテンシャル!X9","v":""},{"$f":"下水熱ポテンシャル!Y9","v":""}]
[null,null,{"$f":"入力シート!C8","v":0},"MJ/月",{"$f":"VLOOKUP($C$11,$C$5:$S$9,3,FALSE)","v":{"$error":"#N/A"}},{"$f":"VLOOKUP($C$11,$C$5:$S$9,4,FALSE)","v":{"$error":"#N/A"}},{"$f":"VLOOKUP($C$11,$C$5:$S$9,5,FALSE)","v":{"$error":"#N/A"}},{"$f":"VLOOKUP($C$11,$C$5:$S$9,6,FALSE)","v":{"$error":"#N/A"}},{"$f":"VLOOKUP($C$11,$C$5:$S$9,7,FALSE)","v":{"$error":"#N/A"}},{"$f":"VLOOKUP($C$11,$C$5:$S$9,8,FALSE)","v":{"$error":"#N/A"}},{"$f":"VLOOKUP($C$11,$C$5:$S$9,9,FALSE)","v":{"$error":"#N/A"}},{"$f":"VLOOKUP($C$11,$C$5:$S$9,10,FALSE)","v":{"$error":"#N/A"}},{"$f":"VLOOKUP($C$11,$C$5:$S$9,11,FALSE)","v":{"$error":"#N/A"}},{"$f":"VLOOKUP($C$11,$C$5:$S$9,12,FALSE)","v":{"$error":"#N/A"}},{"$f":"VLOOKUP($C$11,$C$5:$S$9,13,FALSE)","v":{"$error":"#N/A"}},{"$f":"VLOOKUP($C$11,$C$5:$S$9,14,FALSE)","v":{"$error":"#N/A"}},{"$f":"SUM(E11:P11)","v":{"$error":"#N/A"}},{"$f":"MAX(E11:P11)","v":{"$error":"#N/A"}},{"$f":"MIN(E11:P11)","v":{"$error":"#N/A"}}]
[]
[null,"■ポテンシャル量、熱利用可能熱量"]
[null,"項目","項目","単位","4月","5月","6月","7月","8月","9月","10月","11月","12月","1月","2月","3月","合計","最大","最小","備考"]
[null,"下水熱","下水熱ポテンシャル","MJ/月",{"$f":"下水熱ポテンシャル!N7","v":{"$error":"#N/A"}},{"$f":"下水熱ポテンシャル!O7","v":{"$error":"#N/A"}},{"$f":"下水熱ポテンシャル!P7","v":{"$error":"#N/A"}},{"$f":"下水熱ポテンシャル!Q7","v":{"$error":"#N/A"}},{"$f":"下水熱ポテンシャル!R7","v":{"$error":"#N/A"}},{"$f":"下水熱ポテンシャル!S7","v":{"$error":"#N/A"}},{"$f":"下水熱ポテンシャル!T7","v":{"$error":"#N/A"}},{"$f":"下水熱ポテンシャル!U7","v":{"$error":"#N/A"}},{"$f":"下水熱ポテンシャル!V7","v":{"$error":"#N/A"}},{"$f":"下水熱ポテンシャル!W7","v":{"$error":"#N/A"}},{"$f":"下水熱ポテンシャル!X7","v":{"$error":"#N/A"}},{"$f":"下水熱ポテンシャル!Y7","v":{"$error":"#N/A"}},{"$f":"SUM(E15:P15)","v":{"$error":"#N/A"}},{"$f":"MAX(E15:P15)","v":{"$error":"#N/A"}},{"$f":"MIN(E15:P15)","v":{"$error":"#N/A"}},"月割する。"]
[null,"下水熱利用可能熱量","熱利用用途","-",{"$f":"下水熱ポテンシャル!N9","v":""},{"$f":"下水熱ポテンシャル!O9","v":""},{"$f":"下水熱ポテンシャル!P9","v":""},{"$f":"下水熱ポテンシャル!Q9","v":""},{"$f":"下水熱ポテンシャル!R9","v":""},{"$f":"下水熱ポテンシャル!S9","v":""},{"$f":"下水熱ポテンシャル!T9","v":""},{"$f":"下水熱ポテンシャル!U9","v":""},{"$f":"下水熱ポテンシャル!V9","v":""},{"$f":"下水熱ポテンシャル!W9","v":""},{"$f":"下水熱ポテンシャル!X9","v":""},{"$f":"下水熱ポテンシャル!Y9","v":""}]
[null,null,"COP","-",{"$f":"下水熱ポテンシャル!N18","v":1},{"$f":"下水熱ポテンシャル!O18","v":1},{"$f":"下水熱ポテンシャル!P18","v":1},{"$f":"下水熱ポテンシャル!Q18","v":1},{"$f":"下水熱ポテンシャル!R18","v":1},{"$f":"下水熱ポテンシャル!S18","v":1},{"$f":"下水熱ポテンシャル!T18","v":1},{"$f":"下水熱ポテンシャル!U18","v":1},{"$f":"下水熱ポテンシャル!V18","v":1},{"$f":"下水熱ポテンシャル!W18","v":1},{"$f":"下水熱ポテンシャル!X18","v":1},{"$f":"下水熱ポテンシャル!Y18","v":1}]
[null,null,"下水熱利用可能量","MJ/月",{"$f":"下水熱ポテンシャル!N23","v":1},{"$f":"下水熱ポテンシャル!O23","v":1},{"$f":"下水熱ポテンシャル!P23","v":1},{"$f":"下水熱ポテンシャル!Q23","v":1},{"$f":"下水熱ポテンシャル!R23","v":1},{"$f":"下水熱ポテンシャル!S23","v":1},{"$f":"下水熱ポテンシャル!T23","v":1},{"$f":"下水熱ポテンシャル!U23","v":1},{"$f":"下水熱ポテンシャル!V23","v":1},{"$f":"下水熱ポテンシャル!W23","v":1},{"$f":"下水熱ポテンシャル!X23","v":1},{"$f":"下水熱ポテンシャル!Y23","v":1},{"$f":"SUM(E18:P18)","v":12},{"$f":"MAX(E18:P18)","v":1},{"$f":"MIN(E18:P18)","v":1}]
[null,"他の再エネ熱の利用可能な熱量","空気熱","MJ/月",1.0000000000000001E+300,1.0000000000000001E+300,1.0000000000000001E+300,1.0000000000000001E+300,1.0000000000000001E+300,1.0000000000000001E+300,1.0000000000000001E+300,1.0000000000000001E+300,1.0000000000000001E+300,1.0000000000000001E+300,1.0000000000000001E+300,1.0000000000000001E+300,{"$f":"SUM(E19:P19)","v":1.2000000000000003E+301},{"$f":"MAX(E19:P19)","v":1.0000000000000001E+300},{"$f":"MIN(E19:P19)","v":1.0000000000000001E+300},"各再エネの利用可能量計算部分より読み込み"]
[null,null,"太陽熱","MJ/月",{"$f":"太陽熱_ポテンシャル・RC・IC!K30","v":{"$error":"#N/A"}},{"$f":"太陽熱_ポテンシャル・RC・IC!L30","v":{"$error":"#N/A"}},{"$f":"太陽熱_ポテンシャル・RC・IC!M30","v":{"$error":"#N/A"}},{"$f":"太陽熱_ポテンシャル・RC・IC!N30","v":{"$error":"#N/A"}},{"$f":"太陽熱_ポテンシャル・RC・IC!O30","v":{"$error":"#N/A"}},{"$f":"太陽熱_ポテンシャル・RC・IC!P30","v":{"$error":"#N/A"}},{"$f":"太陽熱_ポテンシャル・RC・IC!Q30","v":{"$error":"#N/A"}},{"$f":"太陽熱_ポテンシャル・RC・IC!R30","v":{"$error":"#N/A"}},{"$f":"太陽熱_ポテンシャル・RC・IC!S30","v":{"$error":"#N/A"}},{"$f":"太陽熱_ポテンシャル・RC・IC!T30","v":{"$error":"#N/A"}},{"$f":"太陽熱_ポテンシャル・RC・IC!U30","v":{"$error":"#N/A"}},{"$f":"太陽熱_ポテンシャル・RC・IC!V30","v":{"$error":"#N/A"}},{"$f":"SUM(E20:P20)","v":{"$error":"#N/A"}},{"$f":"MAX(E20:P20)","v":{"$error":"#N/A"}},{"$f":"MIN(E20:P20)","v":{"$error":"#N/A"}},"各再エネの利用可能量計算部分より読み込み"]
[null,null,"地中熱","MJ/月",1.0000000000000001E+300,1.0000000000000001E+300,1.0000000000000001E+300,1.0000000000000001E+300,1.0000000000000001E+300,1.0000000000000001E+300,1.0000000000000001E+300,1.0000000000000001E+300,1.0000000000000001E+300,1.0000000000000001E+300,1.0000000000000001E+300,1.0000000000000001E+300,{"$f":"SUM(E21:P21)","v":1.2000000000000003E+301},{"$f":"MAX(E21:P21)","v":1.0000000000000001E+300},{"$f":"MIN(E21:P21)","v":1.0000000000000001E+300},"各再エネの利用可能量計算部分より読み込み"]
[null,null,"バイオマス熱","MJ/月",{"$f":"バイオマス熱ポテンシャル!I20","v":1},{"$f":"バイオマス熱ポテンシャル!J20","v":1},{"$f":"バイオマス熱ポテンシャル!K20","v":1},{"$f":"バイオマス熱ポテンシャル!L20","v":1},{"$f":"バイオマス熱ポテンシャル!M20","v":1},{"$f":"バイオマス熱ポテンシャル!N20","v":1},{"$f":"バイオマス熱ポテンシャル!O20","v":1},{"$f":"バイオマス熱ポテンシャル!P20","v":1},{"$f":"バイオマス熱ポテンシャル!Q20","v":1},{"$f":"バイオマス熱ポテンシャル!R20","v":1},{"$f":"バイオマス熱ポテンシャル!S20","v":1},{"$f":"バイオマス熱ポテンシャル!T20","v":1},12,1,1,"各再エネの利用可能量計算部分より読み込み"]
[null,null,"利用しない","MJ/月",0,0,0,0,0,0,0,0,0,0,0,0,{"$f":"SUM(E23:P23)","v":0},{"$f":"MAX(E23:P23)","v":0},{"$f":"MIN(E23:P23)","v":0}]
[null,"選択した他の再エネ熱利用可能熱量",{"$f":"入力シート!C68","v":"利用しない"},"MJ/月",{"$f":"VLOOKUP($C$24,$C$19:$S$23,3,FALSE)","v":0},{"$f":"VLOOKUP($C$24,$C$19:$S$23,4,FALSE)","v":0},{"$f":"VLOOKUP($C$24,$C$19:$S$23,5,FALSE)","v":0},{"$f":"VLOOKUP($C$24,$C$19:$S$23,6,FALSE)","v":0},{"$f":"VLOOKUP($C$24,$C$19:$S$23,7,FALSE)","v":0},{"$f":"VLOOKUP($C$24,$C$19:$S$23,8,FALSE)","v":0},{"$f":"VLOOKUP($C$24,$C$19:$S$23,9,FALSE)","v":0},{"$f":"VLOOKUP($C$24,$C$19:$S$23,10,FALSE)","v":0},{"$f":"VLOOKUP($C$24,$C$19:$S$23,10,FALSE)","v":0},{"$f":"VLOOKUP($C$24,$C$19:$S$23,11,FALSE)","v":0},{"$f":"VLOOKUP($C$24,$C$19:$S$23,12,FALSE)","v":0},{"$f":"VLOOKUP($C$24,$C$19:$S$23,13,FALSE)","v":0},0,0,0]
[]
[null,"■マッチング（熱需要量：下水熱）"]
[null,"項目","項目","単位","4月","5月","6月","7月","8月","9月","10月","11月","12月","1月","2月","3月","合計","年間熱需要量に対する割合[%]"]
[null,"熱需要量：下水熱","熱需要量","MJ/年",{"$f":"E11","v":{"$error":"#N/A"}},{"$error":"#N/A"},{"$error":"#N/A"},{"$error":"#N/A"},{"$error":"#N/A"},{"$error":"#N/A"},{"$error":"#N/A"},{"$error":"#N/A"},{"$error":"#N/A"},{"$error":"#N/A"},{"$error":"#N/A"},{"$error":"#N/A"},{"$error":"#N/A"},{"$f":"Q28/$Q$28","v":{"$error":"#N/A"}}]
[null,null,"下水熱利用可能量","MJ/年",{"$f":"E18","v":1},{"$f":"F18","v":1},1,1,1,1,1,1,1,1,1,{"$f":"P18","v":1},{"$f":"Q18","v":12},{"$f":"Q29/$Q$28","v":{"$error":"#N/A"}}]
[null,"マッチング","月別の下水熱マッチング","-",{"$f":"IF(E28>=E29,\"需要過多\",\"供給過多\")","v":{"$error":"#N/A"}},{"$error":"#N/A"},{"$error":"#N/A"},{"$error":"#N/A"},{"$error":"#N/A"},{"$error":"#N/A"},{"$error":"#N/A"},{"$error":"#N/A"},{"$error":"#N/A"},{"$error":"#N/A"},{"$error":"#N/A"},{"$error":"#N/A"},"-"]
[null,null,"熱需要量に対して利用可能な下水熱量","MJ/年",{"$f":"MIN(E28:E29)","v":{"$error":"#N/A"}},{"$f":"MIN(F28:F29)","v":{"$error":"#N/A"}},{"$error":"#N/A"},{"$error":"#N/A"},{"$error":"#N/A"},{"$error":"#N/A"},{"$error":"#N/A"},{"$error":"#N/A"},{"$error":"#N/A"},{"$error":"#N/A"},{"$error":"#N/A"},{"$error":"#N/A"},{"$f":"SUM(E31:P31)","v":{"$error":"#N/A"}},{"$f":"Q31/$Q$28","v":{"$error":"#N/A"}}]
[null,null,"年間の下水熱マッチング",null,null,null,null,null,null,null,null,null,null,null,null,null,{"$f":"IF(Q28>Q31,\"需要過多\",\"供給過多\")","v":{"$error":"#N/A"}},{"$f":"IF(Q28>Q31,\"熱需要量≧下水熱利用可能量\",\"熱需要量≦下水熱利用可能量\")","v":{"$error":"#N/A"}}]
[]
[null,null,null,null,null,null,null,null,null,null,null,null,null,null,null,null,null,"◆入力シートでの表示文"]
[null,null,null,null,null,null,null,null,null,null,null,null,null,null,null,null,null,"・供給過多（熱需要量≦下水熱利用可能量）の場合"]
[null,null,null,null,null,null,null,null,null,null,null,null,null,null,null,null,null,"下水熱で熱需要量をすべて賄うことができます。"]
[null,null,null,null,null,null,null,null,null,null,null,null,null,null,null,null,null,"下水熱以外のその他のシステム（他の再エネ熱または既存システム）を活用する場合、熱需要量のうち、下水熱で賄う割合を入力して下さい。"]
[null,null,null,null,null,null,null,null,null,null,null,null,null,null,null,null,null,"下水熱以外の再生可能エネルギーを活用する複合システムとする場合は、活用するエネルギー種別を選択して必要項目を入力して下さい。"]
[]
[null,null,null,null,null,null,null,null,null,null,null,null,null,null,null,null,null,"・需要過多（熱需要量≧下水熱利用可能量）の場合"]
[null,null,null,null,null,null,null,null,null,null,null,null,null,null,null,null,null,"下水熱だけでは熱需要量をすべて賄うことができません。"]
[null,null,null,null,null,null,null,null,null,null,null,null,null,null,null,null,null,"下水熱以外のその他のシステム（他の再エネ熱または既存システム）を活用して、不足する熱量を賄います。"]
[null,null,null,null,null,null,null,null,null,null,null,null,null,null,null,null,null,"下水熱以外の再生可能エネルギーを活用する複合システムとする場合は、活用するエネルギー種別を選択して必要項目を入力して下さい。"]
[]
[null,null,null,null,null,null,null,null,null,null,null,null,null,null,null,null,null,"・表示セル"]
[null,null,null,null,null,null,null,null,null,null,null,null,null,null,null,null,null,{"$f":"IF(Q32=\"供給過多\",R36,R41)","v":{"$error":"#N/A"}}]
[null,null,null,null,null,null,null,null,null,null,null,null,null,null,null,null,null,{"$f":"IF(Q32=\"供給過多\",R37,R42)","v":{"$error":"#N/A"}}]
[null,null,null,null,null,null,null,null,null,null,null,null,null,null,null,null,null,{"$f":"IF(Q32=\"供給過多\",R38,R43)","v":{"$error":"#N/A"}}]
[null,"■供給過多の場合　下水熱利用率の設定"]
[null,"項目","項目","単位","値"]
[null,"下水熱利用率の設定","下水熱利用で賄う熱需要量の割合","%",{"$f":"入力シート!C109","v":100}]
[null,null,"その他システムで賄う熱需要量の割合","%",{"$f":"100-E51","v":0}]
[]
[null,"■マッチング（残り需要量：他の再エネ熱）"]
[null,"項目","項目","単位","4月","5月","6月","7月","8月","9月","10月","11月","12月","1月","2月","3月","合計","最大","最小","備考"]
[null,"残り需要量：他の再エネ熱","下水熱システムで賄う熱需要量","MJ/月",{"$f":"IF($Q$32=\"供給過多\",E31*$E$51/100,E31)","v":{"$error":"#N/A"}},{"$f":"IF($Q$32=\"供給過多\",F31*$E$51/100,F31)","v":{"$error":"#N/A"}},{"$error":"#N/A"},{"$error":"#N/A"},{"$error":"#N/A"},{"$error":"#N/A"},{"$error":"#N/A"},{"$error":"#N/A"},{"$error":"#N/A"},{"$error":"#N/A"},{"$error":"#N/A"},{"$error":"#N/A"},{"$f":"SUM(E56:P56)","v":{"$error":"#N/A"}},{"$f":"MAX(E56:P56)","v":{"$error":"#N/A"}},{"$f":"MIN(E56:P56)","v":{"$error":"#N/A"}}]
[null,null,"下水熱以外で賄う残りの熱需要量","MJ/月",{"$f":"E11-E56","v":{"$error":"#N/A"}},{"$error":"#N/A"},{"$error":"#N/A"},{"$error":"#N/A"},{"$error":"#N/A"},{"$error":"#N/A"},{"$error":"#N/A"},{"$error":"#N/A"},{"$error":"#N/A"},{"$error":"#N/A"},{"$error":"#N/A"},{"$error":"#N/A"},{"$f":"SUM(E57:P57)","v":{"$error":"#N/A"}},{"$f":"MAX(E57:P57)","v":{"$error":"#N/A"}},{"$f":"MIN(E57:P57)","v":{"$error":"#N/A"}}]
[null,"選択した他の再エネ熱利用可能熱量",{"$f":"入力シート!C68","v":"利用しない"},"MJ/月",{"$f":"E24","v":0},0,0,0,0,0,0,0,0,0,0,0,{"$f":"SUM(E58:P58)","v":0},{"$f":"MAX(E58:P58)","v":0},{"$f":"MIN(E58:P58)","v":0}]
[null,"マッチング","他の再エネ熱マッチング","-",{"$f":"IF(E57>E58,\"需要過多\",\"供給過多\")","v":{"$error":"#N/A"}},{"$f":"IF(F57>F58,\"需要過多\",\"供給過多\")","v":{"$error":"#N/A"}},{"$error":"#N/A"},{"$error":"#N/A"},{"$error":"#N/A"},{"$error":"#N/A"},{"$error":"#N/A"},{"$error":"#N/A"},{"$error":"#N/A"},{"$error":"#N/A"},{"$error":"#N/A"},{"$error":"#N/A"},{"$f":"IF(Q57>Q58,\"需要過多\",\"供給過多\")","v":{"$error":"#N/A"}},null,null,"※下水熱以外で賄う熱需要量と選択した他の再エネ熱利用可能熱量のマッチング"]
[null,"選択した他の再エネ熱で賄う熱量",{"$f":"入力シート!C68","v":"利用しない"},"MJ/月",{"$f":"MIN(E57:E58)","v":{"$error":"#N/A"}},{"$f":"MIN(F57:F58)","v":{"$error":"#N/A"}},{"$error":"#N/A"},{"$error":"#N/A"},{"$error":"#N/A"},{"$error":"#N/A"},{"$error":"#N/A"},{"$error":"#N/A"},{"$error":"#N/A"},{"$error":"#N/A"},{"$error":"#N/A"},{"$error":"#N/A"},{"$f":"SUM(E60:P60)","v":{"$error":"#N/A"}}]
[null,"既存システムで賄う熱量",{"$f":"入力シート!C15","v":0},"MJ/月",{"$f":"E57-E60","v":{"$error":"#N/A"}},{"$f":"F57-F60","v":{"$error":"#N/A"}},{"$error":"#N/A"},{"$error":"#N/A"},{"$error":"#N/A"},{"$error":"#N/A"},{"$error":"#N/A"},{"$error":"#N/A"},{"$error":"#N/A"},{"$error":"#N/A"},{"$error":"#N/A"},{"$error":"#N/A"},{"$f":"SUM(E61:P61)","v":{"$error":"#N/A"}}]
[]
[]
[]
[]
[]
[]
[]
[]
[]
[]
[]
[]
[]
[]
[]
[]
[]
[]
[]
[]
[]
[]
[]
[]
[]
[]
[null,"■グラフ用整理"]
[null,null,null,null,null,null,"グラフ用","熱量",null,"割合"]
[null,"分類","項目","項目","単位","値","項目","需要量","利用可能量","需要量","利用可能量"]
[null,"需要側","熱需要量",null,"MJ/年",{"$f":"Q11","v":{"$error":"#N/A"}},{"$f":"C91","v":"熱需要量"},{"$f":"F91","v":{"$error":"#N/A"}},null,{"$f":"H91/$H$91","v":{"$error":"#N/A"}},{"$error":"#N/A"}]
[null,null,"下水熱システムで賄う熱需要量",null,"MJ/年",{"$f":"Q56","v":{"$error":"#N/A"}},{"$f":"C92","v":"下水熱システムで賄う熱需要量"},{"$f":"F92","v":{"$error":"#N/A"}},null,{"$error":"#N/A"},{"$error":"#N/A"}]
[null,null,"下水熱以外で賄う残りの熱需要量",null,"MJ/年",{"$f":"Q57","v":{"$error":"#N/A"}},{"$f":"C93","v":"下水熱以外で賄う残りの熱需要量"},{"$f":"F93","v":{"$error":"#N/A"}},null,{"$error":"#N/A"},{"$error":"#N/A"}]
[null,"供給側","下水熱","下水熱","MJ/年",{"$f":"Q56","v":{"$error":"#N/A"}},"下水熱",null,{"$f":"F94","v":{"$error":"#N/A"}},{"$error":"#N/A"},{"$error":"#N/A"}]
[null,null,"選択した他の再エネ熱で賄う熱量",{"$f":"入力シート!C68","v":"利用しない"},"MJ/年",{"$f":"Q60","v":{"$error":"#N/A"}},{"$f":"D95","v":"利用しない"},null,{"$f":"F95","v":{"$error":"#N/A"}},{"$error":"#N/A"},{"$f":"I95/$H$91","v":{"$error":"#N/A"}}]
[null,null,"既存システムで賄う熱量",{"$f":"入力シート!C15","v":0},"MJ/年",{"$f":"Q61","v":{"$error":"#N/A"}},"既存",null,{"$f":"F96","v":{"$error":"#N/A"}},{"$error":"#N/A"},{"$error":"#N/A"}]
[]
[null,"項目",null,"単位","4月",null,"5月",null,"6月",null,"7月",null,"8月",null,"9月",null,"10月",null,"11月",null,"12月",null,"1月",null,"2月",null,"3月"]
[null,null,null,null,"需要","供給","需要","供給","需要","供給","需要","供給","需要","供給","需要","供給","需要","供給","需要","供給","需要","供給","需要","供給","需要","供給","需要","供給"]
[null,"熱需要量","熱量","MJ/月",{"$f":"E28","v":{"$error":"#N/A"}},null,{"$f":"F28","v":{"$error":"#N/A"}},null,{"$f":"G28","v":{"$error":"#N/A"}},null,{"$f":"H28","v":{"$error":"#N/A"}},null,{"$f":"I28","v":{"$error":"#N/A"}},null,{"$f":"J28","v":{"$error":"#N/A"}},null,{"$f":"K28","v":{"$error":"#N/A"}},null,{"$f":"L28","v":{"$error":"#N/A"}},null,{"$f":"M28","v":{"$error":"#N/A"}},null,{"$f":"N28","v":{"$error":"#N/A"}},null,{"$f":"O28","v":{"$error":"#N/A"}},null,{"$f":"P28","v":{"$error":"#N/A"}}]
[null,"下水熱","熱量","MJ/月",null,{"$f":"E56","v":{"$error":"#N/A"}},null,{"$f":"F56","v":{"$error":"#N/A"}},null,{"$f":"G56","v":{"$error":"#N/A"}},null,{"$f":"H56","v":{"$error":"#N/A"}},null,{"$f":"I56","v":{"$error":"#N/A"}},null,{"$f":"J56","v":{"$error":"#N/A"}},null,{"$f":"K56","v":{"$error":"#N/A"}},null,{"$f":"L56","v":{"$error":"#N/A"}},null,{"$f":"M56","v":{"$error":"#N/A"}},null,{"$f":"N56","v":{"$error":"#N/A"}},null,{"$f":"O56","v":{"$error":"#N/A"}},null,{"$f":"P56","v":{"$error":"#N/A"}}]
[null,{"$f":"入力シート!C68","v":"利用しない"},"熱量","MJ/月",null,{"$f":"E60","v":{"$error":"#N/A"}},null,{"$f":"F60","v":{"$error":"#N/A"}},null,{"$f":"G60","v":{"$error":"#N/A"}},null,{"$f":"H60","v":{"$error":"#N/A"}},null,{"$f":"I60","v":{"$error":"#N/A"}},null,{"$f":"J60","v":{"$error":"#N/A"}},null,{"$f":"K60","v":{"$error":"#N/A"}},null,{"$f":"L60","v":{"$error":"#N/A"}},null,{"$f":"M60","v":{"$error":"#N/A"}},null,{"$f":"N60","v":{"$error":"#N/A"}},null,{"$f":"O60","v":{"$error":"#N/A"}},null,{"$f":"P60","v":{"$error":"#N/A"}}]
[null,"既存","熱量","MJ/月",null,{"$f":"E61","v":{"$error":"#N/A"}},null,{"$f":"F61","v":{"$error":"#N/A"}},null,{"$f":"G61","v":{"$error":"#N/A"}},null,{"$f":"H61","v":{"$error":"#N/A"}},null,{"$f":"I61","v":{"$error":"#N/A"}},null,{"$f":"J61","v":{"$error":"#N/A"}},null,{"$f":"K61","v":{"$error":"#N/A"}},null,{"$f":"L61","v":{"$error":"#N/A"}},null,{"$f":"M61","v":{"$error":"#N/A"}},null,{"$f":"N61","v":{"$error":"#N/A"}},null,{"$f":"O61","v":{"$error":"#N/A"}},null,{"$f":"P61","v":{"$error":"#N/A"}}]
[]
[null,"項目",null,"単位","4月",null,"5月",null,"6月",null,"7月",null,"8月",null,"9月",null,"10月",null,"11月",null,"12月",null,"1月",null,"2月",null,"3月"]
[null,null,null,null,"需要","供給","需要","供給","需要","供給","需要","供給","需要","供給","需要","供給","需要","供給","需要","供給","需要","供給","需要","供給","需要","供給","需要","供給"]
[null,"熱需要量","割合","MJ/月",{"$f":"E100/E$100","v":{"$error":"#N/A"}},null,{"$f":"G100/G$100","v":{"$error":"#N/A"}},null,{"$f":"I100/I$100","v":{"$error":"#N/A"}},null,{"$f":"K100/K$100","v":{"$error":"#N/A"}},null,{"$f":"M100/M$100","v":{"$error":"#N/A"}},null,{"$f":"O100/O$100","v":{"$error":"#N/A"}},null,{"$f":"Q100/Q$100","v":{"$error":"#N/A"}},null,{"$f":"S100/S$100","v":{"$error":"#N/A"}},null,{"$f":"U100/U$100","v":{"$error":"#N/A"}},null,{"$f":"W100/W$100","v":{"$error":"#N/A"}},null,{"$f":"Y100/Y$100","v":{"$error":"#N/A"}},null,{"$f":"AA100/AA$100","v":{"$error":"#N/A"}}]
[null,"下水熱","割合","MJ/月",null,{"$f":"F101/E$100","v":{"$error":"#N/A"}},null,{"$f":"H101/G$100","v":{"$error":"#N/A"}},null,{"$f":"J101/I$100","v":{"$error":"#N/A"}},null,{"$f":"L101/K$100","v":{"$error":"#N/A"}},null,{"$f":"N101/M$100","v":{"$error":"#N/A"}},null,{"$f":"P101/O$100","v":{"$error":"#N/A"}},null,{"$f":"R101/Q$100","v":{"$error":"#N/A"}},null,{"$f":"T101/S$100","v":{"$error":"#N/A"}},null,{"$f":"V101/U$100","v":{"$error":"#N/A"}},null,{"$f":"X101/W$100","v":{"$error":"#N/A"}},null,{"$f":"Z101/Y$100","v":{"$error":"#N/A"}},null,{"$f":"AB101/AA$100","v":{"$error":"#N/A"}}]
[null,{"$f":"入力シート!C68","v":"利用しない"},"割合","MJ/月",null,{"$f":"F102/E$100","v":{"$error":"#N/A"}},null,{"$f":"H102/G$100","v":{"$error":"#N/A"}},null,{"$f":"J102/I$100","v":{"$error":"#N/A"}},null,{"$f":"L102/K$100","v":{"$error":"#N/A"}},null,{"$f":"N102/M$100","v":{"$error":"#N/A"}},null,{"$f":"P102/O$100","v":{"$error":"#N/A"}},null,{"$f":"R102/Q$100","v":{"$error":"#N/A"}},null,{"$f":"T102/S$100","v":{"$error":"#N/A"}},null,{"$f":"V102/U$100","v":{"$error":"#N/A"}},null,{"$f":"X102/W$100","v":{"$error":"#N/A"}},null,{"$f":"Z102/Y$100","v":{"$error":"#N/A"}},null,{"$f":"AB102/AA$100","v":{"$error":"#N/A"}}]
[null,"既存","割合","MJ/月",null,{"$f":"F103/E$100","v":{"$error":"#N/A"}},null,{"$f":"H103/G$100","v":{"$error":"#N/A"}},null,{"$f":"J103/I$100","v":{"$error":"#N/A"}},null,{"$f":"L103/K$100","v":{"$error":"#N/A"}},null,{"$f":"N103/M$100","v":{"$error":"#N/A"}},null,{"$f":"P103/O$100","v":{"$error":"#N/A"}},null,{"$f":"R103/Q$100","v":{"$error":"#N/A"}},null,{"$f":"T103/S$100","v":{"$error":"#N/A"}},null,{"$f":"V103/U$100","v":{"$error":"#N/A"}},null,{"$f":"X103/W$100","v":{"$error":"#N/A"}},null,{"$f":"Z103/Y$100","v":{"$error":"#N/A"}},null,{"$f":"AB103/AA$100","v":{"$error":"#N/A"}}]
[]
[null,"■エネルギー計算に使う熱需要量"]
[null,"項目","項目","単位","4月","5月","6月","7月","8月","9月","10月","11月","12月","1月","2月","3月","合計","最大","最小","備考"]
[null,"エネルギー計算に使う熱需要量","下水熱システムで賄う熱需要量","MJ/月",{"$f":"E56","v":{"$error":"#N/A"}},{"$error":"#N/A"},{"$error":"#N/A"},{"$error":"#N/A"},{"$error":"#N/A"},{"$error":"#N/A"},{"$error":"#N/A"},{"$error":"#N/A"},{"$error":"#N/A"},{"$error":"#N/A"},{"$error":"#N/A"},{"$error":"#N/A"},{"$f":"SUM(E114:P114)","v":{"$error":"#N/A"}},{"$f":"MAX(E114:P114)","v":{"$error":"#N/A"}},{"$f":"MIN(E114:P114)","v":{"$error":"#N/A"}}]
[null,null,"その他の再エネ熱で賄う熱需要量","MJ/月",{"$f":"E60","v":{"$error":"#N/A"}},{"$error":"#N/A"},{"$error":"#N/A"},{"$error":"#N/A"},{"$error":"#N/A"},{"$error":"#N/A"},{"$error":"#N/A"},{"$error":"#N/A"},{"$error":"#N/A"},{"$error":"#N/A"},{"$error":"#N/A"},{"$error":"#N/A"},{"$error":"#N/A"},{"$error":"#N/A"},{"$error":"#N/A"}]
[null,null,"既存システムで賄う熱需要量","MJ/月",{"$f":"E61","v":{"$error":"#N/A"}},{"$error":"#N/A"},{"$error":"#N/A"},{"$error":"#N/A"},{"$error":"#N/A"},{"$error":"#N/A"},{"$error":"#N/A"},{"$error":"#N/A"},{"$error":"#N/A"},{"$error":"#N/A"},{"$error":"#N/A"},{"$error":"#N/A"},{"$error":"#N/A"},{"$error":"#N/A"},{"$error":"#N/A"}]
[null,"チェック","合計",null,{"$f":"E114+E115+E116","v":{"$error":"#N/A"}},{"$f":"F114+F115+F116","v":{"$error":"#N/A"}},{"$error":"#N/A"},{"$error":"#N/A"},{"$error":"#N/A"},{"$error":"#N/A"},{"$error":"#N/A"},{"$error":"#N/A"},{"$error":"#N/A"},{"$error":"#N/A"},{"$error":"#N/A"},{"$error":"#N/A"},{"$error":"#N/A"},{"$error":"#N/A"},{"$error":"#N/A"}]
[null,null,"需要量",null,{"$f":"E11","v":{"$error":"#N/A"}},{"$error":"#N/A"},{"$error":"#N/A"},{"$error":"#N/A"},{"$error":"#N/A"},{"$error":"#N/A"},{"$error":"#N/A"},{"$error":"#N/A"},{"$error":"#N/A"},{"$error":"#N/A"},{"$error":"#N/A"},{"$error":"#N/A"},{"$error":"#N/A"},{"$error":"#N/A"},{"$error":"#N/A"}]
[null,null,"差分",null,{"$f":"E117-E118","v":{"$error":"#N/A"}},{"$f":"F117-F118","v":{"$error":"#N/A"}},{"$error":"#N/A"},{"$error":"#N/A"},{"$error":"#N/A"},{"$error":"#N/A"},{"$error":"#N/A"},{"$error":"#N/A"},{"$error":"#N/A"},{"$error":"#N/A"},{"$error":"#N/A"},{"$error":"#N/A"},{"$error":"#N/A"},{"$error":"#N/A"},{"$error":"#N/A"}]

{"sheet":"下水熱_RC","index":23,"n_rows":152,"n_cols":47,"rows_kept":152,"cut":false,"hidden":true,"merged":[]}
[null,"■入力情報",null,null,null,null,null,null,"■下水熱利用システムのエネルギー計算"]
[]
[null,"■対象施設情報",null,null,null,null,null,null,"■下水熱利用システム検討",null,null,null,null,"■下水熱利用システム　エネルギー計算・エネルギーコスト検討",null,null,null,null,null,null,null,null,null,null,null,null,null,null,null,null,null,null,null,"■検索用"]
[null,"項目","単位","値","備考",null,null,null,"項目","単位","値","備考",null,"項目","単位","4月","5月","6月","7月","8月","9月","10月","11月","12月","1月","2月","3月","合計","最大","最小","備考",null,null,"項目","単位","4月","5月","6月","7月","8月","9月","10月","11月","12月","1月","2月","3月"]
[null,"地域選択","-",{"$f":"入力シート!C7","v":0},"都道府県を選択してください。",null,null,null,"HP運転時間","h/日",22,null,null,"熱利用用途",null,{"$f":"マッチング!E10","v":""},{"$f":"マッチング!F10","v":""},{"$f":"マッチング!G10","v":""},{"$f":"マッチング!H10","v":""},{"$f":"マッチング!I10","v":""},{"$f":"マッチング!J10","v":""},{"$f":"マッチング!K10","v":""},{"$f":"マッチング!L10","v":""},{"$f":"マッチング!M10","v":""},{"$f":"マッチング!N10","v":""},{"$f":"マッチング!O10","v":""},{"$f":"マッチング!P10","v":""},null,null,null,null,null,null,"日あたりの熱需要量","kWh/日",{"$f":"P11","v":{"$error":"#N/A"}},{"$f":"Q11","v":{"$error":"#N/A"}},{"$error":"#N/A"},{"$error":"#N/A"},{"$error":"#N/A"},{"$error":"#N/A"},{"$error":"#N/A"},{"$error":"#N/A"},{"$error":"#N/A"},{"$error":"#N/A"},{"$error":"#N/A"},{"$error":"#N/A"}]
[null,"熱利用用途","-",{"$f":"入力シート!C8","v":0},"給湯、空調、融雪から選択してください。",null,null,null,"HP容量","kW",{"$f":"IF(D6=\"空調\",下水熱_空調_熱源容量!P6,AC12)","v":{"$error":"#N/A"}},"最大月",null,"熱需要量","MJ/月",{"$f":"マッチング!E114","v":{"$error":"#N/A"}},{"$f":"マッチング!F114","v":{"$error":"#N/A"}},{"$f":"マッチング!G114","v":{"$error":"#N/A"}},{"$f":"マッチング!H114","v":{"$error":"#N/A"}},{"$f":"マッチング!I114","v":{"$error":"#N/A"}},{"$f":"マッチング!J114","v":{"$error":"#N/A"}},{"$f":"マッチング!K114","v":{"$error":"#N/A"}},{"$f":"マッチング!L114","v":{"$error":"#N/A"}},{"$f":"マッチング!M114","v":{"$error":"#N/A"}},{"$f":"マッチング!N114","v":{"$error":"#N/A"}},{"$f":"マッチング!O114","v":{"$error":"#N/A"}},{"$f":"マッチング!P114","v":{"$error":"#N/A"}},{"$f":"SUM(P6:AA6)","v":{"$error":"#N/A"}},{"$f":"MAX(P6:AA6)","v":{"$error":"#N/A"}},{"$f":"MIN(P6:AA6)","v":{"$error":"#N/A"}},null,null,null,"HP容量","kW",{"$f":"P12","v":{"$error":"#N/A"}},{"$f":"Q12","v":{"$error":"#N/A"}},{"$error":"#N/A"},{"$error":"#N/A"},{"$error":"#N/A"},{"$error":"#N/A"},{"$error":"#N/A"},{"$error":"#N/A"},{"$error":"#N/A"},{"$error":"#N/A"},{"$error":"#N/A"},{"$error":"#N/A"}]
[null,"建物用途","-",{"$f":"入力シート!C9","v":0},"給湯、空調利用の場合は建物用途を選択してください。",null,null,null,"COP","-",{"$f":"IF(D6=\"空調\",下水熱_空調_熱源容量!P8,HLOOKUP(K6,AJ6:AU8,2,FALSE))","v":{"$error":"#N/A"}},"最大負荷月",null,null,"kWh/月",{"$f":"P6*1000/3600","v":{"$error":"#N/A"}},{"$error":"#N/A"},{"$error":"#N/A"},{"$error":"#N/A"},{"$error":"#N/A"},{"$error":"#N/A"},{"$error":"#N/A"},{"$error":"#N/A"},{"$error":"#N/A"},{"$error":"#N/A"},{"$error":"#N/A"},{"$error":"#N/A"},{"$f":"SUM(P7:AA7)","v":{"$error":"#N/A"}},{"$f":"MAX(P7:AA7)","v":{"$error":"#N/A"}},{"$f":"MIN(P7:AA7)","v":{"$error":"#N/A"}},null,null,null,"ヒートポンプCOP","-",{"$f":"P16","v":"-"},"-","-","-","-","-","-","-","-","-","-","-"]
[null,"延床面積","m2",{"$f":"入力シート!C10","v":0},"給湯、空調利用の場合は数値を入力してください。",null,null,null,"採熱量","kW",{"$f":"IF(D6=\"空調\",下水熱_空調_熱源容量!P9,AC20)","v":{"$error":"#N/A"}},"最大月",null,"日数","日",{"$f":"熱需要量算定・原単位!D24","v":30},{"$f":"熱需要量算定・原単位!E24","v":31},{"$f":"熱需要量算定・原単位!F24","v":30},{"$f":"熱需要量算定・原単位!G24","v":31},{"$f":"熱需要量算定・原単位!H24","v":31},{"$f":"熱需要量算定・原単位!I24","v":30},{"$f":"熱需要量算定・原単位!J24","v":31},{"$f":"熱需要量算定・原単位!K24","v":30},{"$f":"熱需要量算定・原単位!L24","v":31},{"$f":"熱需要量算定・原単位!M24","v":31},{"$f":"熱需要量算定・原単位!N24","v":28},{"$f":"熱需要量算定・原単位!O24","v":31},{"$f":"SUM(P8:AA8)","v":365},null,null,null,null,null,"熱利用用途","-",{"$f":"P5","v":""},"","","","","","","","","","",""]
[null,"対象面積","m2",{"$f":"入力シート!C11","v":0},"融雪利用の場合は数値を入力して下さい。",null,null,null,"温度差","℃",5,"想定設定値",null,"ヒートポンプ運転時間","h/日",{"$f":"K5","v":22},{"$f":"K5","v":22},{"$f":"K5","v":22},{"$f":"K5","v":22},{"$f":"K5","v":22},{"$f":"K5","v":22},{"$f":"K5","v":22},{"$f":"K5","v":22},{"$f":"K5","v":22},{"$f":"K5","v":22},{"$f":"K5","v":22},{"$f":"K5","v":22}]
[null,"燃料種別の選択","-",{"$f":"入力シート!C16","v":0},null,null,null,null,"冷温水流量","L/min",{"$f":"K6/K9/$D$22/$D$23*1000*60","v":{"$error":"#N/A"}},null,null,"日あたりの熱需要量","MJ/日",{"$f":"P6/P8","v":{"$error":"#N/A"}},{"$f":"Q6/Q8","v":{"$error":"#N/A"}},{"$error":"#N/A"},{"$error":"#N/A"},{"$error":"#N/A"},{"$error":"#N/A"},{"$error":"#N/A"},{"$error":"#N/A"},{"$error":"#N/A"},{"$error":"#N/A"},{"$error":"#N/A"},{"$error":"#N/A"},{"$f":"SUM(P10:AA10)","v":{"$error":"#N/A"}},{"$f":"MAX(P10:AA10)","v":{"$error":"#N/A"}},{"$f":"MIN(P10:AA10)","v":{"$error":"#N/A"}}]
[null,null,null,null,null,null,null,null,"冷温水揚程（想定）","m",15,"想定設定値",null,null,"kWh/日",{"$f":"P10*1000/3600","v":{"$error":"#N/A"}},{"$error":"#N/A"},{"$error":"#N/A"},{"$error":"#N/A"},{"$error":"#N/A"},{"$error":"#N/A"},{"$error":"#N/A"},{"$error":"#N/A"},{"$error":"#N/A"},{"$error":"#N/A"},{"$error":"#N/A"},{"$error":"#N/A"},{"$f":"SUM(P11:AA11)","v":{"$error":"#N/A"}},{"$f":"MAX(P11:AA11)","v":{"$error":"#N/A"}},{"$f":"MIN(P11:AA11)","v":{"$error":"#N/A"}}]
[null,null,null,null,null,null,null,null,"冷温水ポンプ効率","%",{"$f":"IF(K10<80,ポンプ効率近似式!$D$14,-1.403*LN(K10/1000)^2+6.9719*LN(K10/1000)+53.781)","v":{"$error":"#N/A"}},"ポンプ効率近似式より",null,"HP容量","kW",{"$f":"IF(P5=\"融雪\",0,P11/P9)","v":{"$error":"#N/A"}},{"$f":"IF(Q5=\"融雪\",0,Q11/Q9)","v":{"$error":"#N/A"}},{"$error":"#N/A"},{"$error":"#N/A"},{"$error":"#N/A"},{"$error":"#N/A"},{"$error":"#N/A"},{"$error":"#N/A"},{"$error":"#N/A"},{"$error":"#N/A"},{"$error":"#N/A"},{"$error":"#N/A"},null,{"$f":"MAX(P12:AA12)","v":{"$error":"#N/A"}},{"$f":"MIN(P12:AA12)","v":{"$error":"#N/A"}}]
[null,null,null,null,null,null,null,null,"冷温水ポンプ消費電力","kW",{"$f":"$D$23*$D$25*K10/1000/60*K11/10/K12","v":{"$error":"#N/A"}},"ポンプ関数より",null,"気温","℃",{"$f":"気温!F3","v":{"$error":"#N/A"}},{"$f":"気温!G3","v":{"$error":"#N/A"}},{"$f":"気温!H3","v":{"$error":"#N/A"}},{"$f":"気温!I3","v":{"$error":"#N/A"}},{"$f":"気温!J3","v":{"$error":"#N/A"}},{"$f":"気温!K3","v":{"$error":"#N/A"}},{"$f":"気温!L3","v":{"$error":"#N/A"}},{"$f":"気温!M3","v":{"$error":"#N/A"}},{"$f":"気温!N3","v":{"$error":"#N/A"}},{"$f":"気温!C3","v":{"$error":"#N/A"}},{"$f":"気温!D3","v":{"$error":"#N/A"}},{"$f":"気温!E3","v":{"$error":"#N/A"}},null,null,null,"気象庁データより"]
[null,"■下水熱システムの設定",null,null,null,null,null,null,"熱源水流量","L/min",{"$f":"K8/K9/$D$22/$D$23*1000*60","v":{"$error":"#N/A"}},null,null,"下水温度","℃",{"$f":"下水温度!F3","v":{"$error":"#N/A"}},{"$f":"下水温度!G3","v":{"$error":"#N/A"}},{"$f":"下水温度!H3","v":{"$error":"#N/A"}},{"$f":"下水温度!I3","v":{"$error":"#N/A"}},{"$f":"下水温度!J3","v":{"$error":"#N/A"}},{"$f":"下水温度!K3","v":{"$error":"#N/A"}},{"$f":"下水温度!L3","v":{"$error":"#N/A"}},{"$f":"下水温度!M3","v":{"$error":"#N/A"}},{"$f":"下水温度!N3","v":{"$error":"#N/A"}},{"$f":"下水温度!C3","v":{"$error":"#N/A"}},{"$f":"下水温度!D3","v":{"$error":"#N/A"}},{"$f":"下水温度!E3","v":{"$error":"#N/A"}},null,null,null,"気温より推定"]
[null,"項目","単位","値","備考",null,null,null,"熱源水揚程（想定）","m",15,"想定設定値",null,"熱源水入口温度想定","℃",{"$f":"IF(P5=\"冷房\",P14+5,P14-5)","v":{"$error":"#N/A"}},{"$f":"IF(Q5=\"冷房\",Q14+5,Q14-5)","v":{"$error":"#N/A"}},{"$error":"#N/A"},{"$error":"#N/A"},{"$error":"#N/A"},{"$error":"#N/A"},{"$error":"#N/A"},{"$error":"#N/A"},{"$error":"#N/A"},{"$error":"#N/A"},{"$error":"#N/A"},{"$error":"#N/A"},null,null,null,"アプローチ温度5℃とする。"]
[null,"下水流量","m3/年",{"$f":"入力シート!C45","v":0},null,null,null,null,"熱源水ポンプ効率","%",{"$f":"IF(K14<80,ポンプ効率近似式!$D$14,-1.403*LN(K14/1000)^2+6.9719*LN(K14/1000)+53.781)","v":{"$error":"#N/A"}},"ポンプ効率近似式より",null,"ヒートポンプCOP","-",{"$f":"IF(P5=\"冷房\",HP性能曲線!$E$9*P15+HP性能曲線!$F$9,IF(P5=\"暖房\",HP性能曲線!$E$10*P15+HP性能曲線!$F$10,IF(P5=\"給湯\",HP性能曲線!$E$11*P15+HP性能曲線!$F$11,IF(P5=\"融雪\",1,\"-\"))))","v":"-"},{"$f":"IF(Q5=\"冷房\",HP性能曲線!$E$9*Q15+HP性能曲線!$F$9,IF(Q5=\"暖房\",HP性能曲線!$E$10*Q15+HP性能曲線!$F$10,IF(Q5=\"給湯\",HP性能曲線!$E$11*Q15+HP性能曲線!$F$11,IF(Q5=\"融雪\",1,\"-\"))))","v":"-"},{"$f":"IF(R5=\"冷房\",HP性能曲線!$E$9*R15+HP性能曲線!$F$9,IF(R5=\"暖房\",HP性能曲線!$E$10*R15+HP性能曲線!$F$10,IF(R5=\"給湯\",HP性能曲線!$E$11*R15+HP性能曲線!$F$11,IF(R5=\"融雪\",1,\"-\"))))","v":"-"},{"$f":"IF(S5=\"冷房\",HP性能曲線!$E$9*S15+HP性能曲線!$F$9,IF(S5=\"暖房\",HP性能曲線!$E$10*S15+HP性能曲線!$F$10,IF(S5=\"給湯\",HP性能曲線!$E$11*S15+HP性能曲線!$F$11,IF(S5=\"融雪\",1,\"-\"))))","v":"-"},{"$f":"IF(T5=\"冷房\",HP性能曲線!$E$9*T15+HP性能曲線!$F$9,IF(T5=\"暖房\",HP性能曲線!$E$10*T15+HP性能曲線!$F$10,IF(T5=\"給湯\",HP性能曲線!$E$11*T15+HP性能曲線!$F$11,IF(T5=\"融雪\",1,\"-\"))))","v":"-"},{"$f":"IF(U5=\"冷房\",HP性能曲線!$E$9*U15+HP性能曲線!$F$9,IF(U5=\"暖房\",HP性能曲線!$E$10*U15+HP性能曲線!$F$10,IF(U5=\"給湯\",HP性能曲線!$E$11*U15+HP性能曲線!$F$11,IF(U5=\"融雪\",1,\"-\"))))","v":"-"},{"$f":"IF(V5=\"冷房\",HP性能曲線!$E$9*V15+HP性能曲線!$F$9,IF(V5=\"暖房\",HP性能曲線!$E$10*V15+HP性能曲線!$F$10,IF(V5=\"給湯\",HP性能曲線!$E$11*V15+HP性能曲線!$F$11,IF(V5=\"融雪\",1,\"-\"))))","v":"-"},{"$f":"IF(W5=\"冷房\",HP性能曲線!$E$9*W15+HP性能曲線!$F$9,IF(W5=\"暖房\",HP性能曲線!$E$10*W15+HP性能曲線!$F$10,IF(W5=\"給湯\",HP性能曲線!$E$11*W15+HP性能曲線!$F$11,IF(W5=\"融雪\",1,\"-\"))))","v":"-"},{"$f":"IF(X5=\"冷房\",HP性能曲線!$E$9*X15+HP性能曲線!$F$9,IF(X5=\"暖房\",HP性能曲線!$E$10*X15+HP性能曲線!$F$10,IF(X5=\"給湯\",HP性能曲線!$E$11*X15+HP性能曲線!$F$11,IF(X5=\"融雪\",1,\"-\"))))","v":"-"},{"$f":"IF(Y5=\"冷房\",HP性能曲線!$E$9*Y15+HP性能曲線!$F$9,IF(Y5=\"暖房\",HP性能曲線!$E$10*Y15+HP性能曲線!$F$10,IF(Y5=\"給湯\",HP性能曲線!$E$11*Y15+HP性能曲線!$F$11,IF(Y5=\"融雪\",1,\"-\"))))","v":"-"},{"$f":"IF(Z5=\"冷房\",HP性能曲線!$E$9*Z15+HP性能曲線!$F$9,IF(Z5=\"暖房\",HP性能曲線!$E$10*Z15+HP性能曲線!$F$10,IF(Z5=\"給湯\",HP性能曲線!$E$11*Z15+HP性能曲線!$F$11,IF(Z5=\"融雪\",1,\"-\"))))","v":"-"},{"$f":"IF(AA5=\"冷房\",HP性能曲線!$E$9*AA15+HP性能曲線!$F$9,IF(AA5=\"暖房\",HP性能曲線!$E$10*AA15+HP性能曲線!$F$10,IF(AA5=\"給湯\",HP性能曲線!$E$11*AA15+HP性能曲線!$F$11,IF(AA5=\"融雪\",1,\"-\"))))","v":"-"}]
[null,"下水温度","℃",{"$f":"入力シート!C46","v":0},"（ﾕｰｻﾞ入力）",null,null,null,"熱源水ポンプ消費電力","kW",{"$f":"$D$23*$D$25*K14/1000/60*K15/10/K16","v":{"$error":"#N/A"}},"ポンプ関数より",null,"ヒートポンプ消費電力量","kWh/月",{"$f":"IF(P5=\"融雪\",0,P7/P16)","v":{"$error":"#N/A"}},{"$f":"IF(Q5=\"融雪\",0,Q7/Q16)","v":{"$error":"#N/A"}},{"$error":"#N/A"},{"$error":"#N/A"},{"$error":"#N/A"},{"$error":"#N/A"},{"$error":"#N/A"},{"$error":"#N/A"},{"$error":"#N/A"},{"$error":"#N/A"},{"$error":"#N/A"},{"$error":"#N/A"},{"$f":"SUM(P17:AA17)","v":{"$error":"#N/A"}},{"$f":"MAX(P17:AA17)","v":{"$error":"#N/A"}},{"$f":"MIN(P17:AA17)","v":{"$error":"#N/A"}}]
[null,"下水熱利用システムの種類",null,{"$f":"入力シート!C56","v":0},null,null,null,null,"下水流量","L/min",{"$f":"K14","v":{"$error":"#N/A"}},null,null,"ヒートポンプ消費電力","kW",{"$f":"IF(P5=\"融雪\",0,P12/P16)","v":{"$error":"#N/A"}},{"$error":"#N/A"},{"$error":"#N/A"},{"$error":"#N/A"},{"$error":"#N/A"},{"$error":"#N/A"},{"$error":"#N/A"},{"$error":"#N/A"},{"$error":"#N/A"},{"$error":"#N/A"},{"$error":"#N/A"},{"$error":"#N/A"},null,{"$f":"MAX(P18:AA18)","v":{"$error":"#N/A"}},{"$f":"MIN(P18:AA18)","v":{"$error":"#N/A"}}]
[null,null,null,null,null,null,null,null,"下水揚程（想定）","m",30,"想定設定値",null,"採熱量（下水熱交換量）","kWh/月",{"$f":"IF(P5=\"冷房\",P7+P17,P7-P17)","v":{"$error":"#N/A"}},{"$f":"IF(Q5=\"冷房\",Q7+Q17,Q7-Q17)","v":{"$error":"#N/A"}},{"$error":"#N/A"},{"$error":"#N/A"},{"$error":"#N/A"},{"$error":"#N/A"},{"$error":"#N/A"},{"$error":"#N/A"},{"$error":"#N/A"},{"$error":"#N/A"},{"$error":"#N/A"},{"$error":"#N/A"},{"$f":"SUM(P19:AA19)","v":{"$error":"#N/A"}},{"$f":"MAX(P19:AA19)","v":{"$error":"#N/A"}},{"$f":"MIN(P19:AA19)","v":{"$error":"#N/A"}}]
[null,"■係数",null,null,null,null,null,null,"下水ポンプ効率","%",{"$f":"IF(K18<80,ポンプ効率近似式!$D$35,-1.1599*LN(K18/1000)^2+5.5019*LN(K18/1000)+43.417)","v":{"$error":"#N/A"}},"ポンプ効率近似式より",null,"採熱量（下水熱交換量）","kW",{"$f":"P19/P9/P8","v":{"$error":"#N/A"}},{"$error":"#N/A"},{"$error":"#N/A"},{"$error":"#N/A"},{"$error":"#N/A"},{"$error":"#N/A"},{"$error":"#N/A"},{"$error":"#N/A"},{"$error":"#N/A"},{"$error":"#N/A"},{"$error":"#N/A"},{"$error":"#N/A"},null,{"$f":"MAX(P20:AA20)","v":{"$error":"#N/A"}},{"$f":"MIN(P20:AA20)","v":{"$error":"#N/A"}}]
[null,"項目","値","単位","備考",null,null,null,"下水ポンプ消費電力","kW",{"$f":"IF($D$18=\"管路内\",0,$D$23*$D$25*K18/1000/60*K19/10/K20)","v":{"$error":"#N/A"}},"ポンプ関数より",null,"冷温水ポンプ消費電力量","kWh/月",{"$f":"IF(P6=0,0,$K$13*P9*P8)","v":{"$error":"#N/A"}},{"$error":"#N/A"},{"$error":"#N/A"},{"$error":"#N/A"},{"$error":"#N/A"},{"$error":"#N/A"},{"$error":"#N/A"},{"$error":"#N/A"},{"$error":"#N/A"},{"$error":"#N/A"},{"$error":"#N/A"},{"$error":"#N/A"},{"$f":"SUM(P21:AA21)","v":{"$error":"#N/A"}}]
[null,"水の比熱","kJ/kgK",{"$f":"係数・物性!D4","v":4.1790000000000003},"係数・物性より",null,null,null,null,null,null,null,null,"熱源水ポンプ消費電力量","kWh/月",{"$f":"IF(P6=0,0,$K$17*P9*P8)","v":{"$error":"#N/A"}},{"$error":"#N/A"},{"$error":"#N/A"},{"$error":"#N/A"},{"$error":"#N/A"},{"$error":"#N/A"},{"$error":"#N/A"},{"$error":"#N/A"},{"$error":"#N/A"},{"$error":"#N/A"},{"$error":"#N/A"},{"$error":"#N/A"},{"$error":"#N/A"}]
[null,"水の密度","kg/m3",{"$f":"係数・物性!D5","v":996.62},"係数・物性より",null,null,null,null,null,null,null,null,"下水取水ポンプ消費電力量","kWh/月",{"$f":"IF(P6=0,0,$K$21*P9*P8)","v":{"$error":"#N/A"}},{"$error":"#N/A"},{"$error":"#N/A"},{"$error":"#N/A"},{"$error":"#N/A"},{"$error":"#N/A"},{"$error":"#N/A"},{"$error":"#N/A"},{"$error":"#N/A"},{"$error":"#N/A"},{"$error":"#N/A"},{"$error":"#N/A"},{"$error":"#N/A"}]
[null,"容積比熱","MJ/m3K",{"$f":"係数・物性!D6","v":4.1648749800000004},"係数・物性より",null,null,null,null,null,null,null,null,"消費電力量合計","kWh/月",{"$f":"P17+P21+P22+P23","v":{"$error":"#N/A"}},{"$f":"Q17+Q21+Q22+Q23","v":{"$error":"#N/A"}},{"$error":"#N/A"},{"$error":"#N/A"},{"$error":"#N/A"},{"$error":"#N/A"},{"$error":"#N/A"},{"$error":"#N/A"},{"$error":"#N/A"},{"$error":"#N/A"},{"$error":"#N/A"},{"$error":"#N/A"},{"$error":"#N/A"}]
[null,"重力加速度","m/s2",{"$f":"係数・物性!D7","v":9.8059999999999992},"係数・物性より",null,null,null,null,null,null,null,null,"熱源機消費電力量","kWh/月",{"$f":"P17","v":{"$error":"#N/A"}},{"$error":"#N/A"},{"$error":"#N/A"},{"$error":"#N/A"},{"$error":"#N/A"},{"$error":"#N/A"},{"$error":"#N/A"},{"$error":"#N/A"},{"$error":"#N/A"},{"$error":"#N/A"},{"$error":"#N/A"},{"$error":"#N/A"},{"$error":"#N/A"}]
[null,null,null,null,null,null,null,null,null,null,null,null,null,"補機類消費電力量","kWh/月",{"$f":"P21+P22+P23","v":{"$error":"#N/A"}},{"$error":"#N/A"},{"$error":"#N/A"},{"$error":"#N/A"},{"$error":"#N/A"},{"$error":"#N/A"},{"$error":"#N/A"},{"$error":"#N/A"},{"$error":"#N/A"},{"$error":"#N/A"},{"$error":"#N/A"},{"$error":"#N/A"},{"$error":"#N/A"}]
[]
[]
[null,null,null,null,null,null,null,null,"■エネルギーコスト、CO2排出量、一次エネルギー消費量計算（エネルギー消費量を入力）"]
[null,null,null,null,null,null,null,null,null,null,null,null,null,"□エネルギー消費量"]
[null,null,null,null,null,null,null,null,null,"設定セル",null,null,null,"項目","単位","4月","5月","6月","7月","8月","9月","10月","11月","12月","1月","2月","3月","合計","最大","最小","備考"]
[null,null,null,null,null,null,null,null,null,"変更設定していいセル（計算式が入力されている）",null,null,null,"電気","kWh/月",{"$f":"P24","v":{"$error":"#N/A"}},{"$error":"#N/A"},{"$error":"#N/A"},{"$error":"#N/A"},{"$error":"#N/A"},{"$error":"#N/A"},{"$error":"#N/A"},{"$error":"#N/A"},{"$error":"#N/A"},{"$error":"#N/A"},{"$error":"#N/A"},{"$error":"#N/A"},{"$f":"SUM(P32:AA32)","v":{"$error":"#N/A"}},{"$f":"MAX(P32:AA32)","v":{"$error":"#N/A"}},{"$f":"MIN(P32:AA32)","v":{"$error":"#N/A"}}]
[null,null,null,null,null,null,null,null,null,"あまり変更しなくていい設定セル",null,null,null,"都市ガス（13A）","m3/月",null,null,null,null,null,null,null,null,null,null,null,null,0,0,0]
[null,null,null,null,null,null,null,null,null,"デフォ値・係数",null,null,null,"灯油","L/月",null,null,null,null,null,null,null,null,null,null,null,null,0,0,0]
[null,null,null,null,null,null,null,null,null,"計算式・項目確認セル",null,null,null,"重油","L/月",null,null,null,null,null,null,null,null,null,null,null,null,0,0,0]
[null,null,null,null,null,null,null,null,null,null,null,null,null,"液化石油ガス（LPG）","kg/月",null,null,null,null,null,null,null,null,null,null,null,null,0,0,0]
[null,null,null,null,null,null,null,null,null,null,null,null,null,"他人から供給された熱","MJ/月",null,null,null,null,null,null,null,null,null,null,null,null,0,0,0]
[]
[]
[null,null,null,null,null,null,null,null,"□エネルギーコスト単価(フラットレート)",null,null,null,null,"□エネルギーコスト検討"]
[null,null,null,null,null,null,null,null,"項目","単位","値","備考",null,"項目","単位","4月","5月","6月","7月","8月","9月","10月","11月","12月","1月","2月","3月","合計","最大","最小","備考"]
[null,null,null,null,null,null,null,null,"電気","円/kWh",{"$f":"E単価!H5","v":14},null,null,"電気","千円/月",{"$f":"P32*$K42/1000","v":{"$error":"#N/A"}},{"$f":"Q32*$K42/1000","v":{"$error":"#N/A"}},{"$error":"#N/A"},{"$error":"#N/A"},{"$error":"#N/A"},{"$error":"#N/A"},{"$error":"#N/A"},{"$error":"#N/A"},{"$error":"#N/A"},{"$error":"#N/A"},{"$error":"#N/A"},{"$error":"#N/A"},{"$f":"SUM(P42:AA42)","v":{"$error":"#N/A"}},{"$f":"MAX(P42:AA42)","v":{"$error":"#N/A"}},{"$f":"MIN(P42:AA42)","v":{"$error":"#N/A"}}]
[null,null,null,null,null,null,null,null,"都市ガス（13A）","円/m3",{"$f":"E単価!H6","v":114.64285714285714},null,null,"都市ガス（13A）","千円/月",0,{"$f":"Q33*$K43/1000","v":0},0,0,0,0,0,0,0,0,0,0,0,0,0]
[null,null,null,null,null,null,null,null,"灯油","円/L",{"$f":"E単価!H7","v":107.88888888888889},null,null,"灯油","千円/月",0,{"$f":"Q34*$K44/1000","v":0},0,0,0,0,0,0,0,0,0,0,0,0,0]
[null,null,null,null,null,null,null,null,"重油","円/L",{"$f":"E単価!H8","v":76.099999999999994},null,null,"重油","千円/月",0,{"$f":"Q35*$K45/1000","v":0},0,0,0,0,0,0,0,0,0,0,0,0,0]
[null,null,null,null,null,null,null,null,"液化石油ガス（LPG）","円/kg",{"$f":"E単価!H9","v":159.40476190476193},null,null,"液化石油ガス（LPG）","千円/月",0,{"$f":"Q36*$K46/1000","v":0},0,0,0,0,0,0,0,0,0,0,0,0,0]
[null,null,null,null,null,null,null,null,"他人から供給された熱","円/GJ",{"$f":"E単価!H10","v":6611.9047619047615},null,null,"他人から供給された熱","千円/月",0,{"$f":"Q37*$K47/1000","v":0},0,0,0,0,0,0,0,0,0,0,0,0,0]
[null,null,null,null,null,null,null,null,null,null,null,null,null,"エネルギーコスト合計","千円/月",{"$f":"SUM(P42:P47)","v":{"$error":"#N/A"}},{"$f":"SUM(Q42:Q47)","v":{"$error":"#N/A"}},{"$error":"#N/A"},{"$error":"#N/A"},{"$error":"#N/A"},{"$error":"#N/A"},{"$error":"#N/A"},{"$error":"#N/A"},{"$error":"#N/A"},{"$error":"#N/A"},{"$error":"#N/A"},{"$error":"#N/A"},{"$f":"SUM(AB42:AB47)","v":{"$error":"#N/A"}},{"$f":"SUM(AC42:AC47)","v":{"$error":"#N/A"}},{"$f":"SUM(AD42:AD47)","v":{"$error":"#N/A"}}]
[]
[null,null,null,null,null,null,null,null,"□CO2換算係数",null,null,null,null,"□CO2排出量"]
[null,null,null,null,null,null,null,null,"項目","単位","値","備考",null,"項目","単位","4月","5月","6月","7月","8月","9月","10月","11月","12月","1月","2月","3月","合計","最大","最小","備考"]
[null,null,null,null,null,null,null,null,"電気","tCO2/kWh",{"$f":"CO2換算係数!B3","v":4.8799999999999999E-4},null,null,"電気","t-CO2/月",{"$f":"P32*$K52","v":{"$error":"#N/A"}},{"$error":"#N/A"},{"$error":"#N/A"},{"$error":"#N/A"},{"$error":"#N/A"},{"$error":"#N/A"},{"$error":"#N/A"},{"$error":"#N/A"},{"$error":"#N/A"},{"$error":"#N/A"},{"$error":"#N/A"},{"$error":"#N/A"},{"$f":"SUM(P52:AA52)","v":{"$error":"#N/A"}},{"$f":"MAX(P52:AA52)","v":{"$error":"#N/A"}},{"$f":"MIN(P52:AA52)","v":{"$error":"#N/A"}}]
[null,null,null,null,null,null,null,null,"都市ガス（13A）","tCO2/km3",{"$f":"CO2換算係数!B4","v":2.23},null,null,"都市ガス（13A）","t-CO2/月",{"$f":"P33/1000*$K53","v":0},{"$f":"Q33/1000*$K53","v":0},0,0,0,0,0,0,0,0,0,0,0,0,0]
[null,null,null,null,null,null,null,null,"灯油","tCO2/kL",{"$f":"CO2換算係数!B5","v":2.4900000000000002},null,null,"灯油","t-CO2/月",{"$f":"P34/1000*$K54","v":0},0,0,0,0,0,0,0,0,0,0,0,0,0,0]
[null,null,null,null,null,null,null,null,"重油","tCO2/kL",{"$f":"CO2換算係数!B6","v":2.71},null,null,"重油","t-CO2/月",{"$f":"P35/1000*$K55","v":0},0,0,0,0,0,0,0,0,0,0,0,0,0,0]
[null,null,null,null,null,null,null,null,"液化石油ガス（LPG）","tCO2/t",{"$f":"CO2換算係数!B7","v":3},null,null,"液化石油ガス（LPG）","t-CO2/月",{"$f":"P36/1000*$K56","v":0},0,0,0,0,0,0,0,0,0,0,0,0,0,0]
[null,null,null,null,null,null,null,null,"他人から供給された熱","tCO2/GJ",{"$f":"CO2換算係数!B8","v":5.7000000000000002E-2},null,null,"他人から供給された熱","t-CO2/月",{"$f":"P37/1000*$K57","v":0},0,0,0,0,0,0,0,0,0,0,0,0,0,0]
[null,null,null,null,null,null,null,null,null,null,null,null,null,"CO2排出量合計","t-CO2/月",{"$f":"SUM(P52:P57)","v":{"$error":"#N/A"}},{"$f":"SUM(Q52:Q57)","v":{"$error":"#N/A"}},{"$error":"#N/A"},{"$error":"#N/A"},{"$error":"#N/A"},{"$error":"#N/A"},{"$error":"#N/A"},{"$error":"#N/A"},{"$error":"#N/A"},{"$error":"#N/A"},{"$error":"#N/A"},{"$error":"#N/A"},{"$f":"SUM(AB52:AB57)","v":{"$error":"#N/A"}},{"$error":"#N/A"},{"$error":"#N/A"}]
[]
[null,null,null,null,null,null,null,null,"□一次エネルギー換算係数",null,null,null,null,"□一次エネルギー消費量"]
[null,null,null,null,null,null,null,null,"項目","単位","値","備考",null,"項目","単位","4月","5月","6月","7月","8月","9月","10月","11月","12月","1月","2月","3月","合計","最大","最小","備考"]
[null,null,null,null,null,null,null,null,"電気","MJ/kWh",{"$f":"一次E換算!B3","v":9.76},null,null,"電気","MJ/月",{"$f":"P32*$K62","v":{"$error":"#N/A"}},{"$error":"#N/A"},{"$error":"#N/A"},{"$error":"#N/A"},{"$error":"#N/A"},{"$error":"#N/A"},{"$error":"#N/A"},{"$error":"#N/A"},{"$error":"#N/A"},{"$error":"#N/A"},{"$error":"#N/A"},{"$error":"#N/A"},{"$f":"SUM(P62:AA62)","v":{"$error":"#N/A"}},{"$f":"MAX(P62:AA62)","v":{"$error":"#N/A"}},{"$f":"MIN(P62:AA62)","v":{"$error":"#N/A"}}]
[null,null,null,null,null,null,null,null,"都市ガス（13A）","MJ/m3",{"$f":"一次E換算!B4","v":45},null,null,"都市ガス（13A）","MJ/月",{"$f":"P33*$K63","v":0},0,0,0,0,0,0,0,0,0,0,0,0,0,0]
[null,null,null,null,null,null,null,null,"灯油","MJ/L",{"$f":"一次E換算!B5","v":37},null,null,"灯油","MJ/月",{"$f":"P34*$K64","v":0},0,0,0,0,0,0,0,0,0,0,0,0,0,0]
[null,null,null,null,null,null,null,null,"重油","MJ/L",{"$f":"一次E換算!B6","v":41},null,null,"重油","MJ/月",{"$f":"P35*$K65","v":0},0,0,0,0,0,0,0,0,0,0,0,0,0,0]
[null,null,null,null,null,null,null,null,"液化石油ガス（LPG）","MJ/kg",{"$f":"一次E換算!B7","v":50},null,null,"液化石油ガス（LPG）","MJ/月",{"$f":"P36*$K66","v":0},0,0,0,0,0,0,0,0,0,0,0,0,0,0]
[null,null,null,null,null,null,null,null,"他人から供給された熱","MJ/MJ",{"$f":"一次E換算!B8","v":1.36},null,null,"他人から供給された熱","MJ/月",{"$f":"P37*$K67","v":0},0,0,0,0,0,0,0,0,0,0,0,0,0,0]
[null,null,null,null,null,null,null,null,null,null,null,null,null,"一次エネルギー消費量合計","MJ/月",{"$f":"SUM(P62:P67)","v":{"$error":"#N/A"}},{"$error":"#N/A"},{"$error":"#N/A"},{"$error":"#N/A"},{"$error":"#N/A"},{"$error":"#N/A"},{"$error":"#N/A"},{"$error":"#N/A"},{"$error":"#N/A"},{"$error":"#N/A"},{"$error":"#N/A"},{"$error":"#N/A"},{"$error":"#N/A"},{"$error":"#N/A"},{"$error":"#N/A"}]
[]
[]
[null,null,null,null,null,null,null,null,"■熱源機エネルギーコスト、CO2排出量、一次エネルギー消費量計算（エネルギー消費量を入力）"]
[null,null,null,null,null,null,null,null,null,null,null,null,null,"□エネルギー消費量"]
[null,null,null,null,null,null,null,null,null,"設定セル",null,null,null,"項目","単位","4月","5月","6月","7月","8月","9月","10月","11月","12月","1月","2月","3月","合計","最大","最小","備考"]
[null,null,null,null,null,null,null,null,null,"変更設定していいセル（計算式が入力されている）",null,null,null,"電気","kWh/月",{"$f":"P25","v":{"$error":"#N/A"}},{"$error":"#N/A"},{"$error":"#N/A"},{"$error":"#N/A"},{"$error":"#N/A"},{"$error":"#N/A"},{"$error":"#N/A"},{"$error":"#N/A"},{"$error":"#N/A"},{"$error":"#N/A"},{"$error":"#N/A"},{"$error":"#N/A"},{"$f":"SUM(P74:AA74)","v":{"$error":"#N/A"}},{"$f":"MAX(P74:AA74)","v":{"$error":"#N/A"}},{"$f":"MIN(P74:AA74)","v":{"$error":"#N/A"}}]
[null,null,null,null,null,null,null,null,null,"あまり変更しなくていい設定セル",null,null,null,"都市ガス（13A）","m3/月",null,null,null,null,null,null,null,null,null,null,null,null,0,0,0]
[null,null,null,null,null,null,null,null,null,"デフォ値・係数",null,null,null,"灯油","L/月",null,null,null,null,null,null,null,null,null,null,null,null,0,0,0]
[null,null,null,null,null,null,null,null,null,"計算式・項目確認セル",null,null,null,"重油","L/月",null,null,null,null,null,null,null,null,null,null,null,null,0,0,0]
[null,null,null,null,null,null,null,null,null,null,null,null,null,"液化石油ガス（LPG）","kg/月",null,null,null,null,null,null,null,null,null,null,null,null,0,0,0]
[null,null,null,null,null,null,null,null,null,null,null,null,null,"他人から供給された熱","MJ/月",null,null,null,null,null,null,null,null,null,null,null,null,0,0,0]
[]
[]
[null,null,null,null,null,null,null,null,"□エネルギーコスト単価(フラットレート)",null,null,null,null,"□エネルギーコスト検討"]
[null,null,null,null,null,null,null,null,"項目","単位","値","備考",null,"項目","単位","4月","5月","6月","7月","8月","9月","10月","11月","12月","1月","2月","3月","合計","最大","最小","備考"]
[null,null,null,null,null,null,null,null,"電気","円/kWh",{"$f":"K42","v":14},null,null,"電気","千円/月",{"$f":"P74*$K84/1000","v":{"$error":"#N/A"}},{"$error":"#N/A"},{"$error":"#N/A"},{"$error":"#N/A"},{"$error":"#N/A"},{"$error":"#N/A"},{"$error":"#N/A"},{"$error":"#N/A"},{"$error":"#N/A"},{"$error":"#N/A"},{"$error":"#N/A"},{"$error":"#N/A"},{"$f":"SUM(P84:AA84)","v":{"$error":"#N/A"}},{"$f":"MAX(P84:AA84)","v":{"$error":"#N/A"}},{"$f":"MIN(P84:AA84)","v":{"$error":"#N/A"}}]
[null,null,null,null,null,null,null,null,"都市ガス（13A）","円/m3",{"$f":"K43","v":114.64285714285714},null,null,"都市ガス（13A）","千円/月",{"$f":"P75*$K85/1000","v":0},0,0,0,0,0,0,0,0,0,0,0,0,0,0]
[null,null,null,null,null,null,null,null,"灯油","円/L",107.88888888888889,null,null,"灯油","千円/月",{"$f":"P76*$K86/1000","v":0},0,0,0,0,0,0,0,0,0,0,0,0,0,0]
[null,null,null,null,null,null,null,null,"重油","円/L",76.099999999999994,null,null,"重油","千円/月",{"$f":"P77*$K87/1000","v":0},0,0,0,0,0,0,0,0,0,0,0,0,0,0]
[null,null,null,null,null,null,null,null,"液化石油ガス（LPG）","円/kg",159.40476190476193,null,null,"液化石油ガス（LPG）","千円/月",{"$f":"P78*$K88/1000","v":0},0,0,0,0,0,0,0,0,0,0,0,0,0,0]
[null,null,null,null,null,null,null,null,"他人から供給された熱","円/GJ",6611.9047619047615,null,null,"他人から供給された熱","千円/月",{"$f":"P79*$K89/1000","v":0},0,0,0,0,0,0,0,0,0,0,0,0,0,0]
[null,null,null,null,null,null,null,null,null,null,null,null,null,"エネルギーコスト合計","千円/月",{"$f":"SUM(P84:P89)","v":{"$error":"#N/A"}},{"$f":"SUM(Q84:Q89)","v":{"$error":"#N/A"}},{"$error":"#N/A"},{"$error":"#N/A"},{"$error":"#N/A"},{"$error":"#N/A"},{"$error":"#N/A"},{"$error":"#N/A"},{"$error":"#N/A"},{"$error":"#N/A"},{"$error":"#N/A"},{"$error":"#N/A"},{"$f":"SUM(AB84:AB89)","v":{"$error":"#N/A"}},{"$f":"SUM(AC84:AC89)","v":{"$error":"#N/A"}},{"$f":"SUM(AD84:AD89)","v":{"$error":"#N/A"}}]
[]
[null,null,null,null,null,null,null,null,"□CO2換算係数",null,null,null,null,"□CO2排出量"]
[null,null,null,null,null,null,null,null,"項目","単位","値","備考",null,"項目","単位","4月","5月","6月","7月","8月","9月","10月","11月","12月","1月","2月","3月","合計","最大","最小","備考"]
[null,null,null,null,null,null,null,null,"電気","tCO2/kWh",{"$f":"K52","v":4.8799999999999999E-4},null,null,"電気","t-CO2/月",{"$f":"P74*$K94","v":{"$error":"#N/A"}},{"$error":"#N/A"},{"$error":"#N/A"},{"$error":"#N/A"},{"$error":"#N/A"},{"$error":"#N/A"},{"$error":"#N/A"},{"$error":"#N/A"},{"$error":"#N/A"},{"$error":"#N/A"},{"$error":"#N/A"},{"$error":"#N/A"},{"$f":"SUM(P94:AA94)","v":{"$error":"#N/A"}},{"$f":"MAX(P94:AA94)","v":{"$error":"#N/A"}},{"$f":"MIN(P94:AA94)","v":{"$error":"#N/A"}}]
[null,null,null,null,null,null,null,null,"都市ガス（13A）","tCO2/km3",{"$f":"K53","v":2.23},null,null,"都市ガス（13A）","t-CO2/月",{"$f":"P75/1000*$K95","v":0},0,0,0,0,0,0,0,0,0,0,0,0,0,0]
[null,null,null,null,null,null,null,null,"灯油","tCO2/kL",2.4900000000000002,null,null,"灯油","t-CO2/月",{"$f":"P76/1000*$K96","v":0},0,0,0,0,0,0,0,0,0,0,0,0,0,0]
[null,null,null,null,null,null,null,null,"重油","tCO2/kL",2.71,null,null,"重油","t-CO2/月",{"$f":"P77/1000*$K97","v":0},0,0,0,0,0,0,0,0,0,0,0,0,0,0]
[null,null,null,null,null,null,null,null,"液化石油ガス（LPG）","tCO2/t",3,null,null,"液化石油ガス（LPG）","t-CO2/月",{"$f":"P78/1000*$K98","v":0},0,0,0,0,0,0,0,0,0,0,0,0,0,0]
[null,null,null,null,null,null,null,null,"他人から供給された熱","tCO2/GJ",5.7000000000000002E-2,null,null,"他人から供給された熱","t-CO2/月",{"$f":"P79/1000*$K99","v":0},0,0,0,0,0,0,0,0,0,0,0,0,0,0]
[null,null,null,null,null,null,null,null,null,null,null,null,null,"CO2排出量合計","t-CO2/月",{"$f":"SUM(P94:P99)","v":{"$error":"#N/A"}},{"$f":"SUM(Q94:Q99)","v":{"$error":"#N/A"}},{"$error":"#N/A"},{"$error":"#N/A"},{"$error":"#N/A"},{"$error":"#N/A"},{"$error":"#N/A"},{"$error":"#N/A"},{"$error":"#N/A"},{"$error":"#N/A"},{"$error":"#N/A"},{"$error":"#N/A"},{"$f":"SUM(AB94:AB99)","v":{"$error":"#N/A"}},{"$f":"SUM(AC94:AC99)","v":{"$error":"#N/A"}},{"$error":"#N/A"}]
[]
[null,null,null,null,null,null,null,null,"□一次エネルギー換算係数",null,null,null,null,"□一次エネルギー消費量"]
[null,null,null,null,null,null,null,null,"項目","単位","値","備考",null,"項目","単位","4月","5月","6月","7月","8月","9月","10月","11月","12月","1月","2月","3月","合計","最大","最小","備考"]
[null,null,null,null,null,null,null,null,"電気","MJ/kWh",{"$f":"K62","v":9.76},null,null,"電気","MJ/月",{"$f":"P74*$K104","v":{"$error":"#N/A"}},{"$error":"#N/A"},{"$error":"#N/A"},{"$error":"#N/A"},{"$error":"#N/A"},{"$error":"#N/A"},{"$error":"#N/A"},{"$error":"#N/A"},{"$error":"#N/A"},{"$error":"#N/A"},{"$error":"#N/A"},{"$error":"#N/A"},{"$f":"SUM(P104:AA104)","v":{"$error":"#N/A"}},{"$f":"MAX(P104:AA104)","v":{"$error":"#N/A"}},{"$f":"MIN(P104:AA104)","v":{"$error":"#N/A"}}]
[null,null,null,null,null,null,null,null,"都市ガス（13A）","MJ/m3",{"$f":"K63","v":45},null,null,"都市ガス（13A）","MJ/月",{"$f":"P75*$K105","v":0},0,0,0,0,0,0,0,0,0,0,0,0,0,0]
[null,null,null,null,null,null,null,null,"灯油","MJ/L",37,null,null,"灯油","MJ/月",{"$f":"P76*$K106","v":0},0,0,0,0,0,0,0,0,0,0,0,0,0,0]
[null,null,null,null,null,null,null,null,"重油","MJ/L",41,null,null,"重油","MJ/月",{"$f":"P77*$K107","v":0},0,0,0,0,0,0,0,0,0,0,0,0,0,0]
[null,null,null,null,null,null,null,null,"液化石油ガス（LPG）","MJ/kg",50,null,null,"液化石油ガス（LPG）","MJ/月",{"$f":"P78*$K108","v":0},0,0,0,0,0,0,0,0,0,0,0,0,0,0]
[null,null,null,null,null,null,null,null,"他人から供給された熱","MJ/MJ",1.36,null,null,"他人から供給された熱","MJ/月",{"$f":"P79*$K109","v":0},0,0,0,0,0,0,0,0,0,0,0,0,0,0]
[null,null,null,null,null,null,null,null,null,null,null,null,null,"一次エネルギー消費量合計","MJ/月",{"$f":"SUM(P104:P109)","v":{"$error":"#N/A"}},{"$error":"#N/A"},{"$error":"#N/A"},{"$error":"#N/A"},{"$error":"#N/A"},{"$error":"#N/A"},{"$error":"#N/A"},{"$error":"#N/A"},{"$error":"#N/A"},{"$error":"#N/A"},{"$error":"#N/A"},{"$f":"SUM(AA104:AA109)","v":{"$error":"#N/A"}},{"$error":"#N/A"},{"$error":"#N/A"},{"$error":"#N/A"}]
[]
[]
[null,null,null,null,null,null,null,null,"■補機類エネルギーコスト、CO2排出量、一次エネルギー消費量計算（エネルギー消費量を入力）"]
[null,null,null,null,null,null,null,null,null,null,null,null,null,"□エネルギー消費量"]
[null,null,null,null,null,null,null,null,null,"設定セル",null,null,null,"項目","単位","4月","5月","6月","7月","8月","9月","10月","11月","12月","1月","2月","3月","合計","最大","最小","備考"]
[null,null,null,null,null,null,null,null,null,"変更設定していいセル（計算式が入力されている）",null,null,null,"電気","kWh/月",{"$f":"P26","v":{"$error":"#N/A"}},{"$error":"#N/A"},{"$error":"#N/A"},{"$error":"#N/A"},{"$error":"#N/A"},{"$error":"#N/A"},{"$error":"#N/A"},{"$error":"#N/A"},{"$error":"#N/A"},{"$error":"#N/A"},{"$error":"#N/A"},{"$error":"#N/A"},{"$f":"SUM(P116:AA116)","v":{"$error":"#N/A"}},{"$f":"MAX(P116:AA116)","v":{"$error":"#N/A"}},{"$f":"MIN(P116:AA116)","v":{"$error":"#N/A"}}]
[null,null,null,null,null,null,null,null,null,"あまり変更しなくていい設定セル",null,null,null,"都市ガス（13A）","m3/月",null,null,null,null,null,null,null,null,null,null,null,null,0,0,0]
[null,null,null,null,null,null,null,null,null,"デフォ値・係数",null,null,null,"灯油","L/月",null,null,null,null,null,null,null,null,null,null,null,null,0,0,0]
[null,null,null,null,null,null,null,null,null,"計算式・項目確認セル",null,null,null,"重油","L/月",null,null,null,null,null,null,null,null,null,null,null,null,0,0,0]
[null,null,null,null,null,null,null,null,null,null,null,null,null,"液化石油ガス（LPG）","kg/月",null,null,null,null,null,null,null,null,null,null,null,null,0,0,0]
[null,null,null,null,null,null,null,null,null,null,null,null,null,"他人から供給された熱","MJ/月",null,null,null,null,null,null,null,null,null,null,null,null,0,0,0]
[]
[]
[null,null,null,null,null,null,null,null,"□エネルギーコスト単価(フラットレート)",null,null,null,null,"□エネルギーコスト検討"]
[null,null,null,null,null,null,null,null,"項目","単位","値","備考",null,"項目","単位","4月","5月","6月","7月","8月","9月","10月","11月","12月","1月","2月","3月","合計","最大","最小","備考"]
[null,null,null,null,null,null,null,null,"電気","円/kWh",{"$f":"K84","v":14},null,null,"電気","千円/月",{"$f":"P116*$K126/1000","v":{"$error":"#N/A"}},{"$error":"#N/A"},{"$error":"#N/A"},{"$error":"#N/A"},{"$error":"#N/A"},{"$error":"#N/A"},{"$error":"#N/A"},{"$error":"#N/A"},{"$error":"#N/A"},{"$error":"#N/A"},{"$error":"#N/A"},{"$error":"#N/A"},{"$f":"SUM(P126:AA126)","v":{"$error":"#N/A"}},{"$f":"MAX(P126:AA126)","v":{"$error":"#N/A"}},{"$f":"MIN(P126:AA126)","v":{"$error":"#N/A"}}]
[null,null,null,null,null,null,null,null,"都市ガス（13A）","円/m3",{"$f":"K85","v":114.64285714285714},null,null,"都市ガス（13A）","千円/月",{"$f":"P117*$K127/1000","v":0},0,0,0,0,0,0,0,0,0,0,0,0,0,0]
[null,null,null,null,null,null,null,null,"灯油","円/L",107.88888888888889,null,null,"灯油","千円/月",{"$f":"P118*$K128/1000","v":0},0,0,0,0,0,0,0,0,0,0,0,0,0,0]
[null,null,null,null,null,null,null,null,"重油","円/L",76.099999999999994,null,null,"重油","千円/月",{"$f":"P119*$K129/1000","v":0},0,0,0,0,0,0,0,0,0,0,0,0,0,0]
[null,null,null,null,null,null,null,null,"液化石油ガス（LPG）","円/kg",159.40476190476193,null,null,"液化石油ガス（LPG）","千円/月",{"$f":"P120*$K130/1000","v":0},0,0,0,0,0,0,0,0,0,0,0,0,0,0]
[null,null,null,null,null,null,null,null,"他人から供給された熱","円/GJ",6611.9047619047615,null,null,"他人から供給された熱","千円/月",{"$f":"P121*$K131/1000","v":0},0,0,0,0,0,0,0,0,0,0,0,0,0,0]
[null,null,null,null,null,null,null,null,null,null,null,null,null,"エネルギーコスト合計","千円/月",{"$f":"SUM(P126:P131)","v":{"$error":"#N/A"}},{"$f":"SUM(Q126:Q131)","v":{"$error":"#N/A"}},{"$error":"#N/A"},{"$error":"#N/A"},{"$error":"#N/A"},{"$error":"#N/A"},{"$error":"#N/A"},{"$error":"#N/A"},{"$error":"#N/A"},{"$error":"#N/A"},{"$error":"#N/A"},{"$f":"SUM(AA126:AA131)","v":{"$error":"#N/A"}},{"$f":"SUM(AB126:AB131)","v":{"$error":"#N/A"}},{"$f":"SUM(AC126:AC131)","v":{"$error":"#N/A"}},{"$f":"SUM(AD126:AD131)","v":{"$error":"#N/A"}}]
[]
[null,null,null,null,null,null,null,null,"□CO2換算係数",null,null,null,null,"□CO2排出量"]
[null,null,null,null,null,null,null,null,"項目","単位","値","備考",null,"項目","単位","4月","5月","6月","7月","8月","9月","10月","11月","12月","1月","2月","3月","合計","最大","最小","備考"]
[null,null,null,null,null,null,null,null,"電気","tCO2/kWh",{"$f":"K94","v":4.8799999999999999E-4},null,null,"電気","t-CO2/月",{"$f":"P116*$K136","v":{"$error":"#N/A"}},{"$error":"#N/A"},{"$error":"#N/A"},{"$error":"#N/A"},{"$error":"#N/A"},{"$error":"#N/A"},{"$error":"#N/A"},{"$error":"#N/A"},{"$error":"#N/A"},{"$error":"#N/A"},{"$error":"#N/A"},{"$error":"#N/A"},{"$f":"SUM(P136:AA136)","v":{"$error":"#N/A"}},{"$f":"MAX(P136:AA136)","v":{"$error":"#N/A"}},{"$f":"MIN(P136:AA136)","v":{"$error":"#N/A"}}]
[null,null,null,null,null,null,null,null,"都市ガス（13A）","tCO2/km3",{"$f":"K95","v":2.23},null,null,"都市ガス（13A）","t-CO2/月",{"$f":"P117/1000*$K137","v":0},0,0,0,0,0,0,0,0,0,0,0,0,0,0]
[null,null,null,null,null,null,null,null,"灯油","tCO2/kL",2.4900000000000002,null,null,"灯油","t-CO2/月",{"$f":"P118/1000*$K138","v":0},0,0,0,0,0,0,0,0,0,0,0,0,0,0]
[null,null,null,null,null,null,null,null,"重油","tCO2/kL",2.71,null,null,"重油","t-CO2/月",{"$f":"P119/1000*$K139","v":0},0,0,0,0,0,0,0,0,0,0,0,0,0,0]
[null,null,null,null,null,null,null,null,"液化石油ガス（LPG）","tCO2/t",3,null,null,"液化石油ガス（LPG）","t-CO2/月",{"$f":"P120/1000*$K140","v":0},0,0,0,0,0,0,0,0,0,0,0,0,0,0]
[null,null,null,null,null,null,null,null,"他人から供給された熱","tCO2/GJ",5.7000000000000002E-2,null,null,"他人から供給された熱","t-CO2/月",{"$f":"P121/1000*$K141","v":0},0,0,0,0,0,0,0,0,0,0,0,0,0,0]
[null,null,null,null,null,null,null,null,null,null,null,null,null,"CO2排出量合計","t-CO2/月",{"$f":"SUM(P136:P141)","v":{"$error":"#N/A"}},{"$f":"SUM(Q136:Q141)","v":{"$error":"#N/A"}},{"$error":"#N/A"},{"$error":"#N/A"},{"$error":"#N/A"},{"$error":"#N/A"},{"$error":"#N/A"},{"$error":"#N/A"},{"$error":"#N/A"},{"$error":"#N/A"},{"$error":"#N/A"},{"$f":"SUM(AA136:AA141)","v":{"$error":"#N/A"}},{"$f":"SUM(AB136:AB141)","v":{"$error":"#N/A"}},{"$f":"SUM(AC136:AC141)","v":{"$error":"#N/A"}},{"$error":"#N/A"}]
[]
[null,null,null,null,null,null,null,null,"□一次エネルギー換算係数",null,null,null,null,"□一次エネルギー消費量"]
[null,null,null,null,null,null,null,null,"項目","単位","値","備考",null,"項目","単位","4月","5月","6月","7月","8月","9月","10月","11月","12月","1月","2月","3月","合計","最大","最小","備考"]
[null,null,null,null,null,null,null,null,"電気","MJ/kWh",{"$f":"K104","v":9.76},null,null,"電気","MJ/月",{"$f":"P116*$K146","v":{"$error":"#N/A"}},{"$error":"#N/A"},{"$error":"#N/A"},{"$error":"#N/A"},{"$error":"#N/A"},{"$error":"#N/A"},{"$error":"#N/A"},{"$error":"#N/A"},{"$error":"#N/A"},{"$error":"#N/A"},{"$error":"#N/A"},{"$error":"#N/A"},{"$f":"SUM(P146:AA146)","v":{"$error":"#N/A"}},{"$f":"MAX(P146:AA146)","v":{"$error":"#N/A"}},{"$f":"MIN(P146:AA146)","v":{"$error":"#N/A"}}]
[null,null,null,null,null,null,null,null,"都市ガス（13A）","MJ/m3",{"$f":"K105","v":45},null,null,"都市ガス（13A）","MJ/月",{"$f":"P117*$K147","v":0},0,0,0,0,0,0,0,0,0,0,0,0,0,0]
[null,null,null,null,null,null,null,null,"灯油","MJ/L",37,null,null,"灯油","MJ/月",{"$f":"P118*$K148","v":0},0,0,0,0,0,0,0,0,0,0,0,0,0,0]
[null,null,null,null,null,null,null,null,"重油","MJ/L",41,null,null,"重油","MJ/月",{"$f":"P119*$K149","v":0},0,0,0,0,0,0,0,0,0,0,0,0,0,0]
[null,null,null,null,null,null,null,null,"液化石油ガス（LPG）","MJ/kg",50,null,null,"液化石油ガス（LPG）","MJ/月",{"$f":"P120*$K150","v":0},0,0,0,0,0,0,0,0,0,0,0,0,0,0]
[null,null,null,null,null,null,null,null,"他人から供給された熱","MJ/MJ",1.36,null,null,"他人から供給された熱","MJ/月",{"$f":"P121*$K151","v":0},0,0,0,0,0,0,0,0,0,0,0,0,0,0]
[null,null,null,null,null,null,null,null,null,null,null,null,null,"一次エネルギー消費量合計","MJ/月",{"$f":"SUM(P146:P151)","v":{"$error":"#N/A"}},{"$error":"#N/A"},{"$error":"#N/A"},{"$error":"#N/A"},{"$error":"#N/A"},{"$error":"#N/A"},{"$error":"#N/A"},{"$error":"#N/A"},{"$error":"#N/A"},{"$error":"#N/A"},{"$error":"#N/A"},{"$f":"SUM(AA146:AA151)","v":{"$error":"#N/A"}},{"$error":"#N/A"},{"$error":"#N/A"},{"$error":"#N/A"}]

{"sheet":"下水熱_蓄熱槽容量","index":24,"n_rows":22,"n_cols":10,"rows_kept":22,"cut":false,"hidden":true,"merged":[]}
[]
[null,"■蓄熱槽容量関数",null,null,null,"■入力情報"]
[null,"給湯(冬期)","建物用途"," 傾きa",null,"項目","値"]
[null,null,"集合住宅",{"$f":"蓄熱槽容量関数!D25","v":0.17019999999999999},null,"熱利用用途",{"$f":"入力シート!C8","v":0}]
[null,null,"業務施設",{"$f":"+蓄熱槽容量関数!D28","v":0.1915},null,"建物用途",{"$f":"入力シート!C9","v":0}]
[null,null,"商業施設",{"$f":"+蓄熱槽容量関数!D31","v":0.20169999999999999}]
[null,null,"宿泊施設",{"$f":"+蓄熱槽容量関数!D34","v":9.4700000000000006E-2},null,"■熱利用用途別の蓄熱槽容量算定（建物用途により傾きaを変更。）"]
[null,null,"医療施設",{"$f":"+蓄熱槽容量関数!D37","v":0.15770000000000001},null,"熱利用用途","HP容量最大値[kW]"," 傾きa","蓄熱槽容量[m3]","熱利用用途"]
[null,null,null,null,null,"給湯",{"$f":"SUMPRODUCT(MAX((下水熱_RC!$P$5:$AA$5=F9)*(下水熱_RC!$P$12:$AA$12)))","v":{"$error":"#N/A"}},{"$f":"VLOOKUP($G$5,C3:D8,2,FALSE)","v":{"$error":"#N/A"}},{"$f":"G9*H9","v":{"$error":"#N/A"}},"給湯"]
[null,"冷房(夏期)","建物用途"," 傾きa",null,"冷房",{"$f":"SUMPRODUCT(MAX((下水熱_RC!$P$5:$AA$5=F10)*(下水熱_RC!$P$12:$AA$12)))","v":{"$error":"#N/A"}},{"$f":"VLOOKUP($G$5,C10:D15,2,FALSE)","v":{"$error":"#N/A"}},{"$f":"G10*H10","v":{"$error":"#N/A"}},"冷房"]
[null,null,"集合住宅",{"$f":"+蓄熱槽容量関数!D26","v":1.5810999999999999},null,"暖房",{"$f":"SUMPRODUCT(MAX((下水熱_RC!$P$5:$AA$5=F11)*(下水熱_RC!$P$12:$AA$12)))","v":{"$error":"#N/A"}},{"$f":"VLOOKUP($G$5,C17:D22,2,FALSE)","v":{"$error":"#N/A"}},{"$error":"#N/A"},"暖房"]
[null,null,"業務施設",{"$f":"+蓄熱槽容量関数!D29","v":1.8240000000000001}]
[null,null,"商業施設",{"$f":"+蓄熱槽容量関数!D32","v":2.2355999999999998},null,"■蓄熱槽容量"]
[null,null,"宿泊施設",{"$f":"+蓄熱槽容量関数!D35","v":1.2020999999999999},null,null,"値","単位","備考"]
[null,null,"医療施設",{"$f":"+蓄熱槽容量関数!D38","v":0.98750000000000004},null,"蓄熱槽容",{"$f":"IF(AND(G4<>\"給湯\",G20=0),0,MAX(I9:I11))","v":0},"m3"]
[null,null,null,null,null,"熱利用用途",{"$f":"IF(G4=\"融雪\",G4,VLOOKUP(MAX(I9:I11),I8:J11,2,FALSE))","v":{"$error":"#N/A"}},"-"]
[null,"暖房(冬期)","建物用途"," 傾きa",null,"熱利用用途のうち最大値を取る。（空調のとき、暖房側か冷房側のどちらが大きいかで変わるため。）"]
[null,null,"集合住宅",{"$f":"+蓄熱槽容量関数!D27","v":0.71030000000000004}]
[null,null,"業務施設",{"$f":"+蓄熱槽容量関数!D30","v":2.3961999999999999},null,"■蓄熱空調のON/OFF"]
[null,null,"商業施設",{"$f":"+蓄熱槽容量関数!D33","v":2.2355999999999998},null,"蓄熱空調",0,"1:ON,0:OFF"]
[null,null,"宿泊施設",{"$f":"+蓄熱槽容量関数!D36","v":0.83109999999999995},null,"※空調システムでは蓄熱槽を基本的には設けない想定。空調の水蓄熱では総容量が大きくなる。"]
[null,null,"医療施設",{"$f":"+蓄熱槽容量関数!D39","v":1.0277000000000001}]

{"sheet":"下水熱_空調_熱源容量","index":25,"n_rows":37,"n_cols":18,"rows_kept":37,"cut":false,"hidden":true,"merged":[]}
["■時刻別負荷"]
["■時刻負荷パタン設定",null,null,null,null,null,null,null,"■時刻別負荷",null,null,null,null,null,"■最大負荷　既存設備　熱源容量設定"]
["項目","値","単位","備考",null,null,null,null,null,{"$f":"VLOOKUP(B4&K3,E17:F32,2,FALSE)","v":{"$error":"#N/A"}},"冷房",{"$f":"VLOOKUP(B4&M3,E17:F32,2,FALSE)","v":{"$error":"#N/A"}},"暖房",null,"項目","値","単位","備考・冷房暖房区別VLOOKUP用"]
["建物用途",{"$f":"入力シート!C9","v":0},"-",null,null,null,null,null,"時刻","-","kW","-","kW",null,"冷房",{"$f":"MAX(K5:K28)","v":{"$error":"#N/A"}},"kW","冷房"]
["一日の熱需要量",{"$f":"MAX(下水熱_空調_熱源容量!B13:D13)","v":{"$error":"#N/A"}},"kWh/日",null,null,null,null,null,1,{"$f":"VLOOKUP(I5,熱需要量算定・原単位!$AJ$9:$BL$32,MATCH($J$3,熱需要量算定・原単位!$AK$5:$BL$5,0)+1,FALSE)","v":{"$error":"#N/A"}},{"$f":"$C$13*J5/100","v":{"$error":"#N/A"}},{"$f":"VLOOKUP(I5,熱需要量算定・原単位!$AJ$9:$BL$32,MATCH($L$3,熱需要量算定・原単位!$AK$5:$BL$5,0)+1,FALSE)","v":{"$error":"#N/A"}},{"$f":"$D$13*L5/100","v":{"$error":"#N/A"}},null,"暖房",{"$f":"MAX(M5:M28)","v":{"$error":"#N/A"}},"kW","暖房"]
[null,null,null,null,null,null,null,null,2,{"$f":"VLOOKUP(I6,熱需要量算定・原単位!$AJ$9:$BL$32,MATCH($J$3,熱需要量算定・原単位!$AK$5:$BL$5,0)+1,FALSE)","v":{"$error":"#N/A"}},{"$f":"$C$13*J6/100","v":{"$error":"#N/A"}},{"$f":"VLOOKUP(I6,熱需要量算定・原単位!$AJ$9:$BL$32,MATCH($L$3,熱需要量算定・原単位!$AK$5:$BL$5,0)+1,FALSE)","v":{"$error":"#N/A"}},{"$f":"$D$13*L6/100","v":{"$error":"#N/A"}},null,"最大負荷",{"$f":"MAX(P4:P5)","v":{"$error":"#N/A"}},"kW","最大熱源容量"]
[null,null,null,null,null,null,null,null,3,{"$f":"VLOOKUP(I7,熱需要量算定・原単位!$AJ$9:$BL$32,MATCH($J$3,熱需要量算定・原単位!$AK$5:$BL$5,0)+1,FALSE)","v":{"$error":"#N/A"}},{"$error":"#N/A"},{"$f":"VLOOKUP(I7,熱需要量算定・原単位!$AJ$9:$BL$32,MATCH($L$3,熱需要量算定・原単位!$AK$5:$BL$5,0)+1,FALSE)","v":{"$error":"#N/A"}},{"$error":"#N/A"},null,"最大負荷時用途",{"$f":"VLOOKUP(P6,P4:R5,3,FALSE)","v":{"$error":"#N/A"}},"-"]
[null,null,null,null,null,null,null,null,4,{"$f":"VLOOKUP(I8,熱需要量算定・原単位!$AJ$9:$BL$32,MATCH($J$3,熱需要量算定・原単位!$AK$5:$BL$5,0)+1,FALSE)","v":{"$error":"#N/A"}},{"$error":"#N/A"},{"$f":"VLOOKUP(I8,熱需要量算定・原単位!$AJ$9:$BL$32,MATCH($L$3,熱需要量算定・原単位!$AK$5:$BL$5,0)+1,FALSE)","v":{"$error":"#N/A"}},{"$error":"#N/A"},null,"最大負荷時COP",{"$f":"HLOOKUP(P7,B12:D14,3,FALSE)","v":{"$error":"#N/A"}},"-"]
[null,null,null,null,null,null,null,null,5,{"$f":"VLOOKUP(I9,熱需要量算定・原単位!$AJ$9:$BL$32,MATCH($J$3,熱需要量算定・原単位!$AK$5:$BL$5,0)+1,FALSE)","v":{"$error":"#N/A"}},{"$error":"#N/A"},{"$f":"VLOOKUP(I9,熱需要量算定・原単位!$AJ$9:$BL$32,MATCH($L$3,熱需要量算定・原単位!$AK$5:$BL$5,0)+1,FALSE)","v":{"$error":"#N/A"}},{"$error":"#N/A"},null,"最大負荷時最熱量",{"$f":"IF(P7=\"冷房\",P6+P6/P8,P6-P6/P8)","v":{"$error":"#N/A"}},"kW"]
["■時刻別負荷パタン熱利用用途の決定用",null,null,null,null,null,null,null,6,{"$f":"VLOOKUP(I10,熱需要量算定・原単位!$AJ$9:$BL$32,MATCH($J$3,熱需要量算定・原単位!$AK$5:$BL$5,0)+1,FALSE)","v":{"$error":"#N/A"}},{"$error":"#N/A"},{"$f":"VLOOKUP(I10,熱需要量算定・原単位!$AJ$9:$BL$32,MATCH($L$3,熱需要量算定・原単位!$AK$5:$BL$5,0)+1,FALSE)","v":{"$error":"#N/A"}},{"$error":"#N/A"}]
[null,null,null,null,null,null,null,null,7,{"$f":"VLOOKUP(I11,熱需要量算定・原単位!$AJ$9:$BL$32,MATCH($J$3,熱需要量算定・原単位!$AK$5:$BL$5,0)+1,FALSE)","v":{"$error":"#N/A"}},{"$error":"#N/A"},{"$f":"VLOOKUP(I11,熱需要量算定・原単位!$AJ$9:$BL$32,MATCH($L$3,熱需要量算定・原単位!$AK$5:$BL$5,0)+1,FALSE)","v":{"$error":"#N/A"}},{"$error":"#N/A"}]
["熱利用用途","給湯","冷房","暖房",null,null,null,null,8,{"$f":"VLOOKUP(I12,熱需要量算定・原単位!$AJ$9:$BL$32,MATCH($J$3,熱需要量算定・原単位!$AK$5:$BL$5,0)+1,FALSE)","v":{"$error":"#N/A"}},{"$error":"#N/A"},{"$f":"VLOOKUP(I12,熱需要量算定・原単位!$AJ$9:$BL$32,MATCH($L$3,熱需要量算定・原単位!$AK$5:$BL$5,0)+1,FALSE)","v":{"$error":"#N/A"}},{"$error":"#N/A"}]
["日あたりの熱需要量",{"$f":"SUMPRODUCT(MAX((下水熱_RC!$P$5:$AA$5=B12)*(下水熱_RC!$P$11:$AA$11)))","v":{"$error":"#N/A"}},{"$f":"SUMPRODUCT(MAX((下水熱_RC!$P$5:$AA$5=C12)*(下水熱_RC!$P$11:$AA$11)))","v":{"$error":"#N/A"}},{"$f":"SUMPRODUCT(MAX((下水熱_RC!$P$5:$AA$5=D12)*(下水熱_RC!$P$11:$AA$11)))","v":{"$error":"#N/A"}},null,null,null,null,9,{"$f":"VLOOKUP(I13,熱需要量算定・原単位!$AJ$9:$BL$32,MATCH($J$3,熱需要量算定・原単位!$AK$5:$BL$5,0)+1,FALSE)","v":{"$error":"#N/A"}},{"$error":"#N/A"},{"$f":"VLOOKUP(I13,熱需要量算定・原単位!$AJ$9:$BL$32,MATCH($L$3,熱需要量算定・原単位!$AK$5:$BL$5,0)+1,FALSE)","v":{"$error":"#N/A"}},{"$error":"#N/A"}]
["COP",{"$f":"HLOOKUP(B13,下水熱_RC!$AJ$5:$AU$7,3,FALSE)","v":{"$error":"#N/A"}},{"$f":"HLOOKUP(C13,下水熱_RC!$AJ$5:$AU$7,3,FALSE)","v":{"$error":"#N/A"}},{"$f":"HLOOKUP(D13,下水熱_RC!$AJ$5:$AU$7,3,FALSE)","v":{"$error":"#N/A"}},null,null,null,null,10,{"$f":"VLOOKUP(I14,熱需要量算定・原単位!$AJ$9:$BL$32,MATCH($J$3,熱需要量算定・原単位!$AK$5:$BL$5,0)+1,FALSE)","v":{"$error":"#N/A"}},{"$error":"#N/A"},{"$f":"VLOOKUP(I14,熱需要量算定・原単位!$AJ$9:$BL$32,MATCH($L$3,熱需要量算定・原単位!$AK$5:$BL$5,0)+1,FALSE)","v":{"$error":"#N/A"}},{"$error":"#N/A"}]
[null,null,null,null,null,null,null,null,11,{"$f":"VLOOKUP(I15,熱需要量算定・原単位!$AJ$9:$BL$32,MATCH($J$3,熱需要量算定・原単位!$AK$5:$BL$5,0)+1,FALSE)","v":{"$error":"#N/A"}},{"$error":"#N/A"},{"$f":"VLOOKUP(I15,熱需要量算定・原単位!$AJ$9:$BL$32,MATCH($L$3,熱需要量算定・原単位!$AK$5:$BL$5,0)+1,FALSE)","v":{"$error":"#N/A"}},{"$error":"#N/A"}]
["■時刻別負荷変動比率　検索key設定",null,null,null,null,null,null,null,12,{"$f":"VLOOKUP(I16,熱需要量算定・原単位!$AJ$9:$BL$32,MATCH($J$3,熱需要量算定・原単位!$AK$5:$BL$5,0)+1,FALSE)","v":{"$error":"#N/A"}},{"$error":"#N/A"},{"$f":"VLOOKUP(I16,熱需要量算定・原単位!$AJ$9:$BL$32,MATCH($L$3,熱需要量算定・原単位!$AK$5:$BL$5,0)+1,FALSE)","v":{"$error":"#N/A"}},{"$error":"#N/A"}]
["No","建物用途","熱利用用途","季節","VLOOKUP","検索key","運転時間",null,13,{"$f":"VLOOKUP(I17,熱需要量算定・原単位!$AJ$9:$BL$32,MATCH($J$3,熱需要量算定・原単位!$AK$5:$BL$5,0)+1,FALSE)","v":{"$error":"#N/A"}},{"$error":"#N/A"},{"$f":"VLOOKUP(I17,熱需要量算定・原単位!$AJ$9:$BL$32,MATCH($L$3,熱需要量算定・原単位!$AK$5:$BL$5,0)+1,FALSE)","v":{"$error":"#N/A"}},{"$error":"#N/A"}]
[1,"集合住宅","給湯","冬期",{"$f":"B18&C18","v":"集合住宅給湯"},{"$f":"B18&C18&D18","v":"集合住宅給湯冬期"},{"$f":"HLOOKUP(F18,熱需要量算定・原単位!$AJ$5:$BL$34,30,FALSE)","v":22},null,14,{"$f":"VLOOKUP(I18,熱需要量算定・原単位!$AJ$9:$BL$32,MATCH($J$3,熱需要量算定・原単位!$AK$5:$BL$5,0)+1,FALSE)","v":{"$error":"#N/A"}},{"$error":"#N/A"},{"$f":"VLOOKUP(I18,熱需要量算定・原単位!$AJ$9:$BL$32,MATCH($L$3,熱需要量算定・原単位!$AK$5:$BL$5,0)+1,FALSE)","v":{"$error":"#N/A"}},{"$error":"#N/A"}]
[2,"集合住宅","冷房","夏期",{"$f":"B19&C19","v":"集合住宅冷房"},{"$f":"B19&C19&D19","v":"集合住宅冷房夏期"},{"$f":"HLOOKUP(F19,熱需要量算定・原単位!$AJ$5:$BL$34,30,FALSE)","v":24},null,15,{"$f":"VLOOKUP(I19,熱需要量算定・原単位!$AJ$9:$BL$32,MATCH($J$3,熱需要量算定・原単位!$AK$5:$BL$5,0)+1,FALSE)","v":{"$error":"#N/A"}},{"$error":"#N/A"},{"$f":"VLOOKUP(I19,熱需要量算定・原単位!$AJ$9:$BL$32,MATCH($L$3,熱需要量算定・原単位!$AK$5:$BL$5,0)+1,FALSE)","v":{"$error":"#N/A"}},{"$error":"#N/A"}]
[3,"集合住宅","暖房","冬期","集合住宅暖房","集合住宅暖房冬期",{"$f":"HLOOKUP(F20,熱需要量算定・原単位!$AJ$5:$BL$34,30,FALSE)","v":24},null,16,{"$f":"VLOOKUP(I20,熱需要量算定・原単位!$AJ$9:$BL$32,MATCH($J$3,熱需要量算定・原単位!$AK$5:$BL$5,0)+1,FALSE)","v":{"$error":"#N/A"}},{"$error":"#N/A"},{"$f":"VLOOKUP(I20,熱需要量算定・原単位!$AJ$9:$BL$32,MATCH($L$3,熱需要量算定・原単位!$AK$5:$BL$5,0)+1,FALSE)","v":{"$error":"#N/A"}},{"$error":"#N/A"}]
[4,"業務施設","給湯","冬期","業務施設給湯","業務施設給湯冬期",{"$f":"HLOOKUP(F21,熱需要量算定・原単位!$AJ$5:$BL$34,30,FALSE)","v":14},null,17,{"$f":"VLOOKUP(I21,熱需要量算定・原単位!$AJ$9:$BL$32,MATCH($J$3,熱需要量算定・原単位!$AK$5:$BL$5,0)+1,FALSE)","v":{"$error":"#N/A"}},{"$error":"#N/A"},{"$f":"VLOOKUP(I21,熱需要量算定・原単位!$AJ$9:$BL$32,MATCH($L$3,熱需要量算定・原単位!$AK$5:$BL$5,0)+1,FALSE)","v":{"$error":"#N/A"}},{"$error":"#N/A"}]
[5,"業務施設","冷房","夏期","業務施設冷房","業務施設冷房夏期",{"$f":"HLOOKUP(F22,熱需要量算定・原単位!$AJ$5:$BL$34,30,FALSE)","v":14},null,18,{"$f":"VLOOKUP(I22,熱需要量算定・原単位!$AJ$9:$BL$32,MATCH($J$3,熱需要量算定・原単位!$AK$5:$BL$5,0)+1,FALSE)","v":{"$error":"#N/A"}},{"$error":"#N/A"},{"$f":"VLOOKUP(I22,熱需要量算定・原単位!$AJ$9:$BL$32,MATCH($L$3,熱需要量算定・原単位!$AK$5:$BL$5,0)+1,FALSE)","v":{"$error":"#N/A"}},{"$error":"#N/A"}]
[6,"業務施設","暖房","冬期","業務施設暖房","業務施設暖房冬期",{"$f":"HLOOKUP(F23,熱需要量算定・原単位!$AJ$5:$BL$34,30,FALSE)","v":11},null,19,{"$f":"VLOOKUP(I23,熱需要量算定・原単位!$AJ$9:$BL$32,MATCH($J$3,熱需要量算定・原単位!$AK$5:$BL$5,0)+1,FALSE)","v":{"$error":"#N/A"}},{"$error":"#N/A"},{"$f":"VLOOKUP(I23,熱需要量算定・原単位!$AJ$9:$BL$32,MATCH($L$3,熱需要量算定・原単位!$AK$5:$BL$5,0)+1,FALSE)","v":{"$error":"#N/A"}},{"$error":"#N/A"}]
[7,"商業施設","給湯","-","商業施設給湯","商業施設給湯-",{"$f":"HLOOKUP(F24,熱需要量算定・原単位!$AJ$5:$BL$34,30,FALSE)","v":12},null,20,{"$f":"VLOOKUP(I24,熱需要量算定・原単位!$AJ$9:$BL$32,MATCH($J$3,熱需要量算定・原単位!$AK$5:$BL$5,0)+1,FALSE)","v":{"$error":"#N/A"}},{"$error":"#N/A"},{"$f":"VLOOKUP(I24,熱需要量算定・原単位!$AJ$9:$BL$32,MATCH($L$3,熱需要量算定・原単位!$AK$5:$BL$5,0)+1,FALSE)","v":{"$error":"#N/A"}},{"$error":"#N/A"}]
[8,"商業施設","冷房","-","商業施設冷房","商業施設冷房-",{"$f":"HLOOKUP(F25,熱需要量算定・原単位!$AJ$5:$BL$34,30,FALSE)","v":11},null,21,{"$f":"VLOOKUP(I25,熱需要量算定・原単位!$AJ$9:$BL$32,MATCH($J$3,熱需要量算定・原単位!$AK$5:$BL$5,0)+1,FALSE)","v":{"$error":"#N/A"}},{"$error":"#N/A"},{"$f":"VLOOKUP(I25,熱需要量算定・原単位!$AJ$9:$BL$32,MATCH($L$3,熱需要量算定・原単位!$AK$5:$BL$5,0)+1,FALSE)","v":{"$error":"#N/A"}},{"$error":"#N/A"}]
[9,"商業施設","暖房","-","商業施設暖房","商業施設暖房-",{"$f":"HLOOKUP(F26,熱需要量算定・原単位!$AJ$5:$BL$34,30,FALSE)","v":11},null,22,{"$f":"VLOOKUP(I26,熱需要量算定・原単位!$AJ$9:$BL$32,MATCH($J$3,熱需要量算定・原単位!$AK$5:$BL$5,0)+1,FALSE)","v":{"$error":"#N/A"}},{"$error":"#N/A"},{"$f":"VLOOKUP(I26,熱需要量算定・原単位!$AJ$9:$BL$32,MATCH($L$3,熱需要量算定・原単位!$AK$5:$BL$5,0)+1,FALSE)","v":{"$error":"#N/A"}},{"$error":"#N/A"}]
[10,"宿泊施設","給湯","-","宿泊施設給湯","宿泊施設給湯-",{"$f":"HLOOKUP(F27,熱需要量算定・原単位!$AJ$5:$BL$34,30,FALSE)","v":24},null,23,{"$f":"VLOOKUP(I27,熱需要量算定・原単位!$AJ$9:$BL$32,MATCH($J$3,熱需要量算定・原単位!$AK$5:$BL$5,0)+1,FALSE)","v":{"$error":"#N/A"}},{"$error":"#N/A"},{"$f":"VLOOKUP(I27,熱需要量算定・原単位!$AJ$9:$BL$32,MATCH($L$3,熱需要量算定・原単位!$AK$5:$BL$5,0)+1,FALSE)","v":{"$error":"#N/A"}},{"$error":"#N/A"}]
[11,"宿泊施設","冷房","夏期","宿泊施設冷房","宿泊施設冷房夏期",{"$f":"HLOOKUP(F28,熱需要量算定・原単位!$AJ$5:$BL$34,30,FALSE)","v":24},null,24,{"$f":"VLOOKUP(I28,熱需要量算定・原単位!$AJ$9:$BL$32,MATCH($J$3,熱需要量算定・原単位!$AK$5:$BL$5,0)+1,FALSE)","v":{"$error":"#N/A"}},{"$error":"#N/A"},{"$f":"VLOOKUP(I28,熱需要量算定・原単位!$AJ$9:$BL$32,MATCH($L$3,熱需要量算定・原単位!$AK$5:$BL$5,0)+1,FALSE)","v":{"$error":"#N/A"}},{"$error":"#N/A"}]
[12,"宿泊施設","暖房","冬期","宿泊施設暖房","宿泊施設暖房冬期",{"$f":"HLOOKUP(F29,熱需要量算定・原単位!$AJ$5:$BL$34,30,FALSE)","v":23},null,"合計",null,{"$f":"SUM(K5:K28)","v":{"$error":"#N/A"}},null,{"$f":"SUM(M5:M28)","v":{"$error":"#N/A"}}]
[13,"医療施設","給湯","冬期","医療施設給湯","医療施設給湯冬期",{"$f":"HLOOKUP(F30,熱需要量算定・原単位!$AJ$5:$BL$34,30,FALSE)","v":24}]
[14,"医療施設","冷房","夏期","医療施設冷房","医療施設冷房夏期",{"$f":"HLOOKUP(F31,熱需要量算定・原単位!$AJ$5:$BL$34,30,FALSE)","v":24}]
[15,"医療施設","暖房","冬期","医療施設暖房","医療施設暖房冬期",{"$f":"HLOOKUP(F32,熱需要量算定・原単位!$AJ$5:$BL$34,30,FALSE)","v":24}]
[]
[]
["■運転時間の設定（熱負荷に合わせた運転の場合）"]
["熱利用用途","給湯","冷房","暖房"]
["運転時間",{"$f":"VLOOKUP($B$4&B36,$E$17:$G$32,3,FALSE)","v":{"$error":"#N/A"}},{"$f":"VLOOKUP($B$4&C36,$E$17:$G$32,3,FALSE)","v":{"$error":"#N/A"}},{"$f":"VLOOKUP($B$4&D36,$E$17:$G$32,3,FALSE)","v":{"$error":"#N/A"}}]

{"sheet":"下水熱_IC","index":26,"n_rows":31,"n_cols":17,"rows_kept":31,"cut":false,"hidden":true,"merged":[[27,1,27,2],[29,1,29,2],[28,1,28,2],[4,1,16,1],[17,1,19,1],[20,1,23,1],[24,1,24,2],[26,1,26,2],[25,1,25,2]]}
[null,"■イニシャルコスト算出"]
[]
[null,"下水熱利用システム"]
[null,null,"名称","摘要","単価[千円]","数量","単位","金額[千円]","備考","memo",null,null,null,null,"価格関数代入値","単位"]
[null,"機械工事","水熱源HP",null,{"$f":"IF(O5=0,0,価格関数!$E$23*O5+価格関数!$F$23)","v":{"$error":"#N/A"}},1,"台",{"$f":"F5*E5","v":{"$error":"#N/A"}},null,"価格関数",null,null,null,"ヒートポンプ能力",{"$f":"下水熱_RC!$K$6","v":{"$error":"#N/A"}},"kW"]
[null,null,"貯湯タンク",null,{"$f":"IF(O6=0,0,価格関数!$E$20*O6*1000+価格関数!$F$20)","v":0},1,"台",0,null,"価格関数",null,null,null,"蓄熱槽容量",{"$f":"下水熱_蓄熱槽容量!G15","v":0},"m3"]
[null,null,"下水熱交換器",{"$f":"入力シート!$C$56","v":0},{"$f":"IF(D7=\"管路外\",価格関数!$E$25*O7+価格関数!$F$25,IF(D7=\"管路内\",価格関数!$E$26*O7+価格関数!$F$26,価格関数!$E$27*O7+価格関数!$F$27))","v":{"$error":"#N/A"}},1,"台",{"$error":"#N/A"},null,"価格単価　事例等より設定",null,null,null,"熱交換器容量",{"$f":"下水熱_RC!$K$8","v":{"$error":"#N/A"}},"kW or m"]
[null,null,"自動除塵機",{"$f":"入力シート!$C$56","v":0},{"$f":"IF(OR(D8=\"管路内\",D8=\"処理水（再生水）\"),0,IF(O8=0,0,価格関数!$E$28*O8+価格関数!$F$28))","v":{"$error":"#N/A"}},1,"式",{"$error":"#N/A"},"スクリーン","概算　管路内では無し",null,null,null,"処理流量",{"$f":"下水熱_RC!K18","v":{"$error":"#N/A"}},"L/min"]
[null,null,"冷温水ポンプ",null,{"$f":"IF(O9=0,0,価格関数!$E$21*O9+価格関数!$F$21)","v":{"$error":"#N/A"}},1,"台",{"$f":"F9*E9","v":{"$error":"#N/A"}},null,"価格関数",null,null,null,"ポンプ出力",{"$f":"下水熱_RC!K13","v":{"$error":"#N/A"}},"kW"]
[null,null,"熱源水ポンプ",null,{"$f":"IF(O10=0,0,価格関数!$E$21*O10+価格関数!$F$21)","v":{"$error":"#N/A"}},1,"台",{"$f":"F10*E10","v":{"$error":"#N/A"}},null,"価格関数",null,null,null,"ポンプ出力",{"$f":"下水熱_RC!K17","v":{"$error":"#N/A"}},"kW"]
[null,null,"下水取水ポンプ",{"$f":"入力シート!$C$56","v":0},{"$f":"IF(D11=\"管路内\",0,IF(O11=0,0,価格関数!$E$22*O11+価格関数!$F$22))","v":{"$error":"#N/A"}},2,"台",{"$f":"F11*E11","v":{"$error":"#N/A"}},"予備で2台","価格関数　管路内では無し",null,null,null,"ポンプ出力",{"$f":"下水熱_RC!K21","v":{"$error":"#N/A"}},"kW"]
[]
[]
[null,null,"自動制御",null,null,1,"式",{"$f":"INT(SUM(H5:H13)*I14)","v":{"$error":"#N/A"}},0.2,"概算　事例等より設定"]
[null,null,"その他配管","概算（付属品込）",null,1,"式",{"$f":"INT(SUM(H5:H14)*I15)","v":{"$error":"#N/A"}},0.1,"配管費=機器類×5~10%と設定"]
[]
[null,null,"小計",null,null,null,null,{"$f":"SUM(H5:H16)","v":{"$error":"#N/A"}}]
[null,"電気工事","概算","概算",null,null,null,{"$f":"INT(H17*I18)","v":{"$error":"#N/A"}},0.3]
[null,null,null,null,null,null,null,null,null,null,null,null,null,"■埋設配管価格設定"]
[null,null,"小計",null,null,null,null,{"$f":"SUM(H18:H19)","v":{"$error":"#N/A"}},null,null,null,null,null,"・ユーザ入力情報"]
[null,"土工事","土工事","配管埋設",{"$f":"O31","v":22.76},{"$f":"入力シート!C57","v":0},"m",{"$f":"IF(O5=0,0,E21*F21)","v":{"$error":"#N/A"}},null,"概算　デフォルト値orユーザ入力",null,null,null,"項目","値","単位","備考"]
[null,null,"仮設工事",null,null,null,null,null,null,"本ツールでは対象外",null,null,null,"熱導管単価の入力",{"$f":"入力シート!C58","v":"無し"},"-"]
[null,null,null,null,null,null,null,null,null,null,null,null,null,"掘削単価",{"$f":"入力シート!C59","v":0},"千円/m"]
[null,null,"小計",null,null,null,null,{"$f":"SUM(H21:H23)","v":{"$error":"#N/A"}},null,null,null,null,null,"配管単価",{"$f":"入力シート!C60","v":0},"千円/m"]
[null,"直接工事費",null,null,null,null,null,{"$f":"H24+H20+H17","v":{"$error":"#N/A"}},null,null,null,null,null,"配管埋設",{"$f":"O23+O24","v":0},"千円/m"]
[null,"間接工事費",null,null,null,1,"式",{"$f":"INT(H25*0.3)","v":{"$error":"#N/A"}},"直接工事費×30%",null,null,null,null,"・デフォルト設定"]
[null,"工事原価",null,null,null,1,"式",{"$f":"H25+H26","v":{"$error":"#N/A"}},null,null,null,null,null,"項目","値","単位","備考"]
[null,"消費税",null,null,null,1,"式",null,null,null,null,null,null,"配管埋設",22.76,"千円/m","※想定積算より"]
[null,null,null,null,null,null,null,null,null,null,null,null,null,"・採用単価"]
[null,"合計",null,null,null,null,null,{"$f":"H27+H28","v":{"$error":"#N/A"}},null,null,null,null,null,"項目","値","単位","備考"]
[null,null,null,null,null,null,null,null,null,null,null,null,null,"配管埋設",{"$f":"IF(O22=\"無し\",O28,O25)","v":22.76},"千円/m"]

{"sheet":"空気熱源_給湯・空調_RC","index":27,"n_rows":152,"n_cols":31,"rows_kept":152,"cut":false,"hidden":true,"merged":[]}
[null,"■入力情報",null,null,null,null,null,null,"■空気熱源システムのエネルギー計算"]
[]
[null,"■対象施設情報",null,null,null,null,null,null,"■空気熱源システム検討",null,null,null,null,"■空気熱源システム　エネルギー計算・エネルギーコスト検討"]
[null,"項目","単位","値","備考",null,null,null,"項目","単位","値","備考",null,"項目","単位","4月","5月","6月","7月","8月","9月","10月","11月","12月","1月","2月","3月","合計","最大","最小","備考"]
[null,"地域選択","-",{"$f":"入力シート!C7","v":0},"都道府県を選択してください。",null,null,null,"HP運転時間","h/日",22,null,null,"熱利用用途",null,{"$f":"マッチング!E10","v":""},{"$f":"マッチング!F10","v":""},{"$f":"マッチング!G10","v":""},{"$f":"マッチング!H10","v":""},{"$f":"マッチング!I10","v":""},{"$f":"マッチング!J10","v":""},{"$f":"マッチング!K10","v":""},{"$f":"マッチング!L10","v":""},{"$f":"マッチング!M10","v":""},{"$f":"マッチング!N10","v":""},{"$f":"マッチング!O10","v":""},{"$f":"マッチング!P10","v":""}]
[null,"熱利用用途","-",{"$f":"入力シート!C8","v":0},"給湯、空調、融雪から選択してください。",null,null,null,"HP容量","kW",{"$f":"空気熱源_給湯・空調_熱源容量!N4","v":{"$error":"#N/A"}},"熱源容量シートより",null,"熱需要量","MJ/月",{"$f":"マッチング!E115","v":{"$error":"#N/A"}},{"$f":"マッチング!F115","v":{"$error":"#N/A"}},{"$f":"マッチング!G115","v":{"$error":"#N/A"}},{"$f":"マッチング!H115","v":{"$error":"#N/A"}},{"$f":"マッチング!I115","v":{"$error":"#N/A"}},{"$f":"マッチング!J115","v":{"$error":"#N/A"}},{"$f":"マッチング!K115","v":{"$error":"#N/A"}},{"$f":"マッチング!L115","v":{"$error":"#N/A"}},{"$f":"マッチング!M115","v":{"$error":"#N/A"}},{"$f":"マッチング!N115","v":{"$error":"#N/A"}},{"$f":"マッチング!O115","v":{"$error":"#N/A"}},{"$f":"マッチング!P115","v":{"$error":"#N/A"}},{"$f":"SUM(P6:AA6)","v":{"$error":"#N/A"}},{"$f":"MAX(P6:AA6)","v":{"$error":"#N/A"}},{"$f":"MIN(P6:AA6)","v":{"$error":"#N/A"}}]
[null,"建物用途","-",{"$f":"入力シート!C9","v":0},"給湯、空調利用の場合は建物用途を選択してください。",null,null,null,null,null,null,null,null,null,"kWh/月",{"$f":"P6*1000/3600","v":{"$error":"#N/A"}},{"$error":"#N/A"},{"$error":"#N/A"},{"$error":"#N/A"},{"$error":"#N/A"},{"$error":"#N/A"},{"$error":"#N/A"},{"$error":"#N/A"},{"$error":"#N/A"},{"$error":"#N/A"},{"$error":"#N/A"},{"$error":"#N/A"},{"$f":"SUM(P7:AA7)","v":{"$error":"#N/A"}},{"$f":"MAX(P7:AA7)","v":{"$error":"#N/A"}},{"$f":"MIN(P7:AA7)","v":{"$error":"#N/A"}}]
[null,"延床面積","m2",{"$f":"入力シート!C10","v":0},"給湯、空調利用の場合は数値を入力してください。",null,null,null,"温度差","℃",5,"想定設定値",null,"日数","日",{"$f":"熱需要量算定・原単位!D24","v":30},{"$f":"熱需要量算定・原単位!E24","v":31},{"$f":"熱需要量算定・原単位!F24","v":30},{"$f":"熱需要量算定・原単位!G24","v":31},{"$f":"熱需要量算定・原単位!H24","v":31},{"$f":"熱需要量算定・原単位!I24","v":30},{"$f":"熱需要量算定・原単位!J24","v":31},{"$f":"熱需要量算定・原単位!K24","v":30},{"$f":"熱需要量算定・原単位!L24","v":31},{"$f":"熱需要量算定・原単位!M24","v":31},{"$f":"熱需要量算定・原単位!N24","v":28},{"$f":"熱需要量算定・原単位!O24","v":31},{"$f":"SUM(P8:AA8)","v":365}]
[null,"対象面積","m2",{"$f":"入力シート!C11","v":0},"融雪利用の場合は数値を入力して下さい。",null,null,null,"冷温水流量","L/min",{"$f":"K6/K8/$D$22/$D$23*1000*60","v":{"$error":"#N/A"}},null,null,"運転時間","h/日",{"$f":"HLOOKUP(P5,空気熱源_給湯・空調_熱源容量!$B$36:$D$37,2,FALSE)","v":{"$error":"#N/A"}},{"$f":"HLOOKUP(Q5,空気熱源_給湯・空調_熱源容量!$B$36:$D$37,2,FALSE)","v":{"$error":"#N/A"}},{"$f":"HLOOKUP(R5,空気熱源_給湯・空調_熱源容量!$B$36:$D$37,2,FALSE)","v":{"$error":"#N/A"}},{"$f":"HLOOKUP(S5,空気熱源_給湯・空調_熱源容量!$B$36:$D$37,2,FALSE)","v":{"$error":"#N/A"}},{"$f":"HLOOKUP(T5,空気熱源_給湯・空調_熱源容量!$B$36:$D$37,2,FALSE)","v":{"$error":"#N/A"}},{"$f":"HLOOKUP(U5,空気熱源_給湯・空調_熱源容量!$B$36:$D$37,2,FALSE)","v":{"$error":"#N/A"}},{"$f":"HLOOKUP(V5,空気熱源_給湯・空調_熱源容量!$B$36:$D$37,2,FALSE)","v":{"$error":"#N/A"}},{"$f":"HLOOKUP(W5,空気熱源_給湯・空調_熱源容量!$B$36:$D$37,2,FALSE)","v":{"$error":"#N/A"}},{"$f":"HLOOKUP(X5,空気熱源_給湯・空調_熱源容量!$B$36:$D$37,2,FALSE)","v":{"$error":"#N/A"}},{"$f":"HLOOKUP(Y5,空気熱源_給湯・空調_熱源容量!$B$36:$D$37,2,FALSE)","v":{"$error":"#N/A"}},{"$f":"HLOOKUP(Z5,空気熱源_給湯・空調_熱源容量!$B$36:$D$37,2,FALSE)","v":{"$error":"#N/A"}},{"$f":"HLOOKUP(AA5,空気熱源_給湯・空調_熱源容量!$B$36:$D$37,2,FALSE)","v":{"$error":"#N/A"}}]
[null,"燃料種別の選択","-",{"$f":"入力シート!C16","v":0},null,null,null,null,"冷温水揚程（想定）","m",15,"想定設定値",null,"日あたりの熱需要量","MJ/日",{"$f":"P6/P8","v":{"$error":"#N/A"}},{"$error":"#N/A"},{"$error":"#N/A"},{"$error":"#N/A"},{"$error":"#N/A"},{"$error":"#N/A"},{"$error":"#N/A"},{"$error":"#N/A"},{"$error":"#N/A"},{"$f":"Y6/Y8","v":{"$error":"#N/A"}},{"$error":"#N/A"},{"$error":"#N/A"},{"$f":"SUM(P10:AA10)","v":{"$error":"#N/A"}},{"$f":"MAX(P10:AA10)","v":{"$error":"#N/A"}},{"$f":"MIN(P10:AA10)","v":{"$error":"#N/A"}}]
[null,null,null,null,null,null,null,null,"冷温水ポンプ効率","%",{"$f":"IF(K9<80,ポンプ効率近似式!$D$14,-1.403*LN(K9/1000)^2+6.9719*LN(K9/1000)+53.781)","v":{"$error":"#N/A"}},"ポンプ効率近似式より",null,null,"kWh/日",{"$f":"P10*1000/3600","v":{"$error":"#N/A"}},{"$error":"#N/A"},{"$error":"#N/A"},{"$error":"#N/A"},{"$error":"#N/A"},{"$error":"#N/A"},{"$error":"#N/A"},{"$error":"#N/A"},{"$error":"#N/A"},{"$error":"#N/A"},{"$error":"#N/A"},{"$error":"#N/A"},{"$f":"SUM(P11:AA11)","v":{"$error":"#N/A"}},{"$f":"MAX(P11:AA11)","v":{"$error":"#N/A"}},{"$f":"MIN(P11:AA11)","v":{"$error":"#N/A"}}]
[null,null,null,null,null,null,null,null,"冷温水ポンプ消費電力","kW",{"$f":"$D$23*$D$25*K9/1000/60*K10/10/K11","v":{"$error":"#N/A"}},"ポンプ関数より",null,"気温","℃",{"$f":"気温!F3","v":{"$error":"#N/A"}},{"$f":"気温!G3","v":{"$error":"#N/A"}},{"$f":"気温!H3","v":{"$error":"#N/A"}},{"$f":"気温!I3","v":{"$error":"#N/A"}},{"$f":"気温!J3","v":{"$error":"#N/A"}},{"$f":"気温!K3","v":{"$error":"#N/A"}},{"$f":"気温!L3","v":{"$error":"#N/A"}},{"$f":"気温!M3","v":{"$error":"#N/A"}},{"$f":"気温!N3","v":{"$error":"#N/A"}},{"$f":"気温!C3","v":{"$error":"#N/A"}},{"$f":"気温!D3","v":{"$error":"#N/A"}},{"$f":"気温!E3","v":{"$error":"#N/A"}},null,null,null,"気象庁データより"]
[null,null,null,null,null,null,null,null,null,null,null,null,null,"ヒートポンプCOP","-",{"$f":"IF(P5=\"冷房\",HP性能曲線!$E$4*P12+HP性能曲線!$F$4,IF(P5=\"暖房\",HP性能曲線!$E$5*P12+HP性能曲線!$F$5,HP性能曲線!$E$6*P12+HP性能曲線!$F$6))","v":{"$error":"#N/A"}},{"$f":"IF(Q5=\"冷房\",HP性能曲線!$E$4*Q12+HP性能曲線!$F$4,IF(Q5=\"暖房\",HP性能曲線!$E$5*Q12+HP性能曲線!$F$5,HP性能曲線!$E$6*Q12+HP性能曲線!$F$6))","v":{"$error":"#N/A"}},{"$f":"IF(R5=\"冷房\",HP性能曲線!$E$4*R12+HP性能曲線!$F$4,IF(R5=\"暖房\",HP性能曲線!$E$5*R12+HP性能曲線!$F$5,HP性能曲線!$E$6*R12+HP性能曲線!$F$6))","v":{"$error":"#N/A"}},{"$f":"IF(S5=\"冷房\",HP性能曲線!$E$4*S12+HP性能曲線!$F$4,IF(S5=\"暖房\",HP性能曲線!$E$5*S12+HP性能曲線!$F$5,HP性能曲線!$E$6*S12+HP性能曲線!$F$6))","v":{"$error":"#N/A"}},{"$f":"IF(T5=\"冷房\",HP性能曲線!$E$4*T12+HP性能曲線!$F$4,IF(T5=\"暖房\",HP性能曲線!$E$5*T12+HP性能曲線!$F$5,HP性能曲線!$E$6*T12+HP性能曲線!$F$6))","v":{"$error":"#N/A"}},{"$f":"IF(U5=\"冷房\",HP性能曲線!$E$4*U12+HP性能曲線!$F$4,IF(U5=\"暖房\",HP性能曲線!$E$5*U12+HP性能曲線!$F$5,HP性能曲線!$E$6*U12+HP性能曲線!$F$6))","v":{"$error":"#N/A"}},{"$f":"IF(V5=\"冷房\",HP性能曲線!$E$4*V12+HP性能曲線!$F$4,IF(V5=\"暖房\",HP性能曲線!$E$5*V12+HP性能曲線!$F$5,HP性能曲線!$E$6*V12+HP性能曲線!$F$6))","v":{"$error":"#N/A"}},{"$f":"IF(W5=\"冷房\",HP性能曲線!$E$4*W12+HP性能曲線!$F$4,IF(W5=\"暖房\",HP性能曲線!$E$5*W12+HP性能曲線!$F$5,HP性能曲線!$E$6*W12+HP性能曲線!$F$6))","v":{"$error":"#N/A"}},{"$f":"IF(X5=\"冷房\",HP性能曲線!$E$4*X12+HP性能曲線!$F$4,IF(X5=\"暖房\",HP性能曲線!$E$5*X12+HP性能曲線!$F$5,HP性能曲線!$E$6*X12+HP性能曲線!$F$6))","v":{"$error":"#N/A"}},{"$f":"IF(Y5=\"冷房\",HP性能曲線!$E$4*Y12+HP性能曲線!$F$4,IF(Y5=\"暖房\",HP性能曲線!$E$5*Y12+HP性能曲線!$F$5,HP性能曲線!$E$6*Y12+HP性能曲線!$F$6))","v":{"$error":"#N/A"}},{"$f":"IF(Z5=\"冷房\",HP性能曲線!$E$4*Z12+HP性能曲線!$F$4,IF(Z5=\"暖房\",HP性能曲線!$E$5*Z12+HP性能曲線!$F$5,HP性能曲線!$E$6*Z12+HP性能曲線!$F$6))","v":{"$error":"#N/A"}},{"$f":"IF(AA5=\"冷房\",HP性能曲線!$E$4*AA12+HP性能曲線!$F$4,IF(AA5=\"暖房\",HP性能曲線!$E$5*AA12+HP性能曲線!$F$5,HP性能曲線!$E$6*AA12+HP性能曲線!$F$6))","v":{"$error":"#N/A"}}]
[null,null,null,null,null,null,null,null,null,null,null,null,null,"ヒートポンプ消費電力量","kWh/月",{"$f":"P7/P13","v":{"$error":"#N/A"}},{"$error":"#N/A"},{"$error":"#N/A"},{"$error":"#N/A"},{"$error":"#N/A"},{"$error":"#N/A"},{"$error":"#N/A"},{"$error":"#N/A"},{"$error":"#N/A"},{"$error":"#N/A"},{"$error":"#N/A"},{"$error":"#N/A"},{"$f":"SUM(P14:AA14)","v":{"$error":"#N/A"}},{"$f":"MAX(P14:AA14)","v":{"$error":"#N/A"}},{"$f":"MIN(P14:AA14)","v":{"$error":"#N/A"}}]
[null,null,null,null,null,null,null,null,null,null,null,null,null,"冷温水ポンプ消費電力量","kWh/月",{"$f":"IF(P6=0,0,$K$12*P9*P8)","v":{"$error":"#N/A"}},{"$error":"#N/A"},{"$error":"#N/A"},{"$error":"#N/A"},{"$error":"#N/A"},{"$error":"#N/A"},{"$error":"#N/A"},{"$error":"#N/A"},{"$error":"#N/A"},{"$error":"#N/A"},{"$error":"#N/A"},{"$error":"#N/A"},{"$f":"SUM(P15:AA15)","v":{"$error":"#N/A"}}]
[null,null,null,null,null,null,null,null,null,null,null,null,null,"消費電力合計","kWh/月",{"$f":"P14+P15","v":{"$error":"#N/A"}},{"$error":"#N/A"},{"$error":"#N/A"},{"$error":"#N/A"},{"$error":"#N/A"},{"$error":"#N/A"},{"$error":"#N/A"},{"$error":"#N/A"},{"$error":"#N/A"},{"$error":"#N/A"},{"$error":"#N/A"},{"$error":"#N/A"},{"$f":"SUM(P16:AA16)","v":{"$error":"#N/A"}}]
[]
[]
[]
[null,"■係数"]
[null,"項目","値","単位","備考"]
[null,"水の比熱","kJ/kgK",{"$f":"係数・物性!D4","v":4.1790000000000003},"係数・物性より"]
[null,"水の密度","kg/m3",{"$f":"係数・物性!D5","v":996.62},"係数・物性より"]
[null,"容積比熱","MJ/m3K",{"$f":"係数・物性!D6","v":4.1648749800000004},"係数・物性より"]
[null,"重力加速度","m/s2",{"$f":"係数・物性!D7","v":9.8059999999999992},"係数・物性より",null,null,null,null,null,null,null,null,"熱源機消費電力量","kWh/月",{"$f":"P14","v":{"$error":"#N/A"}},{"$f":"Q14","v":{"$error":"#N/A"}},{"$error":"#N/A"},{"$error":"#N/A"},{"$error":"#N/A"},{"$error":"#N/A"},{"$error":"#N/A"},{"$error":"#N/A"},{"$error":"#N/A"},{"$error":"#N/A"},{"$error":"#N/A"},{"$error":"#N/A"},{"$f":"SUM(P25:AA25)","v":{"$error":"#N/A"}}]
[null,null,null,null,null,null,null,null,null,null,null,null,null,"補機類消費電力量","kWh/月",{"$f":"P15","v":{"$error":"#N/A"}},{"$f":"Q15","v":{"$error":"#N/A"}},{"$error":"#N/A"},{"$error":"#N/A"},{"$error":"#N/A"},{"$error":"#N/A"},{"$error":"#N/A"},{"$error":"#N/A"},{"$error":"#N/A"},{"$error":"#N/A"},{"$error":"#N/A"},{"$error":"#N/A"},{"$f":"SUM(P26:AA26)","v":{"$error":"#N/A"}}]
[]
[]
[null,null,null,null,null,null,null,null,"■エネルギーコスト、CO2排出量、一次エネルギー消費量計算（エネルギー消費量を入力）"]
[null,null,null,null,null,null,null,null,null,null,null,null,null,"□エネルギー消費量"]
[null,null,null,null,null,null,null,null,null,"設定セル",null,null,null,"項目","単位","4月","5月","6月","7月","8月","9月","10月","11月","12月","1月","2月","3月","合計","最大","最小","備考"]
[null,null,null,null,null,null,null,null,null,"変更設定していいセル（計算式が入力されている）",null,null,null,"電気","kWh/月",{"$f":"P16","v":{"$error":"#N/A"}},{"$error":"#N/A"},{"$error":"#N/A"},{"$error":"#N/A"},{"$error":"#N/A"},{"$error":"#N/A"},{"$error":"#N/A"},{"$error":"#N/A"},{"$error":"#N/A"},{"$error":"#N/A"},{"$error":"#N/A"},{"$error":"#N/A"},{"$f":"SUM(P32:AA32)","v":{"$error":"#N/A"}},{"$f":"MAX(P32:AA32)","v":{"$error":"#N/A"}},{"$f":"MIN(P32:AA32)","v":{"$error":"#N/A"}}]
[null,null,null,null,null,null,null,null,null,"あまり変更しなくていい設定セル",null,null,null,"都市ガス（13A）","m3/月",null,null,null,null,null,null,null,null,null,null,null,null,0,0,0]
[null,null,null,null,null,null,null,null,null,"デフォ値・係数",null,null,null,"灯油","L/月",null,null,null,null,null,null,null,null,null,null,null,null,0,0,0]
[null,null,null,null,null,null,null,null,null,"計算式・項目確認セル",null,null,null,"重油","L/月",null,null,null,null,null,null,null,null,null,null,null,null,0,0,0]
[null,null,null,null,null,null,null,null,null,null,null,null,null,"液化石油ガス（LPG）","kg/月",null,null,null,null,null,null,null,null,null,null,null,null,0,0,0]
[null,null,null,null,null,null,null,null,null,null,null,null,null,"他人から供給された熱","MJ/月",null,null,null,null,null,null,null,null,null,null,null,null,0,0,0]
[]
[]
[null,null,null,null,null,null,null,null,"□エネルギーコスト単価(フラットレート)",null,null,null,null,"□エネルギーコスト検討"]
[null,null,null,null,null,null,null,null,"項目","単位","値","備考",null,"項目","単位","4月","5月","6月","7月","8月","9月","10月","11月","12月","1月","2月","3月","合計","最大","最小","備考"]
[null,null,null,null,null,null,null,null,"電気","円/kWh",{"$f":"E単価!H5","v":14},null,null,"電気","千円/月",{"$f":"P32*$K42/1000","v":{"$error":"#N/A"}},{"$error":"#N/A"},{"$error":"#N/A"},{"$error":"#N/A"},{"$error":"#N/A"},{"$error":"#N/A"},{"$error":"#N/A"},{"$error":"#N/A"},{"$error":"#N/A"},{"$error":"#N/A"},{"$error":"#N/A"},{"$error":"#N/A"},{"$f":"SUM(P42:AA42)","v":{"$error":"#N/A"}},{"$f":"MAX(P42:AA42)","v":{"$error":"#N/A"}},{"$f":"MIN(P42:AA42)","v":{"$error":"#N/A"}}]
[null,null,null,null,null,null,null,null,"都市ガス（13A）","円/m3",{"$f":"E単価!H6","v":114.64285714285714},null,null,"都市ガス（13A）","千円/月",0,0,0,0,0,0,0,0,0,0,0,0,0,0,0]
[null,null,null,null,null,null,null,null,"灯油","円/L",{"$f":"E単価!H7","v":107.88888888888889},null,null,"灯油","千円/月",0,0,0,0,0,0,0,0,0,0,0,0,0,0,0]
[null,null,null,null,null,null,null,null,"重油","円/L",{"$f":"E単価!H8","v":76.099999999999994},null,null,"重油","千円/月",0,0,0,0,0,0,0,0,0,0,0,0,0,0,0]
[null,null,null,null,null,null,null,null,"液化石油ガス（LPG）","円/kg",{"$f":"E単価!H9","v":159.40476190476193},null,null,"液化石油ガス（LPG）","千円/月",0,0,0,0,0,0,0,0,0,0,0,0,0,0,0]
[null,null,null,null,null,null,null,null,"他人から供給された熱","円/GJ",{"$f":"E単価!H10","v":6611.9047619047615},null,null,"他人から供給された熱","千円/月",0,0,0,0,0,0,0,0,0,0,0,0,0,0,0]
[null,null,null,null,null,null,null,null,null,null,null,null,null,"エネルギーコスト合計","千円/月",{"$f":"SUM(P42:P47)","v":{"$error":"#N/A"}},{"$f":"SUM(Q42:Q47)","v":{"$error":"#N/A"}},{"$error":"#N/A"},{"$error":"#N/A"},{"$error":"#N/A"},{"$error":"#N/A"},{"$error":"#N/A"},{"$error":"#N/A"},{"$error":"#N/A"},{"$error":"#N/A"},{"$error":"#N/A"},{"$error":"#N/A"},{"$f":"SUM(AB42:AB47)","v":{"$error":"#N/A"}},{"$f":"SUM(AC42:AC47)","v":{"$error":"#N/A"}},{"$f":"SUM(AD42:AD47)","v":{"$error":"#N/A"}}]
[]
[null,null,null,null,null,null,null,null,"□CO2換算係数",null,null,null,null,"□CO2排出量"]
[null,null,null,null,null,null,null,null,"項目","単位","値","備考",null,"項目","単位","4月","5月","6月","7月","8月","9月","10月","11月","12月","1月","2月","3月","合計","最大","最小","備考"]
[null,null,null,null,null,null,null,null,"電気","tCO2/kWh",{"$f":"CO2換算係数!B3","v":4.8799999999999999E-4},null,null,"電気","t-CO2/月",{"$f":"P32*$K52","v":{"$error":"#N/A"}},{"$f":"Q32*$K52","v":{"$error":"#N/A"}},{"$error":"#N/A"},{"$error":"#N/A"},{"$error":"#N/A"},{"$error":"#N/A"},{"$error":"#N/A"},{"$error":"#N/A"},{"$error":"#N/A"},{"$error":"#N/A"},{"$error":"#N/A"},{"$f":"AA32*$K52","v":{"$error":"#N/A"}},{"$f":"SUM(P52:AA52)","v":{"$error":"#N/A"}},{"$f":"MAX(P52:AA52)","v":{"$error":"#N/A"}},{"$f":"MIN(P52:AA52)","v":{"$error":"#N/A"}}]
[null,null,null,null,null,null,null,null,"都市ガス（13A）","tCO2/km3",{"$f":"CO2換算係数!B4","v":2.23},null,null,"都市ガス（13A）","t-CO2/月",{"$f":"P33/1000*$K53","v":0},{"$f":"Q33/1000*$K53","v":0},0,0,0,0,0,0,0,0,0,0,0,0,0]
[null,null,null,null,null,null,null,null,"灯油","tCO2/kL",{"$f":"CO2換算係数!B5","v":2.4900000000000002},null,null,"灯油","t-CO2/月",{"$f":"P34/1000*$K54","v":0},0,0,0,0,0,0,0,0,0,0,0,0,0,0]
[null,null,null,null,null,null,null,null,"重油","tCO2/kL",{"$f":"CO2換算係数!B6","v":2.71},null,null,"重油","t-CO2/月",0,0,0,0,0,0,0,0,0,0,0,0,0,0,0]
[null,null,null,null,null,null,null,null,"液化石油ガス（LPG）","tCO2/t",{"$f":"CO2換算係数!B7","v":3},null,null,"液化石油ガス（LPG）","t-CO2/月",0,0,0,0,0,0,0,0,0,0,0,0,0,0,0]
[null,null,null,null,null,null,null,null,"他人から供給された熱","tCO2/GJ",{"$f":"CO2換算係数!B8","v":5.7000000000000002E-2},null,null,"他人から供給された熱","t-CO2/月",0,0,0,0,0,0,0,0,0,0,0,0,0,0,0]
[null,null,null,null,null,null,null,null,null,null,null,null,null,"CO2排出量合計","t-CO2/月",{"$f":"SUM(P52:P57)","v":{"$error":"#N/A"}},{"$f":"SUM(Q52:Q57)","v":{"$error":"#N/A"}},{"$error":"#N/A"},{"$error":"#N/A"},{"$error":"#N/A"},{"$error":"#N/A"},{"$error":"#N/A"},{"$error":"#N/A"},{"$error":"#N/A"},{"$error":"#N/A"},{"$error":"#N/A"},{"$error":"#N/A"},{"$f":"SUM(AB52:AB57)","v":{"$error":"#N/A"}},{"$error":"#N/A"},{"$error":"#N/A"}]
[]
[null,null,null,null,null,null,null,null,"□一次エネルギー換算係数",null,null,null,null,"□一次エネルギー消費量"]
[null,null,null,null,null,null,null,null,"項目","単位","値","備考",null,"項目","単位","4月","5月","6月","7月","8月","9月","10月","11月","12月","1月","2月","3月","合計","最大","最小","備考"]
[null,null,null,null,null,null,null,null,"電気","MJ/kWh",{"$f":"一次E換算!B3","v":9.76},null,null,"電気","MJ/月",{"$f":"P32*$K62","v":{"$error":"#N/A"}},{"$error":"#N/A"},{"$error":"#N/A"},{"$error":"#N/A"},{"$error":"#N/A"},{"$error":"#N/A"},{"$error":"#N/A"},{"$error":"#N/A"},{"$error":"#N/A"},{"$error":"#N/A"},{"$error":"#N/A"},{"$error":"#N/A"},{"$f":"SUM(P62:AA62)","v":{"$error":"#N/A"}},{"$f":"MAX(P62:AA62)","v":{"$error":"#N/A"}},{"$f":"MIN(P62:AA62)","v":{"$error":"#N/A"}}]
[null,null,null,null,null,null,null,null,"都市ガス（13A）","MJ/m3",{"$f":"一次E換算!B4","v":45},null,null,"都市ガス（13A）","MJ/月",0,0,0,0,0,0,0,0,0,0,0,0,0,0,0]
[null,null,null,null,null,null,null,null,"灯油","MJ/L",{"$f":"一次E換算!B5","v":37},null,null,"灯油","MJ/月",0,0,0,0,0,0,0,0,0,0,0,0,0,0,0]
[null,null,null,null,null,null,null,null,"重油","MJ/L",{"$f":"一次E換算!B6","v":41},null,null,"重油","MJ/月",0,0,0,0,0,0,0,0,0,0,0,0,0,0,0]
[null,null,null,null,null,null,null,null,"液化石油ガス（LPG）","MJ/kg",{"$f":"一次E換算!B7","v":50},null,null,"液化石油ガス（LPG）","MJ/月",0,0,0,0,0,0,0,0,0,0,0,0,0,0,0]
[null,null,null,null,null,null,null,null,"他人から供給された熱","MJ/MJ",{"$f":"一次E換算!B8","v":1.36},null,null,"他人から供給された熱","MJ/月",0,0,0,0,0,0,0,0,0,0,0,0,0,0,0]
[null,null,null,null,null,null,null,null,null,null,null,null,null,"一次エネルギー消費量合計","MJ/月",{"$f":"SUM(P62:P67)","v":{"$error":"#N/A"}},{"$error":"#N/A"},{"$error":"#N/A"},{"$error":"#N/A"},{"$error":"#N/A"},{"$error":"#N/A"},{"$error":"#N/A"},{"$error":"#N/A"},{"$error":"#N/A"},{"$error":"#N/A"},{"$error":"#N/A"},{"$error":"#N/A"},{"$error":"#N/A"},{"$error":"#N/A"},{"$error":"#N/A"}]
[]
[]
[null,null,null,null,null,null,null,null,"■熱源機エネルギーコスト、CO2排出量、一次エネルギー消費量計算（エネルギー消費量を入力）"]
[null,null,null,null,null,null,null,null,null,null,null,null,null,"□エネルギー消費量"]
[null,null,null,null,null,null,null,null,null,"設定セル",null,null,null,"項目","単位","4月","5月","6月","7月","8月","9月","10月","11月","12月","1月","2月","3月","合計","最大","最小","備考"]
[null,null,null,null,null,null,null,null,null,"変更設定していいセル（計算式が入力されている）",null,null,null,"電気","kWh/月",{"$f":"P25","v":{"$error":"#N/A"}},{"$error":"#N/A"},{"$error":"#N/A"},{"$error":"#N/A"},{"$error":"#N/A"},{"$error":"#N/A"},{"$error":"#N/A"},{"$error":"#N/A"},{"$error":"#N/A"},{"$error":"#N/A"},{"$error":"#N/A"},{"$error":"#N/A"},{"$f":"SUM(P74:AA74)","v":{"$error":"#N/A"}},{"$f":"MAX(P74:AA74)","v":{"$error":"#N/A"}},{"$f":"MIN(P74:AA74)","v":{"$error":"#N/A"}}]
[null,null,null,null,null,null,null,null,null,"あまり変更しなくていい設定セル",null,null,null,"都市ガス（13A）","m3/月",null,null,null,null,null,null,null,null,null,null,null,null,0,0,0]
[null,null,null,null,null,null,null,null,null,"デフォ値・係数",null,null,null,"灯油","L/月",null,null,null,null,null,null,null,null,null,null,null,null,0,0,0]
[null,null,null,null,null,null,null,null,null,"計算式・項目確認セル",null,null,null,"重油","L/月",null,null,null,null,null,null,null,null,null,null,null,null,0,0,0]
[null,null,null,null,null,null,null,null,null,null,null,null,null,"液化石油ガス（LPG）","kg/月",null,null,null,null,null,null,null,null,null,null,null,null,0,0,0]
[null,null,null,null,null,null,null,null,null,null,null,null,null,"他人から供給された熱","MJ/月",null,null,null,null,null,null,null,null,null,null,null,null,0,0,0]
[]
[]
[null,null,null,null,null,null,null,null,"□エネルギーコスト単価(フラットレート)",null,null,null,null,"□エネルギーコスト検討"]
[null,null,null,null,null,null,null,null,"項目","単位","値","備考",null,"項目","単位","4月","5月","6月","7月","8月","9月","10月","11月","12月","1月","2月","3月","合計","最大","最小","備考"]
[null,null,null,null,null,null,null,null,"電気","円/kWh",{"$f":"K42","v":14},null,null,"電気","千円/月",{"$f":"P74*$K84/1000","v":{"$error":"#N/A"}},{"$error":"#N/A"},{"$error":"#N/A"},{"$error":"#N/A"},{"$error":"#N/A"},{"$error":"#N/A"},{"$error":"#N/A"},{"$error":"#N/A"},{"$error":"#N/A"},{"$error":"#N/A"},{"$error":"#N/A"},{"$error":"#N/A"},{"$f":"SUM(P84:AA84)","v":{"$error":"#N/A"}},{"$f":"MAX(P84:AA84)","v":{"$error":"#N/A"}},{"$f":"MIN(P84:AA84)","v":{"$error":"#N/A"}}]
[null,null,null,null,null,null,null,null,"都市ガス（13A）","円/m3",{"$f":"K43","v":114.64285714285714},null,null,"都市ガス（13A）","千円/月",{"$f":"P75*$K85/1000","v":0},0,0,0,0,0,0,0,0,0,0,0,0,0,0]
[null,null,null,null,null,null,null,null,"灯油","円/L",107.88888888888889,null,null,"灯油","千円/月",{"$f":"P76*$K86/1000","v":0},0,0,0,0,0,0,0,0,0,0,0,0,0,0]
[null,null,null,null,null,null,null,null,"重油","円/L",76.099999999999994,null,null,"重油","千円/月",{"$f":"P77*$K87/1000","v":0},0,0,0,0,0,0,0,0,0,0,0,0,0,0]
[null,null,null,null,null,null,null,null,"液化石油ガス（LPG）","円/kg",159.40476190476193,null,null,"液化石油ガス（LPG）","千円/月",{"$f":"P78*$K88/1000","v":0},0,0,0,0,0,0,0,0,0,0,0,0,0,0]
[null,null,null,null,null,null,null,null,"他人から供給された熱","円/GJ",6611.9047619047615,null,null,"他人から供給された熱","千円/月",{"$f":"P79*$K89/1000","v":0},0,0,0,0,0,0,0,0,0,0,0,0,0,0]
[null,null,null,null,null,null,null,null,null,null,null,null,null,"エネルギーコスト合計","千円/月",{"$f":"SUM(P84:P89)","v":{"$error":"#N/A"}},{"$f":"SUM(Q84:Q89)","v":{"$error":"#N/A"}},{"$error":"#N/A"},{"$f":"SUM(S84:S89)","v":{"$error":"#N/A"}},{"$error":"#N/A"},{"$error":"#N/A"},{"$error":"#N/A"},{"$error":"#N/A"},{"$error":"#N/A"},{"$error":"#N/A"},{"$error":"#N/A"},{"$error":"#N/A"},{"$f":"SUM(AB84:AB89)","v":{"$error":"#N/A"}},{"$f":"SUM(AC84:AC89)","v":{"$error":"#N/A"}},{"$f":"SUM(AD84:AD89)","v":{"$error":"#N/A"}}]
[]
[null,null,null,null,null,null,null,null,"□CO2換算係数",null,null,null,null,"□CO2排出量"]
[null,null,null,null,null,null,null,null,"項目","単位","値","備考",null,"項目","単位","4月","5月","6月","7月","8月","9月","10月","11月","12月","1月","2月","3月","合計","最大","最小","備考"]
[null,null,null,null,null,null,null,null,"電気","tCO2/kWh",{"$f":"K52","v":4.8799999999999999E-4},null,null,"電気","t-CO2/月",{"$f":"P74*$K94","v":{"$error":"#N/A"}},{"$error":"#N/A"},{"$error":"#N/A"},{"$error":"#N/A"},{"$error":"#N/A"},{"$error":"#N/A"},{"$error":"#N/A"},{"$error":"#N/A"},{"$error":"#N/A"},{"$error":"#N/A"},{"$error":"#N/A"},{"$error":"#N/A"},{"$f":"SUM(P94:AA94)","v":{"$error":"#N/A"}},{"$f":"MAX(P94:AA94)","v":{"$error":"#N/A"}},{"$f":"MIN(P94:AA94)","v":{"$error":"#N/A"}}]
[null,null,null,null,null,null,null,null,"都市ガス（13A）","tCO2/km3",{"$f":"K53","v":2.23},null,null,"都市ガス（13A）","t-CO2/月",{"$f":"P75/1000*$K95","v":0},0,0,0,0,0,0,0,0,0,0,0,0,0,0]
[null,null,null,null,null,null,null,null,"灯油","tCO2/kL",2.4900000000000002,null,null,"灯油","t-CO2/月",{"$f":"P76/1000*$K96","v":0},0,0,0,0,0,0,0,0,0,0,0,0,0,0]
[null,null,null,null,null,null,null,null,"重油","tCO2/kL",2.71,null,null,"重油","t-CO2/月",{"$f":"P77/1000*$K97","v":0},0,0,0,0,0,0,0,0,0,0,0,0,0,0]
[null,null,null,null,null,null,null,null,"液化石油ガス（LPG）","tCO2/t",3,null,null,"液化石油ガス（LPG）","t-CO2/月",{"$f":"P78/1000*$K98","v":0},0,0,0,0,0,0,0,0,0,0,0,0,0,0]
[null,null,null,null,null,null,null,null,"他人から供給された熱","tCO2/GJ",5.7000000000000002E-2,null,null,"他人から供給された熱","t-CO2/月",{"$f":"P79/1000*$K99","v":0},0,0,0,0,0,0,0,0,0,0,0,0,0,0]
[null,null,null,null,null,null,null,null,null,null,null,null,null,"CO2排出量合計","t-CO2/月",{"$f":"SUM(P94:P99)","v":{"$error":"#N/A"}},{"$f":"SUM(Q94:Q99)","v":{"$error":"#N/A"}},{"$error":"#N/A"},{"$error":"#N/A"},{"$error":"#N/A"},{"$error":"#N/A"},{"$error":"#N/A"},{"$error":"#N/A"},{"$error":"#N/A"},{"$error":"#N/A"},{"$error":"#N/A"},{"$f":"SUM(AA94:AA99)","v":{"$error":"#N/A"}},{"$f":"SUM(AB94:AB99)","v":{"$error":"#N/A"}},{"$f":"SUM(AC94:AC99)","v":{"$error":"#N/A"}},{"$error":"#N/A"}]
[]
[null,null,null,null,null,null,null,null,"□一次エネルギー換算係数",null,null,null,null,"□一次エネルギー消費量"]
[null,null,null,null,null,null,null,null,"項目","単位","値","備考",null,"項目","単位","4月","5月","6月","7月","8月","9月","10月","11月","12月","1月","2月","3月","合計","最大","最小","備考"]
[null,null,null,null,null,null,null,null,"電気","MJ/kWh",{"$f":"K62","v":9.76},null,null,"電気","MJ/月",{"$f":"P74*$K104","v":{"$error":"#N/A"}},{"$error":"#N/A"},{"$error":"#N/A"},{"$error":"#N/A"},{"$error":"#N/A"},{"$error":"#N/A"},{"$error":"#N/A"},{"$error":"#N/A"},{"$error":"#N/A"},{"$error":"#N/A"},{"$error":"#N/A"},{"$error":"#N/A"},{"$f":"SUM(P104:AA104)","v":{"$error":"#N/A"}},{"$f":"MAX(P104:AA104)","v":{"$error":"#N/A"}},{"$f":"MIN(P104:AA104)","v":{"$error":"#N/A"}}]
[null,null,null,null,null,null,null,null,"都市ガス（13A）","MJ/m3",{"$f":"K63","v":45},null,null,"都市ガス（13A）","MJ/月",{"$f":"P75*$K105","v":0},0,0,0,0,0,0,0,0,0,0,0,0,0,0]
[null,null,null,null,null,null,null,null,"灯油","MJ/L",37,null,null,"灯油","MJ/月",{"$f":"P76*$K106","v":0},0,0,0,0,0,0,0,0,0,0,0,0,0,0]
[null,null,null,null,null,null,null,null,"重油","MJ/L",41,null,null,"重油","MJ/月",{"$f":"P77*$K107","v":0},0,0,0,0,0,0,0,0,0,0,0,0,0,0]
[null,null,null,null,null,null,null,null,"液化石油ガス（LPG）","MJ/kg",50,null,null,"液化石油ガス（LPG）","MJ/月",{"$f":"P78*$K108","v":0},0,0,0,0,0,0,0,0,0,0,0,0,0,0]
[null,null,null,null,null,null,null,null,"他人から供給された熱","MJ/MJ",1.36,null,null,"他人から供給された熱","MJ/月",{"$f":"P79*$K109","v":0},0,0,0,0,0,0,0,0,0,0,0,0,0,0]
[null,null,null,null,null,null,null,null,null,null,null,null,null,"一次エネルギー消費量合計","MJ/月",{"$f":"SUM(P104:P109)","v":{"$error":"#N/A"}},{"$error":"#N/A"},{"$error":"#N/A"},{"$error":"#N/A"},{"$error":"#N/A"},{"$error":"#N/A"},{"$error":"#N/A"},{"$error":"#N/A"},{"$error":"#N/A"},{"$error":"#N/A"},{"$error":"#N/A"},{"$f":"SUM(AA104:AA109)","v":{"$error":"#N/A"}},{"$error":"#N/A"},{"$error":"#N/A"},{"$error":"#N/A"}]
[]
[]
[null,null,null,null,null,null,null,null,"■補機類エネルギーコスト、CO2排出量、一次エネルギー消費量計算（エネルギー消費量を入力）"]
[null,null,null,null,null,null,null,null,null,null,null,null,null,"□エネルギー消費量"]
[null,null,null,null,null,null,null,null,null,"設定セル",null,null,null,"項目","単位","4月","5月","6月","7月","8月","9月","10月","11月","12月","1月","2月","3月","合計","最大","最小","備考"]
[null,null,null,null,null,null,null,null,null,"変更設定していいセル（計算式が入力されている）",null,null,null,"電気","kWh/月",{"$f":"P26","v":{"$error":"#N/A"}},{"$error":"#N/A"},{"$error":"#N/A"},{"$error":"#N/A"},{"$error":"#N/A"},{"$error":"#N/A"},{"$error":"#N/A"},{"$error":"#N/A"},{"$error":"#N/A"},{"$error":"#N/A"},{"$error":"#N/A"},{"$error":"#N/A"},{"$f":"SUM(P116:AA116)","v":{"$error":"#N/A"}},{"$f":"MAX(P116:AA116)","v":{"$error":"#N/A"}},{"$f":"MIN(P116:AA116)","v":{"$error":"#N/A"}}]
[null,null,null,null,null,null,null,null,null,"あまり変更しなくていい設定セル",null,null,null,"都市ガス（13A）","m3/月",null,null,null,null,null,null,null,null,null,null,null,null,0,0,0]
[null,null,null,null,null,null,null,null,null,"デフォ値・係数",null,null,null,"灯油","L/月",null,null,null,null,null,null,null,null,null,null,null,null,0,0,0]
[null,null,null,null,null,null,null,null,null,"計算式・項目確認セル",null,null,null,"重油","L/月",null,null,null,null,null,null,null,null,null,null,null,null,0,0,0]
[null,null,null,null,null,null,null,null,null,null,null,null,null,"液化石油ガス（LPG）","kg/月",null,null,null,null,null,null,null,null,null,null,null,null,0,0,0]
[null,null,null,null,null,null,null,null,null,null,null,null,null,"他人から供給された熱","MJ/月",null,null,null,null,null,null,null,null,null,null,null,null,0,0,0]
[]
[]
[null,null,null,null,null,null,null,null,"□エネルギーコスト単価(フラットレート)",null,null,null,null,"□エネルギーコスト検討"]
[null,null,null,null,null,null,null,null,"項目","単位","値","備考",null,"項目","単位","4月","5月","6月","7月","8月","9月","10月","11月","12月","1月","2月","3月","合計","最大","最小","備考"]
[null,null,null,null,null,null,null,null,"電気","円/kWh",{"$f":"K84","v":14},null,null,"電気","千円/月",{"$f":"P116*$K126/1000","v":{"$error":"#N/A"}},{"$error":"#N/A"},{"$error":"#N/A"},{"$error":"#N/A"},{"$error":"#N/A"},{"$error":"#N/A"},{"$error":"#N/A"},{"$error":"#N/A"},{"$error":"#N/A"},{"$error":"#N/A"},{"$error":"#N/A"},{"$error":"#N/A"},{"$f":"SUM(P126:AA126)","v":{"$error":"#N/A"}},{"$f":"MAX(P126:AA126)","v":{"$error":"#N/A"}},{"$f":"MIN(P126:AA126)","v":{"$error":"#N/A"}}]
[null,null,null,null,null,null,null,null,"都市ガス（13A）","円/m3",{"$f":"K85","v":114.64285714285714},null,null,"都市ガス（13A）","千円/月",{"$f":"P117*$K127/1000","v":0},0,0,0,0,0,0,0,0,0,0,0,0,0,0]
[null,null,null,null,null,null,null,null,"灯油","円/L",107.88888888888889,null,null,"灯油","千円/月",{"$f":"P118*$K128/1000","v":0},0,0,0,0,0,0,0,0,0,0,0,0,0,0]
[null,null,null,null,null,null,null,null,"重油","円/L",76.099999999999994,null,null,"重油","千円/月",{"$f":"P119*$K129/1000","v":0},0,0,0,0,0,0,0,0,0,0,0,0,0,0]
[null,null,null,null,null,null,null,null,"液化石油ガス（LPG）","円/kg",159.40476190476193,null,null,"液化石油ガス（LPG）","千円/月",{"$f":"P120*$K130/1000","v":0},0,0,0,0,0,0,0,0,0,0,0,0,0,0]
[null,null,null,null,null,null,null,null,"他人から供給された熱","円/GJ",6611.9047619047615,null,null,"他人から供給された熱","千円/月",{"$f":"P121*$K131/1000","v":0},0,0,0,0,0,0,0,0,0,0,0,0,0,0]
[null,null,null,null,null,null,null,null,null,null,null,null,null,"エネルギーコスト合計","千円/月",{"$f":"SUM(P126:P131)","v":{"$error":"#N/A"}},{"$f":"SUM(Q126:Q131)","v":{"$error":"#N/A"}},{"$error":"#N/A"},{"$error":"#N/A"},{"$error":"#N/A"},{"$error":"#N/A"},{"$error":"#N/A"},{"$error":"#N/A"},{"$error":"#N/A"},{"$error":"#N/A"},{"$error":"#N/A"},{"$f":"SUM(AA126:AA131)","v":{"$error":"#N/A"}},{"$f":"SUM(AB126:AB131)","v":{"$error":"#N/A"}},{"$f":"SUM(AC126:AC131)","v":{"$error":"#N/A"}},{"$f":"SUM(AD126:AD131)","v":{"$error":"#N/A"}}]
[]
[null,null,null,null,null,null,null,null,"□CO2換算係数",null,null,null,null,"□CO2排出量"]
[null,null,null,null,null,null,null,null,"項目","単位","値","備考",null,"項目","単位","4月","5月","6月","7月","8月","9月","10月","11月","12月","1月","2月","3月","合計","最大","最小","備考"]
[null,null,null,null,null,null,null,null,"電気","tCO2/kWh",{"$f":"K94","v":4.8799999999999999E-4},null,null,"電気","t-CO2/月",{"$f":"P116*$K136","v":{"$error":"#N/A"}},{"$error":"#N/A"},{"$error":"#N/A"},{"$error":"#N/A"},{"$error":"#N/A"},{"$error":"#N/A"},{"$error":"#N/A"},{"$error":"#N/A"},{"$error":"#N/A"},{"$error":"#N/A"},{"$error":"#N/A"},{"$error":"#N/A"},{"$f":"SUM(P136:AA136)","v":{"$error":"#N/A"}},{"$f":"MAX(P136:AA136)","v":{"$error":"#N/A"}},{"$f":"MIN(P136:AA136)","v":{"$error":"#N/A"}}]
[null,null,null,null,null,null,null,null,"都市ガス（13A）","tCO2/km3",{"$f":"K95","v":2.23},null,null,"都市ガス（13A）","t-CO2/月",{"$f":"P117/1000*$K137","v":0},0,0,0,0,0,0,0,0,0,0,0,0,0,0]
[null,null,null,null,null,null,null,null,"灯油","tCO2/kL",2.4900000000000002,null,null,"灯油","t-CO2/月",{"$f":"P118/1000*$K138","v":0},0,0,0,0,0,0,0,0,0,0,0,0,0,0]
[null,null,null,null,null,null,null,null,"重油","tCO2/kL",2.71,null,null,"重油","t-CO2/月",{"$f":"P119/1000*$K139","v":0},0,0,0,0,0,0,0,0,0,0,0,0,0,0]
[null,null,null,null,null,null,null,null,"液化石油ガス（LPG）","tCO2/t",3,null,null,"液化石油ガス（LPG）","t-CO2/月",{"$f":"P120/1000*$K140","v":0},0,0,0,0,0,0,0,0,0,0,0,0,0,0]
[null,null,null,null,null,null,null,null,"他人から供給された熱","tCO2/GJ",5.7000000000000002E-2,null,null,"他人から供給された熱","t-CO2/月",{"$f":"P121/1000*$K141","v":0},0,0,0,0,0,0,0,0,0,0,0,0,0,0]
[null,null,null,null,null,null,null,null,null,null,null,null,null,"CO2排出量合計","t-CO2/月",{"$f":"SUM(P136:P141)","v":{"$error":"#N/A"}},{"$f":"SUM(Q136:Q141)","v":{"$error":"#N/A"}},{"$error":"#N/A"},{"$error":"#N/A"},{"$error":"#N/A"},{"$error":"#N/A"},{"$error":"#N/A"},{"$error":"#N/A"},{"$error":"#N/A"},{"$error":"#N/A"},{"$error":"#N/A"},{"$f":"SUM(AA136:AA141)","v":{"$error":"#N/A"}},{"$f":"SUM(AB136:AB141)","v":{"$error":"#N/A"}},{"$f":"SUM(AC136:AC141)","v":{"$error":"#N/A"}},{"$error":"#N/A"}]
[]
[null,null,null,null,null,null,null,null,"□一次エネルギー換算係数",null,null,null,null,"□一次エネルギー消費量"]
[null,null,null,null,null,null,null,null,"項目","単位","値","備考",null,"項目","単位","4月","5月","6月","7月","8月","9月","10月","11月","12月","1月","2月","3月","合計","最大","最小","備考"]
[null,null,null,null,null,null,null,null,"電気","MJ/kWh",{"$f":"K104","v":9.76},null,null,"電気","MJ/月",{"$f":"P116*$K146","v":{"$error":"#N/A"}},{"$error":"#N/A"},{"$error":"#N/A"},{"$error":"#N/A"},{"$error":"#N/A"},{"$error":"#N/A"},{"$error":"#N/A"},{"$error":"#N/A"},{"$error":"#N/A"},{"$error":"#N/A"},{"$error":"#N/A"},{"$error":"#N/A"},{"$f":"SUM(P146:AA146)","v":{"$error":"#N/A"}},{"$f":"MAX(P146:AA146)","v":{"$error":"#N/A"}},{"$f":"MIN(P146:AA146)","v":{"$error":"#N/A"}}]
[null,null,null,null,null,null,null,null,"都市ガス（13A）","MJ/m3",{"$f":"K105","v":45},null,null,"都市ガス（13A）","MJ/月",{"$f":"P117*$K147","v":0},0,0,0,0,0,0,0,0,0,0,0,0,0,0]
[null,null,null,null,null,null,null,null,"灯油","MJ/L",37,null,null,"灯油","MJ/月",{"$f":"P118*$K148","v":0},0,0,0,0,0,0,0,0,0,0,0,0,0,0]
[null,null,null,null,null,null,null,null,"重油","MJ/L",41,null,null,"重油","MJ/月",{"$f":"P119*$K149","v":0},0,0,0,0,0,0,0,0,0,0,0,0,0,0]
[null,null,null,null,null,null,null,null,"液化石油ガス（LPG）","MJ/kg",50,null,null,"液化石油ガス（LPG）","MJ/月",{"$f":"P120*$K150","v":0},0,0,0,0,0,0,0,0,0,0,0,0,0,0]
[null,null,null,null,null,null,null,null,"他人から供給された熱","MJ/MJ",1.36,null,null,"他人から供給された熱","MJ/月",{"$f":"P121*$K151","v":0},0,0,0,0,0,0,0,0,0,0,0,0,0,0]
[null,null,null,null,null,null,null,null,null,null,null,null,null,"一次エネルギー消費量合計","MJ/月",{"$f":"SUM(P146:P151)","v":{"$error":"#N/A"}},{"$error":"#N/A"},{"$error":"#N/A"},{"$error":"#N/A"},{"$error":"#N/A"},{"$error":"#N/A"},{"$error":"#N/A"},{"$error":"#N/A"},{"$error":"#N/A"},{"$error":"#N/A"},{"$error":"#N/A"},{"$f":"SUM(AA146:AA151)","v":{"$error":"#N/A"}},{"$error":"#N/A"},{"$error":"#N/A"},{"$error":"#N/A"}]

{"sheet":"空気熱源_給湯・空調_熱源容量","index":28,"n_rows":37,"n_cols":16,"rows_kept":37,"cut":false,"hidden":true,"merged":[]}
["■時刻別負荷"]
["■時刻負荷パタン設定",null,null,null,null,null,null,null,"■時刻別負荷",null,null,null,"■最大負荷　既存設備　熱源容量設定"]
["項目","値","単位","備考",null,null,null,null,null,"時刻別負荷比率","負荷",null,"項目","値","単位","備考"]
["建物用途",{"$f":"入力シート!C9","v":0},"-",null,null,null,null,null,"時刻","-","kW",null,"最大負荷",{"$f":"MAX(K5:K28)","v":{"$error":"#N/A"}},"kW","既存設備での熱源容量"]
["熱利用用途",{"$f":"HLOOKUP(B7,A13:D14,2,FALSE)","v":{"$error":"#N/A"}},"-",null,null,null,null,null,1,{"$f":"VLOOKUP(I5,熱需要量算定・原単位!$AJ$9:$BL$32,MATCH($B$6,熱需要量算定・原単位!$AK$5:$BL$5,0)+1,FALSE)","v":{"$error":"#N/A"}},{"$f":"$B$7*J5/100","v":{"$error":"#N/A"}}]
["検索key",{"$f":"VLOOKUP(B4&B5,E17:F32,2,FALSE)","v":{"$error":"#N/A"}},"-",null,null,null,null,null,2,{"$f":"VLOOKUP(I6,熱需要量算定・原単位!$AJ$9:$BL$32,MATCH($B$6,熱需要量算定・原単位!$AK$5:$BL$5,0)+1,FALSE)","v":{"$error":"#N/A"}},{"$f":"$B$7*J6/100","v":{"$error":"#N/A"}}]
["一日の熱需要量",{"$f":"MAX(空気熱源_給湯・空調_熱源容量!B13:D13)","v":{"$error":"#N/A"}},"kWh/日",null,null,null,null,null,3,{"$f":"VLOOKUP(I7,熱需要量算定・原単位!$AJ$9:$BL$32,MATCH($B$6,熱需要量算定・原単位!$AK$5:$BL$5,0)+1,FALSE)","v":{"$error":"#N/A"}},{"$error":"#N/A"}]
[null,null,null,null,null,null,null,null,4,{"$f":"VLOOKUP(I8,熱需要量算定・原単位!$AJ$9:$BL$32,MATCH($B$6,熱需要量算定・原単位!$AK$5:$BL$5,0)+1,FALSE)","v":{"$error":"#N/A"}},{"$error":"#N/A"}]
["熱利用用途欄は、日あたりの熱需要量が最も多い月の熱利用用途を下表より検索",null,null,null,null,null,null,null,5,{"$f":"VLOOKUP(I9,熱需要量算定・原単位!$AJ$9:$BL$32,MATCH($B$6,熱需要量算定・原単位!$AK$5:$BL$5,0)+1,FALSE)","v":{"$error":"#N/A"}},{"$error":"#N/A"}]
["検索key欄は、時刻別負荷変動費率を熱需要量算定・原単位シートより転記する列を決定するために利用。",null,null,null,null,null,null,null,6,{"$f":"VLOOKUP(I10,熱需要量算定・原単位!$AJ$9:$BL$32,MATCH($B$6,熱需要量算定・原単位!$AK$5:$BL$5,0)+1,FALSE)","v":{"$error":"#N/A"}},{"$error":"#N/A"}]
[null,null,null,null,null,null,null,null,7,{"$f":"VLOOKUP(I11,熱需要量算定・原単位!$AJ$9:$BL$32,MATCH($B$6,熱需要量算定・原単位!$AK$5:$BL$5,0)+1,FALSE)","v":{"$error":"#N/A"}},{"$error":"#N/A"}]
["■時刻別負荷パタン熱利用用途の決定用",null,null,null,null,null,null,null,8,{"$f":"VLOOKUP(I12,熱需要量算定・原単位!$AJ$9:$BL$32,MATCH($B$6,熱需要量算定・原単位!$AK$5:$BL$5,0)+1,FALSE)","v":{"$error":"#N/A"}},{"$error":"#N/A"}]
["日あたりの熱需要量",{"$f":"SUMPRODUCT(MAX((空気熱源_給湯・空調_RC!$P$5:$AA$5=B14)*(空気熱源_給湯・空調_RC!$P$11:$AA$11)))","v":{"$error":"#N/A"}},{"$f":"SUMPRODUCT(MAX((空気熱源_給湯・空調_RC!$P$5:$AA$5=C14)*(空気熱源_給湯・空調_RC!$P$11:$AA$11)))","v":{"$error":"#N/A"}},{"$f":"SUMPRODUCT(MAX((空気熱源_給湯・空調_RC!$P$5:$AA$5=D14)*(空気熱源_給湯・空調_RC!$P$11:$AA$11)))","v":{"$error":"#N/A"}},null,null,null,null,9,{"$f":"VLOOKUP(I13,熱需要量算定・原単位!$AJ$9:$BL$32,MATCH($B$6,熱需要量算定・原単位!$AK$5:$BL$5,0)+1,FALSE)","v":{"$error":"#N/A"}},{"$error":"#N/A"}]
["熱利用用途","給湯","冷房","暖房",null,null,null,null,10,{"$f":"VLOOKUP(I14,熱需要量算定・原単位!$AJ$9:$BL$32,MATCH($B$6,熱需要量算定・原単位!$AK$5:$BL$5,0)+1,FALSE)","v":{"$error":"#N/A"}},{"$error":"#N/A"}]
[null,null,null,null,null,null,null,null,11,{"$f":"VLOOKUP(I15,熱需要量算定・原単位!$AJ$9:$BL$32,MATCH($B$6,熱需要量算定・原単位!$AK$5:$BL$5,0)+1,FALSE)","v":{"$error":"#N/A"}},{"$error":"#N/A"}]
["■時刻別負荷変動比率　検索key設定・運転時間",null,null,null,null,null,null,null,12,{"$f":"VLOOKUP(I16,熱需要量算定・原単位!$AJ$9:$BL$32,MATCH($B$6,熱需要量算定・原単位!$AK$5:$BL$5,0)+1,FALSE)","v":{"$error":"#N/A"}},{"$error":"#N/A"}]
["No","建物用途","熱利用用途","季節","VLOOKUP","検索key","運転時間",null,13,{"$f":"VLOOKUP(I17,熱需要量算定・原単位!$AJ$9:$BL$32,MATCH($B$6,熱需要量算定・原単位!$AK$5:$BL$5,0)+1,FALSE)","v":{"$error":"#N/A"}},{"$error":"#N/A"}]
[1,"集合住宅","給湯","冬期",{"$f":"B18&C18","v":"集合住宅給湯"},{"$f":"B18&C18&D18","v":"集合住宅給湯冬期"},{"$f":"HLOOKUP(F18,熱需要量算定・原単位!$AJ$5:$BL$34,30,FALSE)","v":22},null,14,{"$f":"VLOOKUP(I18,熱需要量算定・原単位!$AJ$9:$BL$32,MATCH($B$6,熱需要量算定・原単位!$AK$5:$BL$5,0)+1,FALSE)","v":{"$error":"#N/A"}},{"$error":"#N/A"}]
[2,"集合住宅","冷房","夏期",{"$f":"B19&C19","v":"集合住宅冷房"},{"$f":"B19&C19&D19","v":"集合住宅冷房夏期"},{"$f":"HLOOKUP(F19,熱需要量算定・原単位!$AJ$5:$BL$34,30,FALSE)","v":24},null,15,{"$f":"VLOOKUP(I19,熱需要量算定・原単位!$AJ$9:$BL$32,MATCH($B$6,熱需要量算定・原単位!$AK$5:$BL$5,0)+1,FALSE)","v":{"$error":"#N/A"}},{"$error":"#N/A"}]
[3,"集合住宅","暖房","冬期","集合住宅暖房","集合住宅暖房冬期",{"$f":"HLOOKUP(F20,熱需要量算定・原単位!$AJ$5:$BL$34,30,FALSE)","v":24},null,16,{"$f":"VLOOKUP(I20,熱需要量算定・原単位!$AJ$9:$BL$32,MATCH($B$6,熱需要量算定・原単位!$AK$5:$BL$5,0)+1,FALSE)","v":{"$error":"#N/A"}},{"$error":"#N/A"}]
[4,"業務施設","給湯","冬期","業務施設給湯","業務施設給湯冬期",{"$f":"HLOOKUP(F21,熱需要量算定・原単位!$AJ$5:$BL$34,30,FALSE)","v":14},null,17,{"$f":"VLOOKUP(I21,熱需要量算定・原単位!$AJ$9:$BL$32,MATCH($B$6,熱需要量算定・原単位!$AK$5:$BL$5,0)+1,FALSE)","v":{"$error":"#N/A"}},{"$error":"#N/A"}]
[5,"業務施設","冷房","夏期","業務施設冷房","業務施設冷房夏期",{"$f":"HLOOKUP(F22,熱需要量算定・原単位!$AJ$5:$BL$34,30,FALSE)","v":14},null,18,{"$f":"VLOOKUP(I22,熱需要量算定・原単位!$AJ$9:$BL$32,MATCH($B$6,熱需要量算定・原単位!$AK$5:$BL$5,0)+1,FALSE)","v":{"$error":"#N/A"}},{"$error":"#N/A"}]
[6,"業務施設","暖房","冬期","業務施設暖房","業務施設暖房冬期",{"$f":"HLOOKUP(F23,熱需要量算定・原単位!$AJ$5:$BL$34,30,FALSE)","v":11},null,19,{"$f":"VLOOKUP(I23,熱需要量算定・原単位!$AJ$9:$BL$32,MATCH($B$6,熱需要量算定・原単位!$AK$5:$BL$5,0)+1,FALSE)","v":{"$error":"#N/A"}},{"$error":"#N/A"}]
[7,"商業施設","給湯","-","商業施設給湯","商業施設給湯-",{"$f":"HLOOKUP(F24,熱需要量算定・原単位!$AJ$5:$BL$34,30,FALSE)","v":12},null,20,{"$f":"VLOOKUP(I24,熱需要量算定・原単位!$AJ$9:$BL$32,MATCH($B$6,熱需要量算定・原単位!$AK$5:$BL$5,0)+1,FALSE)","v":{"$error":"#N/A"}},{"$error":"#N/A"}]
[8,"商業施設","冷房","-","商業施設冷房","商業施設冷房-",{"$f":"HLOOKUP(F25,熱需要量算定・原単位!$AJ$5:$BL$34,30,FALSE)","v":11},null,21,{"$f":"VLOOKUP(I25,熱需要量算定・原単位!$AJ$9:$BL$32,MATCH($B$6,熱需要量算定・原単位!$AK$5:$BL$5,0)+1,FALSE)","v":{"$error":"#N/A"}},{"$error":"#N/A"}]
[9,"商業施設","暖房","-","商業施設暖房","商業施設暖房-",{"$f":"HLOOKUP(F26,熱需要量算定・原単位!$AJ$5:$BL$34,30,FALSE)","v":11},null,22,{"$f":"VLOOKUP(I26,熱需要量算定・原単位!$AJ$9:$BL$32,MATCH($B$6,熱需要量算定・原単位!$AK$5:$BL$5,0)+1,FALSE)","v":{"$error":"#N/A"}},{"$error":"#N/A"}]
[10,"宿泊施設","給湯","-","宿泊施設給湯","宿泊施設給湯-",{"$f":"HLOOKUP(F27,熱需要量算定・原単位!$AJ$5:$BL$34,30,FALSE)","v":24},null,23,{"$f":"VLOOKUP(I27,熱需要量算定・原単位!$AJ$9:$BL$32,MATCH($B$6,熱需要量算定・原単位!$AK$5:$BL$5,0)+1,FALSE)","v":{"$error":"#N/A"}},{"$error":"#N/A"}]
[11,"宿泊施設","冷房","夏期","宿泊施設冷房","宿泊施設冷房夏期",{"$f":"HLOOKUP(F28,熱需要量算定・原単位!$AJ$5:$BL$34,30,FALSE)","v":24},null,24,{"$f":"VLOOKUP(I28,熱需要量算定・原単位!$AJ$9:$BL$32,MATCH($B$6,熱需要量算定・原単位!$AK$5:$BL$5,0)+1,FALSE)","v":{"$error":"#N/A"}},{"$error":"#N/A"}]
[12,"宿泊施設","暖房","冬期","宿泊施設暖房","宿泊施設暖房冬期",{"$f":"HLOOKUP(F29,熱需要量算定・原単位!$AJ$5:$BL$34,30,FALSE)","v":23},null,"合計",null,{"$f":"SUM(K5:K28)","v":{"$error":"#N/A"}}]
[13,"医療施設","給湯","冬期","医療施設給湯","医療施設給湯冬期",{"$f":"HLOOKUP(F30,熱需要量算定・原単位!$AJ$5:$BL$34,30,FALSE)","v":24}]
[14,"医療施設","冷房","夏期","医療施設冷房","医療施設冷房夏期",{"$f":"HLOOKUP(F31,熱需要量算定・原単位!$AJ$5:$BL$34,30,FALSE)","v":24}]
[15,"医療施設","暖房","冬期","医療施設暖房","医療施設暖房冬期",{"$f":"HLOOKUP(F32,熱需要量算定・原単位!$AJ$5:$BL$34,30,FALSE)","v":24}]
[]
[]
["■運転時間の設定（熱負荷に合わせた運転の場合）"]
["熱利用用途","給湯","冷房","暖房"]
["運転時間",{"$f":"VLOOKUP($B$4&B36,$E$17:$G$32,3,FALSE)","v":{"$error":"#N/A"}},{"$f":"VLOOKUP($B$4&C36,$E$17:$G$32,3,FALSE)","v":{"$error":"#N/A"}},{"$f":"VLOOKUP($B$4&D36,$E$17:$G$32,3,FALSE)","v":{"$error":"#N/A"}}]

{"sheet":"空気熱源_給湯・空調_IC","index":29,"n_rows":30,"n_cols":16,"rows_kept":30,"cut":false,"hidden":true,"merged":[[27,1,27,2],[28,1,28,2],[29,1,29,2],[4,1,16,1],[17,1,19,1],[20,1,23,1],[24,1,24,2],[25,1,25,2],[26,1,26,2]]}
[null,"■イニシャルコスト算出"]
[]
[null,"比較対象_既存_空気熱源_給湯・空調"]
[null,null,"名称","摘要","単価[千円]","数量","単位","金額[千円]","備考","memo",null,null,null,null,"価格関数代入値","単位"]
[null,"機械工事","空冷HP",null,{"$f":"IF(O5=0,0,価格関数!$E$24*空気熱源_給湯・空調_IC!O5+価格関数!$F$24)","v":{"$error":"#N/A"}},1,"台",{"$f":"F5*E5","v":{"$error":"#N/A"}},null,"価格関数　メーカ調査から作成予定",null,null,null,"ヒートポンプ能力",{"$f":"空気熱源_給湯・空調_RC!K6","v":{"$error":"#N/A"}},"kW"]
[null,null,"冷温水ポンプ",null,{"$f":"IF(O6=0,0,価格関数!$E$21*O6+価格関数!$F$21)","v":{"$error":"#N/A"}},1,"台",{"$f":"F6*E6","v":{"$error":"#N/A"}},null,"価格関数",null,null,null,"ポンプ出力",{"$f":"空気熱源_給湯・空調_RC!K12","v":{"$error":"#N/A"}},"kW"]
[]
[]
[]
[]
[]
[]
[]
[null,null,"自動制御",null,null,1,"式",{"$f":"INT(SUM(H5:H13)*I14)","v":{"$error":"#N/A"}},0.2,"概算　事例等より設定"]
[null,null,"その他配管","概算（付属品込）",null,1,"式",{"$f":"INT(SUM(H5:H14)*I15)","v":{"$error":"#N/A"}},0.1,"配管費=機器類×5~10%と設定"]
[]
[null,null,"小計",null,null,null,null,{"$f":"SUM(H5:H16)","v":{"$error":"#N/A"}}]
[null,"電気工事","概算","概算",null,null,null,{"$f":"INT(H17*I18)","v":{"$error":"#N/A"}},0.3]
[]
[null,null,"小計",null,null,null,null,{"$f":"SUM(H18:H19)","v":{"$error":"#N/A"}}]
[null,"土工事"]
[]
[]
[null,null,"小計",null,null,null,null,{"$f":"SUM(H21:H23)","v":0}]
[null,"直接工事費",null,null,null,null,null,{"$f":"H24+H20+H17","v":{"$error":"#N/A"}}]
[null,"間接工事費",null,null,null,1,"式",{"$f":"INT(H25*0.3)","v":{"$error":"#N/A"}},"直接工事費×30%"]
[null,"工事原価",null,null,null,1,"式",{"$f":"H25+H26","v":{"$error":"#N/A"}}]
[null,"消費税",null,null,null,1,"式"]
[]
[null,"合計",null,null,null,null,null,{"$f":"H27+H28","v":{"$error":"#N/A"}}]

{"sheet":"比較対象_既存_空気熱源_給湯・空調_RC","index":30,"n_rows":152,"n_cols":31,"rows_kept":152,"cut":false,"hidden":true,"merged":[]}
[null,"■入力情報",null,null,null,null,null,null,"■空気熱源システムのエネルギー計算"]
[]
[null,"■対象施設情報",null,null,null,null,null,null,"■空気熱源システム検討",null,null,null,null,"■空気熱源システム　エネルギー計算・エネルギーコスト検討"]
[null,"項目","単位","値","備考",null,null,null,"項目","単位","値","備考",null,"項目","単位","4月","5月","6月","7月","8月","9月","10月","11月","12月","1月","2月","3月","合計","最大","最小","備考"]
[null,"地域選択","-",{"$f":"入力シート!C7","v":0},"都道府県を選択してください。",null,null,null,"HP運転時間","h/日",22,null,null,"熱利用用途",null,{"$f":"マッチング!E10","v":""},{"$f":"マッチング!F10","v":""},{"$f":"マッチング!G10","v":""},{"$f":"マッチング!H10","v":""},{"$f":"マッチング!I10","v":""},{"$f":"マッチング!J10","v":""},{"$f":"マッチング!K10","v":""},{"$f":"マッチング!L10","v":""},{"$f":"マッチング!M10","v":""},{"$f":"マッチング!N10","v":""},{"$f":"マッチング!O10","v":""},{"$f":"マッチング!P10","v":""}]
[null,"熱利用用途","-",{"$f":"入力シート!C8","v":0},"給湯、空調、融雪から選択してください。",null,null,null,"HP容量","kW",{"$f":"比較対象_既存_空気熱源_給湯・空調_熱源容量!N4","v":{"$error":"#N/A"}},"熱源容量シートより",null,"熱需要量","MJ/月",{"$f":"マッチング!E11","v":{"$error":"#N/A"}},{"$f":"マッチング!F11","v":{"$error":"#N/A"}},{"$f":"マッチング!G11","v":{"$error":"#N/A"}},{"$f":"マッチング!H11","v":{"$error":"#N/A"}},{"$f":"マッチング!I11","v":{"$error":"#N/A"}},{"$f":"マッチング!J11","v":{"$error":"#N/A"}},{"$f":"マッチング!K11","v":{"$error":"#N/A"}},{"$f":"マッチング!L11","v":{"$error":"#N/A"}},{"$f":"マッチング!M11","v":{"$error":"#N/A"}},{"$f":"マッチング!N11","v":{"$error":"#N/A"}},{"$f":"マッチング!O11","v":{"$error":"#N/A"}},{"$f":"マッチング!P11","v":{"$error":"#N/A"}},{"$f":"SUM(P6:AA6)","v":{"$error":"#N/A"}},{"$f":"MAX(P6:AA6)","v":{"$error":"#N/A"}},{"$f":"MIN(P6:AA6)","v":{"$error":"#N/A"}}]
[null,"建物用途","-",{"$f":"入力シート!C9","v":0},"給湯、空調利用の場合は建物用途を選択してください。",null,null,null,null,null,null,null,null,null,"kWh/月",{"$f":"P6*1000/3600","v":{"$error":"#N/A"}},{"$error":"#N/A"},{"$error":"#N/A"},{"$error":"#N/A"},{"$error":"#N/A"},{"$error":"#N/A"},{"$error":"#N/A"},{"$error":"#N/A"},{"$error":"#N/A"},{"$error":"#N/A"},{"$error":"#N/A"},{"$error":"#N/A"},{"$f":"SUM(P7:AA7)","v":{"$error":"#N/A"}},{"$f":"MAX(P7:AA7)","v":{"$error":"#N/A"}},{"$f":"MIN(P7:AA7)","v":{"$error":"#N/A"}}]
[null,"延床面積","m2",{"$f":"入力シート!C10","v":0},"給湯、空調利用の場合は数値を入力してください。",null,null,null,"温度差","℃",5,"想定設定値",null,"日数","日",{"$f":"熱需要量算定・原単位!D24","v":30},{"$f":"熱需要量算定・原単位!E24","v":31},{"$f":"熱需要量算定・原単位!F24","v":30},{"$f":"熱需要量算定・原単位!G24","v":31},{"$f":"熱需要量算定・原単位!H24","v":31},{"$f":"熱需要量算定・原単位!I24","v":30},{"$f":"熱需要量算定・原単位!J24","v":31},{"$f":"熱需要量算定・原単位!K24","v":30},{"$f":"熱需要量算定・原単位!L24","v":31},{"$f":"熱需要量算定・原単位!M24","v":31},{"$f":"熱需要量算定・原単位!N24","v":28},{"$f":"熱需要量算定・原単位!O24","v":31},{"$f":"SUM(P8:AA8)","v":365}]
[null,"対象面積","m2",{"$f":"入力シート!C11","v":0},"融雪利用の場合は数値を入力して下さい。",null,null,null,"冷温水流量","L/min",{"$f":"K6/K8/$D$22/$D$23*1000*60","v":{"$error":"#N/A"}},null,null,"運転時間","h/日",{"$f":"HLOOKUP(P5,比較対象_既存_空気熱源_給湯・空調_熱源容量!$B$36:$D$37,2,FALSE)","v":{"$error":"#N/A"}},{"$f":"HLOOKUP(Q5,比較対象_既存_空気熱源_給湯・空調_熱源容量!$B$36:$D$37,2,FALSE)","v":{"$error":"#N/A"}},{"$f":"HLOOKUP(R5,比較対象_既存_空気熱源_給湯・空調_熱源容量!$B$36:$D$37,2,FALSE)","v":{"$error":"#N/A"}},{"$f":"HLOOKUP(S5,比較対象_既存_空気熱源_給湯・空調_熱源容量!$B$36:$D$37,2,FALSE)","v":{"$error":"#N/A"}},{"$f":"HLOOKUP(T5,比較対象_既存_空気熱源_給湯・空調_熱源容量!$B$36:$D$37,2,FALSE)","v":{"$error":"#N/A"}},{"$f":"HLOOKUP(U5,比較対象_既存_空気熱源_給湯・空調_熱源容量!$B$36:$D$37,2,FALSE)","v":{"$error":"#N/A"}},{"$f":"HLOOKUP(V5,比較対象_既存_空気熱源_給湯・空調_熱源容量!$B$36:$D$37,2,FALSE)","v":{"$error":"#N/A"}},{"$f":"HLOOKUP(W5,比較対象_既存_空気熱源_給湯・空調_熱源容量!$B$36:$D$37,2,FALSE)","v":{"$error":"#N/A"}},{"$f":"HLOOKUP(X5,比較対象_既存_空気熱源_給湯・空調_熱源容量!$B$36:$D$37,2,FALSE)","v":{"$error":"#N/A"}},{"$f":"HLOOKUP(Y5,比較対象_既存_空気熱源_給湯・空調_熱源容量!$B$36:$D$37,2,FALSE)","v":{"$error":"#N/A"}},{"$f":"HLOOKUP(Z5,比較対象_既存_空気熱源_給湯・空調_熱源容量!$B$36:$D$37,2,FALSE)","v":{"$error":"#N/A"}},{"$f":"HLOOKUP(AA5,比較対象_既存_空気熱源_給湯・空調_熱源容量!$B$36:$D$37,2,FALSE)","v":{"$error":"#N/A"}}]
[null,"燃料種別の選択","-",{"$f":"入力シート!C16","v":0},null,null,null,null,"冷温水揚程（想定）","m",15,"想定設定値",null,"日あたりの熱需要量","MJ/日",{"$f":"P6/P8","v":{"$error":"#N/A"}},{"$error":"#N/A"},{"$error":"#N/A"},{"$error":"#N/A"},{"$error":"#N/A"},{"$error":"#N/A"},{"$error":"#N/A"},{"$error":"#N/A"},{"$error":"#N/A"},{"$error":"#N/A"},{"$error":"#N/A"},{"$error":"#N/A"},{"$f":"SUM(P10:AA10)","v":{"$error":"#N/A"}},{"$f":"MAX(P10:AA10)","v":{"$error":"#N/A"}},{"$f":"MIN(P10:AA10)","v":{"$error":"#N/A"}}]
[null,null,null,null,null,null,null,null,"冷温水ポンプ効率","%",{"$f":"IF(K9<80,ポンプ効率近似式!$D$14,-1.403*LN(K9/1000)^2+6.9719*LN(K9/1000)+53.781)","v":{"$error":"#N/A"}},"ポンプ効率近似式より",null,null,"kWh/日",{"$f":"P10*1000/3600","v":{"$error":"#N/A"}},{"$error":"#N/A"},{"$error":"#N/A"},{"$error":"#N/A"},{"$error":"#N/A"},{"$error":"#N/A"},{"$error":"#N/A"},{"$error":"#N/A"},{"$error":"#N/A"},{"$error":"#N/A"},{"$error":"#N/A"},{"$error":"#N/A"},{"$f":"SUM(P11:AA11)","v":{"$error":"#N/A"}},{"$f":"MAX(P11:AA11)","v":{"$error":"#N/A"}},{"$f":"MIN(P11:AA11)","v":{"$error":"#N/A"}}]
[null,null,null,null,null,null,null,null,"冷温水ポンプ消費電力","kW",{"$f":"$D$23*$D$25*K9/1000/60*K10/10/K11","v":{"$error":"#N/A"}},"ポンプ関数より",null,"気温","℃",{"$f":"気温!F3","v":{"$error":"#N/A"}},{"$f":"気温!G3","v":{"$error":"#N/A"}},{"$f":"気温!H3","v":{"$error":"#N/A"}},{"$f":"気温!I3","v":{"$error":"#N/A"}},{"$f":"気温!J3","v":{"$error":"#N/A"}},{"$f":"気温!K3","v":{"$error":"#N/A"}},{"$f":"気温!L3","v":{"$error":"#N/A"}},{"$f":"気温!M3","v":{"$error":"#N/A"}},{"$f":"気温!N3","v":{"$error":"#N/A"}},{"$f":"気温!C3","v":{"$error":"#N/A"}},{"$f":"気温!D3","v":{"$error":"#N/A"}},{"$f":"気温!E3","v":{"$error":"#N/A"}},null,null,null,"気象庁データより"]
[null,null,null,null,null,null,null,null,null,null,null,null,null,"ヒートポンプCOP","-",{"$f":"IF(P5=\"冷房\",HP性能曲線!$E$4*P12+HP性能曲線!$F$4,IF(P5=\"暖房\",HP性能曲線!$E$5*P12+HP性能曲線!$F$5,HP性能曲線!$E$6*P12+HP性能曲線!$F$6))","v":{"$error":"#N/A"}},{"$f":"IF(Q5=\"冷房\",HP性能曲線!$E$4*Q12+HP性能曲線!$F$4,IF(Q5=\"暖房\",HP性能曲線!$E$5*Q12+HP性能曲線!$F$5,HP性能曲線!$E$6*Q12+HP性能曲線!$F$6))","v":{"$error":"#N/A"}},{"$f":"IF(R5=\"冷房\",HP性能曲線!$E$4*R12+HP性能曲線!$F$4,IF(R5=\"暖房\",HP性能曲線!$E$5*R12+HP性能曲線!$F$5,HP性能曲線!$E$6*R12+HP性能曲線!$F$6))","v":{"$error":"#N/A"}},{"$f":"IF(S5=\"冷房\",HP性能曲線!$E$4*S12+HP性能曲線!$F$4,IF(S5=\"暖房\",HP性能曲線!$E$5*S12+HP性能曲線!$F$5,HP性能曲線!$E$6*S12+HP性能曲線!$F$6))","v":{"$error":"#N/A"}},{"$f":"IF(T5=\"冷房\",HP性能曲線!$E$4*T12+HP性能曲線!$F$4,IF(T5=\"暖房\",HP性能曲線!$E$5*T12+HP性能曲線!$F$5,HP性能曲線!$E$6*T12+HP性能曲線!$F$6))","v":{"$error":"#N/A"}},{"$f":"IF(U5=\"冷房\",HP性能曲線!$E$4*U12+HP性能曲線!$F$4,IF(U5=\"暖房\",HP性能曲線!$E$5*U12+HP性能曲線!$F$5,HP性能曲線!$E$6*U12+HP性能曲線!$F$6))","v":{"$error":"#N/A"}},{"$f":"IF(V5=\"冷房\",HP性能曲線!$E$4*V12+HP性能曲線!$F$4,IF(V5=\"暖房\",HP性能曲線!$E$5*V12+HP性能曲線!$F$5,HP性能曲線!$E$6*V12+HP性能曲線!$F$6))","v":{"$error":"#N/A"}},{"$f":"IF(W5=\"冷房\",HP性能曲線!$E$4*W12+HP性能曲線!$F$4,IF(W5=\"暖房\",HP性能曲線!$E$5*W12+HP性能曲線!$F$5,HP性能曲線!$E$6*W12+HP性能曲線!$F$6))","v":{"$error":"#N/A"}},{"$f":"IF(X5=\"冷房\",HP性能曲線!$E$4*X12+HP性能曲線!$F$4,IF(X5=\"暖房\",HP性能曲線!$E$5*X12+HP性能曲線!$F$5,HP性能曲線!$E$6*X12+HP性能曲線!$F$6))","v":{"$error":"#N/A"}},{"$f":"IF(Y5=\"冷房\",HP性能曲線!$E$4*Y12+HP性能曲線!$F$4,IF(Y5=\"暖房\",HP性能曲線!$E$5*Y12+HP性能曲線!$F$5,HP性能曲線!$E$6*Y12+HP性能曲線!$F$6))","v":{"$error":"#N/A"}},{"$f":"IF(Z5=\"冷房\",HP性能曲線!$E$4*Z12+HP性能曲線!$F$4,IF(Z5=\"暖房\",HP性能曲線!$E$5*Z12+HP性能曲線!$F$5,HP性能曲線!$E$6*Z12+HP性能曲線!$F$6))","v":{"$error":"#N/A"}},{"$f":"IF(AA5=\"冷房\",HP性能曲線!$E$4*AA12+HP性能曲線!$F$4,IF(AA5=\"暖房\",HP性能曲線!$E$5*AA12+HP性能曲線!$F$5,HP性能曲線!$E$6*AA12+HP性能曲線!$F$6))","v":{"$error":"#N/A"}}]
[null,null,null,null,null,null,null,null,null,null,null,null,null,"ヒートポンプ消費電力量","kWh/月",{"$f":"P7/P13","v":{"$error":"#N/A"}},{"$error":"#N/A"},{"$error":"#N/A"},{"$error":"#N/A"},{"$error":"#N/A"},{"$error":"#N/A"},{"$error":"#N/A"},{"$error":"#N/A"},{"$error":"#N/A"},{"$error":"#N/A"},{"$error":"#N/A"},{"$error":"#N/A"},{"$f":"SUM(P14:AA14)","v":{"$error":"#N/A"}},{"$f":"MAX(P14:AA14)","v":{"$error":"#N/A"}},{"$f":"MIN(P14:AA14)","v":{"$error":"#N/A"}}]
[null,null,null,null,null,null,null,null,null,null,null,null,null,"冷温水ポンプ消費電力量","kWh/月",{"$f":"IF(P6=0,0,$K$12*P9*P8)","v":{"$error":"#N/A"}},{"$error":"#N/A"},{"$error":"#N/A"},{"$error":"#N/A"},{"$error":"#N/A"},{"$error":"#N/A"},{"$error":"#N/A"},{"$error":"#N/A"},{"$error":"#N/A"},{"$error":"#N/A"},{"$error":"#N/A"},{"$error":"#N/A"},{"$f":"SUM(P15:AA15)","v":{"$error":"#N/A"}}]
[null,null,null,null,null,null,null,null,null,null,null,null,null,"消費電力合計","kWh/月",{"$f":"P14+P15","v":{"$error":"#N/A"}},{"$f":"Q14+Q15","v":{"$error":"#N/A"}},{"$error":"#N/A"},{"$error":"#N/A"},{"$error":"#N/A"},{"$error":"#N/A"},{"$error":"#N/A"},{"$error":"#N/A"},{"$error":"#N/A"},{"$error":"#N/A"},{"$error":"#N/A"},{"$error":"#N/A"},{"$f":"SUM(P16:AA16)","v":{"$error":"#N/A"}}]
[]
[]
[]
[null,"■係数"]
[null,"項目","値","単位","備考"]
[null,"水の比熱","kJ/kgK",{"$f":"係数・物性!D4","v":4.1790000000000003},"係数・物性より"]
[null,"水の密度","kg/m3",{"$f":"係数・物性!D5","v":996.62},"係数・物性より"]
[null,"容積比熱","MJ/m3K",{"$f":"係数・物性!D6","v":4.1648749800000004},"係数・物性より"]
[null,"重力加速度","m/s2",{"$f":"係数・物性!D7","v":9.8059999999999992},"係数・物性より",null,null,null,null,null,null,null,null,"熱源機消費電力量","kWh/月",{"$f":"P14","v":{"$error":"#N/A"}},{"$f":"Q14","v":{"$error":"#N/A"}},{"$error":"#N/A"},{"$error":"#N/A"},{"$error":"#N/A"},{"$error":"#N/A"},{"$error":"#N/A"},{"$error":"#N/A"},{"$error":"#N/A"},{"$error":"#N/A"},{"$error":"#N/A"},{"$error":"#N/A"},{"$f":"SUM(P25:AA25)","v":{"$error":"#N/A"}}]
[null,null,null,null,null,null,null,null,null,null,null,null,null,"補機類消費電力量","kWh/月",{"$f":"P15","v":{"$error":"#N/A"}},{"$error":"#N/A"},{"$error":"#N/A"},{"$error":"#N/A"},{"$error":"#N/A"},{"$error":"#N/A"},{"$error":"#N/A"},{"$error":"#N/A"},{"$error":"#N/A"},{"$error":"#N/A"},{"$error":"#N/A"},{"$error":"#N/A"},{"$f":"SUM(P26:AA26)","v":{"$error":"#N/A"}}]
[]
[]
[null,null,null,null,null,null,null,null,"■エネルギーコスト、CO2排出量、一次エネルギー消費量計算（エネルギー消費量を入力）"]
[null,null,null,null,null,null,null,null,null,null,null,null,null,"□エネルギー消費量"]
[null,null,null,null,null,null,null,null,null,"設定セル",null,null,null,"項目","単位","4月","5月","6月","7月","8月","9月","10月","11月","12月","1月","2月","3月","合計","最大","最小","備考"]
[null,null,null,null,null,null,null,null,null,"変更設定していいセル（計算式が入力されている）",null,null,null,"電気","kWh/月",{"$f":"P16","v":{"$error":"#N/A"}},{"$error":"#N/A"},{"$error":"#N/A"},{"$error":"#N/A"},{"$error":"#N/A"},{"$error":"#N/A"},{"$error":"#N/A"},{"$error":"#N/A"},{"$error":"#N/A"},{"$error":"#N/A"},{"$error":"#N/A"},{"$error":"#N/A"},{"$f":"SUM(P32:AA32)","v":{"$error":"#N/A"}},{"$f":"MAX(P32:AA32)","v":{"$error":"#N/A"}},{"$f":"MIN(P32:AA32)","v":{"$error":"#N/A"}}]
[null,null,null,null,null,null,null,null,null,"あまり変更しなくていい設定セル",null,null,null,"都市ガス（13A）","m3/月",null,null,null,null,null,null,null,null,null,null,null,null,0,0,0]
[null,null,null,null,null,null,null,null,null,"デフォ値・係数",null,null,null,"灯油","L/月",null,null,null,null,null,null,null,null,null,null,null,null,0,0,0]
[null,null,null,null,null,null,null,null,null,"計算式・項目確認セル",null,null,null,"重油","L/月",null,null,null,null,null,null,null,null,null,null,null,null,0,0,0]
[null,null,null,null,null,null,null,null,null,null,null,null,null,"液化石油ガス（LPG）","kg/月",null,null,null,null,null,null,null,null,null,null,null,null,0,0,0]
[null,null,null,null,null,null,null,null,null,null,null,null,null,"他人から供給された熱","MJ/月",null,null,null,null,null,null,null,null,null,null,null,null,0,0,0]
[]
[]
[null,null,null,null,null,null,null,null,"□エネルギーコスト単価(フラットレート)",null,null,null,null,"□エネルギーコスト検討"]
[null,null,null,null,null,null,null,null,"項目","単位","値","備考",null,"項目","単位","4月","5月","6月","7月","8月","9月","10月","11月","12月","1月","2月","3月","合計","最大","最小","備考"]
[null,null,null,null,null,null,null,null,"電気","円/kWh",{"$f":"E単価!H5","v":14},null,null,"電気","千円/月",{"$f":"P32*$K42/1000","v":{"$error":"#N/A"}},{"$error":"#N/A"},{"$error":"#N/A"},{"$error":"#N/A"},{"$error":"#N/A"},{"$error":"#N/A"},{"$error":"#N/A"},{"$error":"#N/A"},{"$error":"#N/A"},{"$error":"#N/A"},{"$error":"#N/A"},{"$error":"#N/A"},{"$f":"SUM(P42:AA42)","v":{"$error":"#N/A"}},{"$f":"MAX(P42:AA42)","v":{"$error":"#N/A"}},{"$f":"MIN(P42:AA42)","v":{"$error":"#N/A"}}]
[null,null,null,null,null,null,null,null,"都市ガス（13A）","円/m3",{"$f":"E単価!H6","v":114.64285714285714},null,null,"都市ガス（13A）","千円/月",0,0,0,0,0,0,0,0,0,0,0,0,0,0,0]
[null,null,null,null,null,null,null,null,"灯油","円/L",{"$f":"E単価!H7","v":107.88888888888889},null,null,"灯油","千円/月",0,0,0,0,0,0,0,0,0,0,0,0,0,0,0]
[null,null,null,null,null,null,null,null,"重油","円/L",{"$f":"E単価!H8","v":76.099999999999994},null,null,"重油","千円/月",0,0,0,0,0,0,0,0,0,0,0,0,0,0,0]
[null,null,null,null,null,null,null,null,"液化石油ガス（LPG）","円/kg",{"$f":"E単価!H9","v":159.40476190476193},null,null,"液化石油ガス（LPG）","千円/月",0,0,0,0,0,0,0,0,0,0,0,0,0,0,0]
[null,null,null,null,null,null,null,null,"他人から供給された熱","円/GJ",{"$f":"E単価!H10","v":6611.9047619047615},null,null,"他人から供給された熱","千円/月",0,0,0,0,0,0,0,0,0,0,0,0,0,0,0]
[null,null,null,null,null,null,null,null,null,null,null,null,null,"エネルギーコスト合計","千円/月",{"$f":"SUM(P42:P47)","v":{"$error":"#N/A"}},{"$f":"SUM(Q42:Q47)","v":{"$error":"#N/A"}},{"$error":"#N/A"},{"$error":"#N/A"},{"$error":"#N/A"},{"$error":"#N/A"},{"$error":"#N/A"},{"$error":"#N/A"},{"$error":"#N/A"},{"$error":"#N/A"},{"$error":"#N/A"},{"$error":"#N/A"},{"$f":"SUM(AB42:AB47)","v":{"$error":"#N/A"}},{"$f":"SUM(AC42:AC47)","v":{"$error":"#N/A"}},{"$f":"SUM(AD42:AD47)","v":{"$error":"#N/A"}}]
[]
[null,null,null,null,null,null,null,null,"□CO2換算係数",null,null,null,null,"□CO2排出量"]
[null,null,null,null,null,null,null,null,"項目","単位","値","備考",null,"項目","単位","4月","5月","6月","7月","8月","9月","10月","11月","12月","1月","2月","3月","合計","最大","最小","備考"]
[null,null,null,null,null,null,null,null,"電気","tCO2/kWh",{"$f":"CO2換算係数!B3","v":4.8799999999999999E-4},null,null,"電気","t-CO2/月",{"$f":"P32*$K52","v":{"$error":"#N/A"}},{"$f":"Q32*$K52","v":{"$error":"#N/A"}},{"$error":"#N/A"},{"$error":"#N/A"},{"$error":"#N/A"},{"$error":"#N/A"},{"$error":"#N/A"},{"$error":"#N/A"},{"$error":"#N/A"},{"$error":"#N/A"},{"$error":"#N/A"},{"$f":"AA32*$K52","v":{"$error":"#N/A"}},{"$f":"SUM(P52:AA52)","v":{"$error":"#N/A"}},{"$f":"MAX(P52:AA52)","v":{"$error":"#N/A"}},{"$f":"MIN(P52:AA52)","v":{"$error":"#N/A"}}]
[null,null,null,null,null,null,null,null,"都市ガス（13A）","tCO2/km3",{"$f":"CO2換算係数!B4","v":2.23},null,null,"都市ガス（13A）","t-CO2/月",{"$f":"P33/1000*$K53","v":0},{"$f":"Q33/1000*$K53","v":0},0,0,0,0,0,0,0,0,0,0,0,0,0]
[null,null,null,null,null,null,null,null,"灯油","tCO2/kL",{"$f":"CO2換算係数!B5","v":2.4900000000000002},null,null,"灯油","t-CO2/月",{"$f":"P34/1000*$K54","v":0},0,0,0,0,0,0,0,0,0,0,0,0,0,0]
[null,null,null,null,null,null,null,null,"重油","tCO2/kL",{"$f":"CO2換算係数!B6","v":2.71},null,null,"重油","t-CO2/月",0,0,0,0,0,0,0,0,0,0,0,0,0,0,0]
[null,null,null,null,null,null,null,null,"液化石油ガス（LPG）","tCO2/t",{"$f":"CO2換算係数!B7","v":3},null,null,"液化石油ガス（LPG）","t-CO2/月",0,0,0,0,0,0,0,0,0,0,0,0,0,0,0]
[null,null,null,null,null,null,null,null,"他人から供給された熱","tCO2/GJ",{"$f":"CO2換算係数!B8","v":5.7000000000000002E-2},null,null,"他人から供給された熱","t-CO2/月",0,0,0,0,0,0,0,0,0,0,0,0,0,0,0]
[null,null,null,null,null,null,null,null,null,null,null,null,null,"CO2排出量合計","t-CO2/月",{"$f":"SUM(P52:P57)","v":{"$error":"#N/A"}},{"$f":"SUM(Q52:Q57)","v":{"$error":"#N/A"}},{"$error":"#N/A"},{"$error":"#N/A"},{"$error":"#N/A"},{"$error":"#N/A"},{"$error":"#N/A"},{"$error":"#N/A"},{"$error":"#N/A"},{"$error":"#N/A"},{"$error":"#N/A"},{"$error":"#N/A"},{"$f":"SUM(AB52:AB57)","v":{"$error":"#N/A"}},{"$error":"#N/A"},{"$error":"#N/A"}]
[]
[null,null,null,null,null,null,null,null,"□一次エネルギー換算係数",null,null,null,null,"□一次エネルギー消費量"]
[null,null,null,null,null,null,null,null,"項目","単位","値","備考",null,"項目","単位","4月","5月","6月","7月","8月","9月","10月","11月","12月","1月","2月","3月","合計","最大","最小","備考"]
[null,null,null,null,null,null,null,null,"電気","MJ/kWh",{"$f":"一次E換算!B3","v":9.76},null,null,"電気","MJ/月",{"$f":"P32*$K62","v":{"$error":"#N/A"}},{"$error":"#N/A"},{"$error":"#N/A"},{"$error":"#N/A"},{"$error":"#N/A"},{"$error":"#N/A"},{"$error":"#N/A"},{"$error":"#N/A"},{"$error":"#N/A"},{"$error":"#N/A"},{"$error":"#N/A"},{"$error":"#N/A"},{"$f":"SUM(P62:AA62)","v":{"$error":"#N/A"}},{"$f":"MAX(P62:AA62)","v":{"$error":"#N/A"}},{"$f":"MIN(P62:AA62)","v":{"$error":"#N/A"}}]
[null,null,null,null,null,null,null,null,"都市ガス（13A）","MJ/m3",{"$f":"一次E換算!B4","v":45},null,null,"都市ガス（13A）","MJ/月",0,0,0,0,0,0,0,0,0,0,0,0,0,0,0]
[null,null,null,null,null,null,null,null,"灯油","MJ/L",{"$f":"一次E換算!B5","v":37},null,null,"灯油","MJ/月",0,0,0,0,0,0,0,0,0,0,0,0,0,0,0]
[null,null,null,null,null,null,null,null,"重油","MJ/L",{"$f":"一次E換算!B6","v":41},null,null,"重油","MJ/月",0,0,0,0,0,0,0,0,0,0,0,0,0,0,0]
[null,null,null,null,null,null,null,null,"液化石油ガス（LPG）","MJ/kg",{"$f":"一次E換算!B7","v":50},null,null,"液化石油ガス（LPG）","MJ/月",0,0,0,0,0,0,0,0,0,0,0,0,0,0,0]
[null,null,null,null,null,null,null,null,"他人から供給された熱","MJ/MJ",{"$f":"一次E換算!B8","v":1.36},null,null,"他人から供給された熱","MJ/月",0,0,0,0,0,0,0,0,0,0,0,0,0,0,0]
[null,null,null,null,null,null,null,null,null,null,null,null,null,"一次エネルギー消費量合計","MJ/月",{"$f":"SUM(P62:P67)","v":{"$error":"#N/A"}},{"$error":"#N/A"},{"$error":"#N/A"},{"$error":"#N/A"},{"$error":"#N/A"},{"$error":"#N/A"},{"$error":"#N/A"},{"$error":"#N/A"},{"$error":"#N/A"},{"$error":"#N/A"},{"$error":"#N/A"},{"$error":"#N/A"},{"$error":"#N/A"},{"$error":"#N/A"},{"$error":"#N/A"}]
[]
[]
[null,null,null,null,null,null,null,null,"■熱源機エネルギーコスト、CO2排出量、一次エネルギー消費量計算（エネルギー消費量を入力）"]
[null,null,null,null,null,null,null,null,null,null,null,null,null,"□エネルギー消費量"]
[null,null,null,null,null,null,null,null,null,"設定セル",null,null,null,"項目","単位","4月","5月","6月","7月","8月","9月","10月","11月","12月","1月","2月","3月","合計","最大","最小","備考"]
[null,null,null,null,null,null,null,null,null,"変更設定していいセル（計算式が入力されている）",null,null,null,"電気","kWh/月",{"$f":"P25","v":{"$error":"#N/A"}},{"$error":"#N/A"},{"$error":"#N/A"},{"$error":"#N/A"},{"$error":"#N/A"},{"$error":"#N/A"},{"$error":"#N/A"},{"$error":"#N/A"},{"$error":"#N/A"},{"$error":"#N/A"},{"$error":"#N/A"},{"$error":"#N/A"},{"$f":"SUM(P74:AA74)","v":{"$error":"#N/A"}},{"$f":"MAX(P74:AA74)","v":{"$error":"#N/A"}},{"$f":"MIN(P74:AA74)","v":{"$error":"#N/A"}}]
[null,null,null,null,null,null,null,null,null,"あまり変更しなくていい設定セル",null,null,null,"都市ガス（13A）","m3/月",null,null,null,null,null,null,null,null,null,null,null,null,0,0,0]
[null,null,null,null,null,null,null,null,null,"デフォ値・係数",null,null,null,"灯油","L/月",null,null,null,null,null,null,null,null,null,null,null,null,0,0,0]
[null,null,null,null,null,null,null,null,null,"計算式・項目確認セル",null,null,null,"重油","L/月",null,null,null,null,null,null,null,null,null,null,null,null,0,0,0]
[null,null,null,null,null,null,null,null,null,null,null,null,null,"液化石油ガス（LPG）","kg/月",null,null,null,null,null,null,null,null,null,null,null,null,0,0,0]
[null,null,null,null,null,null,null,null,null,null,null,null,null,"他人から供給された熱","MJ/月",null,null,null,null,null,null,null,null,null,null,null,null,0,0,0]
[]
[]
[null,null,null,null,null,null,null,null,"□エネルギーコスト単価(フラットレート)",null,null,null,null,"□エネルギーコスト検討"]
[null,null,null,null,null,null,null,null,"項目","単位","値","備考",null,"項目","単位","4月","5月","6月","7月","8月","9月","10月","11月","12月","1月","2月","3月","合計","最大","最小","備考"]
[null,null,null,null,null,null,null,null,"電気","円/kWh",{"$f":"K42","v":14},null,null,"電気","千円/月",{"$f":"P74*$K84/1000","v":{"$error":"#N/A"}},{"$error":"#N/A"},{"$error":"#N/A"},{"$error":"#N/A"},{"$error":"#N/A"},{"$error":"#N/A"},{"$error":"#N/A"},{"$error":"#N/A"},{"$error":"#N/A"},{"$error":"#N/A"},{"$error":"#N/A"},{"$error":"#N/A"},{"$f":"SUM(P84:AA84)","v":{"$error":"#N/A"}},{"$f":"MAX(P84:AA84)","v":{"$error":"#N/A"}},{"$f":"MIN(P84:AA84)","v":{"$error":"#N/A"}}]
[null,null,null,null,null,null,null,null,"都市ガス（13A）","円/m3",{"$f":"K43","v":114.64285714285714},null,null,"都市ガス（13A）","千円/月",{"$f":"P75*$K85/1000","v":0},0,0,0,0,0,0,0,0,0,0,0,0,0,0]
[null,null,null,null,null,null,null,null,"灯油","円/L",107.88888888888889,null,null,"灯油","千円/月",{"$f":"P76*$K86/1000","v":0},0,0,0,0,0,0,0,0,0,0,0,0,0,0]
[null,null,null,null,null,null,null,null,"重油","円/L",76.099999999999994,null,null,"重油","千円/月",{"$f":"P77*$K87/1000","v":0},0,0,0,0,0,0,0,0,0,0,0,0,0,0]
[null,null,null,null,null,null,null,null,"液化石油ガス（LPG）","円/kg",159.40476190476193,null,null,"液化石油ガス（LPG）","千円/月",{"$f":"P78*$K88/1000","v":0},0,0,0,0,0,0,0,0,0,0,0,0,0,0]
[null,null,null,null,null,null,null,null,"他人から供給された熱","円/GJ",6611.9047619047615,null,null,"他人から供給された熱","千円/月",{"$f":"P79*$K89/1000","v":0},0,0,0,0,0,0,0,0,0,0,0,0,0,0]
[null,null,null,null,null,null,null,null,null,null,null,null,null,"エネルギーコスト合計","千円/月",{"$f":"SUM(P84:P89)","v":{"$error":"#N/A"}},{"$f":"SUM(Q84:Q89)","v":{"$error":"#N/A"}},{"$error":"#N/A"},{"$f":"SUM(S84:S89)","v":{"$error":"#N/A"}},{"$error":"#N/A"},{"$error":"#N/A"},{"$error":"#N/A"},{"$error":"#N/A"},{"$error":"#N/A"},{"$error":"#N/A"},{"$error":"#N/A"},{"$error":"#N/A"},{"$f":"SUM(AB84:AB89)","v":{"$error":"#N/A"}},{"$f":"SUM(AC84:AC89)","v":{"$error":"#N/A"}},{"$f":"SUM(AD84:AD89)","v":{"$error":"#N/A"}}]
[]
[null,null,null,null,null,null,null,null,"□CO2換算係数",null,null,null,null,"□CO2排出量"]
[null,null,null,null,null,null,null,null,"項目","単位","値","備考",null,"項目","単位","4月","5月","6月","7月","8月","9月","10月","11月","12月","1月","2月","3月","合計","最大","最小","備考"]
[null,null,null,null,null,null,null,null,"電気","tCO2/kWh",{"$f":"K52","v":4.8799999999999999E-4},null,null,"電気","t-CO2/月",{"$f":"P74*$K94","v":{"$error":"#N/A"}},{"$error":"#N/A"},{"$error":"#N/A"},{"$error":"#N/A"},{"$error":"#N/A"},{"$error":"#N/A"},{"$error":"#N/A"},{"$error":"#N/A"},{"$error":"#N/A"},{"$error":"#N/A"},{"$error":"#N/A"},{"$error":"#N/A"},{"$f":"SUM(P94:AA94)","v":{"$error":"#N/A"}},{"$f":"MAX(P94:AA94)","v":{"$error":"#N/A"}},{"$f":"MIN(P94:AA94)","v":{"$error":"#N/A"}}]
[null,null,null,null,null,null,null,null,"都市ガス（13A）","tCO2/km3",{"$f":"K53","v":2.23},null,null,"都市ガス（13A）","t-CO2/月",{"$f":"P75/1000*$K95","v":0},0,0,0,0,0,0,0,0,0,0,0,0,0,0]
[null,null,null,null,null,null,null,null,"灯油","tCO2/kL",2.4900000000000002,null,null,"灯油","t-CO2/月",{"$f":"P76/1000*$K96","v":0},0,0,0,0,0,0,0,0,0,0,0,0,0,0]
[null,null,null,null,null,null,null,null,"重油","tCO2/kL",2.71,null,null,"重油","t-CO2/月",{"$f":"P77/1000*$K97","v":0},0,0,0,0,0,0,0,0,0,0,0,0,0,0]
[null,null,null,null,null,null,null,null,"液化石油ガス（LPG）","tCO2/t",3,null,null,"液化石油ガス（LPG）","t-CO2/月",{"$f":"P78/1000*$K98","v":0},0,0,0,0,0,0,0,0,0,0,0,0,0,0]
[null,null,null,null,null,null,null,null,"他人から供給された熱","tCO2/GJ",5.7000000000000002E-2,null,null,"他人から供給された熱","t-CO2/月",{"$f":"P79/1000*$K99","v":0},0,0,0,0,0,0,0,0,0,0,0,0,0,0]
[null,null,null,null,null,null,null,null,null,null,null,null,null,"CO2排出量合計","t-CO2/月",{"$f":"SUM(P94:P99)","v":{"$error":"#N/A"}},{"$f":"SUM(Q94:Q99)","v":{"$error":"#N/A"}},{"$error":"#N/A"},{"$error":"#N/A"},{"$error":"#N/A"},{"$error":"#N/A"},{"$error":"#N/A"},{"$error":"#N/A"},{"$error":"#N/A"},{"$error":"#N/A"},{"$error":"#N/A"},{"$f":"SUM(AA94:AA99)","v":{"$error":"#N/A"}},{"$f":"SUM(AB94:AB99)","v":{"$error":"#N/A"}},{"$f":"SUM(AC94:AC99)","v":{"$error":"#N/A"}},{"$error":"#N/A"}]
[]
[null,null,null,null,null,null,null,null,"□一次エネルギー換算係数",null,null,null,null,"□一次エネルギー消費量"]
[null,null,null,null,null,null,null,null,"項目","単位","値","備考",null,"項目","単位","4月","5月","6月","7月","8月","9月","10月","11月","12月","1月","2月","3月","合計","最大","最小","備考"]
[null,null,null,null,null,null,null,null,"電気","MJ/kWh",{"$f":"K62","v":9.76},null,null,"電気","MJ/月",{"$f":"P74*$K104","v":{"$error":"#N/A"}},{"$error":"#N/A"},{"$error":"#N/A"},{"$error":"#N/A"},{"$error":"#N/A"},{"$error":"#N/A"},{"$error":"#N/A"},{"$error":"#N/A"},{"$error":"#N/A"},{"$error":"#N/A"},{"$error":"#N/A"},{"$error":"#N/A"},{"$f":"SUM(P104:AA104)","v":{"$error":"#N/A"}},{"$f":"MAX(P104:AA104)","v":{"$error":"#N/A"}},{"$f":"MIN(P104:AA104)","v":{"$error":"#N/A"}}]
[null,null,null,null,null,null,null,null,"都市ガス（13A）","MJ/m3",{"$f":"K63","v":45},null,null,"都市ガス（13A）","MJ/月",{"$f":"P75*$K105","v":0},0,0,0,0,0,0,0,0,0,0,0,0,0,0]
[null,null,null,null,null,null,null,null,"灯油","MJ/L",37,null,null,"灯油","MJ/月",{"$f":"P76*$K106","v":0},0,0,0,0,0,0,0,0,0,0,0,0,0,0]
[null,null,null,null,null,null,null,null,"重油","MJ/L",41,null,null,"重油","MJ/月",{"$f":"P77*$K107","v":0},0,0,0,0,0,0,0,0,0,0,0,0,0,0]
[null,null,null,null,null,null,null,null,"液化石油ガス（LPG）","MJ/kg",50,null,null,"液化石油ガス（LPG）","MJ/月",{"$f":"P78*$K108","v":0},0,0,0,0,0,0,0,0,0,0,0,0,0,0]
[null,null,null,null,null,null,null,null,"他人から供給された熱","MJ/MJ",1.36,null,null,"他人から供給された熱","MJ/月",{"$f":"P79*$K109","v":0},0,0,0,0,0,0,0,0,0,0,0,0,0,0]
[null,null,null,null,null,null,null,null,null,null,null,null,null,"一次エネルギー消費量合計","MJ/月",{"$f":"SUM(P104:P109)","v":{"$error":"#N/A"}},{"$error":"#N/A"},{"$error":"#N/A"},{"$error":"#N/A"},{"$error":"#N/A"},{"$error":"#N/A"},{"$error":"#N/A"},{"$error":"#N/A"},{"$error":"#N/A"},{"$error":"#N/A"},{"$error":"#N/A"},{"$f":"SUM(AA104:AA109)","v":{"$error":"#N/A"}},{"$error":"#N/A"},{"$error":"#N/A"},{"$error":"#N/A"}]
[]
[]
[null,null,null,null,null,null,null,null,"■補機類エネルギーコスト、CO2排出量、一次エネルギー消費量計算（エネルギー消費量を入力）"]
[null,null,null,null,null,null,null,null,null,null,null,null,null,"□エネルギー消費量"]
[null,null,null,null,null,null,null,null,null,"設定セル",null,null,null,"項目","単位","4月","5月","6月","7月","8月","9月","10月","11月","12月","1月","2月","3月","合計","最大","最小","備考"]
[null,null,null,null,null,null,null,null,null,"変更設定していいセル（計算式が入力されている）",null,null,null,"電気","kWh/月",{"$f":"P26","v":{"$error":"#N/A"}},{"$error":"#N/A"},{"$error":"#N/A"},{"$error":"#N/A"},{"$error":"#N/A"},{"$error":"#N/A"},{"$error":"#N/A"},{"$error":"#N/A"},{"$error":"#N/A"},{"$error":"#N/A"},{"$error":"#N/A"},{"$error":"#N/A"},{"$f":"SUM(P116:AA116)","v":{"$error":"#N/A"}},{"$f":"MAX(P116:AA116)","v":{"$error":"#N/A"}},{"$f":"MIN(P116:AA116)","v":{"$error":"#N/A"}}]
[null,null,null,null,null,null,null,null,null,"あまり変更しなくていい設定セル",null,null,null,"都市ガス（13A）","m3/月",null,null,null,null,null,null,null,null,null,null,null,null,0,0,0]
[null,null,null,null,null,null,null,null,null,"デフォ値・係数",null,null,null,"灯油","L/月",null,null,null,null,null,null,null,null,null,null,null,null,0,0,0]
[null,null,null,null,null,null,null,null,null,"計算式・項目確認セル",null,null,null,"重油","L/月",null,null,null,null,null,null,null,null,null,null,null,null,0,0,0]
[null,null,null,null,null,null,null,null,null,null,null,null,null,"液化石油ガス（LPG）","kg/月",null,null,null,null,null,null,null,null,null,null,null,null,0,0,0]
[null,null,null,null,null,null,null,null,null,null,null,null,null,"他人から供給された熱","MJ/月",null,null,null,null,null,null,null,null,null,null,null,null,0,0,0]
[]
[]
[null,null,null,null,null,null,null,null,"□エネルギーコスト単価(フラットレート)",null,null,null,null,"□エネルギーコスト検討"]
[null,null,null,null,null,null,null,null,"項目","単位","値","備考",null,"項目","単位","4月","5月","6月","7月","8月","9月","10月","11月","12月","1月","2月","3月","合計","最大","最小","備考"]
[null,null,null,null,null,null,null,null,"電気","円/kWh",{"$f":"K84","v":14},null,null,"電気","千円/月",{"$f":"P116*$K126/1000","v":{"$error":"#N/A"}},{"$error":"#N/A"},{"$error":"#N/A"},{"$error":"#N/A"},{"$error":"#N/A"},{"$error":"#N/A"},{"$error":"#N/A"},{"$error":"#N/A"},{"$error":"#N/A"},{"$error":"#N/A"},{"$error":"#N/A"},{"$error":"#N/A"},{"$f":"SUM(P126:AA126)","v":{"$error":"#N/A"}},{"$f":"MAX(P126:AA126)","v":{"$error":"#N/A"}},{"$f":"MIN(P126:AA126)","v":{"$error":"#N/A"}}]
[null,null,null,null,null,null,null,null,"都市ガス（13A）","円/m3",{"$f":"K85","v":114.64285714285714},null,null,"都市ガス（13A）","千円/月",{"$f":"P117*$K127/1000","v":0},0,0,0,0,0,0,0,0,0,0,0,0,0,0]
[null,null,null,null,null,null,null,null,"灯油","円/L",107.88888888888889,null,null,"灯油","千円/月",{"$f":"P118*$K128/1000","v":0},0,0,0,0,0,0,0,0,0,0,0,0,0,0]
[null,null,null,null,null,null,null,null,"重油","円/L",76.099999999999994,null,null,"重油","千円/月",{"$f":"P119*$K129/1000","v":0},0,0,0,0,0,0,0,0,0,0,0,0,0,0]
[null,null,null,null,null,null,null,null,"液化石油ガス（LPG）","円/kg",159.40476190476193,null,null,"液化石油ガス（LPG）","千円/月",{"$f":"P120*$K130/1000","v":0},0,0,0,0,0,0,0,0,0,0,0,0,0,0]
[null,null,null,null,null,null,null,null,"他人から供給された熱","円/GJ",6611.9047619047615,null,null,"他人から供給された熱","千円/月",{"$f":"P121*$K131/1000","v":0},0,0,0,0,0,0,0,0,0,0,0,0,0,0]
[null,null,null,null,null,null,null,null,null,null,null,null,null,"エネルギーコスト合計","千円/月",{"$f":"SUM(P126:P131)","v":{"$error":"#N/A"}},{"$f":"SUM(Q126:Q131)","v":{"$error":"#N/A"}},{"$error":"#N/A"},{"$error":"#N/A"},{"$error":"#N/A"},{"$error":"#N/A"},{"$error":"#N/A"},{"$error":"#N/A"},{"$error":"#N/A"},{"$error":"#N/A"},{"$error":"#N/A"},{"$f":"SUM(AA126:AA131)","v":{"$error":"#N/A"}},{"$f":"SUM(AB126:AB131)","v":{"$error":"#N/A"}},{"$f":"SUM(AC126:AC131)","v":{"$error":"#N/A"}},{"$f":"SUM(AD126:AD131)","v":{"$error":"#N/A"}}]
[]
[null,null,null,null,null,null,null,null,"□CO2換算係数",null,null,null,null,"□CO2排出量"]
[null,null,null,null,null,null,null,null,"項目","単位","値","備考",null,"項目","単位","4月","5月","6月","7月","8月","9月","10月","11月","12月","1月","2月","3月","合計","最大","最小","備考"]
[null,null,null,null,null,null,null,null,"電気","tCO2/kWh",{"$f":"K94","v":4.8799999999999999E-4},null,null,"電気","t-CO2/月",{"$f":"P116*$K136","v":{"$error":"#N/A"}},{"$error":"#N/A"},{"$error":"#N/A"},{"$error":"#N/A"},{"$error":"#N/A"},{"$error":"#N/A"},{"$error":"#N/A"},{"$error":"#N/A"},{"$error":"#N/A"},{"$error":"#N/A"},{"$error":"#N/A"},{"$error":"#N/A"},{"$f":"SUM(P136:AA136)","v":{"$error":"#N/A"}},{"$f":"MAX(P136:AA136)","v":{"$error":"#N/A"}},{"$f":"MIN(P136:AA136)","v":{"$error":"#N/A"}}]
[null,null,null,null,null,null,null,null,"都市ガス（13A）","tCO2/km3",{"$f":"K95","v":2.23},null,null,"都市ガス（13A）","t-CO2/月",{"$f":"P117/1000*$K137","v":0},0,0,0,0,0,0,0,0,0,0,0,0,0,0]
[null,null,null,null,null,null,null,null,"灯油","tCO2/kL",2.4900000000000002,null,null,"灯油","t-CO2/月",{"$f":"P118/1000*$K138","v":0},0,0,0,0,0,0,0,0,0,0,0,0,0,0]
[null,null,null,null,null,null,null,null,"重油","tCO2/kL",2.71,null,null,"重油","t-CO2/月",{"$f":"P119/1000*$K139","v":0},0,0,0,0,0,0,0,0,0,0,0,0,0,0]
[null,null,null,null,null,null,null,null,"液化石油ガス（LPG）","tCO2/t",3,null,null,"液化石油ガス（LPG）","t-CO2/月",{"$f":"P120/1000*$K140","v":0},0,0,0,0,0,0,0,0,0,0,0,0,0,0]
[null,null,null,null,null,null,null,null,"他人から供給された熱","tCO2/GJ",5.7000000000000002E-2,null,null,"他人から供給された熱","t-CO2/月",{"$f":"P121/1000*$K141","v":0},0,0,0,0,0,0,0,0,0,0,0,0,0,0]
[null,null,null,null,null,null,null,null,null,null,null,null,null,"CO2排出量合計","t-CO2/月",{"$f":"SUM(P136:P141)","v":{"$error":"#N/A"}},{"$f":"SUM(Q136:Q141)","v":{"$error":"#N/A"}},{"$error":"#N/A"},{"$error":"#N/A"},{"$error":"#N/A"},{"$error":"#N/A"},{"$error":"#N/A"},{"$error":"#N/A"},{"$error":"#N/A"},{"$error":"#N/A"},{"$error":"#N/A"},{"$f":"SUM(AA136:AA141)","v":{"$error":"#N/A"}},{"$f":"SUM(AB136:AB141)","v":{"$error":"#N/A"}},{"$f":"SUM(AC136:AC141)","v":{"$error":"#N/A"}},{"$error":"#N/A"}]
[]
[null,null,null,null,null,null,null,null,"□一次エネルギー換算係数",null,null,null,null,"□一次エネルギー消費量"]
[null,null,null,null,null,null,null,null,"項目","単位","値","備考",null,"項目","単位","4月","5月","6月","7月","8月","9月","10月","11月","12月","1月","2月","3月","合計","最大","最小","備考"]
[null,null,null,null,null,null,null,null,"電気","MJ/kWh",{"$f":"K104","v":9.76},null,null,"電気","MJ/月",{"$f":"P116*$K146","v":{"$error":"#N/A"}},{"$error":"#N/A"},{"$error":"#N/A"},{"$error":"#N/A"},{"$error":"#N/A"},{"$error":"#N/A"},{"$error":"#N/A"},{"$error":"#N/A"},{"$error":"#N/A"},{"$error":"#N/A"},{"$error":"#N/A"},{"$error":"#N/A"},{"$f":"SUM(P146:AA146)","v":{"$error":"#N/A"}},{"$f":"MAX(P146:AA146)","v":{"$error":"#N/A"}},{"$f":"MIN(P146:AA146)","v":{"$error":"#N/A"}}]
[null,null,null,null,null,null,null,null,"都市ガス（13A）","MJ/m3",{"$f":"K105","v":45},null,null,"都市ガス（13A）","MJ/月",{"$f":"P117*$K147","v":0},0,0,0,0,0,0,0,0,0,0,0,0,0,0]
[null,null,null,null,null,null,null,null,"灯油","MJ/L",37,null,null,"灯油","MJ/月",{"$f":"P118*$K148","v":0},0,0,0,0,0,0,0,0,0,0,0,0,0,0]
[null,null,null,null,null,null,null,null,"重油","MJ/L",41,null,null,"重油","MJ/月",{"$f":"P119*$K149","v":0},0,0,0,0,0,0,0,0,0,0,0,0,0,0]
[null,null,null,null,null,null,null,null,"液化石油ガス（LPG）","MJ/kg",50,null,null,"液化石油ガス（LPG）","MJ/月",{"$f":"P120*$K150","v":0},0,0,0,0,0,0,0,0,0,0,0,0,0,0]
[null,null,null,null,null,null,null,null,"他人から供給された熱","MJ/MJ",1.36,null,null,"他人から供給された熱","MJ/月",{"$f":"P121*$K151","v":0},0,0,0,0,0,0,0,0,0,0,0,0,0,0]
[null,null,null,null,null,null,null,null,null,null,null,null,null,"一次エネルギー消費量合計","MJ/月",{"$f":"SUM(P146:P151)","v":{"$error":"#N/A"}},{"$error":"#N/A"},{"$error":"#N/A"},{"$error":"#N/A"},{"$error":"#N/A"},{"$error":"#N/A"},{"$error":"#N/A"},{"$error":"#N/A"},{"$error":"#N/A"},{"$error":"#N/A"},{"$error":"#N/A"},{"$f":"SUM(AA146:AA151)","v":{"$error":"#N/A"}},{"$error":"#N/A"},{"$error":"#N/A"},{"$error":"#N/A"}]

{"sheet":"比較対象_既存_空気熱源_給湯・空調_熱源容量","index":31,"n_rows":37,"n_cols":16,"rows_kept":37,"cut":false,"hidden":true,"merged":[]}
["■時刻別負荷"]
["■時刻負荷パタン設定",null,null,null,null,null,null,null,"■時刻別負荷",null,null,null,"■最大負荷　既存設備　熱源容量設定"]
["項目","値","単位","備考",null,null,null,null,null,"時刻別負荷比率","負荷",null,"項目","値","単位","備考"]
["建物用途",{"$f":"入力シート!C9","v":0},"-",null,null,null,null,null,"時刻","-","kW",null,"最大負荷",{"$f":"MAX(K5:K28)","v":{"$error":"#N/A"}},"kW","既存設備での熱源容量"]
["熱利用用途",{"$f":"HLOOKUP(B7,A13:D14,2,FALSE)","v":{"$error":"#N/A"}},"-",null,null,null,null,null,1,{"$f":"VLOOKUP(I5,熱需要量算定・原単位!$AJ$9:$BL$32,MATCH($B$6,熱需要量算定・原単位!$AK$5:$BL$5,0)+1,FALSE)","v":{"$error":"#N/A"}},{"$f":"$B$7*J5/100","v":{"$error":"#N/A"}}]
["検索key",{"$f":"VLOOKUP(B4&B5,E17:F32,2,FALSE)","v":{"$error":"#N/A"}},"-",null,null,null,null,null,2,{"$f":"VLOOKUP(I6,熱需要量算定・原単位!$AJ$9:$BL$32,MATCH($B$6,熱需要量算定・原単位!$AK$5:$BL$5,0)+1,FALSE)","v":{"$error":"#N/A"}},{"$f":"$B$7*J6/100","v":{"$error":"#N/A"}}]
["一日の熱需要量",{"$f":"MAX(比較対象_既存_空気熱源_給湯・空調_熱源容量!B13:D13)","v":{"$error":"#N/A"}},"kWh/日",null,null,null,null,null,3,{"$f":"VLOOKUP(I7,熱需要量算定・原単位!$AJ$9:$BL$32,MATCH($B$6,熱需要量算定・原単位!$AK$5:$BL$5,0)+1,FALSE)","v":{"$error":"#N/A"}},{"$error":"#N/A"}]
[null,null,null,null,null,null,null,null,4,{"$f":"VLOOKUP(I8,熱需要量算定・原単位!$AJ$9:$BL$32,MATCH($B$6,熱需要量算定・原単位!$AK$5:$BL$5,0)+1,FALSE)","v":{"$error":"#N/A"}},{"$error":"#N/A"}]
["熱利用用途欄は、日あたりの熱需要量が最も多い月の熱利用用途を下表より検索",null,null,null,null,null,null,null,5,{"$f":"VLOOKUP(I9,熱需要量算定・原単位!$AJ$9:$BL$32,MATCH($B$6,熱需要量算定・原単位!$AK$5:$BL$5,0)+1,FALSE)","v":{"$error":"#N/A"}},{"$error":"#N/A"}]
["検索key欄は、時刻別負荷変動費率を熱需要量算定・原単位シートより転記する列を決定するために利用。",null,null,null,null,null,null,null,6,{"$f":"VLOOKUP(I10,熱需要量算定・原単位!$AJ$9:$BL$32,MATCH($B$6,熱需要量算定・原単位!$AK$5:$BL$5,0)+1,FALSE)","v":{"$error":"#N/A"}},{"$error":"#N/A"}]
[null,null,null,null,null,null,null,null,7,{"$f":"VLOOKUP(I11,熱需要量算定・原単位!$AJ$9:$BL$32,MATCH($B$6,熱需要量算定・原単位!$AK$5:$BL$5,0)+1,FALSE)","v":{"$error":"#N/A"}},{"$error":"#N/A"}]
["■時刻別負荷パタン熱利用用途の決定用",null,null,null,null,null,null,null,8,{"$f":"VLOOKUP(I12,熱需要量算定・原単位!$AJ$9:$BL$32,MATCH($B$6,熱需要量算定・原単位!$AK$5:$BL$5,0)+1,FALSE)","v":{"$error":"#N/A"}},{"$error":"#N/A"}]
["日あたりの熱需要量",{"$f":"SUMPRODUCT(MAX((比較対象_既存_空気熱源_給湯・空調_RC!$P$5:$AA$5=B14)*(比較対象_既存_空気熱源_給湯・空調_RC!$P$11:$AA$11)))","v":{"$error":"#N/A"}},{"$f":"SUMPRODUCT(MAX((比較対象_既存_空気熱源_給湯・空調_RC!$P$5:$AA$5=C14)*(比較対象_既存_空気熱源_給湯・空調_RC!$P$11:$AA$11)))","v":{"$error":"#N/A"}},{"$f":"SUMPRODUCT(MAX((比較対象_既存_空気熱源_給湯・空調_RC!$P$5:$AA$5=D14)*(比較対象_既存_空気熱源_給湯・空調_RC!$P$11:$AA$11)))","v":{"$error":"#N/A"}},null,null,null,null,9,{"$f":"VLOOKUP(I13,熱需要量算定・原単位!$AJ$9:$BL$32,MATCH($B$6,熱需要量算定・原単位!$AK$5:$BL$5,0)+1,FALSE)","v":{"$error":"#N/A"}},{"$error":"#N/A"}]
["熱利用用途","給湯","冷房","暖房",null,null,null,null,10,{"$f":"VLOOKUP(I14,熱需要量算定・原単位!$AJ$9:$BL$32,MATCH($B$6,熱需要量算定・原単位!$AK$5:$BL$5,0)+1,FALSE)","v":{"$error":"#N/A"}},{"$error":"#N/A"}]
[null,null,null,null,null,null,null,null,11,{"$f":"VLOOKUP(I15,熱需要量算定・原単位!$AJ$9:$BL$32,MATCH($B$6,熱需要量算定・原単位!$AK$5:$BL$5,0)+1,FALSE)","v":{"$error":"#N/A"}},{"$error":"#N/A"}]
["■時刻別負荷変動比率　検索key設定・運転時間",null,null,null,null,null,null,null,12,{"$f":"VLOOKUP(I16,熱需要量算定・原単位!$AJ$9:$BL$32,MATCH($B$6,熱需要量算定・原単位!$AK$5:$BL$5,0)+1,FALSE)","v":{"$error":"#N/A"}},{"$error":"#N/A"}]
["No","建物用途","熱利用用途","季節","VLOOKUP","検索key","運転時間",null,13,{"$f":"VLOOKUP(I17,熱需要量算定・原単位!$AJ$9:$BL$32,MATCH($B$6,熱需要量算定・原単位!$AK$5:$BL$5,0)+1,FALSE)","v":{"$error":"#N/A"}},{"$error":"#N/A"}]
[1,"集合住宅","給湯","冬期",{"$f":"B18&C18","v":"集合住宅給湯"},{"$f":"B18&C18&D18","v":"集合住宅給湯冬期"},{"$f":"HLOOKUP(F18,熱需要量算定・原単位!$AJ$5:$BL$34,30,FALSE)","v":22},null,14,{"$f":"VLOOKUP(I18,熱需要量算定・原単位!$AJ$9:$BL$32,MATCH($B$6,熱需要量算定・原単位!$AK$5:$BL$5,0)+1,FALSE)","v":{"$error":"#N/A"}},{"$error":"#N/A"}]
[2,"集合住宅","冷房","夏期",{"$f":"B19&C19","v":"集合住宅冷房"},{"$f":"B19&C19&D19","v":"集合住宅冷房夏期"},{"$f":"HLOOKUP(F19,熱需要量算定・原単位!$AJ$5:$BL$34,30,FALSE)","v":24},null,15,{"$f":"VLOOKUP(I19,熱需要量算定・原単位!$AJ$9:$BL$32,MATCH($B$6,熱需要量算定・原単位!$AK$5:$BL$5,0)+1,FALSE)","v":{"$error":"#N/A"}},{"$error":"#N/A"}]
[3,"集合住宅","暖房","冬期","集合住宅暖房","集合住宅暖房冬期",{"$f":"HLOOKUP(F20,熱需要量算定・原単位!$AJ$5:$BL$34,30,FALSE)","v":24},null,16,{"$f":"VLOOKUP(I20,熱需要量算定・原単位!$AJ$9:$BL$32,MATCH($B$6,熱需要量算定・原単位!$AK$5:$BL$5,0)+1,FALSE)","v":{"$error":"#N/A"}},{"$error":"#N/A"}]
[4,"業務施設","給湯","冬期","業務施設給湯","業務施設給湯冬期",{"$f":"HLOOKUP(F21,熱需要量算定・原単位!$AJ$5:$BL$34,30,FALSE)","v":14},null,17,{"$f":"VLOOKUP(I21,熱需要量算定・原単位!$AJ$9:$BL$32,MATCH($B$6,熱需要量算定・原単位!$AK$5:$BL$5,0)+1,FALSE)","v":{"$error":"#N/A"}},{"$error":"#N/A"}]
[5,"業務施設","冷房","夏期","業務施設冷房","業務施設冷房夏期",{"$f":"HLOOKUP(F22,熱需要量算定・原単位!$AJ$5:$BL$34,30,FALSE)","v":14},null,18,{"$f":"VLOOKUP(I22,熱需要量算定・原単位!$AJ$9:$BL$32,MATCH($B$6,熱需要量算定・原単位!$AK$5:$BL$5,0)+1,FALSE)","v":{"$error":"#N/A"}},{"$error":"#N/A"}]
[6,"業務施設","暖房","冬期","業務施設暖房","業務施設暖房冬期",{"$f":"HLOOKUP(F23,熱需要量算定・原単位!$AJ$5:$BL$34,30,FALSE)","v":11},null,19,{"$f":"VLOOKUP(I23,熱需要量算定・原単位!$AJ$9:$BL$32,MATCH($B$6,熱需要量算定・原単位!$AK$5:$BL$5,0)+1,FALSE)","v":{"$error":"#N/A"}},{"$error":"#N/A"}]
[7,"商業施設","給湯","-","商業施設給湯","商業施設給湯-",{"$f":"HLOOKUP(F24,熱需要量算定・原単位!$AJ$5:$BL$34,30,FALSE)","v":12},null,20,{"$f":"VLOOKUP(I24,熱需要量算定・原単位!$AJ$9:$BL$32,MATCH($B$6,熱需要量算定・原単位!$AK$5:$BL$5,0)+1,FALSE)","v":{"$error":"#N/A"}},{"$error":"#N/A"}]
[8,"商業施設","冷房","-","商業施設冷房","商業施設冷房-",{"$f":"HLOOKUP(F25,熱需要量算定・原単位!$AJ$5:$BL$34,30,FALSE)","v":11},null,21,{"$f":"VLOOKUP(I25,熱需要量算定・原単位!$AJ$9:$BL$32,MATCH($B$6,熱需要量算定・原単位!$AK$5:$BL$5,0)+1,FALSE)","v":{"$error":"#N/A"}},{"$error":"#N/A"}]
[9,"商業施設","暖房","-","商業施設暖房","商業施設暖房-",{"$f":"HLOOKUP(F26,熱需要量算定・原単位!$AJ$5:$BL$34,30,FALSE)","v":11},null,22,{"$f":"VLOOKUP(I26,熱需要量算定・原単位!$AJ$9:$BL$32,MATCH($B$6,熱需要量算定・原単位!$AK$5:$BL$5,0)+1,FALSE)","v":{"$error":"#N/A"}},{"$error":"#N/A"}]
[10,"宿泊施設","給湯","-","宿泊施設給湯","宿泊施設給湯-",{"$f":"HLOOKUP(F27,熱需要量算定・原単位!$AJ$5:$BL$34,30,FALSE)","v":24},null,23,{"$f":"VLOOKUP(I27,熱需要量算定・原単位!$AJ$9:$BL$32,MATCH($B$6,熱需要量算定・原単位!$AK$5:$BL$5,0)+1,FALSE)","v":{"$error":"#N/A"}},{"$error":"#N/A"}]
[11,"宿泊施設","冷房","夏期","宿泊施設冷房","宿泊施設冷房夏期",{"$f":"HLOOKUP(F28,熱需要量算定・原単位!$AJ$5:$BL$34,30,FALSE)","v":24},null,24,{"$f":"VLOOKUP(I28,熱需要量算定・原単位!$AJ$9:$BL$32,MATCH($B$6,熱需要量算定・原単位!$AK$5:$BL$5,0)+1,FALSE)","v":{"$error":"#N/A"}},{"$error":"#N/A"}]
[12,"宿泊施設","暖房","冬期","宿泊施設暖房","宿泊施設暖房冬期",{"$f":"HLOOKUP(F29,熱需要量算定・原単位!$AJ$5:$BL$34,30,FALSE)","v":23},null,"合計",null,{"$f":"SUM(K5:K28)","v":{"$error":"#N/A"}}]
[13,"医療施設","給湯","冬期","医療施設給湯","医療施設給湯冬期",{"$f":"HLOOKUP(F30,熱需要量算定・原単位!$AJ$5:$BL$34,30,FALSE)","v":24}]
[14,"医療施設","冷房","夏期","医療施設冷房","医療施設冷房夏期",{"$f":"HLOOKUP(F31,熱需要量算定・原単位!$AJ$5:$BL$34,30,FALSE)","v":24}]
[15,"医療施設","暖房","冬期","医療施設暖房","医療施設暖房冬期",{"$f":"HLOOKUP(F32,熱需要量算定・原単位!$AJ$5:$BL$34,30,FALSE)","v":24}]
[]
[]
["■運転時間の設定（熱負荷に合わせた運転の場合）"]
["熱利用用途","給湯","冷房","暖房"]
["運転時間",{"$f":"VLOOKUP($B$4&B36,$E$17:$G$32,3,FALSE)","v":{"$error":"#N/A"}},{"$f":"VLOOKUP($B$4&C36,$E$17:$G$32,3,FALSE)","v":{"$error":"#N/A"}},{"$f":"VLOOKUP($B$4&D36,$E$17:$G$32,3,FALSE)","v":{"$error":"#N/A"}}]

{"sheet":"比較対象_既存_空気熱源_給湯・空調_IC","index":32,"n_rows":30,"n_cols":18,"rows_kept":30,"cut":false,"hidden":true,"merged":[[27,1,27,2],[28,1,28,2],[29,1,29,2],[26,1,26,2],[4,1,16,1],[17,1,19,1],[20,1,23,1],[24,1,24,2],[25,1,25,2]]}
[null,"■イニシャルコスト算出"]
[]
[null,"比較対象_既存_空気熱源_給湯・空調"]
[null,null,"名称","摘要","単価[千円]","数量","単位","金額[千円]","備考","memo",null,null,null,null,"価格関数代入値","単位"]
[null,"機械工事","空冷HP",null,{"$f":"IF(O5=0,0,価格関数!$E$24*比較対象_既存_空気熱源_給湯・空調_IC!O5+価格関数!$F$24)","v":{"$error":"#N/A"}},1,"台",{"$f":"F5*E5","v":{"$error":"#N/A"}},null,"価格関数　メーカ調査から作成予定",null,null,null,"ヒートポンプ能力",{"$f":"比較対象_既存_空気熱源_給湯・空調_RC!K6","v":{"$error":"#N/A"}},"kW",null,{"$f":"O5*52.039+3887","v":{"$error":"#N/A"}}]
[null,null,"冷温水ポンプ",null,{"$f":"IF(O6=0,0,価格関数!$E$21*O6+価格関数!$F$21)","v":{"$error":"#N/A"}},1,"台",{"$f":"F6*E6","v":{"$error":"#N/A"}},null,"価格関数",null,null,null,"ポンプ出力",{"$f":"比較対象_既存_空気熱源_給湯・空調_RC!K12","v":{"$error":"#N/A"}},"kW"]
[]
[]
[]
[]
[]
[]
[]
[null,null,"自動制御",null,null,1,"式",{"$f":"INT(SUM(H5:H13)*I14)","v":{"$error":"#N/A"}},0.2,"概算　事例等より設定"]
[null,null,"その他配管","概算（付属品込）",null,1,"式",{"$f":"INT(SUM(H5:H14)*I15)","v":{"$error":"#N/A"}},0.1,"配管費=機器類×5~10%と設定"]
[]
[null,null,"小計",null,null,null,null,{"$f":"SUM(H5:H16)","v":{"$error":"#N/A"}}]
[null,"電気工事","概算","概算",null,null,null,{"$f":"INT(H17*I18)","v":{"$error":"#N/A"}},0.3]
[]
[null,null,"小計",null,null,null,null,{"$f":"SUM(H18:H19)","v":{"$error":"#N/A"}}]
[null,"土工事"]
[]
[]
[null,null,"小計",null,null,null,null,{"$f":"SUM(H21:H23)","v":0}]
[null,"直接工事費",null,null,null,null,null,{"$f":"H24+H20+H17","v":{"$error":"#N/A"}}]
[null,"間接工事費",null,null,null,1,"式",{"$f":"INT(H25*0.3)","v":{"$error":"#N/A"}},"直接工事費×30%"]
[null,"工事原価",null,null,null,1,"式",{"$f":"H25+H26","v":{"$error":"#N/A"}}]
[null,"消費税",null,null,null,1,"式"]
[]
[null,"合計",null,null,null,null,null,{"$f":"H27+H28","v":{"$error":"#N/A"}}]

{"sheet":"残り需要_既存_空気熱源_給湯・空調_RC","index":33,"n_rows":152,"n_cols":31,"rows_kept":152,"cut":false,"hidden":true,"merged":[]}
[null,"■入力情報",null,null,null,null,null,null,"■空気熱源システムのエネルギー計算"]
[]
[null,"■対象施設情報",null,null,null,null,null,null,"■空気熱源システム検討",null,null,null,null,"■空気熱源システム　エネルギー計算・エネルギーコスト検討"]
[null,"項目","単位","値","備考",null,null,null,"項目","単位","値","備考",null,"項目","単位","4月","5月","6月","7月","8月","9月","10月","11月","12月","1月","2月","3月","合計","最大","最小","備考"]
[null,"地域選択","-",{"$f":"入力シート!C7","v":0},"都道府県を選択してください。",null,null,null,"HP運転時間","h/日",22,null,null,"熱利用用途",null,{"$f":"マッチング!E10","v":""},{"$f":"マッチング!F10","v":""},{"$f":"マッチング!G10","v":""},{"$f":"マッチング!H10","v":""},{"$f":"マッチング!I10","v":""},{"$f":"マッチング!J10","v":""},{"$f":"マッチング!K10","v":""},{"$f":"マッチング!L10","v":""},{"$f":"マッチング!M10","v":""},{"$f":"マッチング!N10","v":""},{"$f":"マッチング!O10","v":""},{"$f":"マッチング!P10","v":""}]
[null,"熱利用用途","-",{"$f":"入力シート!C8","v":0},"給湯、空調、融雪から選択してください。",null,null,null,"HP容量","kW",{"$f":"残り需要_既存_空気熱源_給湯・空調_熱源容量!N4","v":{"$error":"#N/A"}},"熱源容量シートより",null,"熱需要量","MJ/月",{"$f":"マッチング!E116","v":{"$error":"#N/A"}},{"$f":"マッチング!F116","v":{"$error":"#N/A"}},{"$f":"マッチング!G116","v":{"$error":"#N/A"}},{"$f":"マッチング!H116","v":{"$error":"#N/A"}},{"$f":"マッチング!I116","v":{"$error":"#N/A"}},{"$f":"マッチング!J116","v":{"$error":"#N/A"}},{"$f":"マッチング!K116","v":{"$error":"#N/A"}},{"$f":"マッチング!L116","v":{"$error":"#N/A"}},{"$f":"マッチング!M116","v":{"$error":"#N/A"}},{"$f":"マッチング!N116","v":{"$error":"#N/A"}},{"$f":"マッチング!O116","v":{"$error":"#N/A"}},{"$f":"マッチング!P116","v":{"$error":"#N/A"}},{"$f":"SUM(P6:AA6)","v":{"$error":"#N/A"}},{"$f":"MAX(P6:AA6)","v":{"$error":"#N/A"}},{"$f":"MIN(P6:AA6)","v":{"$error":"#N/A"}}]
[null,"建物用途","-",{"$f":"入力シート!C9","v":0},"給湯、空調利用の場合は建物用途を選択してください。",null,null,null,null,null,null,null,null,null,"kWh/月",{"$f":"P6*1000/3600","v":{"$error":"#N/A"}},{"$error":"#N/A"},{"$error":"#N/A"},{"$error":"#N/A"},{"$error":"#N/A"},{"$error":"#N/A"},{"$error":"#N/A"},{"$error":"#N/A"},{"$error":"#N/A"},{"$error":"#N/A"},{"$error":"#N/A"},{"$error":"#N/A"},{"$f":"SUM(P7:AA7)","v":{"$error":"#N/A"}},{"$f":"MAX(P7:AA7)","v":{"$error":"#N/A"}},{"$f":"MIN(P7:AA7)","v":{"$error":"#N/A"}}]
[null,"延床面積","m2",{"$f":"入力シート!C10","v":0},"給湯、空調利用の場合は数値を入力してください。",null,null,null,"温度差","℃",5,"想定設定値",null,"日数","日",{"$f":"熱需要量算定・原単位!D24","v":30},{"$f":"熱需要量算定・原単位!E24","v":31},{"$f":"熱需要量算定・原単位!F24","v":30},{"$f":"熱需要量算定・原単位!G24","v":31},{"$f":"熱需要量算定・原単位!H24","v":31},{"$f":"熱需要量算定・原単位!I24","v":30},{"$f":"熱需要量算定・原単位!J24","v":31},{"$f":"熱需要量算定・原単位!K24","v":30},{"$f":"熱需要量算定・原単位!L24","v":31},{"$f":"熱需要量算定・原単位!M24","v":31},{"$f":"熱需要量算定・原単位!N24","v":28},{"$f":"熱需要量算定・原単位!O24","v":31},{"$f":"SUM(P8:AA8)","v":365}]
[null,"対象面積","m2",{"$f":"入力シート!C11","v":0},"融雪利用の場合は数値を入力して下さい。",null,null,null,"冷温水流量","L/min",{"$f":"K6/K8/$D$22/$D$23*1000*60","v":{"$error":"#N/A"}},null,null,"運転時間","h/日",{"$f":"HLOOKUP(P5,残り需要_既存_空気熱源_給湯・空調_熱源容量!$B$36:$D$37,2,FALSE)","v":{"$error":"#N/A"}},{"$f":"HLOOKUP(Q5,残り需要_既存_空気熱源_給湯・空調_熱源容量!$B$36:$D$37,2,FALSE)","v":{"$error":"#N/A"}},{"$f":"HLOOKUP(R5,残り需要_既存_空気熱源_給湯・空調_熱源容量!$B$36:$D$37,2,FALSE)","v":{"$error":"#N/A"}},{"$f":"HLOOKUP(S5,残り需要_既存_空気熱源_給湯・空調_熱源容量!$B$36:$D$37,2,FALSE)","v":{"$error":"#N/A"}},{"$f":"HLOOKUP(T5,残り需要_既存_空気熱源_給湯・空調_熱源容量!$B$36:$D$37,2,FALSE)","v":{"$error":"#N/A"}},{"$f":"HLOOKUP(U5,残り需要_既存_空気熱源_給湯・空調_熱源容量!$B$36:$D$37,2,FALSE)","v":{"$error":"#N/A"}},{"$f":"HLOOKUP(V5,残り需要_既存_空気熱源_給湯・空調_熱源容量!$B$36:$D$37,2,FALSE)","v":{"$error":"#N/A"}},{"$f":"HLOOKUP(W5,残り需要_既存_空気熱源_給湯・空調_熱源容量!$B$36:$D$37,2,FALSE)","v":{"$error":"#N/A"}},{"$f":"HLOOKUP(X5,残り需要_既存_空気熱源_給湯・空調_熱源容量!$B$36:$D$37,2,FALSE)","v":{"$error":"#N/A"}},{"$f":"HLOOKUP(Y5,残り需要_既存_空気熱源_給湯・空調_熱源容量!$B$36:$D$37,2,FALSE)","v":{"$error":"#N/A"}},{"$f":"HLOOKUP(Z5,残り需要_既存_空気熱源_給湯・空調_熱源容量!$B$36:$D$37,2,FALSE)","v":{"$error":"#N/A"}},{"$f":"HLOOKUP(AA5,残り需要_既存_空気熱源_給湯・空調_熱源容量!$B$36:$D$37,2,FALSE)","v":{"$error":"#N/A"}}]
[null,"燃料種別の選択","-",{"$f":"入力シート!C16","v":0},null,null,null,null,"冷温水揚程（想定）","m",15,"想定設定値",null,"日あたりの熱需要量","MJ/日",{"$f":"P6/P8","v":{"$error":"#N/A"}},{"$error":"#N/A"},{"$error":"#N/A"},{"$error":"#N/A"},{"$error":"#N/A"},{"$error":"#N/A"},{"$error":"#N/A"},{"$error":"#N/A"},{"$error":"#N/A"},{"$error":"#N/A"},{"$error":"#N/A"},{"$error":"#N/A"},{"$f":"SUM(P10:AA10)","v":{"$error":"#N/A"}},{"$f":"MAX(P10:AA10)","v":{"$error":"#N/A"}},{"$f":"MIN(P10:AA10)","v":{"$error":"#N/A"}}]
[null,null,null,null,null,null,null,null,"冷温水ポンプ効率","%",{"$f":"IF(K9<80,ポンプ効率近似式!$D$14,-1.403*LN(K9/1000)^2+6.9719*LN(K9/1000)+53.781)","v":{"$error":"#N/A"}},"ポンプ効率近似式より",null,null,"kWh/日",{"$f":"P10*1000/3600","v":{"$error":"#N/A"}},{"$error":"#N/A"},{"$error":"#N/A"},{"$error":"#N/A"},{"$error":"#N/A"},{"$error":"#N/A"},{"$error":"#N/A"},{"$error":"#N/A"},{"$error":"#N/A"},{"$error":"#N/A"},{"$error":"#N/A"},{"$error":"#N/A"},{"$f":"SUM(P11:AA11)","v":{"$error":"#N/A"}},{"$f":"MAX(P11:AA11)","v":{"$error":"#N/A"}},{"$f":"MIN(P11:AA11)","v":{"$error":"#N/A"}}]
[null,null,null,null,null,null,null,null,"冷温水ポンプ消費電力","kW",{"$f":"$D$23*$D$25*K9/1000/60*K10/10/K11","v":{"$error":"#N/A"}},"ポンプ関数より",null,"気温","℃",{"$f":"気温!F3","v":{"$error":"#N/A"}},{"$f":"気温!G3","v":{"$error":"#N/A"}},{"$f":"気温!H3","v":{"$error":"#N/A"}},{"$f":"気温!I3","v":{"$error":"#N/A"}},{"$f":"気温!J3","v":{"$error":"#N/A"}},{"$f":"気温!K3","v":{"$error":"#N/A"}},{"$f":"気温!L3","v":{"$error":"#N/A"}},{"$f":"気温!M3","v":{"$error":"#N/A"}},{"$f":"気温!N3","v":{"$error":"#N/A"}},{"$f":"気温!C3","v":{"$error":"#N/A"}},{"$f":"気温!D3","v":{"$error":"#N/A"}},{"$f":"気温!E3","v":{"$error":"#N/A"}},null,null,null,"気象庁データより"]
[null,null,null,null,null,null,null,null,null,null,null,null,null,"ヒートポンプCOP","-",{"$f":"IF(P5=\"冷房\",HP性能曲線!$E$4*P12+HP性能曲線!$F$4,IF(P5=\"暖房\",HP性能曲線!$E$5*P12+HP性能曲線!$F$5,HP性能曲線!$E$6*P12+HP性能曲線!$F$6))","v":{"$error":"#N/A"}},{"$f":"IF(Q5=\"冷房\",HP性能曲線!$E$4*Q12+HP性能曲線!$F$4,IF(Q5=\"暖房\",HP性能曲線!$E$5*Q12+HP性能曲線!$F$5,HP性能曲線!$E$6*Q12+HP性能曲線!$F$6))","v":{"$error":"#N/A"}},{"$f":"IF(R5=\"冷房\",HP性能曲線!$E$4*R12+HP性能曲線!$F$4,IF(R5=\"暖房\",HP性能曲線!$E$5*R12+HP性能曲線!$F$5,HP性能曲線!$E$6*R12+HP性能曲線!$F$6))","v":{"$error":"#N/A"}},{"$f":"IF(S5=\"冷房\",HP性能曲線!$E$4*S12+HP性能曲線!$F$4,IF(S5=\"暖房\",HP性能曲線!$E$5*S12+HP性能曲線!$F$5,HP性能曲線!$E$6*S12+HP性能曲線!$F$6))","v":{"$error":"#N/A"}},{"$f":"IF(T5=\"冷房\",HP性能曲線!$E$4*T12+HP性能曲線!$F$4,IF(T5=\"暖房\",HP性能曲線!$E$5*T12+HP性能曲線!$F$5,HP性能曲線!$E$6*T12+HP性能曲線!$F$6))","v":{"$error":"#N/A"}},{"$f":"IF(U5=\"冷房\",HP性能曲線!$E$4*U12+HP性能曲線!$F$4,IF(U5=\"暖房\",HP性能曲線!$E$5*U12+HP性能曲線!$F$5,HP性能曲線!$E$6*U12+HP性能曲線!$F$6))","v":{"$error":"#N/A"}},{"$f":"IF(V5=\"冷房\",HP性能曲線!$E$4*V12+HP性能曲線!$F$4,IF(V5=\"暖房\",HP性能曲線!$E$5*V12+HP性能曲線!$F$5,HP性能曲線!$E$6*V12+HP性能曲線!$F$6))","v":{"$error":"#N/A"}},{"$f":"IF(W5=\"冷房\",HP性能曲線!$E$4*W12+HP性能曲線!$F$4,IF(W5=\"暖房\",HP性能曲線!$E$5*W12+HP性能曲線!$F$5,HP性能曲線!$E$6*W12+HP性能曲線!$F$6))","v":{"$error":"#N/A"}},{"$f":"IF(X5=\"冷房\",HP性能曲線!$E$4*X12+HP性能曲線!$F$4,IF(X5=\"暖房\",HP性能曲線!$E$5*X12+HP性能曲線!$F$5,HP性能曲線!$E$6*X12+HP性能曲線!$F$6))","v":{"$error":"#N/A"}},{"$f":"IF(Y5=\"冷房\",HP性能曲線!$E$4*Y12+HP性能曲線!$F$4,IF(Y5=\"暖房\",HP性能曲線!$E$5*Y12+HP性能曲線!$F$5,HP性能曲線!$E$6*Y12+HP性能曲線!$F$6))","v":{"$error":"#N/A"}},{"$f":"IF(Z5=\"冷房\",HP性能曲線!$E$4*Z12+HP性能曲線!$F$4,IF(Z5=\"暖房\",HP性能曲線!$E$5*Z12+HP性能曲線!$F$5,HP性能曲線!$E$6*Z12+HP性能曲線!$F$6))","v":{"$error":"#N/A"}},{"$f":"IF(AA5=\"冷房\",HP性能曲線!$E$4*AA12+HP性能曲線!$F$4,IF(AA5=\"暖房\",HP性能曲線!$E$5*AA12+HP性能曲線!$F$5,HP性能曲線!$E$6*AA12+HP性能曲線!$F$6))","v":{"$error":"#N/A"}}]
[null,null,null,null,null,null,null,null,null,null,null,null,null,"ヒートポンプ消費電力量","kWh/月",{"$f":"P7/P13","v":{"$error":"#N/A"}},{"$error":"#N/A"},{"$error":"#N/A"},{"$error":"#N/A"},{"$error":"#N/A"},{"$error":"#N/A"},{"$error":"#N/A"},{"$error":"#N/A"},{"$error":"#N/A"},{"$error":"#N/A"},{"$error":"#N/A"},{"$error":"#N/A"},{"$f":"SUM(P14:AA14)","v":{"$error":"#N/A"}},{"$f":"MAX(P14:AA14)","v":{"$error":"#N/A"}},{"$f":"MIN(P14:AA14)","v":{"$error":"#N/A"}}]
[null,null,null,null,null,null,null,null,null,null,null,null,null,"冷温水ポンプ消費電力量","kWh/月",{"$f":"IF(P6=0,0,$K$12*P9*P8)","v":{"$error":"#N/A"}},{"$error":"#N/A"},{"$error":"#N/A"},{"$error":"#N/A"},{"$error":"#N/A"},{"$error":"#N/A"},{"$error":"#N/A"},{"$error":"#N/A"},{"$error":"#N/A"},{"$error":"#N/A"},{"$error":"#N/A"},{"$error":"#N/A"},{"$f":"SUM(P15:AA15)","v":{"$error":"#N/A"}}]
[null,null,null,null,null,null,null,null,null,null,null,null,null,"消費電力合計","kWh/月",{"$f":"P14+P15","v":{"$error":"#N/A"}},{"$error":"#N/A"},{"$error":"#N/A"},{"$error":"#N/A"},{"$error":"#N/A"},{"$error":"#N/A"},{"$error":"#N/A"},{"$error":"#N/A"},{"$error":"#N/A"},{"$error":"#N/A"},{"$error":"#N/A"},{"$error":"#N/A"},{"$f":"SUM(P16:AA16)","v":{"$error":"#N/A"}}]
[]
[]
[]
[null,"■係数"]
[null,"項目","値","単位","備考"]
[null,"水の比熱","kJ/kgK",{"$f":"係数・物性!D4","v":4.1790000000000003},"係数・物性より"]
[null,"水の密度","kg/m3",{"$f":"係数・物性!D5","v":996.62},"係数・物性より"]
[null,"容積比熱","MJ/m3K",{"$f":"係数・物性!D6","v":4.1648749800000004},"係数・物性より"]
[null,"重力加速度","m/s2",{"$f":"係数・物性!D7","v":9.8059999999999992},"係数・物性より",null,null,null,null,null,null,null,null,"熱源機消費電力量","kWh/月",{"$f":"P14","v":{"$error":"#N/A"}},{"$f":"Q14","v":{"$error":"#N/A"}},{"$error":"#N/A"},{"$error":"#N/A"},{"$error":"#N/A"},{"$error":"#N/A"},{"$error":"#N/A"},{"$error":"#N/A"},{"$error":"#N/A"},{"$error":"#N/A"},{"$error":"#N/A"},{"$f":"AA14","v":{"$error":"#N/A"}},{"$f":"SUM(P25:AA25)","v":{"$error":"#N/A"}}]
[null,null,null,null,null,null,null,null,null,null,null,null,null,"補機類消費電力量","kWh/月",{"$f":"P15","v":{"$error":"#N/A"}},{"$error":"#N/A"},{"$error":"#N/A"},{"$error":"#N/A"},{"$error":"#N/A"},{"$error":"#N/A"},{"$error":"#N/A"},{"$error":"#N/A"},{"$error":"#N/A"},{"$error":"#N/A"},{"$error":"#N/A"},{"$f":"AA15","v":{"$error":"#N/A"}},{"$f":"SUM(P26:AA26)","v":{"$error":"#N/A"}}]
[]
[]
[null,null,null,null,null,null,null,null,"■エネルギーコスト、CO2排出量、一次エネルギー消費量計算（エネルギー消費量を入力）"]
[null,null,null,null,null,null,null,null,null,null,null,null,null,"□エネルギー消費量"]
[null,null,null,null,null,null,null,null,null,"設定セル",null,null,null,"項目","単位","4月","5月","6月","7月","8月","9月","10月","11月","12月","1月","2月","3月","合計","最大","最小","備考"]
[null,null,null,null,null,null,null,null,null,"変更設定していいセル（計算式が入力されている）",null,null,null,"電気","kWh/月",{"$f":"P16","v":{"$error":"#N/A"}},{"$error":"#N/A"},{"$error":"#N/A"},{"$error":"#N/A"},{"$error":"#N/A"},{"$error":"#N/A"},{"$error":"#N/A"},{"$error":"#N/A"},{"$error":"#N/A"},{"$error":"#N/A"},{"$error":"#N/A"},{"$error":"#N/A"},{"$f":"SUM(P32:AA32)","v":{"$error":"#N/A"}},{"$f":"MAX(P32:AA32)","v":{"$error":"#N/A"}},{"$f":"MIN(P32:AA32)","v":{"$error":"#N/A"}}]
[null,null,null,null,null,null,null,null,null,"あまり変更しなくていい設定セル",null,null,null,"都市ガス（13A）","m3/月",null,null,null,null,null,null,null,null,null,null,null,null,0,0,0]
[null,null,null,null,null,null,null,null,null,"デフォ値・係数",null,null,null,"灯油","L/月",null,null,null,null,null,null,null,null,null,null,null,null,0,0,0]
[null,null,null,null,null,null,null,null,null,"計算式・項目確認セル",null,null,null,"重油","L/月",null,null,null,null,null,null,null,null,null,null,null,null,0,0,0]
[null,null,null,null,null,null,null,null,null,null,null,null,null,"液化石油ガス（LPG）","kg/月",null,null,null,null,null,null,null,null,null,null,null,null,0,0,0]
[null,null,null,null,null,null,null,null,null,null,null,null,null,"他人から供給された熱","MJ/月",null,null,null,null,null,null,null,null,null,null,null,null,0,0,0]
[]
[]
[null,null,null,null,null,null,null,null,"□エネルギーコスト単価(フラットレート)",null,null,null,null,"□エネルギーコスト検討"]
[null,null,null,null,null,null,null,null,"項目","単位","値","備考",null,"項目","単位","4月","5月","6月","7月","8月","9月","10月","11月","12月","1月","2月","3月","合計","最大","最小","備考"]
[null,null,null,null,null,null,null,null,"電気","円/kWh",{"$f":"E単価!H5","v":14},null,null,"電気","千円/月",{"$f":"P32*$K42/1000","v":{"$error":"#N/A"}},{"$error":"#N/A"},{"$error":"#N/A"},{"$error":"#N/A"},{"$error":"#N/A"},{"$error":"#N/A"},{"$error":"#N/A"},{"$error":"#N/A"},{"$error":"#N/A"},{"$error":"#N/A"},{"$error":"#N/A"},{"$error":"#N/A"},{"$f":"SUM(P42:AA42)","v":{"$error":"#N/A"}},{"$f":"MAX(P42:AA42)","v":{"$error":"#N/A"}},{"$f":"MIN(P42:AA42)","v":{"$error":"#N/A"}}]
[null,null,null,null,null,null,null,null,"都市ガス（13A）","円/m3",{"$f":"E単価!H6","v":114.64285714285714},null,null,"都市ガス（13A）","千円/月",0,0,0,0,0,0,0,0,0,0,0,0,0,0,0]
[null,null,null,null,null,null,null,null,"灯油","円/L",{"$f":"E単価!H7","v":107.88888888888889},null,null,"灯油","千円/月",0,0,0,0,0,0,0,0,0,0,0,0,0,0,0]
[null,null,null,null,null,null,null,null,"重油","円/L",{"$f":"E単価!H8","v":76.099999999999994},null,null,"重油","千円/月",0,0,0,0,0,0,0,0,0,0,0,0,0,0,0]
[null,null,null,null,null,null,null,null,"液化石油ガス（LPG）","円/kg",{"$f":"E単価!H9","v":159.40476190476193},null,null,"液化石油ガス（LPG）","千円/月",0,0,0,0,0,0,0,0,0,0,0,0,0,0,0]
[null,null,null,null,null,null,null,null,"他人から供給された熱","円/GJ",{"$f":"E単価!H10","v":6611.9047619047615},null,null,"他人から供給された熱","千円/月",0,0,0,0,0,0,0,0,0,0,0,0,0,0,0]
[null,null,null,null,null,null,null,null,null,null,null,null,null,"エネルギーコスト合計","千円/月",{"$f":"SUM(P42:P47)","v":{"$error":"#N/A"}},{"$f":"SUM(Q42:Q47)","v":{"$error":"#N/A"}},{"$error":"#N/A"},{"$error":"#N/A"},{"$error":"#N/A"},{"$error":"#N/A"},{"$error":"#N/A"},{"$error":"#N/A"},{"$error":"#N/A"},{"$error":"#N/A"},{"$error":"#N/A"},{"$error":"#N/A"},{"$f":"SUM(AB42:AB47)","v":{"$error":"#N/A"}},{"$f":"SUM(AC42:AC47)","v":{"$error":"#N/A"}},{"$f":"SUM(AD42:AD47)","v":{"$error":"#N/A"}}]
[]
[null,null,null,null,null,null,null,null,"□CO2換算係数",null,null,null,null,"□CO2排出量"]
[null,null,null,null,null,null,null,null,"項目","単位","値","備考",null,"項目","単位","4月","5月","6月","7月","8月","9月","10月","11月","12月","1月","2月","3月","合計","最大","最小","備考"]
[null,null,null,null,null,null,null,null,"電気","tCO2/kWh",{"$f":"CO2換算係数!B3","v":4.8799999999999999E-4},null,null,"電気","t-CO2/月",{"$f":"P32*$K52","v":{"$error":"#N/A"}},{"$f":"Q32*$K52","v":{"$error":"#N/A"}},{"$error":"#N/A"},{"$error":"#N/A"},{"$error":"#N/A"},{"$error":"#N/A"},{"$error":"#N/A"},{"$error":"#N/A"},{"$error":"#N/A"},{"$error":"#N/A"},{"$error":"#N/A"},{"$f":"AA32*$K52","v":{"$error":"#N/A"}},{"$f":"SUM(P52:AA52)","v":{"$error":"#N/A"}},{"$f":"MAX(P52:AA52)","v":{"$error":"#N/A"}},{"$f":"MIN(P52:AA52)","v":{"$error":"#N/A"}}]
[null,null,null,null,null,null,null,null,"都市ガス（13A）","tCO2/km3",{"$f":"CO2換算係数!B4","v":2.23},null,null,"都市ガス（13A）","t-CO2/月",{"$f":"P33/1000*$K53","v":0},{"$f":"Q33/1000*$K53","v":0},0,0,0,0,0,0,0,0,0,0,0,0,0]
[null,null,null,null,null,null,null,null,"灯油","tCO2/kL",{"$f":"CO2換算係数!B5","v":2.4900000000000002},null,null,"灯油","t-CO2/月",{"$f":"P34/1000*$K54","v":0},0,0,0,0,0,0,0,0,0,0,0,0,0,0]
[null,null,null,null,null,null,null,null,"重油","tCO2/kL",{"$f":"CO2換算係数!B6","v":2.71},null,null,"重油","t-CO2/月",0,0,0,0,0,0,0,0,0,0,0,0,0,0,0]
[null,null,null,null,null,null,null,null,"液化石油ガス（LPG）","tCO2/t",{"$f":"CO2換算係数!B7","v":3},null,null,"液化石油ガス（LPG）","t-CO2/月",0,0,0,0,0,0,0,0,0,0,0,0,0,0,0]
[null,null,null,null,null,null,null,null,"他人から供給された熱","tCO2/GJ",{"$f":"CO2換算係数!B8","v":5.7000000000000002E-2},null,null,"他人から供給された熱","t-CO2/月",0,0,0,0,0,0,0,0,0,0,0,0,0,0,0]
[null,null,null,null,null,null,null,null,null,null,null,null,null,"CO2排出量合計","t-CO2/月",{"$f":"SUM(P52:P57)","v":{"$error":"#N/A"}},{"$f":"SUM(Q52:Q57)","v":{"$error":"#N/A"}},{"$error":"#N/A"},{"$error":"#N/A"},{"$error":"#N/A"},{"$error":"#N/A"},{"$error":"#N/A"},{"$error":"#N/A"},{"$error":"#N/A"},{"$error":"#N/A"},{"$error":"#N/A"},{"$error":"#N/A"},{"$f":"SUM(AB52:AB57)","v":{"$error":"#N/A"}},{"$error":"#N/A"},{"$error":"#N/A"}]
[]
[null,null,null,null,null,null,null,null,"□一次エネルギー換算係数",null,null,null,null,"□一次エネルギー消費量"]
[null,null,null,null,null,null,null,null,"項目","単位","値","備考",null,"項目","単位","4月","5月","6月","7月","8月","9月","10月","11月","12月","1月","2月","3月","合計","最大","最小","備考"]
[null,null,null,null,null,null,null,null,"電気","MJ/kWh",{"$f":"一次E換算!B3","v":9.76},null,null,"電気","MJ/月",{"$f":"P32*$K62","v":{"$error":"#N/A"}},{"$error":"#N/A"},{"$error":"#N/A"},{"$error":"#N/A"},{"$error":"#N/A"},{"$error":"#N/A"},{"$error":"#N/A"},{"$error":"#N/A"},{"$error":"#N/A"},{"$error":"#N/A"},{"$error":"#N/A"},{"$error":"#N/A"},{"$f":"SUM(P62:AA62)","v":{"$error":"#N/A"}},{"$f":"MAX(P62:AA62)","v":{"$error":"#N/A"}},{"$f":"MIN(P62:AA62)","v":{"$error":"#N/A"}}]
[null,null,null,null,null,null,null,null,"都市ガス（13A）","MJ/m3",{"$f":"一次E換算!B4","v":45},null,null,"都市ガス（13A）","MJ/月",0,0,0,0,0,0,0,0,0,0,0,0,0,0,0]
[null,null,null,null,null,null,null,null,"灯油","MJ/L",{"$f":"一次E換算!B5","v":37},null,null,"灯油","MJ/月",0,0,0,0,0,0,0,0,0,0,0,0,0,0,0]
[null,null,null,null,null,null,null,null,"重油","MJ/L",{"$f":"一次E換算!B6","v":41},null,null,"重油","MJ/月",0,0,0,0,0,0,0,0,0,0,0,0,0,0,0]
[null,null,null,null,null,null,null,null,"液化石油ガス（LPG）","MJ/kg",{"$f":"一次E換算!B7","v":50},null,null,"液化石油ガス（LPG）","MJ/月",0,0,0,0,0,0,0,0,0,0,0,0,0,0,0]
[null,null,null,null,null,null,null,null,"他人から供給された熱","MJ/MJ",{"$f":"一次E換算!B8","v":1.36},null,null,"他人から供給された熱","MJ/月",0,0,0,0,0,0,0,0,0,0,0,0,0,0,0]
[null,null,null,null,null,null,null,null,null,null,null,null,null,"一次エネルギー消費量合計","MJ/月",{"$f":"SUM(P62:P67)","v":{"$error":"#N/A"}},{"$error":"#N/A"},{"$error":"#N/A"},{"$error":"#N/A"},{"$error":"#N/A"},{"$error":"#N/A"},{"$error":"#N/A"},{"$error":"#N/A"},{"$error":"#N/A"},{"$error":"#N/A"},{"$error":"#N/A"},{"$error":"#N/A"},{"$error":"#N/A"},{"$error":"#N/A"},{"$error":"#N/A"}]
[]
[]
[null,null,null,null,null,null,null,null,"■熱源機エネルギーコスト、CO2排出量、一次エネルギー消費量計算（エネルギー消費量を入力）"]
[null,null,null,null,null,null,null,null,null,null,null,null,null,"□エネルギー消費量"]
[null,null,null,null,null,null,null,null,null,"設定セル",null,null,null,"項目","単位","4月","5月","6月","7月","8月","9月","10月","11月","12月","1月","2月","3月","合計","最大","最小","備考"]
[null,null,null,null,null,null,null,null,null,"変更設定していいセル（計算式が入力されている）",null,null,null,"電気","kWh/月",{"$f":"P25","v":{"$error":"#N/A"}},{"$error":"#N/A"},{"$error":"#N/A"},{"$error":"#N/A"},{"$error":"#N/A"},{"$error":"#N/A"},{"$error":"#N/A"},{"$error":"#N/A"},{"$error":"#N/A"},{"$error":"#N/A"},{"$error":"#N/A"},{"$error":"#N/A"},{"$f":"SUM(P74:AA74)","v":{"$error":"#N/A"}},{"$f":"MAX(P74:AA74)","v":{"$error":"#N/A"}},{"$f":"MIN(P74:AA74)","v":{"$error":"#N/A"}}]
[null,null,null,null,null,null,null,null,null,"あまり変更しなくていい設定セル",null,null,null,"都市ガス（13A）","m3/月",null,null,null,null,null,null,null,null,null,null,null,null,0,0,0]
[null,null,null,null,null,null,null,null,null,"デフォ値・係数",null,null,null,"灯油","L/月",null,null,null,null,null,null,null,null,null,null,null,null,0,0,0]
[null,null,null,null,null,null,null,null,null,"計算式・項目確認セル",null,null,null,"重油","L/月",null,null,null,null,null,null,null,null,null,null,null,null,0,0,0]
[null,null,null,null,null,null,null,null,null,null,null,null,null,"液化石油ガス（LPG）","kg/月",null,null,null,null,null,null,null,null,null,null,null,null,0,0,0]
[null,null,null,null,null,null,null,null,null,null,null,null,null,"他人から供給された熱","MJ/月",null,null,null,null,null,null,null,null,null,null,null,null,0,0,0]
[]
[]
[null,null,null,null,null,null,null,null,"□エネルギーコスト単価(フラットレート)",null,null,null,null,"□エネルギーコスト検討"]
[null,null,null,null,null,null,null,null,"項目","単位","値","備考",null,"項目","単位","4月","5月","6月","7月","8月","9月","10月","11月","12月","1月","2月","3月","合計","最大","最小","備考"]
[null,null,null,null,null,null,null,null,"電気","円/kWh",{"$f":"K42","v":14},null,null,"電気","千円/月",{"$f":"P74*$K84/1000","v":{"$error":"#N/A"}},{"$error":"#N/A"},{"$error":"#N/A"},{"$error":"#N/A"},{"$error":"#N/A"},{"$error":"#N/A"},{"$error":"#N/A"},{"$error":"#N/A"},{"$error":"#N/A"},{"$error":"#N/A"},{"$error":"#N/A"},{"$error":"#N/A"},{"$f":"SUM(P84:AA84)","v":{"$error":"#N/A"}},{"$f":"MAX(P84:AA84)","v":{"$error":"#N/A"}},{"$f":"MIN(P84:AA84)","v":{"$error":"#N/A"}}]
[null,null,null,null,null,null,null,null,"都市ガス（13A）","円/m3",{"$f":"K43","v":114.64285714285714},null,null,"都市ガス（13A）","千円/月",{"$f":"P75*$K85/1000","v":0},0,0,0,0,0,0,0,0,0,0,0,0,0,0]
[null,null,null,null,null,null,null,null,"灯油","円/L",107.88888888888889,null,null,"灯油","千円/月",{"$f":"P76*$K86/1000","v":0},0,0,0,0,0,0,0,0,0,0,0,0,0,0]
[null,null,null,null,null,null,null,null,"重油","円/L",76.099999999999994,null,null,"重油","千円/月",{"$f":"P77*$K87/1000","v":0},0,0,0,0,0,0,0,0,0,0,0,0,0,0]
[null,null,null,null,null,null,null,null,"液化石油ガス（LPG）","円/kg",159.40476190476193,null,null,"液化石油ガス（LPG）","千円/月",{"$f":"P78*$K88/1000","v":0},0,0,0,0,0,0,0,0,0,0,0,0,0,0]
[null,null,null,null,null,null,null,null,"他人から供給された熱","円/GJ",6611.9047619047615,null,null,"他人から供給された熱","千円/月",{"$f":"P79*$K89/1000","v":0},0,0,0,0,0,0,0,0,0,0,0,0,0,0]
[null,null,null,null,null,null,null,null,null,null,null,null,null,"エネルギーコスト合計","千円/月",{"$f":"SUM(P84:P89)","v":{"$error":"#N/A"}},{"$f":"SUM(Q84:Q89)","v":{"$error":"#N/A"}},{"$error":"#N/A"},{"$f":"SUM(S84:S89)","v":{"$error":"#N/A"}},{"$error":"#N/A"},{"$error":"#N/A"},{"$error":"#N/A"},{"$error":"#N/A"},{"$error":"#N/A"},{"$error":"#N/A"},{"$error":"#N/A"},{"$error":"#N/A"},{"$f":"SUM(AB84:AB89)","v":{"$error":"#N/A"}},{"$f":"SUM(AC84:AC89)","v":{"$error":"#N/A"}},{"$f":"SUM(AD84:AD89)","v":{"$error":"#N/A"}}]
[]
[null,null,null,null,null,null,null,null,"□CO2換算係数",null,null,null,null,"□CO2排出量"]
[null,null,null,null,null,null,null,null,"項目","単位","値","備考",null,"項目","単位","4月","5月","6月","7月","8月","9月","10月","11月","12月","1月","2月","3月","合計","最大","最小","備考"]
[null,null,null,null,null,null,null,null,"電気","tCO2/kWh",{"$f":"K52","v":4.8799999999999999E-4},null,null,"電気","t-CO2/月",{"$f":"P74*$K94","v":{"$error":"#N/A"}},{"$error":"#N/A"},{"$error":"#N/A"},{"$error":"#N/A"},{"$error":"#N/A"},{"$error":"#N/A"},{"$error":"#N/A"},{"$error":"#N/A"},{"$error":"#N/A"},{"$error":"#N/A"},{"$error":"#N/A"},{"$error":"#N/A"},{"$f":"SUM(P94:AA94)","v":{"$error":"#N/A"}},{"$f":"MAX(P94:AA94)","v":{"$error":"#N/A"}},{"$f":"MIN(P94:AA94)","v":{"$error":"#N/A"}}]
[null,null,null,null,null,null,null,null,"都市ガス（13A）","tCO2/km3",{"$f":"K53","v":2.23},null,null,"都市ガス（13A）","t-CO2/月",{"$f":"P75/1000*$K95","v":0},0,0,0,0,0,0,0,0,0,0,0,0,0,0]
[null,null,null,null,null,null,null,null,"灯油","tCO2/kL",2.4900000000000002,null,null,"灯油","t-CO2/月",{"$f":"P76/1000*$K96","v":0},0,0,0,0,0,0,0,0,0,0,0,0,0,0]
[null,null,null,null,null,null,null,null,"重油","tCO2/kL",2.71,null,null,"重油","t-CO2/月",{"$f":"P77/1000*$K97","v":0},0,0,0,0,0,0,0,0,0,0,0,0,0,0]
[null,null,null,null,null,null,null,null,"液化石油ガス（LPG）","tCO2/t",3,null,null,"液化石油ガス（LPG）","t-CO2/月",{"$f":"P78/1000*$K98","v":0},0,0,0,0,0,0,0,0,0,0,0,0,0,0]
[null,null,null,null,null,null,null,null,"他人から供給された熱","tCO2/GJ",5.7000000000000002E-2,null,null,"他人から供給された熱","t-CO2/月",{"$f":"P79/1000*$K99","v":0},0,0,0,0,0,0,0,0,0,0,0,0,0,0]
[null,null,null,null,null,null,null,null,null,null,null,null,null,"CO2排出量合計","t-CO2/月",{"$f":"SUM(P94:P99)","v":{"$error":"#N/A"}},{"$f":"SUM(Q94:Q99)","v":{"$error":"#N/A"}},{"$error":"#N/A"},{"$error":"#N/A"},{"$error":"#N/A"},{"$error":"#N/A"},{"$error":"#N/A"},{"$error":"#N/A"},{"$error":"#N/A"},{"$error":"#N/A"},{"$error":"#N/A"},{"$f":"SUM(AA94:AA99)","v":{"$error":"#N/A"}},{"$f":"SUM(AB94:AB99)","v":{"$error":"#N/A"}},{"$f":"SUM(AC94:AC99)","v":{"$error":"#N/A"}},{"$error":"#N/A"}]
[]
[null,null,null,null,null,null,null,null,"□一次エネルギー換算係数",null,null,null,null,"□一次エネルギー消費量"]
[null,null,null,null,null,null,null,null,"項目","単位","値","備考",null,"項目","単位","4月","5月","6月","7月","8月","9月","10月","11月","12月","1月","2月","3月","合計","最大","最小","備考"]
[null,null,null,null,null,null,null,null,"電気","MJ/kWh",{"$f":"K62","v":9.76},null,null,"電気","MJ/月",{"$f":"P74*$K104","v":{"$error":"#N/A"}},{"$error":"#N/A"},{"$error":"#N/A"},{"$error":"#N/A"},{"$error":"#N/A"},{"$error":"#N/A"},{"$error":"#N/A"},{"$error":"#N/A"},{"$error":"#N/A"},{"$error":"#N/A"},{"$error":"#N/A"},{"$error":"#N/A"},{"$f":"SUM(P104:AA104)","v":{"$error":"#N/A"}},{"$f":"MAX(P104:AA104)","v":{"$error":"#N/A"}},{"$f":"MIN(P104:AA104)","v":{"$error":"#N/A"}}]
[null,null,null,null,null,null,null,null,"都市ガス（13A）","MJ/m3",{"$f":"K63","v":45},null,null,"都市ガス（13A）","MJ/月",{"$f":"P75*$K105","v":0},0,0,0,0,0,0,0,0,0,0,0,0,0,0]
[null,null,null,null,null,null,null,null,"灯油","MJ/L",37,null,null,"灯油","MJ/月",{"$f":"P76*$K106","v":0},0,0,0,0,0,0,0,0,0,0,0,0,0,0]
[null,null,null,null,null,null,null,null,"重油","MJ/L",41,null,null,"重油","MJ/月",{"$f":"P77*$K107","v":0},0,0,0,0,0,0,0,0,0,0,0,0,0,0]
[null,null,null,null,null,null,null,null,"液化石油ガス（LPG）","MJ/kg",50,null,null,"液化石油ガス（LPG）","MJ/月",{"$f":"P78*$K108","v":0},0,0,0,0,0,0,0,0,0,0,0,0,0,0]
[null,null,null,null,null,null,null,null,"他人から供給された熱","MJ/MJ",1.36,null,null,"他人から供給された熱","MJ/月",{"$f":"P79*$K109","v":0},0,0,0,0,0,0,0,0,0,0,0,0,0,0]
[null,null,null,null,null,null,null,null,null,null,null,null,null,"一次エネルギー消費量合計","MJ/月",{"$f":"SUM(P104:P109)","v":{"$error":"#N/A"}},{"$error":"#N/A"},{"$error":"#N/A"},{"$error":"#N/A"},{"$error":"#N/A"},{"$error":"#N/A"},{"$error":"#N/A"},{"$error":"#N/A"},{"$error":"#N/A"},{"$error":"#N/A"},{"$error":"#N/A"},{"$f":"SUM(AA104:AA109)","v":{"$error":"#N/A"}},{"$error":"#N/A"},{"$error":"#N/A"},{"$error":"#N/A"}]
[]
[]
[null,null,null,null,null,null,null,null,"■補機類エネルギーコスト、CO2排出量、一次エネルギー消費量計算（エネルギー消費量を入力）"]
[null,null,null,null,null,null,null,null,null,null,null,null,null,"□エネルギー消費量"]
[null,null,null,null,null,null,null,null,null,"設定セル",null,null,null,"項目","単位","4月","5月","6月","7月","8月","9月","10月","11月","12月","1月","2月","3月","合計","最大","最小","備考"]
[null,null,null,null,null,null,null,null,null,"変更設定していいセル（計算式が入力されている）",null,null,null,"電気","kWh/月",{"$f":"P26","v":{"$error":"#N/A"}},{"$error":"#N/A"},{"$error":"#N/A"},{"$error":"#N/A"},{"$error":"#N/A"},{"$error":"#N/A"},{"$error":"#N/A"},{"$error":"#N/A"},{"$error":"#N/A"},{"$error":"#N/A"},{"$error":"#N/A"},{"$error":"#N/A"},{"$f":"SUM(P116:AA116)","v":{"$error":"#N/A"}},{"$f":"MAX(P116:AA116)","v":{"$error":"#N/A"}},{"$f":"MIN(P116:AA116)","v":{"$error":"#N/A"}}]
[null,null,null,null,null,null,null,null,null,"あまり変更しなくていい設定セル",null,null,null,"都市ガス（13A）","m3/月",null,null,null,null,null,null,null,null,null,null,null,null,0,0,0]
[null,null,null,null,null,null,null,null,null,"デフォ値・係数",null,null,null,"灯油","L/月",null,null,null,null,null,null,null,null,null,null,null,null,0,0,0]
[null,null,null,null,null,null,null,null,null,"計算式・項目確認セル",null,null,null,"重油","L/月",null,null,null,null,null,null,null,null,null,null,null,null,0,0,0]
[null,null,null,null,null,null,null,null,null,null,null,null,null,"液化石油ガス（LPG）","kg/月",null,null,null,null,null,null,null,null,null,null,null,null,0,0,0]
[null,null,null,null,null,null,null,null,null,null,null,null,null,"他人から供給された熱","MJ/月",null,null,null,null,null,null,null,null,null,null,null,null,0,0,0]
[]
[]
[null,null,null,null,null,null,null,null,"□エネルギーコスト単価(フラットレート)",null,null,null,null,"□エネルギーコスト検討"]
[null,null,null,null,null,null,null,null,"項目","単位","値","備考",null,"項目","単位","4月","5月","6月","7月","8月","9月","10月","11月","12月","1月","2月","3月","合計","最大","最小","備考"]
[null,null,null,null,null,null,null,null,"電気","円/kWh",{"$f":"K84","v":14},null,null,"電気","千円/月",{"$f":"P116*$K126/1000","v":{"$error":"#N/A"}},{"$error":"#N/A"},{"$error":"#N/A"},{"$error":"#N/A"},{"$error":"#N/A"},{"$error":"#N/A"},{"$error":"#N/A"},{"$error":"#N/A"},{"$error":"#N/A"},{"$error":"#N/A"},{"$error":"#N/A"},{"$error":"#N/A"},{"$f":"SUM(P126:AA126)","v":{"$error":"#N/A"}},{"$f":"MAX(P126:AA126)","v":{"$error":"#N/A"}},{"$f":"MIN(P126:AA126)","v":{"$error":"#N/A"}}]
[null,null,null,null,null,null,null,null,"都市ガス（13A）","円/m3",{"$f":"K85","v":114.64285714285714},null,null,"都市ガス（13A）","千円/月",{"$f":"P117*$K127/1000","v":0},0,0,0,0,0,0,0,0,0,0,0,0,0,0]
[null,null,null,null,null,null,null,null,"灯油","円/L",107.88888888888889,null,null,"灯油","千円/月",{"$f":"P118*$K128/1000","v":0},0,0,0,0,0,0,0,0,0,0,0,0,0,0]
[null,null,null,null,null,null,null,null,"重油","円/L",76.099999999999994,null,null,"重油","千円/月",{"$f":"P119*$K129/1000","v":0},0,0,0,0,0,0,0,0,0,0,0,0,0,0]
[null,null,null,null,null,null,null,null,"液化石油ガス（LPG）","円/kg",159.40476190476193,null,null,"液化石油ガス（LPG）","千円/月",{"$f":"P120*$K130/1000","v":0},0,0,0,0,0,0,0,0,0,0,0,0,0,0]
[null,null,null,null,null,null,null,null,"他人から供給された熱","円/GJ",6611.9047619047615,null,null,"他人から供給された熱","千円/月",{"$f":"P121*$K131/1000","v":0},0,0,0,0,0,0,0,0,0,0,0,0,0,0]
[null,null,null,null,null,null,null,null,null,null,null,null,null,"エネルギーコスト合計","千円/月",{"$f":"SUM(P126:P131)","v":{"$error":"#N/A"}},{"$f":"SUM(Q126:Q131)","v":{"$error":"#N/A"}},{"$error":"#N/A"},{"$error":"#N/A"},{"$error":"#N/A"},{"$error":"#N/A"},{"$error":"#N/A"},{"$error":"#N/A"},{"$error":"#N/A"},{"$error":"#N/A"},{"$error":"#N/A"},{"$f":"SUM(AA126:AA131)","v":{"$error":"#N/A"}},{"$f":"SUM(AB126:AB131)","v":{"$error":"#N/A"}},{"$f":"SUM(AC126:AC131)","v":{"$error":"#N/A"}},{"$f":"SUM(AD126:AD131)","v":{"$error":"#N/A"}}]
[]
[null,null,null,null,null,null,null,null,"□CO2換算係数",null,null,null,null,"□CO2排出量"]
[null,null,null,null,null,null,null,null,"項目","単位","値","備考",null,"項目","単位","4月","5月","6月","7月","8月","9月","10月","11月","12月","1月","2月","3月","合計","最大","最小","備考"]
[null,null,null,null,null,null,null,null,"電気","tCO2/kWh",{"$f":"K94","v":4.8799999999999999E-4},null,null,"電気","t-CO2/月",{"$f":"P116*$K136","v":{"$error":"#N/A"}},{"$error":"#N/A"},{"$error":"#N/A"},{"$error":"#N/A"},{"$error":"#N/A"},{"$error":"#N/A"},{"$error":"#N/A"},{"$error":"#N/A"},{"$error":"#N/A"},{"$error":"#N/A"},{"$error":"#N/A"},{"$error":"#N/A"},{"$f":"SUM(P136:AA136)","v":{"$error":"#N/A"}},{"$f":"MAX(P136:AA136)","v":{"$error":"#N/A"}},{"$f":"MIN(P136:AA136)","v":{"$error":"#N/A"}}]
[null,null,null,null,null,null,null,null,"都市ガス（13A）","tCO2/km3",{"$f":"K95","v":2.23},null,null,"都市ガス（13A）","t-CO2/月",{"$f":"P117/1000*$K137","v":0},0,0,0,0,0,0,0,0,0,0,0,0,0,0]
[null,null,null,null,null,null,null,null,"灯油","tCO2/kL",2.4900000000000002,null,null,"灯油","t-CO2/月",{"$f":"P118/1000*$K138","v":0},0,0,0,0,0,0,0,0,0,0,0,0,0,0]
[null,null,null,null,null,null,null,null,"重油","tCO2/kL",2.71,null,null,"重油","t-CO2/月",{"$f":"P119/1000*$K139","v":0},0,0,0,0,0,0,0,0,0,0,0,0,0,0]
[null,null,null,null,null,null,null,null,"液化石油ガス（LPG）","tCO2/t",3,null,null,"液化石油ガス（LPG）","t-CO2/月",{"$f":"P120/1000*$K140","v":0},0,0,0,0,0,0,0,0,0,0,0,0,0,0]
[null,null,null,null,null,null,null,null,"他人から供給された熱","tCO2/GJ",5.7000000000000002E-2,null,null,"他人から供給された熱","t-CO2/月",{"$f":"P121/1000*$K141","v":0},0,0,0,0,0,0,0,0,0,0,0,0,0,0]
[null,null,null,null,null,null,null,null,null,null,null,null,null,"CO2排出量合計","t-CO2/月",{"$f":"SUM(P136:P141)","v":{"$error":"#N/A"}},{"$f":"SUM(Q136:Q141)","v":{"$error":"#N/A"}},{"$error":"#N/A"},{"$error":"#N/A"},{"$error":"#N/A"},{"$error":"#N/A"},{"$error":"#N/A"},{"$error":"#N/A"},{"$error":"#N/A"},{"$error":"#N/A"},{"$error":"#N/A"},{"$f":"SUM(AA136:AA141)","v":{"$error":"#N/A"}},{"$f":"SUM(AB136:AB141)","v":{"$error":"#N/A"}},{"$f":"SUM(AC136:AC141)","v":{"$error":"#N/A"}},{"$error":"#N/A"}]
[]
[null,null,null,null,null,null,null,null,"□一次エネルギー換算係数",null,null,null,null,"□一次エネルギー消費量"]
[null,null,null,null,null,null,null,null,"項目","単位","値","備考",null,"項目","単位","4月","5月","6月","7月","8月","9月","10月","11月","12月","1月","2月","3月","合計","最大","最小","備考"]
[null,null,null,null,null,null,null,null,"電気","MJ/kWh",{"$f":"K104","v":9.76},null,null,"電気","MJ/月",{"$f":"P116*$K146","v":{"$error":"#N/A"}},{"$error":"#N/A"},{"$error":"#N/A"},{"$error":"#N/A"},{"$error":"#N/A"},{"$error":"#N/A"},{"$error":"#N/A"},{"$error":"#N/A"},{"$error":"#N/A"},{"$error":"#N/A"},{"$error":"#N/A"},{"$error":"#N/A"},{"$f":"SUM(P146:AA146)","v":{"$error":"#N/A"}},{"$f":"MAX(P146:AA146)","v":{"$error":"#N/A"}},{"$f":"MIN(P146:AA146)","v":{"$error":"#N/A"}}]
[null,null,null,null,null,null,null,null,"都市ガス（13A）","MJ/m3",{"$f":"K105","v":45},null,null,"都市ガス（13A）","MJ/月",{"$f":"P117*$K147","v":0},0,0,0,0,0,0,0,0,0,0,0,0,0,0]
[null,null,null,null,null,null,null,null,"灯油","MJ/L",37,null,null,"灯油","MJ/月",{"$f":"P118*$K148","v":0},0,0,0,0,0,0,0,0,0,0,0,0,0,0]
[null,null,null,null,null,null,null,null,"重油","MJ/L",41,null,null,"重油","MJ/月",{"$f":"P119*$K149","v":0},0,0,0,0,0,0,0,0,0,0,0,0,0,0]
[null,null,null,null,null,null,null,null,"液化石油ガス（LPG）","MJ/kg",50,null,null,"液化石油ガス（LPG）","MJ/月",{"$f":"P120*$K150","v":0},0,0,0,0,0,0,0,0,0,0,0,0,0,0]
[null,null,null,null,null,null,null,null,"他人から供給された熱","MJ/MJ",1.36,null,null,"他人から供給された熱","MJ/月",{"$f":"P121*$K151","v":0},0,0,0,0,0,0,0,0,0,0,0,0,0,0]
[null,null,null,null,null,null,null,null,null,null,null,null,null,"一次エネルギー消費量合計","MJ/月",{"$f":"SUM(P146:P151)","v":{"$error":"#N/A"}},{"$error":"#N/A"},{"$error":"#N/A"},{"$error":"#N/A"},{"$error":"#N/A"},{"$error":"#N/A"},{"$error":"#N/A"},{"$error":"#N/A"},{"$error":"#N/A"},{"$error":"#N/A"},{"$error":"#N/A"},{"$f":"SUM(AA146:AA151)","v":{"$error":"#N/A"}},{"$error":"#N/A"},{"$error":"#N/A"},{"$error":"#N/A"}]

{"sheet":"残り需要_既存_空気熱源_給湯・空調_熱源容量","index":34,"n_rows":37,"n_cols":16,"rows_kept":37,"cut":false,"hidden":true,"merged":[]}
["■時刻別負荷"]
["■時刻負荷パタン設定",null,null,null,null,null,null,null,"■時刻別負荷",null,null,null,"■最大負荷　既存設備　熱源容量設定"]
["項目","値","単位","備考",null,null,null,null,null,"時刻別負荷比率","負荷",null,"項目","値","単位","備考"]
["建物用途",{"$f":"入力シート!C9","v":0},"-",null,null,null,null,null,"時刻","-","kW",null,"最大負荷",{"$f":"MAX(K5:K28)","v":{"$error":"#N/A"}},"kW","既存設備での熱源容量"]
["熱利用用途",{"$f":"HLOOKUP(B7,A13:D14,2,FALSE)","v":{"$error":"#N/A"}},"-",null,null,null,null,null,1,{"$f":"VLOOKUP(I5,熱需要量算定・原単位!$AJ$9:$BL$32,MATCH($B$6,熱需要量算定・原単位!$AK$5:$BL$5,0)+1,FALSE)","v":{"$error":"#N/A"}},{"$f":"$B$7*J5/100","v":{"$error":"#N/A"}}]
["検索key",{"$f":"VLOOKUP(B4&B5,E17:F32,2,FALSE)","v":{"$error":"#N/A"}},"-",null,null,null,null,null,2,{"$f":"VLOOKUP(I6,熱需要量算定・原単位!$AJ$9:$BL$32,MATCH($B$6,熱需要量算定・原単位!$AK$5:$BL$5,0)+1,FALSE)","v":{"$error":"#N/A"}},{"$f":"$B$7*J6/100","v":{"$error":"#N/A"}}]
["一日の熱需要量",{"$f":"MAX(残り需要_既存_空気熱源_給湯・空調_熱源容量!B13:D13)","v":{"$error":"#N/A"}},"kWh/日",null,null,null,null,null,3,{"$f":"VLOOKUP(I7,熱需要量算定・原単位!$AJ$9:$BL$32,MATCH($B$6,熱需要量算定・原単位!$AK$5:$BL$5,0)+1,FALSE)","v":{"$error":"#N/A"}},{"$error":"#N/A"}]
[null,null,null,null,null,null,null,null,4,{"$f":"VLOOKUP(I8,熱需要量算定・原単位!$AJ$9:$BL$32,MATCH($B$6,熱需要量算定・原単位!$AK$5:$BL$5,0)+1,FALSE)","v":{"$error":"#N/A"}},{"$error":"#N/A"}]
["熱利用用途欄は、日あたりの熱需要量が最も多い月の熱利用用途を下表より検索",null,null,null,null,null,null,null,5,{"$f":"VLOOKUP(I9,熱需要量算定・原単位!$AJ$9:$BL$32,MATCH($B$6,熱需要量算定・原単位!$AK$5:$BL$5,0)+1,FALSE)","v":{"$error":"#N/A"}},{"$error":"#N/A"}]
["検索key欄は、時刻別負荷変動費率を熱需要量算定・原単位シートより転記する列を決定するために利用。",null,null,null,null,null,null,null,6,{"$f":"VLOOKUP(I10,熱需要量算定・原単位!$AJ$9:$BL$32,MATCH($B$6,熱需要量算定・原単位!$AK$5:$BL$5,0)+1,FALSE)","v":{"$error":"#N/A"}},{"$error":"#N/A"}]
[null,null,null,null,null,null,null,null,7,{"$f":"VLOOKUP(I11,熱需要量算定・原単位!$AJ$9:$BL$32,MATCH($B$6,熱需要量算定・原単位!$AK$5:$BL$5,0)+1,FALSE)","v":{"$error":"#N/A"}},{"$error":"#N/A"}]
["■時刻別負荷パタン熱利用用途の決定用",null,null,null,null,null,null,null,8,{"$f":"VLOOKUP(I12,熱需要量算定・原単位!$AJ$9:$BL$32,MATCH($B$6,熱需要量算定・原単位!$AK$5:$BL$5,0)+1,FALSE)","v":{"$error":"#N/A"}},{"$error":"#N/A"}]
["日あたりの熱需要量",{"$f":"SUMPRODUCT(MAX((残り需要_既存_空気熱源_給湯・空調_RC!$P$5:$AA$5=B14)*(残り需要_既存_空気熱源_給湯・空調_RC!$P$11:$AA$11)))","v":{"$error":"#N/A"}},{"$f":"SUMPRODUCT(MAX((残り需要_既存_空気熱源_給湯・空調_RC!$P$5:$AA$5=C14)*(残り需要_既存_空気熱源_給湯・空調_RC!$P$11:$AA$11)))","v":{"$error":"#N/A"}},{"$f":"SUMPRODUCT(MAX((残り需要_既存_空気熱源_給湯・空調_RC!$P$5:$AA$5=D14)*(残り需要_既存_空気熱源_給湯・空調_RC!$P$11:$AA$11)))","v":{"$error":"#N/A"}},null,null,null,null,9,{"$f":"VLOOKUP(I13,熱需要量算定・原単位!$AJ$9:$BL$32,MATCH($B$6,熱需要量算定・原単位!$AK$5:$BL$5,0)+1,FALSE)","v":{"$error":"#N/A"}},{"$error":"#N/A"}]
["熱利用用途","給湯","冷房","暖房",null,null,null,null,10,{"$f":"VLOOKUP(I14,熱需要量算定・原単位!$AJ$9:$BL$32,MATCH($B$6,熱需要量算定・原単位!$AK$5:$BL$5,0)+1,FALSE)","v":{"$error":"#N/A"}},{"$error":"#N/A"}]
[null,null,null,null,null,null,null,null,11,{"$f":"VLOOKUP(I15,熱需要量算定・原単位!$AJ$9:$BL$32,MATCH($B$6,熱需要量算定・原単位!$AK$5:$BL$5,0)+1,FALSE)","v":{"$error":"#N/A"}},{"$error":"#N/A"}]
["■時刻別負荷変動比率　検索key設定・運転時間",null,null,null,null,null,null,null,12,{"$f":"VLOOKUP(I16,熱需要量算定・原単位!$AJ$9:$BL$32,MATCH($B$6,熱需要量算定・原単位!$AK$5:$BL$5,0)+1,FALSE)","v":{"$error":"#N/A"}},{"$error":"#N/A"}]
["No","建物用途","熱利用用途","季節","VLOOKUP","検索key","運転時間",null,13,{"$f":"VLOOKUP(I17,熱需要量算定・原単位!$AJ$9:$BL$32,MATCH($B$6,熱需要量算定・原単位!$AK$5:$BL$5,0)+1,FALSE)","v":{"$error":"#N/A"}},{"$error":"#N/A"}]
[1,"集合住宅","給湯","冬期",{"$f":"B18&C18","v":"集合住宅給湯"},{"$f":"B18&C18&D18","v":"集合住宅給湯冬期"},{"$f":"HLOOKUP(F18,熱需要量算定・原単位!$AJ$5:$BL$34,30,FALSE)","v":22},null,14,{"$f":"VLOOKUP(I18,熱需要量算定・原単位!$AJ$9:$BL$32,MATCH($B$6,熱需要量算定・原単位!$AK$5:$BL$5,0)+1,FALSE)","v":{"$error":"#N/A"}},{"$error":"#N/A"}]
[2,"集合住宅","冷房","夏期",{"$f":"B19&C19","v":"集合住宅冷房"},{"$f":"B19&C19&D19","v":"集合住宅冷房夏期"},{"$f":"HLOOKUP(F19,熱需要量算定・原単位!$AJ$5:$BL$34,30,FALSE)","v":24},null,15,{"$f":"VLOOKUP(I19,熱需要量算定・原単位!$AJ$9:$BL$32,MATCH($B$6,熱需要量算定・原単位!$AK$5:$BL$5,0)+1,FALSE)","v":{"$error":"#N/A"}},{"$error":"#N/A"}]
[3,"集合住宅","暖房","冬期","集合住宅暖房","集合住宅暖房冬期",{"$f":"HLOOKUP(F20,熱需要量算定・原単位!$AJ$5:$BL$34,30,FALSE)","v":24},null,16,{"$f":"VLOOKUP(I20,熱需要量算定・原単位!$AJ$9:$BL$32,MATCH($B$6,熱需要量算定・原単位!$AK$5:$BL$5,0)+1,FALSE)","v":{"$error":"#N/A"}},{"$error":"#N/A"}]
[4,"業務施設","給湯","冬期","業務施設給湯","業務施設給湯冬期",{"$f":"HLOOKUP(F21,熱需要量算定・原単位!$AJ$5:$BL$34,30,FALSE)","v":14},null,17,{"$f":"VLOOKUP(I21,熱需要量算定・原単位!$AJ$9:$BL$32,MATCH($B$6,熱需要量算定・原単位!$AK$5:$BL$5,0)+1,FALSE)","v":{"$error":"#N/A"}},{"$error":"#N/A"}]
[5,"業務施設","冷房","夏期","業務施設冷房","業務施設冷房夏期",{"$f":"HLOOKUP(F22,熱需要量算定・原単位!$AJ$5:$BL$34,30,FALSE)","v":14},null,18,{"$f":"VLOOKUP(I22,熱需要量算定・原単位!$AJ$9:$BL$32,MATCH($B$6,熱需要量算定・原単位!$AK$5:$BL$5,0)+1,FALSE)","v":{"$error":"#N/A"}},{"$error":"#N/A"}]
[6,"業務施設","暖房","冬期","業務施設暖房","業務施設暖房冬期",{"$f":"HLOOKUP(F23,熱需要量算定・原単位!$AJ$5:$BL$34,30,FALSE)","v":11},null,19,{"$f":"VLOOKUP(I23,熱需要量算定・原単位!$AJ$9:$BL$32,MATCH($B$6,熱需要量算定・原単位!$AK$5:$BL$5,0)+1,FALSE)","v":{"$error":"#N/A"}},{"$error":"#N/A"}]
[7,"商業施設","給湯","-","商業施設給湯","商業施設給湯-",{"$f":"HLOOKUP(F24,熱需要量算定・原単位!$AJ$5:$BL$34,30,FALSE)","v":12},null,20,{"$f":"VLOOKUP(I24,熱需要量算定・原単位!$AJ$9:$BL$32,MATCH($B$6,熱需要量算定・原単位!$AK$5:$BL$5,0)+1,FALSE)","v":{"$error":"#N/A"}},{"$error":"#N/A"}]
[8,"商業施設","冷房","-","商業施設冷房","商業施設冷房-",{"$f":"HLOOKUP(F25,熱需要量算定・原単位!$AJ$5:$BL$34,30,FALSE)","v":11},null,21,{"$f":"VLOOKUP(I25,熱需要量算定・原単位!$AJ$9:$BL$32,MATCH($B$6,熱需要量算定・原単位!$AK$5:$BL$5,0)+1,FALSE)","v":{"$error":"#N/A"}},{"$error":"#N/A"}]
[9,"商業施設","暖房","-","商業施設暖房","商業施設暖房-",{"$f":"HLOOKUP(F26,熱需要量算定・原単位!$AJ$5:$BL$34,30,FALSE)","v":11},null,22,{"$f":"VLOOKUP(I26,熱需要量算定・原単位!$AJ$9:$BL$32,MATCH($B$6,熱需要量算定・原単位!$AK$5:$BL$5,0)+1,FALSE)","v":{"$error":"#N/A"}},{"$error":"#N/A"}]
[10,"宿泊施設","給湯","-","宿泊施設給湯","宿泊施設給湯-",{"$f":"HLOOKUP(F27,熱需要量算定・原単位!$AJ$5:$BL$34,30,FALSE)","v":24},null,23,{"$f":"VLOOKUP(I27,熱需要量算定・原単位!$AJ$9:$BL$32,MATCH($B$6,熱需要量算定・原単位!$AK$5:$BL$5,0)+1,FALSE)","v":{"$error":"#N/A"}},{"$error":"#N/A"}]
[11,"宿泊施設","冷房","夏期","宿泊施設冷房","宿泊施設冷房夏期",{"$f":"HLOOKUP(F28,熱需要量算定・原単位!$AJ$5:$BL$34,30,FALSE)","v":24},null,24,{"$f":"VLOOKUP(I28,熱需要量算定・原単位!$AJ$9:$BL$32,MATCH($B$6,熱需要量算定・原単位!$AK$5:$BL$5,0)+1,FALSE)","v":{"$error":"#N/A"}},{"$error":"#N/A"}]
[12,"宿泊施設","暖房","冬期","宿泊施設暖房","宿泊施設暖房冬期",{"$f":"HLOOKUP(F29,熱需要量算定・原単位!$AJ$5:$BL$34,30,FALSE)","v":23},null,"合計",null,{"$f":"SUM(K5:K28)","v":{"$error":"#N/A"}}]
[13,"医療施設","給湯","冬期","医療施設給湯","医療施設給湯冬期",{"$f":"HLOOKUP(F30,熱需要量算定・原単位!$AJ$5:$BL$34,30,FALSE)","v":24}]
[14,"医療施設","冷房","夏期","医療施設冷房","医療施設冷房夏期",{"$f":"HLOOKUP(F31,熱需要量算定・原単位!$AJ$5:$BL$34,30,FALSE)","v":24}]
[15,"医療施設","暖房","冬期","医療施設暖房","医療施設暖房冬期",{"$f":"HLOOKUP(F32,熱需要量算定・原単位!$AJ$5:$BL$34,30,FALSE)","v":24}]
[]
[]
["■運転時間の設定（熱負荷に合わせた運転の場合）"]
["熱利用用途","給湯","冷房","暖房"]
["運転時間",{"$f":"VLOOKUP($B$4&B36,$E$17:$G$32,3,FALSE)","v":{"$error":"#N/A"}},{"$f":"VLOOKUP($B$4&C36,$E$17:$G$32,3,FALSE)","v":{"$error":"#N/A"}},{"$f":"VLOOKUP($B$4&D36,$E$17:$G$32,3,FALSE)","v":{"$error":"#N/A"}}]

{"sheet":"残り需要_既存_空気熱源_給湯・空調_IC","index":35,"n_rows":30,"n_cols":16,"rows_kept":30,"cut":false,"hidden":true,"merged":[[27,1,27,2],[28,1,28,2],[29,1,29,2],[4,1,16,1],[17,1,19,1],[20,1,23,1],[24,1,24,2],[25,1,25,2],[26,1,26,2]]}
[null,"■イニシャルコスト算出"]
[]
[null,"比較対象_既存_空気熱源_給湯・空調"]
[null,null,"名称","摘要","単価[千円]","数量","単位","金額[千円]","備考","memo",null,null,null,null,"価格関数代入値","単位"]
[null,"機械工事","空冷HP",null,{"$f":"IF(O5=0,0,価格関数!$E$24*残り需要_既存_空気熱源_給湯・空調_IC!O5+価格関数!$F$24)","v":{"$error":"#N/A"}},1,"台",{"$f":"F5*E5","v":{"$error":"#N/A"}},null,"価格関数　メーカ調査から作成予定",null,null,null,"ヒートポンプ能力",{"$f":"残り需要_既存_空気熱源_給湯・空調_RC!K6","v":{"$error":"#N/A"}},"kW"]
[null,null,"冷温水ポンプ",null,{"$f":"IF(O6=0,0,価格関数!$E$21*O6+価格関数!$F$21)","v":{"$error":"#N/A"}},1,"台",{"$f":"F6*E6","v":{"$error":"#N/A"}},null,"価格関数",null,null,null,"ポンプ出力",{"$f":"残り需要_既存_空気熱源_給湯・空調_RC!K12","v":{"$error":"#N/A"}},"kW"]
[]
[]
[]
[]
[]
[]
[]
[null,null,"自動制御",null,null,1,"式",{"$f":"INT(SUM(H5:H13)*I14)","v":{"$error":"#N/A"}},0.2,"概算　事例等より設定"]
[null,null,"その他配管","概算（付属品込）",null,1,"式",{"$f":"INT(SUM(H5:H14)*I15)","v":{"$error":"#N/A"}},0.1,"配管費=機器類×5~10%と設定"]
[]
[null,null,"小計",null,null,null,null,{"$f":"SUM(H5:H16)","v":{"$error":"#N/A"}}]
[null,"電気工事","概算","概算",null,null,null,{"$f":"INT(H17*I18)","v":{"$error":"#N/A"}},0.3]
[]
[null,null,"小計",null,null,null,null,{"$f":"SUM(H18:H19)","v":{"$error":"#N/A"}}]
[null,"土工事"]
[]
[]
[null,null,"小計",null,null,null,null,{"$f":"SUM(H21:H23)","v":0}]
[null,"直接工事費",null,null,null,null,null,{"$f":"H24+H20+H17","v":{"$error":"#N/A"}}]
[null,"間接工事費",null,null,null,1,"式",{"$f":"INT(H25*0.3)","v":{"$error":"#N/A"}},"直接工事費×30%"]
[null,"工事原価",null,null,null,1,"式",{"$f":"H25+H26","v":{"$error":"#N/A"}}]
[null,"消費税",null,null,null,1,"式"]
[]
[null,"合計",null,null,null,null,null,{"$f":"H27+H28","v":{"$error":"#N/A"}}]

{"sheet":"比較対象_既存_燃料_給湯_RC","index":36,"n_rows":152,"n_cols":31,"rows_kept":152,"cut":false,"hidden":true,"merged":[]}
[null,"■入力情報",null,null,null,null,null,null,"■給湯　燃料方式システムのエネルギー計算"]
[]
[null,"■対象施設情報",null,null,null,null,null,null,"■給湯　燃料方式システム検討",null,null,null,null,"■給湯　燃料方式システム　エネルギー計算・エネルギーコスト検討"]
[null,"項目","単位","値","備考",null,null,null,"項目","単位","値","備考",null,"項目","単位","4月","5月","6月","7月","8月","9月","10月","11月","12月","1月","2月","3月","合計","最大","最小","備考"]
[null,"地域選択","-",{"$f":"入力シート!C7","v":0},"都道府県を選択してください。",null,null,null,"熱源容量","kW",{"$f":"比較対象_既存_燃料_給湯_熱源容量!N4","v":{"$error":"#N/A"}},"熱源容量シートより",null,"熱利用用途",null,{"$f":"マッチング!E10","v":""},{"$f":"マッチング!F10","v":""},{"$f":"マッチング!G10","v":""},{"$f":"マッチング!H10","v":""},{"$f":"マッチング!I10","v":""},{"$f":"マッチング!J10","v":""},{"$f":"マッチング!K10","v":""},{"$f":"マッチング!L10","v":""},{"$f":"マッチング!M10","v":""},{"$f":"マッチング!N10","v":""},{"$f":"マッチング!O10","v":""},{"$f":"マッチング!P10","v":""}]
[null,"熱利用用途","-",{"$f":"入力シート!C8","v":0},"給湯、空調、融雪から選択してください。",null,null,null,"温度差","℃",5,"想定設定値",null,"熱需要量","MJ/月",{"$f":"マッチング!E11","v":{"$error":"#N/A"}},{"$f":"マッチング!F11","v":{"$error":"#N/A"}},{"$f":"マッチング!G11","v":{"$error":"#N/A"}},{"$f":"マッチング!H11","v":{"$error":"#N/A"}},{"$f":"マッチング!I11","v":{"$error":"#N/A"}},{"$f":"マッチング!J11","v":{"$error":"#N/A"}},{"$f":"マッチング!K11","v":{"$error":"#N/A"}},{"$f":"マッチング!L11","v":{"$error":"#N/A"}},{"$f":"マッチング!M11","v":{"$error":"#N/A"}},{"$f":"マッチング!N11","v":{"$error":"#N/A"}},{"$f":"マッチング!O11","v":{"$error":"#N/A"}},{"$f":"マッチング!P11","v":{"$error":"#N/A"}},{"$f":"SUM(P6:AA6)","v":{"$error":"#N/A"}},{"$f":"MAX(P6:AA6)","v":{"$error":"#N/A"}},{"$f":"MIN(P6:AA6)","v":{"$error":"#N/A"}}]
[null,"建物用途","-",{"$f":"入力シート!C9","v":0},"給湯、空調利用の場合は建物用途を選択してください。",null,null,null,"冷温水流量","L/min",{"$f":"K5/K6/$D$22/$D$23*1000*60","v":{"$error":"#N/A"}},null,null,null,"kWh/月",{"$f":"P6*1000/3600","v":{"$error":"#N/A"}},{"$f":"Q6*1000/3600","v":{"$error":"#N/A"}},{"$error":"#N/A"},{"$error":"#N/A"},{"$error":"#N/A"},{"$error":"#N/A"},{"$error":"#N/A"},{"$error":"#N/A"},{"$error":"#N/A"},{"$error":"#N/A"},{"$error":"#N/A"},{"$error":"#N/A"},{"$f":"SUM(P7:AA7)","v":{"$error":"#N/A"}},{"$f":"MAX(P7:AA7)","v":{"$error":"#N/A"}},{"$f":"MIN(P7:AA7)","v":{"$error":"#N/A"}}]
[null,"延床面積","m2",{"$f":"入力シート!C10","v":0},"給湯、空調利用の場合は数値を入力してください。",null,null,null,"冷温水揚程（想定）","m",15,"想定設定値",null,"日数","日",{"$f":"熱需要量算定・原単位!D24","v":30},{"$f":"熱需要量算定・原単位!E24","v":31},{"$f":"熱需要量算定・原単位!F24","v":30},{"$f":"熱需要量算定・原単位!G24","v":31},{"$f":"熱需要量算定・原単位!H24","v":31},{"$f":"熱需要量算定・原単位!I24","v":30},{"$f":"熱需要量算定・原単位!J24","v":31},{"$f":"熱需要量算定・原単位!K24","v":30},{"$f":"熱需要量算定・原単位!L24","v":31},{"$f":"熱需要量算定・原単位!M24","v":31},{"$f":"熱需要量算定・原単位!N24","v":28},{"$f":"熱需要量算定・原単位!O24","v":31},{"$f":"SUM(P8:AA8)","v":365}]
[null,"対象面積","m2",{"$f":"入力シート!C11","v":0},"融雪利用の場合は数値を入力して下さい。",null,null,null,"冷温水ポンプ効率","%",{"$f":"IF(K7<80,ポンプ効率近似式!$D$14,-1.403*LN(K7/1000)^2+6.9719*LN(K7/1000)+53.781)","v":{"$error":"#N/A"}},"ポンプ効率近似式より",null,"運転時間","h/日",{"$f":"HLOOKUP(P5,比較対象_既存_燃料_給湯_熱源容量!$B$36:$D$37,2,FALSE)","v":{"$error":"#N/A"}},{"$f":"HLOOKUP(Q5,比較対象_既存_燃料_給湯_熱源容量!$B$36:$D$37,2,FALSE)","v":{"$error":"#N/A"}},{"$f":"HLOOKUP(R5,比較対象_既存_燃料_給湯_熱源容量!$B$36:$D$37,2,FALSE)","v":{"$error":"#N/A"}},{"$f":"HLOOKUP(S5,比較対象_既存_燃料_給湯_熱源容量!$B$36:$D$37,2,FALSE)","v":{"$error":"#N/A"}},{"$f":"HLOOKUP(T5,比較対象_既存_燃料_給湯_熱源容量!$B$36:$D$37,2,FALSE)","v":{"$error":"#N/A"}},{"$f":"HLOOKUP(U5,比較対象_既存_燃料_給湯_熱源容量!$B$36:$D$37,2,FALSE)","v":{"$error":"#N/A"}},{"$f":"HLOOKUP(V5,比較対象_既存_燃料_給湯_熱源容量!$B$36:$D$37,2,FALSE)","v":{"$error":"#N/A"}},{"$f":"HLOOKUP(W5,比較対象_既存_燃料_給湯_熱源容量!$B$36:$D$37,2,FALSE)","v":{"$error":"#N/A"}},{"$f":"HLOOKUP(X5,比較対象_既存_燃料_給湯_熱源容量!$B$36:$D$37,2,FALSE)","v":{"$error":"#N/A"}},{"$f":"HLOOKUP(Y5,比較対象_既存_燃料_給湯_熱源容量!$B$36:$D$37,2,FALSE)","v":{"$error":"#N/A"}},{"$f":"HLOOKUP(Z5,比較対象_既存_燃料_給湯_熱源容量!$B$36:$D$37,2,FALSE)","v":{"$error":"#N/A"}},{"$f":"HLOOKUP(AA5,比較対象_既存_燃料_給湯_熱源容量!$B$36:$D$37,2,FALSE)","v":{"$error":"#N/A"}}]
[null,"燃料種別の選択","-",{"$f":"入力シート!C16","v":0},null,null,null,null,"冷温水ポンプ消費電力","kW",{"$f":"$D$23*$D$25*K7/1000/60*K8/10/K9","v":{"$error":"#N/A"}},"ポンプ関数より",null,"日あたりの熱需要量","MJ/日",{"$f":"P6/P8","v":{"$error":"#N/A"}},{"$f":"Q6/Q8","v":{"$error":"#N/A"}},{"$error":"#N/A"},{"$error":"#N/A"},{"$error":"#N/A"},{"$error":"#N/A"},{"$error":"#N/A"},{"$error":"#N/A"},{"$error":"#N/A"},{"$error":"#N/A"},{"$error":"#N/A"},{"$error":"#N/A"},{"$f":"SUM(P10:AA10)","v":{"$error":"#N/A"}},{"$f":"MAX(P10:AA10)","v":{"$error":"#N/A"}},{"$f":"MIN(P10:AA10)","v":{"$error":"#N/A"}}]
[null,"選択燃料の発熱量",{"$f":"VLOOKUP(D10,一次E換算!A3:D8,4,FALSE)","v":{"$error":"#N/A"}},{"$f":"VLOOKUP(D10,一次E換算!A3:D8,2,FALSE)","v":{"$error":"#N/A"}},null,null,null,null,null,null,null,null,null,null,"kWh/日",{"$f":"P10*1000/3600","v":{"$error":"#N/A"}},{"$error":"#N/A"},{"$error":"#N/A"},{"$error":"#N/A"},{"$error":"#N/A"},{"$error":"#N/A"},{"$error":"#N/A"},{"$error":"#N/A"},{"$error":"#N/A"},{"$error":"#N/A"},{"$error":"#N/A"},{"$error":"#N/A"},{"$f":"SUM(P11:AA11)","v":{"$error":"#N/A"}},{"$f":"MAX(P11:AA11)","v":{"$error":"#N/A"}},{"$f":"MIN(P11:AA11)","v":{"$error":"#N/A"}}]
[null,null,null,null,null,null,null,null,null,null,null,null,null,"熱源機効率","-",0.9,0.9,0.9,0.9,0.9,0.9,0.9,0.9,0.9,0.9,0.9,0.9]
[null,null,null,null,null,null,null,null,null,null,null,null,null,"熱源機　燃料　必要発熱量","MJ/月",{"$f":"P6/P12","v":{"$error":"#N/A"}},{"$f":"Q6/Q12","v":{"$error":"#N/A"}},{"$error":"#N/A"},{"$error":"#N/A"},{"$error":"#N/A"},{"$error":"#N/A"},{"$error":"#N/A"},{"$error":"#N/A"},{"$error":"#N/A"},{"$error":"#N/A"},{"$error":"#N/A"},{"$error":"#N/A"},{"$f":"SUM(P13:AA13)","v":{"$error":"#N/A"}},{"$f":"MAX(P13:AA13)","v":{"$error":"#N/A"}},{"$f":"MIN(P13:AA13)","v":{"$error":"#N/A"}}]
[null,null,null,null,null,null,null,null,null,null,null,null,null,null,"kWh/月",{"$f":"P7/P12","v":{"$error":"#N/A"}},{"$error":"#N/A"},{"$error":"#N/A"},{"$error":"#N/A"},{"$error":"#N/A"},{"$error":"#N/A"},{"$error":"#N/A"},{"$error":"#N/A"},{"$error":"#N/A"},{"$error":"#N/A"},{"$error":"#N/A"},{"$error":"#N/A"},{"$f":"SUM(P14:AA14)","v":{"$error":"#N/A"}},{"$f":"MAX(P14:AA14)","v":{"$error":"#N/A"}},{"$f":"MIN(P14:AA14)","v":{"$error":"#N/A"}}]
[null,null,null,null,null,null,null,null,null,null,null,null,null,"熱源機　燃料　消費量",{"$f":"RIGHT(C11,LEN(C11)-3)&\"/月\"","v":{"$error":"#N/A"}},{"$f":"P13/$D$11","v":{"$error":"#N/A"}},{"$f":"Q13/$D$11","v":{"$error":"#N/A"}},{"$error":"#N/A"},{"$error":"#N/A"},{"$error":"#N/A"},{"$error":"#N/A"},{"$error":"#N/A"},{"$error":"#N/A"},{"$error":"#N/A"},{"$error":"#N/A"},{"$error":"#N/A"},{"$error":"#N/A"},{"$f":"SUM(P15:AA15)","v":{"$error":"#N/A"}},{"$f":"MAX(P15:AA15)","v":{"$error":"#N/A"}},{"$f":"MIN(P15:AA15)","v":{"$error":"#N/A"}}]
[null,null,null,null,null,null,null,null,null,null,null,null,null,"冷温水ポンプ消費電力量","kWh/月",{"$f":"IF(P6=0,0,$K$10*P9*P8)","v":{"$error":"#N/A"}},{"$f":"IF(Q6=0,0,$K$10*Q9*Q8)","v":{"$error":"#N/A"}},{"$error":"#N/A"},{"$error":"#N/A"},{"$error":"#N/A"},{"$error":"#N/A"},{"$error":"#N/A"},{"$error":"#N/A"},{"$error":"#N/A"},{"$error":"#N/A"},{"$error":"#N/A"},{"$error":"#N/A"},{"$f":"SUM(P16:AA16)","v":{"$error":"#N/A"}}]
[null,null,null,null,null,null,null,null,null,null,null,null,null,"消費電力合計","kWh/月",{"$f":"P16","v":{"$error":"#N/A"}},{"$f":"Q16","v":{"$error":"#N/A"}},{"$error":"#N/A"},{"$error":"#N/A"},{"$error":"#N/A"},{"$error":"#N/A"},{"$error":"#N/A"},{"$error":"#N/A"},{"$error":"#N/A"},{"$error":"#N/A"},{"$error":"#N/A"},{"$error":"#N/A"},{"$f":"SUM(P17:AA17)","v":{"$error":"#N/A"}}]
[]
[]
[null,"■係数"]
[null,"項目","値","単位","備考"]
[null,"水の比熱","kJ/kgK",{"$f":"係数・物性!D4","v":4.1790000000000003},"係数・物性より"]
[null,"水の密度","kg/m3",{"$f":"係数・物性!D5","v":996.62},"係数・物性より"]
[null,"容積比熱","MJ/m3K",{"$f":"係数・物性!D6","v":4.1648749800000004},"係数・物性より"]
[null,"重力加速度","m/s2",{"$f":"係数・物性!D7","v":9.8059999999999992},"係数・物性より",null,null,null,null,null,null,null,null,"熱源機　燃料　消費量",{"$f":"RIGHT(C11,LEN(C11)-3)&\"/月\"","v":{"$error":"#N/A"}},{"$f":"P15","v":{"$error":"#N/A"}},{"$f":"Q15","v":{"$error":"#N/A"}},{"$error":"#N/A"},{"$error":"#N/A"},{"$error":"#N/A"},{"$error":"#N/A"},{"$error":"#N/A"},{"$error":"#N/A"},{"$error":"#N/A"},{"$error":"#N/A"},{"$error":"#N/A"},{"$error":"#N/A"},{"$f":"SUM(P25:AA25)","v":{"$error":"#N/A"}}]
[null,null,null,null,null,null,null,null,null,null,null,null,null,"補機類消費電力量","kWh/月",{"$f":"P16","v":{"$error":"#N/A"}},{"$f":"Q16","v":{"$error":"#N/A"}},{"$error":"#N/A"},{"$error":"#N/A"},{"$error":"#N/A"},{"$error":"#N/A"},{"$error":"#N/A"},{"$error":"#N/A"},{"$error":"#N/A"},{"$error":"#N/A"},{"$error":"#N/A"},{"$error":"#N/A"},{"$f":"SUM(P26:AA26)","v":{"$error":"#N/A"}}]
[]
[]
[null,null,null,null,null,null,null,null,"■エネルギーコスト、CO2排出量、一次エネルギー消費量計算（エネルギー消費量を入力）"]
[null,null,null,null,null,null,null,null,null,null,null,null,null,"□エネルギー消費量"]
[null,null,null,null,null,null,null,null,null,"設定セル",null,null,null,"項目","単位","4月","5月","6月","7月","8月","9月","10月","11月","12月","1月","2月","3月","合計","最大","最小","備考"]
[null,null,null,null,null,null,null,null,null,"変更設定していいセル（計算式が入力されている）",null,null,null,"電気","kWh/月",{"$f":"P17","v":{"$error":"#N/A"}},{"$f":"Q17","v":{"$error":"#N/A"}},{"$error":"#N/A"},{"$error":"#N/A"},{"$error":"#N/A"},{"$error":"#N/A"},{"$error":"#N/A"},{"$error":"#N/A"},{"$error":"#N/A"},{"$error":"#N/A"},{"$error":"#N/A"},{"$error":"#N/A"},{"$f":"SUM(P32:AA32)","v":{"$error":"#N/A"}},{"$f":"MAX(P32:AA32)","v":{"$error":"#N/A"}},{"$f":"MIN(P32:AA32)","v":{"$error":"#N/A"}}]
[null,null,null,null,null,null,null,null,null,"あまり変更しなくていい設定セル",null,null,null,"都市ガス（13A）","m3/月",{"$f":"IF($D$10=$N33,P$15,0)","v":0},{"$f":"IF($D$10=$N33,Q$15,0)","v":0},0,0,0,0,0,0,0,0,0,0,0,0,0]
[null,null,null,null,null,null,null,null,null,"デフォ値・係数",null,null,null,"灯油","L/月",{"$f":"IF($D$10=$N34,P$15,0)","v":0},0,0,0,0,0,0,0,0,0,0,0,0,0,0]
[null,null,null,null,null,null,null,null,null,"計算式・項目確認セル",null,null,null,"重油","L/月",{"$f":"IF($D$10=$N35,P$15,0)","v":0},0,0,0,0,0,0,0,0,0,0,0,0,0,0]
[null,null,null,null,null,null,null,null,null,null,null,null,null,"液化石油ガス（LPG）","kg/月",{"$f":"IF($D$10=$N36,P$15,0)","v":0},0,0,0,0,0,0,0,0,0,0,0,0,0,0]
[null,null,null,null,null,null,null,null,null,null,null,null,null,"他人から供給された熱","MJ/月",{"$f":"IF($D$10=$N37,P$15,0)","v":0},0,0,0,0,0,0,0,0,0,0,0,0,0,0]
[]
[]
[null,null,null,null,null,null,null,null,"□エネルギーコスト単価(フラットレート)",null,null,null,null,"□エネルギーコスト検討"]
[null,null,null,null,null,null,null,null,"項目","単位","値","備考",null,"項目","単位","4月","5月","6月","7月","8月","9月","10月","11月","12月","1月","2月","3月","合計","最大","最小","備考"]
[null,null,null,null,null,null,null,null,"電気","円/kWh",{"$f":"E単価!H5","v":14},null,null,"電気","千円/月",{"$f":"P32*$K42/1000","v":{"$error":"#N/A"}},{"$error":"#N/A"},{"$error":"#N/A"},{"$error":"#N/A"},{"$error":"#N/A"},{"$error":"#N/A"},{"$error":"#N/A"},{"$error":"#N/A"},{"$error":"#N/A"},{"$error":"#N/A"},{"$error":"#N/A"},{"$error":"#N/A"},{"$f":"SUM(P42:AA42)","v":{"$error":"#N/A"}},{"$f":"MAX(P42:AA42)","v":{"$error":"#N/A"}},{"$f":"MIN(P42:AA42)","v":{"$error":"#N/A"}}]
[null,null,null,null,null,null,null,null,"都市ガス（13A）","円/m3",{"$f":"E単価!H6","v":114.64285714285714},null,null,"都市ガス（13A）","千円/月",0,0,0,0,0,0,0,0,0,0,0,0,0,0,0]
[null,null,null,null,null,null,null,null,"灯油","円/L",{"$f":"E単価!H7","v":107.88888888888889},null,null,"灯油","千円/月",0,0,0,0,0,0,0,0,0,0,0,0,0,0,0]
[null,null,null,null,null,null,null,null,"重油","円/L",{"$f":"E単価!H8","v":76.099999999999994},null,null,"重油","千円/月",0,0,0,0,0,0,0,0,0,0,0,0,0,0,0]
[null,null,null,null,null,null,null,null,"液化石油ガス（LPG）","円/kg",{"$f":"E単価!H9","v":159.40476190476193},null,null,"液化石油ガス（LPG）","千円/月",0,0,0,0,0,0,0,0,0,0,0,0,0,0,0]
[null,null,null,null,null,null,null,null,"他人から供給された熱","円/GJ",{"$f":"E単価!H10","v":6611.9047619047615},null,null,"他人から供給された熱","千円/月",0,0,0,0,0,0,0,0,0,0,0,0,0,0,0]
[null,null,null,null,null,null,null,null,null,null,null,null,null,"エネルギーコスト合計","千円/月",{"$f":"SUM(P42:P47)","v":{"$error":"#N/A"}},{"$f":"SUM(Q42:Q47)","v":{"$error":"#N/A"}},{"$error":"#N/A"},{"$error":"#N/A"},{"$error":"#N/A"},{"$error":"#N/A"},{"$error":"#N/A"},{"$error":"#N/A"},{"$error":"#N/A"},{"$error":"#N/A"},{"$error":"#N/A"},{"$error":"#N/A"},{"$f":"SUM(AB42:AB47)","v":{"$error":"#N/A"}},{"$f":"SUM(AC42:AC47)","v":{"$error":"#N/A"}},{"$f":"SUM(AD42:AD47)","v":{"$error":"#N/A"}}]
[]
[null,null,null,null,null,null,null,null,"□CO2換算係数",null,null,null,null,"□CO2排出量"]
[null,null,null,null,null,null,null,null,"項目","単位","値","備考",null,"項目","単位","4月","5月","6月","7月","8月","9月","10月","11月","12月","1月","2月","3月","合計","最大","最小","備考"]
[null,null,null,null,null,null,null,null,"電気","tCO2/kWh",{"$f":"CO2換算係数!B3","v":4.8799999999999999E-4},null,null,"電気","t-CO2/月",{"$f":"P32*$K52","v":{"$error":"#N/A"}},{"$f":"Q32*$K52","v":{"$error":"#N/A"}},{"$error":"#N/A"},{"$error":"#N/A"},{"$error":"#N/A"},{"$error":"#N/A"},{"$error":"#N/A"},{"$error":"#N/A"},{"$error":"#N/A"},{"$error":"#N/A"},{"$error":"#N/A"},{"$f":"AA32*$K52","v":{"$error":"#N/A"}},{"$f":"SUM(P52:AA52)","v":{"$error":"#N/A"}},{"$f":"MAX(P52:AA52)","v":{"$error":"#N/A"}},{"$f":"MIN(P52:AA52)","v":{"$error":"#N/A"}}]
[null,null,null,null,null,null,null,null,"都市ガス（13A）","tCO2/km3",{"$f":"CO2換算係数!B4","v":2.23},null,null,"都市ガス（13A）","t-CO2/月",{"$f":"P33/1000*$K53","v":0},0,0,0,0,0,0,0,0,0,0,0,0,0,0]
[null,null,null,null,null,null,null,null,"灯油","tCO2/kL",{"$f":"CO2換算係数!B5","v":2.4900000000000002},null,null,"灯油","t-CO2/月",0,0,0,0,0,0,0,0,0,0,0,0,0,0,0]
[null,null,null,null,null,null,null,null,"重油","tCO2/kL",{"$f":"CO2換算係数!B6","v":2.71},null,null,"重油","t-CO2/月",0,0,0,0,0,0,0,0,0,0,0,0,0,0,0]
[null,null,null,null,null,null,null,null,"液化石油ガス（LPG）","tCO2/t",{"$f":"CO2換算係数!B7","v":3},null,null,"液化石油ガス（LPG）","t-CO2/月",0,0,0,0,0,0,0,0,0,0,0,0,0,0,0]
[null,null,null,null,null,null,null,null,"他人から供給された熱","tCO2/GJ",{"$f":"CO2換算係数!B8","v":5.7000000000000002E-2},null,null,"他人から供給された熱","t-CO2/月",0,0,0,0,0,0,0,0,0,0,0,0,0,0,0]
[null,null,null,null,null,null,null,null,null,null,null,null,null,"CO2排出量合計","t-CO2/月",{"$f":"SUM(P52:P57)","v":{"$error":"#N/A"}},{"$f":"SUM(Q52:Q57)","v":{"$error":"#N/A"}},{"$error":"#N/A"},{"$error":"#N/A"},{"$error":"#N/A"},{"$error":"#N/A"},{"$error":"#N/A"},{"$error":"#N/A"},{"$error":"#N/A"},{"$error":"#N/A"},{"$error":"#N/A"},{"$error":"#N/A"},{"$f":"SUM(AB52:AB57)","v":{"$error":"#N/A"}},{"$error":"#N/A"},{"$error":"#N/A"}]
[]
[null,null,null,null,null,null,null,null,"□一次エネルギー換算係数",null,null,null,null,"□一次エネルギー消費量"]
[null,null,null,null,null,null,null,null,"項目","単位","値","備考",null,"項目","単位","4月","5月","6月","7月","8月","9月","10月","11月","12月","1月","2月","3月","合計","最大","最小","備考"]
[null,null,null,null,null,null,null,null,"電気","MJ/kWh",{"$f":"一次E換算!B3","v":9.76},null,null,"電気","MJ/月",{"$f":"P32*$K62","v":{"$error":"#N/A"}},{"$error":"#N/A"},{"$error":"#N/A"},{"$error":"#N/A"},{"$error":"#N/A"},{"$error":"#N/A"},{"$error":"#N/A"},{"$error":"#N/A"},{"$error":"#N/A"},{"$error":"#N/A"},{"$error":"#N/A"},{"$error":"#N/A"},{"$f":"SUM(P62:AA62)","v":{"$error":"#N/A"}},{"$f":"MAX(P62:AA62)","v":{"$error":"#N/A"}},{"$f":"MIN(P62:AA62)","v":{"$error":"#N/A"}}]
[null,null,null,null,null,null,null,null,"都市ガス（13A）","MJ/m3",{"$f":"一次E換算!B4","v":45},null,null,"都市ガス（13A）","MJ/月",0,0,0,0,0,0,0,0,0,0,0,0,0,0,0]
[null,null,null,null,null,null,null,null,"灯油","MJ/L",{"$f":"一次E換算!B5","v":37},null,null,"灯油","MJ/月",0,0,0,0,0,0,0,0,0,0,0,0,0,0,0]
[null,null,null,null,null,null,null,null,"重油","MJ/L",{"$f":"一次E換算!B6","v":41},null,null,"重油","MJ/月",0,0,0,0,0,0,0,0,0,0,0,0,0,0,0]
[null,null,null,null,null,null,null,null,"液化石油ガス（LPG）","MJ/kg",{"$f":"一次E換算!B7","v":50},null,null,"液化石油ガス（LPG）","MJ/月",0,0,0,0,0,0,0,0,0,0,0,0,0,0,0]
[null,null,null,null,null,null,null,null,"他人から供給された熱","MJ/MJ",{"$f":"一次E換算!B8","v":1.36},null,null,"他人から供給された熱","MJ/月",0,0,0,0,0,0,0,0,0,0,0,0,0,0,0]
[null,null,null,null,null,null,null,null,null,null,null,null,null,"一次エネルギー消費量合計","MJ/月",{"$f":"SUM(P62:P67)","v":{"$error":"#N/A"}},{"$error":"#N/A"},{"$error":"#N/A"},{"$error":"#N/A"},{"$error":"#N/A"},{"$error":"#N/A"},{"$error":"#N/A"},{"$error":"#N/A"},{"$error":"#N/A"},{"$error":"#N/A"},{"$error":"#N/A"},{"$error":"#N/A"},{"$error":"#N/A"},{"$error":"#N/A"},{"$error":"#N/A"}]
[]
[]
[null,null,null,null,null,null,null,null,"■熱源機エネルギーコスト、CO2排出量、一次エネルギー消費量計算（エネルギー消費量を入力）"]
[null,null,null,null,null,null,null,null,null,null,null,null,null,"□エネルギー消費量"]
[null,null,null,null,null,null,null,null,null,"設定セル",null,null,null,"項目","単位","4月","5月","6月","7月","8月","9月","10月","11月","12月","1月","2月","3月","合計","最大","最小","備考"]
[null,null,null,null,null,null,null,null,null,"変更設定していいセル（計算式が入力されている）",null,null,null,"電気","kWh/月",null,null,null,null,null,null,null,null,null,null,null,null,{"$f":"SUM(P74:AA74)","v":0},{"$f":"MAX(P74:AA74)","v":0},{"$f":"MIN(P74:AA74)","v":0}]
[null,null,null,null,null,null,null,null,null,"あまり変更しなくていい設定セル",null,null,null,"都市ガス（13A）","m3/月",{"$f":"IF($D$10=$N75,P$15,0)","v":0},{"$f":"IF($D$10=$N75,Q$15,0)","v":0},0,0,0,0,0,0,0,0,0,0,0,0,0]
[null,null,null,null,null,null,null,null,null,"デフォ値・係数",null,null,null,"灯油","L/月",{"$f":"IF($D$10=$N76,P$15,0)","v":0},0,0,0,0,0,0,0,0,0,0,0,0,0,0]
[null,null,null,null,null,null,null,null,null,"計算式・項目確認セル",null,null,null,"重油","L/月",0,0,0,0,0,0,0,0,0,0,0,0,0,0,0]
[null,null,null,null,null,null,null,null,null,null,null,null,null,"液化石油ガス（LPG）","kg/月",0,0,0,0,0,0,0,0,0,0,0,0,0,0,0]
[null,null,null,null,null,null,null,null,null,null,null,null,null,"他人から供給された熱","MJ/月",0,0,0,0,0,0,0,0,0,0,0,0,0,0,0]
[]
[]
[null,null,null,null,null,null,null,null,"□エネルギーコスト単価(フラットレート)",null,null,null,null,"□エネルギーコスト検討"]
[null,null,null,null,null,null,null,null,"項目","単位","値","備考",null,"項目","単位","4月","5月","6月","7月","8月","9月","10月","11月","12月","1月","2月","3月","合計","最大","最小","備考"]
[null,null,null,null,null,null,null,null,"電気","円/kWh",{"$f":"K42","v":14},null,null,"電気","千円/月",{"$f":"P74*$K84/1000","v":0},0,0,0,0,0,0,0,0,0,0,0,{"$f":"SUM(P84:AA84)","v":0},{"$f":"MAX(P84:AA84)","v":0},{"$f":"MIN(P84:AA84)","v":0}]
[null,null,null,null,null,null,null,null,"都市ガス（13A）","円/m3",{"$f":"K43","v":114.64285714285714},null,null,"都市ガス（13A）","千円/月",{"$f":"P75*$K85/1000","v":0},0,0,0,0,0,0,0,0,0,0,0,0,0,0]
[null,null,null,null,null,null,null,null,"灯油","円/L",107.88888888888889,null,null,"灯油","千円/月",{"$f":"P76*$K86/1000","v":0},0,0,0,0,0,0,0,0,0,0,0,0,0,0]
[null,null,null,null,null,null,null,null,"重油","円/L",76.099999999999994,null,null,"重油","千円/月",{"$f":"P77*$K87/1000","v":0},0,0,0,0,0,0,0,0,0,0,0,0,0,0]
[null,null,null,null,null,null,null,null,"液化石油ガス（LPG）","円/kg",159.40476190476193,null,null,"液化石油ガス（LPG）","千円/月",{"$f":"P78*$K88/1000","v":0},0,0,0,0,0,0,0,0,0,0,0,0,0,0]
[null,null,null,null,null,null,null,null,"他人から供給された熱","円/GJ",6611.9047619047615,null,null,"他人から供給された熱","千円/月",{"$f":"P79*$K89/1000","v":0},0,0,0,0,0,0,0,0,0,0,0,0,0,0]
[null,null,null,null,null,null,null,null,null,null,null,null,null,"エネルギーコスト合計","千円/月",{"$f":"SUM(P84:P89)","v":0},{"$f":"SUM(Q84:Q89)","v":0},0,{"$f":"SUM(S84:S89)","v":0},0,0,0,0,0,0,0,0,{"$f":"SUM(AB84:AB89)","v":0},{"$f":"SUM(AC84:AC89)","v":0},{"$f":"SUM(AD84:AD89)","v":0}]
[]
[null,null,null,null,null,null,null,null,"□CO2換算係数",null,null,null,null,"□CO2排出量"]
[null,null,null,null,null,null,null,null,"項目","単位","値","備考",null,"項目","単位","4月","5月","6月","7月","8月","9月","10月","11月","12月","1月","2月","3月","合計","最大","最小","備考"]
[null,null,null,null,null,null,null,null,"電気","tCO2/kWh",{"$f":"K52","v":4.8799999999999999E-4},null,null,"電気","t-CO2/月",{"$f":"P74*$K94","v":0},0,0,0,0,0,0,0,0,0,0,0,{"$f":"SUM(P94:AA94)","v":0},{"$f":"MAX(P94:AA94)","v":0},{"$f":"MIN(P94:AA94)","v":0}]
[null,null,null,null,null,null,null,null,"都市ガス（13A）","tCO2/km3",{"$f":"K53","v":2.23},null,null,"都市ガス（13A）","t-CO2/月",{"$f":"P75/1000*$K95","v":0},0,0,0,0,0,0,0,0,0,0,0,0,0,0]
[null,null,null,null,null,null,null,null,"灯油","tCO2/kL",2.4900000000000002,null,null,"灯油","t-CO2/月",{"$f":"P76/1000*$K96","v":0},0,0,0,0,0,0,0,0,0,0,0,0,0,0]
[null,null,null,null,null,null,null,null,"重油","tCO2/kL",2.71,null,null,"重油","t-CO2/月",{"$f":"P77/1000*$K97","v":0},0,0,0,0,0,0,0,0,0,0,0,0,0,0]
[null,null,null,null,null,null,null,null,"液化石油ガス（LPG）","tCO2/t",3,null,null,"液化石油ガス（LPG）","t-CO2/月",{"$f":"P78/1000*$K98","v":0},0,0,0,0,0,0,0,0,0,0,0,0,0,0]
[null,null,null,null,null,null,null,null,"他人から供給された熱","tCO2/GJ",5.7000000000000002E-2,null,null,"他人から供給された熱","t-CO2/月",{"$f":"P79/1000*$K99","v":0},0,0,0,0,0,0,0,0,0,0,0,0,0,0]
[null,null,null,null,null,null,null,null,null,null,null,null,null,"CO2排出量合計","t-CO2/月",{"$f":"SUM(P94:P99)","v":0},{"$f":"SUM(Q94:Q99)","v":0},0,0,0,0,0,0,0,0,0,{"$f":"SUM(AA94:AA99)","v":0},{"$f":"SUM(AB94:AB99)","v":0},{"$f":"SUM(AC94:AC99)","v":0},0]
[]
[null,null,null,null,null,null,null,null,"□一次エネルギー換算係数",null,null,null,null,"□一次エネルギー消費量"]
[null,null,null,null,null,null,null,null,"項目","単位","値","備考",null,"項目","単位","4月","5月","6月","7月","8月","9月","10月","11月","12月","1月","2月","3月","合計","最大","最小","備考"]
[null,null,null,null,null,null,null,null,"電気","MJ/kWh",{"$f":"K62","v":9.76},null,null,"電気","MJ/月",{"$f":"P74*$K104","v":0},0,0,0,0,0,0,0,0,0,0,0,{"$f":"SUM(P104:AA104)","v":0},{"$f":"MAX(P104:AA104)","v":0},{"$f":"MIN(P104:AA104)","v":0}]
[null,null,null,null,null,null,null,null,"都市ガス（13A）","MJ/m3",{"$f":"K63","v":45},null,null,"都市ガス（13A）","MJ/月",{"$f":"P75*$K105","v":0},0,0,0,0,0,0,0,0,0,0,0,0,0,0]
[null,null,null,null,null,null,null,null,"灯油","MJ/L",37,null,null,"灯油","MJ/月",{"$f":"P76*$K106","v":0},0,0,0,0,0,0,0,0,0,0,0,0,0,0]
[null,null,null,null,null,null,null,null,"重油","MJ/L",41,null,null,"重油","MJ/月",{"$f":"P77*$K107","v":0},0,0,0,0,0,0,0,0,0,0,0,0,0,0]
[null,null,null,null,null,null,null,null,"液化石油ガス（LPG）","MJ/kg",50,null,null,"液化石油ガス（LPG）","MJ/月",{"$f":"P78*$K108","v":0},0,0,0,0,0,0,0,0,0,0,0,0,0,0]
[null,null,null,null,null,null,null,null,"他人から供給された熱","MJ/MJ",1.36,null,null,"他人から供給された熱","MJ/月",{"$f":"P79*$K109","v":0},0,0,0,0,0,0,0,0,0,0,0,0,0,0]
[null,null,null,null,null,null,null,null,null,null,null,null,null,"一次エネルギー消費量合計","MJ/月",{"$f":"SUM(P104:P109)","v":0},0,0,0,0,0,0,0,0,0,0,{"$f":"SUM(AA104:AA109)","v":0},0,0,0]
[]
[]
[null,null,null,null,null,null,null,null,"■補機類エネルギーコスト、CO2排出量、一次エネルギー消費量計算（エネルギー消費量を入力）"]
[null,null,null,null,null,null,null,null,null,null,null,null,null,"□エネルギー消費量"]
[null,null,null,null,null,null,null,null,null,"設定セル",null,null,null,"項目","単位","4月","5月","6月","7月","8月","9月","10月","11月","12月","1月","2月","3月","合計","最大","最小","備考"]
[null,null,null,null,null,null,null,null,null,"変更設定していいセル（計算式が入力されている）",null,null,null,"電気","kWh/月",{"$f":"P26","v":{"$error":"#N/A"}},{"$error":"#N/A"},{"$error":"#N/A"},{"$error":"#N/A"},{"$error":"#N/A"},{"$error":"#N/A"},{"$error":"#N/A"},{"$error":"#N/A"},{"$error":"#N/A"},{"$error":"#N/A"},{"$error":"#N/A"},{"$error":"#N/A"},{"$f":"SUM(P116:AA116)","v":{"$error":"#N/A"}},{"$f":"MAX(P116:AA116)","v":{"$error":"#N/A"}},{"$f":"MIN(P116:AA116)","v":{"$error":"#N/A"}}]
[null,null,null,null,null,null,null,null,null,"あまり変更しなくていい設定セル",null,null,null,"都市ガス（13A）","m3/月",null,null,null,null,null,null,null,null,null,null,null,null,0,0,0]
[null,null,null,null,null,null,null,null,null,"デフォ値・係数",null,null,null,"灯油","L/月",null,null,null,null,null,null,null,null,null,null,null,null,0,0,0]
[null,null,null,null,null,null,null,null,null,"計算式・項目確認セル",null,null,null,"重油","L/月",null,null,null,null,null,null,null,null,null,null,null,null,0,0,0]
[null,null,null,null,null,null,null,null,null,null,null,null,null,"液化石油ガス（LPG）","kg/月",null,null,null,null,null,null,null,null,null,null,null,null,0,0,0]
[null,null,null,null,null,null,null,null,null,null,null,null,null,"他人から供給された熱","MJ/月",null,null,null,null,null,null,null,null,null,null,null,null,0,0,0]
[]
[]
[null,null,null,null,null,null,null,null,"□エネルギーコスト単価(フラットレート)",null,null,null,null,"□エネルギーコスト検討"]
[null,null,null,null,null,null,null,null,"項目","単位","値","備考",null,"項目","単位","4月","5月","6月","7月","8月","9月","10月","11月","12月","1月","2月","3月","合計","最大","最小","備考"]
[null,null,null,null,null,null,null,null,"電気","円/kWh",{"$f":"K84","v":14},null,null,"電気","千円/月",{"$f":"P116*$K126/1000","v":{"$error":"#N/A"}},{"$error":"#N/A"},{"$error":"#N/A"},{"$error":"#N/A"},{"$error":"#N/A"},{"$error":"#N/A"},{"$error":"#N/A"},{"$error":"#N/A"},{"$error":"#N/A"},{"$error":"#N/A"},{"$error":"#N/A"},{"$error":"#N/A"},{"$f":"SUM(P126:AA126)","v":{"$error":"#N/A"}},{"$f":"MAX(P126:AA126)","v":{"$error":"#N/A"}},{"$f":"MIN(P126:AA126)","v":{"$error":"#N/A"}}]
[null,null,null,null,null,null,null,null,"都市ガス（13A）","円/m3",{"$f":"K85","v":114.64285714285714},null,null,"都市ガス（13A）","千円/月",{"$f":"P117*$K127/1000","v":0},0,0,0,0,0,0,0,0,0,0,0,0,0,0]
[null,null,null,null,null,null,null,null,"灯油","円/L",107.88888888888889,null,null,"灯油","千円/月",{"$f":"P118*$K128/1000","v":0},0,0,0,0,0,0,0,0,0,0,0,0,0,0]
[null,null,null,null,null,null,null,null,"重油","円/L",76.099999999999994,null,null,"重油","千円/月",{"$f":"P119*$K129/1000","v":0},0,0,0,0,0,0,0,0,0,0,0,0,0,0]
[null,null,null,null,null,null,null,null,"液化石油ガス（LPG）","円/kg",159.40476190476193,null,null,"液化石油ガス（LPG）","千円/月",{"$f":"P120*$K130/1000","v":0},0,0,0,0,0,0,0,0,0,0,0,0,0,0]
[null,null,null,null,null,null,null,null,"他人から供給された熱","円/GJ",6611.9047619047615,null,null,"他人から供給された熱","千円/月",{"$f":"P121*$K131/1000","v":0},0,0,0,0,0,0,0,0,0,0,0,0,0,0]
[null,null,null,null,null,null,null,null,null,null,null,null,null,"エネルギーコスト合計","千円/月",{"$f":"SUM(P126:P131)","v":{"$error":"#N/A"}},{"$f":"SUM(Q126:Q131)","v":{"$error":"#N/A"}},{"$error":"#N/A"},{"$error":"#N/A"},{"$error":"#N/A"},{"$error":"#N/A"},{"$error":"#N/A"},{"$error":"#N/A"},{"$error":"#N/A"},{"$error":"#N/A"},{"$error":"#N/A"},{"$f":"SUM(AA126:AA131)","v":{"$error":"#N/A"}},{"$f":"SUM(AB126:AB131)","v":{"$error":"#N/A"}},{"$f":"SUM(AC126:AC131)","v":{"$error":"#N/A"}},{"$f":"SUM(AD126:AD131)","v":{"$error":"#N/A"}}]
[]
[null,null,null,null,null,null,null,null,"□CO2換算係数",null,null,null,null,"□CO2排出量"]
[null,null,null,null,null,null,null,null,"項目","単位","値","備考",null,"項目","単位","4月","5月","6月","7月","8月","9月","10月","11月","12月","1月","2月","3月","合計","最大","最小","備考"]
[null,null,null,null,null,null,null,null,"電気","tCO2/kWh",{"$f":"K94","v":4.8799999999999999E-4},null,null,"電気","t-CO2/月",{"$f":"P116*$K136","v":{"$error":"#N/A"}},{"$error":"#N/A"},{"$error":"#N/A"},{"$error":"#N/A"},{"$error":"#N/A"},{"$error":"#N/A"},{"$error":"#N/A"},{"$error":"#N/A"},{"$error":"#N/A"},{"$error":"#N/A"},{"$error":"#N/A"},{"$error":"#N/A"},{"$f":"SUM(P136:AA136)","v":{"$error":"#N/A"}},{"$f":"MAX(P136:AA136)","v":{"$error":"#N/A"}},{"$f":"MIN(P136:AA136)","v":{"$error":"#N/A"}}]
[null,null,null,null,null,null,null,null,"都市ガス（13A）","tCO2/km3",{"$f":"K95","v":2.23},null,null,"都市ガス（13A）","t-CO2/月",{"$f":"P117/1000*$K137","v":0},0,0,0,0,0,0,0,0,0,0,0,0,0,0]
[null,null,null,null,null,null,null,null,"灯油","tCO2/kL",2.4900000000000002,null,null,"灯油","t-CO2/月",{"$f":"P118/1000*$K138","v":0},0,0,0,0,0,0,0,0,0,0,0,0,0,0]
[null,null,null,null,null,null,null,null,"重油","tCO2/kL",2.71,null,null,"重油","t-CO2/月",{"$f":"P119/1000*$K139","v":0},0,0,0,0,0,0,0,0,0,0,0,0,0,0]
[null,null,null,null,null,null,null,null,"液化石油ガス（LPG）","tCO2/t",3,null,null,"液化石油ガス（LPG）","t-CO2/月",{"$f":"P120/1000*$K140","v":0},0,0,0,0,0,0,0,0,0,0,0,0,0,0]
[null,null,null,null,null,null,null,null,"他人から供給された熱","tCO2/GJ",5.7000000000000002E-2,null,null,"他人から供給された熱","t-CO2/月",{"$f":"P121/1000*$K141","v":0},0,0,0,0,0,0,0,0,0,0,0,0,0,0]
[null,null,null,null,null,null,null,null,null,null,null,null,null,"CO2排出量合計","t-CO2/月",{"$f":"SUM(P136:P141)","v":{"$error":"#N/A"}},{"$f":"SUM(Q136:Q141)","v":{"$error":"#N/A"}},{"$error":"#N/A"},{"$error":"#N/A"},{"$error":"#N/A"},{"$error":"#N/A"},{"$error":"#N/A"},{"$error":"#N/A"},{"$error":"#N/A"},{"$error":"#N/A"},{"$error":"#N/A"},{"$f":"SUM(AA136:AA141)","v":{"$error":"#N/A"}},{"$f":"SUM(AB136:AB141)","v":{"$error":"#N/A"}},{"$f":"SUM(AC136:AC141)","v":{"$error":"#N/A"}},{"$error":"#N/A"}]
[]
[null,null,null,null,null,null,null,null,"□一次エネルギー換算係数",null,null,null,null,"□一次エネルギー消費量"]
[null,null,null,null,null,null,null,null,"項目","単位","値","備考",null,"項目","単位","4月","5月","6月","7月","8月","9月","10月","11月","12月","1月","2月","3月","合計","最大","最小","備考"]
[null,null,null,null,null,null,null,null,"電気","MJ/kWh",{"$f":"K104","v":9.76},null,null,"電気","MJ/月",{"$f":"P116*$K146","v":{"$error":"#N/A"}},{"$error":"#N/A"},{"$error":"#N/A"},{"$error":"#N/A"},{"$error":"#N/A"},{"$error":"#N/A"},{"$error":"#N/A"},{"$error":"#N/A"},{"$error":"#N/A"},{"$error":"#N/A"},{"$error":"#N/A"},{"$error":"#N/A"},{"$f":"SUM(P146:AA146)","v":{"$error":"#N/A"}},{"$f":"MAX(P146:AA146)","v":{"$error":"#N/A"}},{"$f":"MIN(P146:AA146)","v":{"$error":"#N/A"}}]
[null,null,null,null,null,null,null,null,"都市ガス（13A）","MJ/m3",{"$f":"K105","v":45},null,null,"都市ガス（13A）","MJ/月",{"$f":"P117*$K147","v":0},0,0,0,0,0,0,0,0,0,0,0,0,0,0]
[null,null,null,null,null,null,null,null,"灯油","MJ/L",37,null,null,"灯油","MJ/月",{"$f":"P118*$K148","v":0},0,0,0,0,0,0,0,0,0,0,0,0,0,0]
[null,null,null,null,null,null,null,null,"重油","MJ/L",41,null,null,"重油","MJ/月",{"$f":"P119*$K149","v":0},0,0,0,0,0,0,0,0,0,0,0,0,0,0]
[null,null,null,null,null,null,null,null,"液化石油ガス（LPG）","MJ/kg",50,null,null,"液化石油ガス（LPG）","MJ/月",{"$f":"P120*$K150","v":0},0,0,0,0,0,0,0,0,0,0,0,0,0,0]
[null,null,null,null,null,null,null,null,"他人から供給された熱","MJ/MJ",1.36,null,null,"他人から供給された熱","MJ/月",{"$f":"P121*$K151","v":0},0,0,0,0,0,0,0,0,0,0,0,0,0,0]
[null,null,null,null,null,null,null,null,null,null,null,null,null,"一次エネルギー消費量合計","MJ/月",{"$f":"SUM(P146:P151)","v":{"$error":"#N/A"}},{"$error":"#N/A"},{"$error":"#N/A"},{"$error":"#N/A"},{"$error":"#N/A"},{"$error":"#N/A"},{"$error":"#N/A"},{"$error":"#N/A"},{"$error":"#N/A"},{"$error":"#N/A"},{"$error":"#N/A"},{"$f":"SUM(AA146:AA151)","v":{"$error":"#N/A"}},{"$error":"#N/A"},{"$error":"#N/A"},{"$error":"#N/A"}]

{"sheet":"比較対象_既存_燃料_給湯_熱源容量","index":37,"n_rows":37,"n_cols":16,"rows_kept":37,"cut":false,"hidden":true,"merged":[]}
["■時刻別負荷"]
["■時刻負荷パタン設定",null,null,null,null,null,null,null,"■時刻別負荷",null,null,null,"■最大負荷　既存設備　熱源容量設定"]
["項目","値","単位","備考",null,null,null,null,null,"時刻別負荷比率","負荷",null,"項目","値","単位","備考"]
["建物用途",{"$f":"入力シート!C9","v":0},"-",null,null,null,null,null,"時刻","-","kW",null,"最大負荷",{"$f":"MAX(K5:K28)","v":{"$error":"#N/A"}},"kW","既存設備での熱源容量"]
["熱利用用途",{"$f":"HLOOKUP(B7,A13:D14,2,FALSE)","v":{"$error":"#N/A"}},"-",null,null,null,null,null,1,{"$f":"VLOOKUP(I5,熱需要量算定・原単位!$AJ$9:$BL$32,MATCH($B$6,熱需要量算定・原単位!$AK$5:$BL$5,0)+1,FALSE)","v":{"$error":"#N/A"}},{"$f":"$B$7*J5/100","v":{"$error":"#N/A"}}]
["検索key",{"$f":"VLOOKUP(B4&B5,E17:F32,2,FALSE)","v":{"$error":"#N/A"}},"-",null,null,null,null,null,2,{"$f":"VLOOKUP(I6,熱需要量算定・原単位!$AJ$9:$BL$32,MATCH($B$6,熱需要量算定・原単位!$AK$5:$BL$5,0)+1,FALSE)","v":{"$error":"#N/A"}},{"$f":"$B$7*J6/100","v":{"$error":"#N/A"}}]
["一日の熱需要量",{"$f":"MAX(比較対象_既存_燃料_給湯_熱源容量!B13:D13)","v":{"$error":"#N/A"}},"kWh/日",null,null,null,null,null,3,{"$f":"VLOOKUP(I7,熱需要量算定・原単位!$AJ$9:$BL$32,MATCH($B$6,熱需要量算定・原単位!$AK$5:$BL$5,0)+1,FALSE)","v":{"$error":"#N/A"}},{"$error":"#N/A"}]
[null,null,null,null,null,null,null,null,4,{"$f":"VLOOKUP(I8,熱需要量算定・原単位!$AJ$9:$BL$32,MATCH($B$6,熱需要量算定・原単位!$AK$5:$BL$5,0)+1,FALSE)","v":{"$error":"#N/A"}},{"$error":"#N/A"}]
["熱利用用途欄は、日あたりの熱需要量が最も多い月の熱利用用途を下表より検索",null,null,null,null,null,null,null,5,{"$f":"VLOOKUP(I9,熱需要量算定・原単位!$AJ$9:$BL$32,MATCH($B$6,熱需要量算定・原単位!$AK$5:$BL$5,0)+1,FALSE)","v":{"$error":"#N/A"}},{"$error":"#N/A"}]
["検索key欄は、時刻別負荷変動費率を熱需要量算定・原単位シートより転記する列を決定するために利用。",null,null,null,null,null,null,null,6,{"$f":"VLOOKUP(I10,熱需要量算定・原単位!$AJ$9:$BL$32,MATCH($B$6,熱需要量算定・原単位!$AK$5:$BL$5,0)+1,FALSE)","v":{"$error":"#N/A"}},{"$error":"#N/A"}]
[null,null,null,null,null,null,null,null,7,{"$f":"VLOOKUP(I11,熱需要量算定・原単位!$AJ$9:$BL$32,MATCH($B$6,熱需要量算定・原単位!$AK$5:$BL$5,0)+1,FALSE)","v":{"$error":"#N/A"}},{"$error":"#N/A"}]
["■時刻別負荷パタン熱利用用途の決定用",null,null,null,null,null,null,null,8,{"$f":"VLOOKUP(I12,熱需要量算定・原単位!$AJ$9:$BL$32,MATCH($B$6,熱需要量算定・原単位!$AK$5:$BL$5,0)+1,FALSE)","v":{"$error":"#N/A"}},{"$error":"#N/A"}]
["日あたりの熱需要量",{"$f":"SUMPRODUCT(MAX((比較対象_既存_燃料_給湯_RC!$P$5:$AA$5=B14)*(比較対象_既存_燃料_給湯_RC!$P$11:$AA$11)))","v":{"$error":"#N/A"}},{"$f":"SUMPRODUCT(MAX((比較対象_既存_燃料_給湯_RC!$P$5:$AA$5=C14)*(比較対象_既存_燃料_給湯_RC!$P$11:$AA$11)))","v":{"$error":"#N/A"}},{"$f":"SUMPRODUCT(MAX((比較対象_既存_燃料_給湯_RC!$P$5:$AA$5=D14)*(比較対象_既存_燃料_給湯_RC!$P$11:$AA$11)))","v":{"$error":"#N/A"}},null,null,null,null,9,{"$f":"VLOOKUP(I13,熱需要量算定・原単位!$AJ$9:$BL$32,MATCH($B$6,熱需要量算定・原単位!$AK$5:$BL$5,0)+1,FALSE)","v":{"$error":"#N/A"}},{"$error":"#N/A"}]
["熱利用用途","給湯","冷房","暖房",null,null,null,null,10,{"$f":"VLOOKUP(I14,熱需要量算定・原単位!$AJ$9:$BL$32,MATCH($B$6,熱需要量算定・原単位!$AK$5:$BL$5,0)+1,FALSE)","v":{"$error":"#N/A"}},{"$error":"#N/A"}]
[null,null,null,null,null,null,null,null,11,{"$f":"VLOOKUP(I15,熱需要量算定・原単位!$AJ$9:$BL$32,MATCH($B$6,熱需要量算定・原単位!$AK$5:$BL$5,0)+1,FALSE)","v":{"$error":"#N/A"}},{"$error":"#N/A"}]
["■時刻別負荷変動比率　検索key設定",null,null,null,null,null,null,null,12,{"$f":"VLOOKUP(I16,熱需要量算定・原単位!$AJ$9:$BL$32,MATCH($B$6,熱需要量算定・原単位!$AK$5:$BL$5,0)+1,FALSE)","v":{"$error":"#N/A"}},{"$error":"#N/A"}]
["No","建物用途","熱利用用途","季節","VLOOKUP","検索key","運転時間",null,13,{"$f":"VLOOKUP(I17,熱需要量算定・原単位!$AJ$9:$BL$32,MATCH($B$6,熱需要量算定・原単位!$AK$5:$BL$5,0)+1,FALSE)","v":{"$error":"#N/A"}},{"$error":"#N/A"}]
[1,"集合住宅","給湯","冬期",{"$f":"B18&C18","v":"集合住宅給湯"},{"$f":"B18&C18&D18","v":"集合住宅給湯冬期"},{"$f":"HLOOKUP(F18,熱需要量算定・原単位!$AJ$5:$BL$34,30,FALSE)","v":22},null,14,{"$f":"VLOOKUP(I18,熱需要量算定・原単位!$AJ$9:$BL$32,MATCH($B$6,熱需要量算定・原単位!$AK$5:$BL$5,0)+1,FALSE)","v":{"$error":"#N/A"}},{"$error":"#N/A"}]
[2,"集合住宅","冷房","夏期",{"$f":"B19&C19","v":"集合住宅冷房"},{"$f":"B19&C19&D19","v":"集合住宅冷房夏期"},{"$f":"HLOOKUP(F19,熱需要量算定・原単位!$AJ$5:$BL$34,30,FALSE)","v":24},null,15,{"$f":"VLOOKUP(I19,熱需要量算定・原単位!$AJ$9:$BL$32,MATCH($B$6,熱需要量算定・原単位!$AK$5:$BL$5,0)+1,FALSE)","v":{"$error":"#N/A"}},{"$error":"#N/A"}]
[3,"集合住宅","暖房","冬期","集合住宅暖房","集合住宅暖房冬期",{"$f":"HLOOKUP(F20,熱需要量算定・原単位!$AJ$5:$BL$34,30,FALSE)","v":24},null,16,{"$f":"VLOOKUP(I20,熱需要量算定・原単位!$AJ$9:$BL$32,MATCH($B$6,熱需要量算定・原単位!$AK$5:$BL$5,0)+1,FALSE)","v":{"$error":"#N/A"}},{"$error":"#N/A"}]
[4,"業務施設","給湯","冬期","業務施設給湯","業務施設給湯冬期",{"$f":"HLOOKUP(F21,熱需要量算定・原単位!$AJ$5:$BL$34,30,FALSE)","v":14},null,17,{"$f":"VLOOKUP(I21,熱需要量算定・原単位!$AJ$9:$BL$32,MATCH($B$6,熱需要量算定・原単位!$AK$5:$BL$5,0)+1,FALSE)","v":{"$error":"#N/A"}},{"$error":"#N/A"}]
[5,"業務施設","冷房","夏期","業務施設冷房","業務施設冷房夏期",{"$f":"HLOOKUP(F22,熱需要量算定・原単位!$AJ$5:$BL$34,30,FALSE)","v":14},null,18,{"$f":"VLOOKUP(I22,熱需要量算定・原単位!$AJ$9:$BL$32,MATCH($B$6,熱需要量算定・原単位!$AK$5:$BL$5,0)+1,FALSE)","v":{"$error":"#N/A"}},{"$error":"#N/A"}]
[6,"業務施設","暖房","冬期","業務施設暖房","業務施設暖房冬期",{"$f":"HLOOKUP(F23,熱需要量算定・原単位!$AJ$5:$BL$34,30,FALSE)","v":11},null,19,{"$f":"VLOOKUP(I23,熱需要量算定・原単位!$AJ$9:$BL$32,MATCH($B$6,熱需要量算定・原単位!$AK$5:$BL$5,0)+1,FALSE)","v":{"$error":"#N/A"}},{"$error":"#N/A"}]
[7,"商業施設","給湯","-","商業施設給湯","商業施設給湯-",{"$f":"HLOOKUP(F24,熱需要量算定・原単位!$AJ$5:$BL$34,30,FALSE)","v":12},null,20,{"$f":"VLOOKUP(I24,熱需要量算定・原単位!$AJ$9:$BL$32,MATCH($B$6,熱需要量算定・原単位!$AK$5:$BL$5,0)+1,FALSE)","v":{"$error":"#N/A"}},{"$error":"#N/A"}]
[8,"商業施設","冷房","-","商業施設冷房","商業施設冷房-",{"$f":"HLOOKUP(F25,熱需要量算定・原単位!$AJ$5:$BL$34,30,FALSE)","v":11},null,21,{"$f":"VLOOKUP(I25,熱需要量算定・原単位!$AJ$9:$BL$32,MATCH($B$6,熱需要量算定・原単位!$AK$5:$BL$5,0)+1,FALSE)","v":{"$error":"#N/A"}},{"$error":"#N/A"}]
[9,"商業施設","暖房","-","商業施設暖房","商業施設暖房-",{"$f":"HLOOKUP(F26,熱需要量算定・原単位!$AJ$5:$BL$34,30,FALSE)","v":11},null,22,{"$f":"VLOOKUP(I26,熱需要量算定・原単位!$AJ$9:$BL$32,MATCH($B$6,熱需要量算定・原単位!$AK$5:$BL$5,0)+1,FALSE)","v":{"$error":"#N/A"}},{"$error":"#N/A"}]
[10,"宿泊施設","給湯","-","宿泊施設給湯","宿泊施設給湯-",{"$f":"HLOOKUP(F27,熱需要量算定・原単位!$AJ$5:$BL$34,30,FALSE)","v":24},null,23,{"$f":"VLOOKUP(I27,熱需要量算定・原単位!$AJ$9:$BL$32,MATCH($B$6,熱需要量算定・原単位!$AK$5:$BL$5,0)+1,FALSE)","v":{"$error":"#N/A"}},{"$error":"#N/A"}]
[11,"宿泊施設","冷房","夏期","宿泊施設冷房","宿泊施設冷房夏期",{"$f":"HLOOKUP(F28,熱需要量算定・原単位!$AJ$5:$BL$34,30,FALSE)","v":24},null,24,{"$f":"VLOOKUP(I28,熱需要量算定・原単位!$AJ$9:$BL$32,MATCH($B$6,熱需要量算定・原単位!$AK$5:$BL$5,0)+1,FALSE)","v":{"$error":"#N/A"}},{"$error":"#N/A"}]
[12,"宿泊施設","暖房","冬期","宿泊施設暖房","宿泊施設暖房冬期",{"$f":"HLOOKUP(F29,熱需要量算定・原単位!$AJ$5:$BL$34,30,FALSE)","v":23},null,"合計",null,{"$f":"SUM(K5:K28)","v":{"$error":"#N/A"}}]
[13,"医療施設","給湯","冬期","医療施設給湯","医療施設給湯冬期",{"$f":"HLOOKUP(F30,熱需要量算定・原単位!$AJ$5:$BL$34,30,FALSE)","v":24}]
[14,"医療施設","冷房","夏期","医療施設冷房","医療施設冷房夏期",{"$f":"HLOOKUP(F31,熱需要量算定・原単位!$AJ$5:$BL$34,30,FALSE)","v":24}]
[15,"医療施設","暖房","冬期","医療施設暖房",{"$f":"B32&C32&D32","v":"医療施設暖房冬期"},{"$f":"HLOOKUP(F32,熱需要量算定・原単位!$AJ$5:$BL$34,30,FALSE)","v":24}]
[]
[]
["■運転時間の設定（熱負荷に合わせた運転の場合）"]
["熱利用用途","給湯","冷房","暖房"]
["運転時間",{"$f":"VLOOKUP($B$4&B36,$E$17:$G$32,3,FALSE)","v":{"$error":"#N/A"}},{"$f":"VLOOKUP($B$4&C36,$E$17:$G$32,3,FALSE)","v":{"$error":"#N/A"}},{"$f":"VLOOKUP($B$4&D36,$E$17:$G$32,3,FALSE)","v":{"$error":"#N/A"}}]

{"sheet":"比較対象_既存_燃料_給湯_IC","index":38,"n_rows":30,"n_cols":16,"rows_kept":30,"cut":false,"hidden":true,"merged":[[27,1,27,2],[28,1,28,2],[29,1,29,2],[26,1,26,2],[4,1,16,1],[17,1,19,1],[20,1,23,1],[24,1,24,2],[25,1,25,2]]}
[null,"■イニシャルコスト算出"]
[]
[null,"比較対象_既存_燃料_給湯"]
[null,null,"名称","摘要","単価[千円]","数量","単位","金額[千円]","備考","memo",null,null,null,null,"価格関数代入値","単位"]
[null,"機械工事","熱源機（ボイラ）",null,{"$f":"IF(O5=0,0,価格関数!E13*O5+価格関数!F13)","v":{"$error":"#N/A"}},1,"台",{"$f":"F5*E5","v":{"$error":"#N/A"}},null,"価格関数",null,null,null,"熱源容量",{"$f":"比較対象_既存_燃料_給湯_RC!K5","v":{"$error":"#N/A"}},"kW"]
[null,null,"冷温水ポンプ",null,{"$f":"IF(O6=0,0,価格関数!$E$21*O6+価格関数!$F$21)","v":{"$error":"#N/A"}},1,"台",{"$f":"F6*E6","v":{"$error":"#N/A"}},null,"価格関数",null,null,null,"ポンプ出力",{"$f":"比較対象_既存_燃料_給湯_RC!K10","v":{"$error":"#N/A"}},"kW"]
[]
[]
[]
[]
[]
[]
[]
[null,null,"自動制御",null,null,1,"式",{"$f":"INT(SUM(H5:H13)*I14)","v":{"$error":"#N/A"}},0.2,"概算　事例等より設定"]
[null,null,"その他配管","概算（付属品込）",null,1,"式",{"$f":"INT(SUM(H5:H14)*I15)","v":{"$error":"#N/A"}},0.1,"配管費=機器類×5~10%と設定"]
[]
[null,null,"小計",null,null,null,null,{"$f":"SUM(H5:H16)","v":{"$error":"#N/A"}}]
[null,"電気工事","概算","概算",null,null,null,{"$f":"INT(H17*I18)","v":{"$error":"#N/A"}},0.3]
[]
[null,null,"小計",null,null,null,null,{"$f":"SUM(H18:H19)","v":{"$error":"#N/A"}}]
[null,"土工事"]
[]
[]
[null,null,"小計",null,null,null,null,{"$f":"SUM(H21:H23)","v":0}]
[null,"直接工事費",null,null,null,null,null,{"$f":"H24+H20+H17","v":{"$error":"#N/A"}}]
[null,"間接工事費",null,null,null,1,"式",{"$f":"INT(H25*0.3)","v":{"$error":"#N/A"}},"直接工事費×30%"]
[null,"工事原価",null,null,null,1,"式",{"$f":"H25+H26","v":{"$error":"#N/A"}}]
[null,"消費税",null,null,null,1,"式"]
[]
[null,"合計",null,null,null,null,null,{"$f":"H27+H28","v":{"$error":"#N/A"}}]

{"sheet":"残り需要_既存_燃料_給湯_RC","index":39,"n_rows":152,"n_cols":31,"rows_kept":152,"cut":false,"hidden":true,"merged":[]}
[null,"■入力情報",null,null,null,null,null,null,"■給湯　燃料方式システムのエネルギー計算"]
[]
[null,"■対象施設情報",null,null,null,null,null,null,"■給湯　燃料方式システム検討",null,null,null,null,"■給湯　燃料方式システム　エネルギー計算・エネルギーコスト検討"]
[null,"項目","単位","値","備考",null,null,null,"項目","単位","値","備考",null,"項目","単位","4月","5月","6月","7月","8月","9月","10月","11月","12月","1月","2月","3月","合計","最大","最小","備考"]
[null,"地域選択","-",{"$f":"入力シート!C7","v":0},"都道府県を選択してください。",null,null,null,"熱源容量","kW",{"$f":"残り需要_既存_燃料_給湯_熱源容量!N4","v":{"$error":"#N/A"}},"熱源容量シートより",null,"熱利用用途",null,{"$f":"マッチング!E10","v":""},{"$f":"マッチング!F10","v":""},{"$f":"マッチング!G10","v":""},{"$f":"マッチング!H10","v":""},{"$f":"マッチング!I10","v":""},{"$f":"マッチング!J10","v":""},{"$f":"マッチング!K10","v":""},{"$f":"マッチング!L10","v":""},{"$f":"マッチング!M10","v":""},{"$f":"マッチング!N10","v":""},{"$f":"マッチング!O10","v":""},{"$f":"マッチング!P10","v":""}]
[null,"熱利用用途","-",{"$f":"入力シート!C8","v":0},"給湯、空調、融雪から選択してください。",null,null,null,"温度差","℃",5,"想定設定値",null,"熱需要量","MJ/月",{"$f":"マッチング!E116","v":{"$error":"#N/A"}},{"$f":"マッチング!F116","v":{"$error":"#N/A"}},{"$f":"マッチング!G116","v":{"$error":"#N/A"}},{"$f":"マッチング!H116","v":{"$error":"#N/A"}},{"$f":"マッチング!I116","v":{"$error":"#N/A"}},{"$f":"マッチング!J116","v":{"$error":"#N/A"}},{"$f":"マッチング!K116","v":{"$error":"#N/A"}},{"$f":"マッチング!L116","v":{"$error":"#N/A"}},{"$f":"マッチング!M116","v":{"$error":"#N/A"}},{"$f":"マッチング!N116","v":{"$error":"#N/A"}},{"$f":"マッチング!O116","v":{"$error":"#N/A"}},{"$f":"マッチング!P116","v":{"$error":"#N/A"}},{"$f":"SUM(P6:AA6)","v":{"$error":"#N/A"}},{"$f":"MAX(P6:AA6)","v":{"$error":"#N/A"}},{"$f":"MIN(P6:AA6)","v":{"$error":"#N/A"}}]
[null,"建物用途","-",{"$f":"入力シート!C9","v":0},"給湯、空調利用の場合は建物用途を選択してください。",null,null,null,"冷温水流量","L/min",{"$f":"K5/K6/$D$22/$D$23*1000*60","v":{"$error":"#N/A"}},null,null,null,"kWh/月",{"$f":"P6*1000/3600","v":{"$error":"#N/A"}},{"$f":"Q6*1000/3600","v":{"$error":"#N/A"}},{"$error":"#N/A"},{"$error":"#N/A"},{"$error":"#N/A"},{"$error":"#N/A"},{"$error":"#N/A"},{"$error":"#N/A"},{"$error":"#N/A"},{"$error":"#N/A"},{"$error":"#N/A"},{"$error":"#N/A"},{"$f":"SUM(P7:AA7)","v":{"$error":"#N/A"}},{"$f":"MAX(P7:AA7)","v":{"$error":"#N/A"}},{"$f":"MIN(P7:AA7)","v":{"$error":"#N/A"}}]
[null,"延床面積","m2",{"$f":"入力シート!C10","v":0},"給湯、空調利用の場合は数値を入力してください。",null,null,null,"冷温水揚程（想定）","m",15,"想定設定値",null,"日数","日",{"$f":"熱需要量算定・原単位!D24","v":30},{"$f":"熱需要量算定・原単位!E24","v":31},{"$f":"熱需要量算定・原単位!F24","v":30},{"$f":"熱需要量算定・原単位!G24","v":31},{"$f":"熱需要量算定・原単位!H24","v":31},{"$f":"熱需要量算定・原単位!I24","v":30},{"$f":"熱需要量算定・原単位!J24","v":31},{"$f":"熱需要量算定・原単位!K24","v":30},{"$f":"熱需要量算定・原単位!L24","v":31},{"$f":"熱需要量算定・原単位!M24","v":31},{"$f":"熱需要量算定・原単位!N24","v":28},{"$f":"熱需要量算定・原単位!O24","v":31},{"$f":"SUM(P8:AA8)","v":365}]
[null,"対象面積","m2",{"$f":"入力シート!C11","v":0},"融雪利用の場合は数値を入力して下さい。",null,null,null,"冷温水ポンプ効率","%",{"$f":"IF(K7<80,ポンプ効率近似式!$D$14,-1.403*LN(K7/1000)^2+6.9719*LN(K7/1000)+53.781)","v":{"$error":"#N/A"}},"ポンプ効率近似式より",null,"運転時間","h/日",{"$f":"HLOOKUP(P5,残り需要_既存_燃料_給湯_熱源容量!$B$36:$D$37,2,FALSE)","v":{"$error":"#N/A"}},{"$f":"HLOOKUP(Q5,残り需要_既存_燃料_給湯_熱源容量!$B$36:$D$37,2,FALSE)","v":{"$error":"#N/A"}},{"$f":"HLOOKUP(R5,残り需要_既存_燃料_給湯_熱源容量!$B$36:$D$37,2,FALSE)","v":{"$error":"#N/A"}},{"$f":"HLOOKUP(S5,残り需要_既存_燃料_給湯_熱源容量!$B$36:$D$37,2,FALSE)","v":{"$error":"#N/A"}},{"$f":"HLOOKUP(T5,残り需要_既存_燃料_給湯_熱源容量!$B$36:$D$37,2,FALSE)","v":{"$error":"#N/A"}},{"$f":"HLOOKUP(U5,残り需要_既存_燃料_給湯_熱源容量!$B$36:$D$37,2,FALSE)","v":{"$error":"#N/A"}},{"$f":"HLOOKUP(V5,残り需要_既存_燃料_給湯_熱源容量!$B$36:$D$37,2,FALSE)","v":{"$error":"#N/A"}},{"$f":"HLOOKUP(W5,残り需要_既存_燃料_給湯_熱源容量!$B$36:$D$37,2,FALSE)","v":{"$error":"#N/A"}},{"$f":"HLOOKUP(X5,残り需要_既存_燃料_給湯_熱源容量!$B$36:$D$37,2,FALSE)","v":{"$error":"#N/A"}},{"$f":"HLOOKUP(Y5,残り需要_既存_燃料_給湯_熱源容量!$B$36:$D$37,2,FALSE)","v":{"$error":"#N/A"}},{"$f":"HLOOKUP(Z5,残り需要_既存_燃料_給湯_熱源容量!$B$36:$D$37,2,FALSE)","v":{"$error":"#N/A"}},{"$f":"HLOOKUP(AA5,残り需要_既存_燃料_給湯_熱源容量!$B$36:$D$37,2,FALSE)","v":{"$error":"#N/A"}}]
[null,"燃料種別の選択","-",{"$f":"入力シート!C16","v":0},null,null,null,null,"冷温水ポンプ消費電力","kW",{"$f":"$D$23*$D$25*K7/1000/60*K8/10/K9","v":{"$error":"#N/A"}},"ポンプ関数より",null,"日あたりの熱需要量","MJ/日",{"$f":"P6/P8","v":{"$error":"#N/A"}},{"$error":"#N/A"},{"$error":"#N/A"},{"$error":"#N/A"},{"$error":"#N/A"},{"$error":"#N/A"},{"$error":"#N/A"},{"$error":"#N/A"},{"$error":"#N/A"},{"$error":"#N/A"},{"$error":"#N/A"},{"$error":"#N/A"},{"$f":"SUM(P10:AA10)","v":{"$error":"#N/A"}},{"$f":"MAX(P10:AA10)","v":{"$error":"#N/A"}},{"$f":"MIN(P10:AA10)","v":{"$error":"#N/A"}}]
[null,"選択燃料の発熱量",{"$f":"VLOOKUP(D10,一次E換算!A3:D8,4,FALSE)","v":{"$error":"#N/A"}},{"$f":"VLOOKUP(D10,一次E換算!A3:D8,2,FALSE)","v":{"$error":"#N/A"}},null,null,null,null,null,null,null,null,null,null,"kWh/日",{"$f":"P10*1000/3600","v":{"$error":"#N/A"}},{"$error":"#N/A"},{"$error":"#N/A"},{"$error":"#N/A"},{"$error":"#N/A"},{"$error":"#N/A"},{"$error":"#N/A"},{"$error":"#N/A"},{"$error":"#N/A"},{"$error":"#N/A"},{"$error":"#N/A"},{"$error":"#N/A"},{"$f":"SUM(P11:AA11)","v":{"$error":"#N/A"}},{"$f":"MAX(P11:AA11)","v":{"$error":"#N/A"}},{"$f":"MIN(P11:AA11)","v":{"$error":"#N/A"}}]
[null,null,null,null,null,null,null,null,null,null,null,null,null,"熱源機効率","-",0.9,0.9,0.9,0.9,0.9,0.9,0.9,0.9,0.9,0.9,0.9,0.9]
[null,null,null,null,null,null,null,null,null,null,null,null,null,"熱源機　燃料　必要発熱量","MJ/月",{"$f":"P6/P12","v":{"$error":"#N/A"}},{"$f":"Q6/Q12","v":{"$error":"#N/A"}},{"$error":"#N/A"},{"$error":"#N/A"},{"$error":"#N/A"},{"$error":"#N/A"},{"$error":"#N/A"},{"$error":"#N/A"},{"$error":"#N/A"},{"$error":"#N/A"},{"$error":"#N/A"},{"$error":"#N/A"},{"$f":"SUM(P13:AA13)","v":{"$error":"#N/A"}},{"$f":"MAX(P13:AA13)","v":{"$error":"#N/A"}},{"$f":"MIN(P13:AA13)","v":{"$error":"#N/A"}}]
[null,null,null,null,null,null,null,null,null,null,null,null,null,null,"kWh/月",{"$f":"P7/P12","v":{"$error":"#N/A"}},{"$error":"#N/A"},{"$error":"#N/A"},{"$error":"#N/A"},{"$error":"#N/A"},{"$error":"#N/A"},{"$error":"#N/A"},{"$error":"#N/A"},{"$error":"#N/A"},{"$error":"#N/A"},{"$error":"#N/A"},{"$error":"#N/A"},{"$f":"SUM(P14:AA14)","v":{"$error":"#N/A"}},{"$f":"MAX(P14:AA14)","v":{"$error":"#N/A"}},{"$f":"MIN(P14:AA14)","v":{"$error":"#N/A"}}]
[null,null,null,null,null,null,null,null,null,null,null,null,null,"熱源機　燃料　消費量",{"$f":"RIGHT(C11,LEN(C11)-3)&\"/月\"","v":{"$error":"#N/A"}},{"$f":"P13/$D$11","v":{"$error":"#N/A"}},{"$error":"#N/A"},{"$error":"#N/A"},{"$error":"#N/A"},{"$error":"#N/A"},{"$error":"#N/A"},{"$error":"#N/A"},{"$error":"#N/A"},{"$error":"#N/A"},{"$error":"#N/A"},{"$error":"#N/A"},{"$error":"#N/A"},{"$f":"SUM(P15:AA15)","v":{"$error":"#N/A"}},{"$f":"MAX(P15:AA15)","v":{"$error":"#N/A"}},{"$f":"MIN(P15:AA15)","v":{"$error":"#N/A"}}]
[null,null,null,null,null,null,null,null,null,null,null,null,null,"冷温水ポンプ消費電力量","kWh/月",{"$f":"IF(P6=0,0,$K$10*P9*P8)","v":{"$error":"#N/A"}},{"$f":"IF(Q6=0,0,$K$10*Q9*Q8)","v":{"$error":"#N/A"}},{"$error":"#N/A"},{"$error":"#N/A"},{"$error":"#N/A"},{"$error":"#N/A"},{"$error":"#N/A"},{"$error":"#N/A"},{"$error":"#N/A"},{"$error":"#N/A"},{"$error":"#N/A"},{"$error":"#N/A"},{"$f":"SUM(P16:AA16)","v":{"$error":"#N/A"}}]
[null,null,null,null,null,null,null,null,null,null,null,null,null,"消費電力合計","kWh/月",{"$f":"P16","v":{"$error":"#N/A"}},{"$f":"Q16","v":{"$error":"#N/A"}},{"$error":"#N/A"},{"$error":"#N/A"},{"$error":"#N/A"},{"$error":"#N/A"},{"$error":"#N/A"},{"$error":"#N/A"},{"$error":"#N/A"},{"$error":"#N/A"},{"$error":"#N/A"},{"$error":"#N/A"},{"$f":"SUM(P17:AA17)","v":{"$error":"#N/A"}}]
[]
[]
[null,"■係数"]
[null,"項目","値","単位","備考"]
[null,"水の比熱","kJ/kgK",{"$f":"係数・物性!D4","v":4.1790000000000003},"係数・物性より"]
[null,"水の密度","kg/m3",{"$f":"係数・物性!D5","v":996.62},"係数・物性より"]
[null,"容積比熱","MJ/m3K",{"$f":"係数・物性!D6","v":4.1648749800000004},"係数・物性より"]
[null,"重力加速度","m/s2",{"$f":"係数・物性!D7","v":9.8059999999999992},"係数・物性より",null,null,null,null,null,null,null,null,"熱源機　燃料　消費量",{"$f":"RIGHT(C11,LEN(C11)-3)&\"/月\"","v":{"$error":"#N/A"}},{"$f":"P15","v":{"$error":"#N/A"}},{"$f":"Q15","v":{"$error":"#N/A"}},{"$error":"#N/A"},{"$error":"#N/A"},{"$error":"#N/A"},{"$error":"#N/A"},{"$error":"#N/A"},{"$error":"#N/A"},{"$error":"#N/A"},{"$error":"#N/A"},{"$error":"#N/A"},{"$error":"#N/A"},{"$f":"SUM(P25:AA25)","v":{"$error":"#N/A"}}]
[null,null,null,null,null,null,null,null,null,null,null,null,null,"補機類消費電力量","kWh/月",{"$f":"P16","v":{"$error":"#N/A"}},{"$error":"#N/A"},{"$error":"#N/A"},{"$error":"#N/A"},{"$error":"#N/A"},{"$error":"#N/A"},{"$error":"#N/A"},{"$error":"#N/A"},{"$error":"#N/A"},{"$error":"#N/A"},{"$error":"#N/A"},{"$error":"#N/A"},{"$f":"SUM(P26:AA26)","v":{"$error":"#N/A"}}]
[]
[]
[null,null,null,null,null,null,null,null,"■エネルギーコスト、CO2排出量、一次エネルギー消費量計算（エネルギー消費量を入力）"]
[null,null,null,null,null,null,null,null,null,null,null,null,null,"□エネルギー消費量"]
[null,null,null,null,null,null,null,null,null,"設定セル",null,null,null,"項目","単位","4月","5月","6月","7月","8月","9月","10月","11月","12月","1月","2月","3月","合計","最大","最小","備考"]
[null,null,null,null,null,null,null,null,null,"変更設定していいセル（計算式が入力されている）",null,null,null,"電気","kWh/月",{"$f":"P17","v":{"$error":"#N/A"}},{"$f":"Q17","v":{"$error":"#N/A"}},{"$error":"#N/A"},{"$error":"#N/A"},{"$error":"#N/A"},{"$error":"#N/A"},{"$error":"#N/A"},{"$error":"#N/A"},{"$error":"#N/A"},{"$error":"#N/A"},{"$error":"#N/A"},{"$error":"#N/A"},{"$f":"SUM(P32:AA32)","v":{"$error":"#N/A"}},{"$f":"MAX(P32:AA32)","v":{"$error":"#N/A"}},{"$f":"MIN(P32:AA32)","v":{"$error":"#N/A"}}]
[null,null,null,null,null,null,null,null,null,"あまり変更しなくていい設定セル",null,null,null,"都市ガス（13A）","m3/月",{"$f":"IF($D$10=$N33,P$15,0)","v":0},0,0,0,0,0,0,0,0,0,0,0,0,0,0]
[null,null,null,null,null,null,null,null,null,"デフォ値・係数",null,null,null,"灯油","L/月",0,0,0,0,0,0,0,0,0,0,0,0,0,0,0]
[null,null,null,null,null,null,null,null,null,"計算式・項目確認セル",null,null,null,"重油","L/月",0,0,0,0,0,0,0,0,0,0,0,0,0,0,0]
[null,null,null,null,null,null,null,null,null,null,null,null,null,"液化石油ガス（LPG）","kg/月",0,0,0,0,0,0,0,0,0,0,0,0,0,0,0]
[null,null,null,null,null,null,null,null,null,null,null,null,null,"他人から供給された熱","MJ/月",0,0,0,0,0,0,0,0,0,0,0,0,0,0,0]
[]
[]
[null,null,null,null,null,null,null,null,"□エネルギーコスト単価(フラットレート)",null,null,null,null,"□エネルギーコスト検討"]
[null,null,null,null,null,null,null,null,"項目","単位","値","備考",null,"項目","単位","4月","5月","6月","7月","8月","9月","10月","11月","12月","1月","2月","3月","合計","最大","最小","備考"]
[null,null,null,null,null,null,null,null,"電気","円/kWh",{"$f":"E単価!H5","v":14},null,null,"電気","千円/月",{"$f":"P32*$K42/1000","v":{"$error":"#N/A"}},{"$error":"#N/A"},{"$error":"#N/A"},{"$error":"#N/A"},{"$error":"#N/A"},{"$error":"#N/A"},{"$error":"#N/A"},{"$error":"#N/A"},{"$error":"#N/A"},{"$error":"#N/A"},{"$error":"#N/A"},{"$error":"#N/A"},{"$f":"SUM(P42:AA42)","v":{"$error":"#N/A"}},{"$f":"MAX(P42:AA42)","v":{"$error":"#N/A"}},{"$f":"MIN(P42:AA42)","v":{"$error":"#N/A"}}]
[null,null,null,null,null,null,null,null,"都市ガス（13A）","円/m3",{"$f":"E単価!H6","v":114.64285714285714},null,null,"都市ガス（13A）","千円/月",0,0,0,0,0,0,0,0,0,0,0,0,0,0,0]
[null,null,null,null,null,null,null,null,"灯油","円/L",{"$f":"E単価!H7","v":107.88888888888889},null,null,"灯油","千円/月",0,0,0,0,0,0,0,0,0,0,0,0,0,0,0]
[null,null,null,null,null,null,null,null,"重油","円/L",{"$f":"E単価!H8","v":76.099999999999994},null,null,"重油","千円/月",0,0,0,0,0,0,0,0,0,0,0,0,0,0,0]
[null,null,null,null,null,null,null,null,"液化石油ガス（LPG）","円/kg",{"$f":"E単価!H9","v":159.40476190476193},null,null,"液化石油ガス（LPG）","千円/月",0,0,0,0,0,0,0,0,0,0,0,0,0,0,0]
[null,null,null,null,null,null,null,null,"他人から供給された熱","円/GJ",{"$f":"E単価!H10","v":6611.9047619047615},null,null,"他人から供給された熱","千円/月",0,0,0,0,0,0,0,0,0,0,0,0,0,0,0]
[null,null,null,null,null,null,null,null,null,null,null,null,null,"エネルギーコスト合計","千円/月",{"$f":"SUM(P42:P47)","v":{"$error":"#N/A"}},{"$f":"SUM(Q42:Q47)","v":{"$error":"#N/A"}},{"$error":"#N/A"},{"$error":"#N/A"},{"$error":"#N/A"},{"$error":"#N/A"},{"$error":"#N/A"},{"$error":"#N/A"},{"$error":"#N/A"},{"$error":"#N/A"},{"$error":"#N/A"},{"$error":"#N/A"},{"$f":"SUM(AB42:AB47)","v":{"$error":"#N/A"}},{"$f":"SUM(AC42:AC47)","v":{"$error":"#N/A"}},{"$f":"SUM(AD42:AD47)","v":{"$error":"#N/A"}}]
[]
[null,null,null,null,null,null,null,null,"□CO2換算係数",null,null,null,null,"□CO2排出量"]
[null,null,null,null,null,null,null,null,"項目","単位","値","備考",null,"項目","単位","4月","5月","6月","7月","8月","9月","10月","11月","12月","1月","2月","3月","合計","最大","最小","備考"]
[null,null,null,null,null,null,null,null,"電気","tCO2/kWh",{"$f":"CO2換算係数!B3","v":4.8799999999999999E-4},null,null,"電気","t-CO2/月",{"$f":"P32*$K52","v":{"$error":"#N/A"}},{"$f":"Q32*$K52","v":{"$error":"#N/A"}},{"$error":"#N/A"},{"$error":"#N/A"},{"$error":"#N/A"},{"$error":"#N/A"},{"$error":"#N/A"},{"$error":"#N/A"},{"$error":"#N/A"},{"$error":"#N/A"},{"$error":"#N/A"},{"$f":"AA32*$K52","v":{"$error":"#N/A"}},{"$f":"SUM(P52:AA52)","v":{"$error":"#N/A"}},{"$f":"MAX(P52:AA52)","v":{"$error":"#N/A"}},{"$f":"MIN(P52:AA52)","v":{"$error":"#N/A"}}]
[null,null,null,null,null,null,null,null,"都市ガス（13A）","tCO2/km3",{"$f":"CO2換算係数!B4","v":2.23},null,null,"都市ガス（13A）","t-CO2/月",{"$f":"P33/1000*$K53","v":0},0,0,0,0,0,0,0,0,0,0,0,0,0,0]
[null,null,null,null,null,null,null,null,"灯油","tCO2/kL",{"$f":"CO2換算係数!B5","v":2.4900000000000002},null,null,"灯油","t-CO2/月",0,0,0,0,0,0,0,0,0,0,0,0,0,0,0]
[null,null,null,null,null,null,null,null,"重油","tCO2/kL",{"$f":"CO2換算係数!B6","v":2.71},null,null,"重油","t-CO2/月",0,0,0,0,0,0,0,0,0,0,0,0,0,0,0]
[null,null,null,null,null,null,null,null,"液化石油ガス（LPG）","tCO2/t",{"$f":"CO2換算係数!B7","v":3},null,null,"液化石油ガス（LPG）","t-CO2/月",0,0,0,0,0,0,0,0,0,0,0,0,0,0,0]
[null,null,null,null,null,null,null,null,"他人から供給された熱","tCO2/GJ",{"$f":"CO2換算係数!B8","v":5.7000000000000002E-2},null,null,"他人から供給された熱","t-CO2/月",0,0,0,0,0,0,0,0,0,0,0,0,0,0,0]
[null,null,null,null,null,null,null,null,null,null,null,null,null,"CO2排出量合計","t-CO2/月",{"$f":"SUM(P52:P57)","v":{"$error":"#N/A"}},{"$f":"SUM(Q52:Q57)","v":{"$error":"#N/A"}},{"$error":"#N/A"},{"$error":"#N/A"},{"$error":"#N/A"},{"$error":"#N/A"},{"$error":"#N/A"},{"$error":"#N/A"},{"$error":"#N/A"},{"$error":"#N/A"},{"$error":"#N/A"},{"$error":"#N/A"},{"$f":"SUM(AB52:AB57)","v":{"$error":"#N/A"}},{"$error":"#N/A"},{"$error":"#N/A"}]
[]
[null,null,null,null,null,null,null,null,"□一次エネルギー換算係数",null,null,null,null,"□一次エネルギー消費量"]
[null,null,null,null,null,null,null,null,"項目","単位","値","備考",null,"項目","単位","4月","5月","6月","7月","8月","9月","10月","11月","12月","1月","2月","3月","合計","最大","最小","備考"]
[null,null,null,null,null,null,null,null,"電気","MJ/kWh",{"$f":"一次E換算!B3","v":9.76},null,null,"電気","MJ/月",{"$f":"P32*$K62","v":{"$error":"#N/A"}},{"$error":"#N/A"},{"$error":"#N/A"},{"$error":"#N/A"},{"$error":"#N/A"},{"$error":"#N/A"},{"$error":"#N/A"},{"$error":"#N/A"},{"$error":"#N/A"},{"$error":"#N/A"},{"$error":"#N/A"},{"$error":"#N/A"},{"$f":"SUM(P62:AA62)","v":{"$error":"#N/A"}},{"$f":"MAX(P62:AA62)","v":{"$error":"#N/A"}},{"$f":"MIN(P62:AA62)","v":{"$error":"#N/A"}}]
[null,null,null,null,null,null,null,null,"都市ガス（13A）","MJ/m3",{"$f":"一次E換算!B4","v":45},null,null,"都市ガス（13A）","MJ/月",0,0,0,0,0,0,0,0,0,0,0,0,0,0,0]
[null,null,null,null,null,null,null,null,"灯油","MJ/L",{"$f":"一次E換算!B5","v":37},null,null,"灯油","MJ/月",0,0,0,0,0,0,0,0,0,0,0,0,0,0,0]
[null,null,null,null,null,null,null,null,"重油","MJ/L",{"$f":"一次E換算!B6","v":41},null,null,"重油","MJ/月",0,0,0,0,0,0,0,0,0,0,0,0,0,0,0]
[null,null,null,null,null,null,null,null,"液化石油ガス（LPG）","MJ/kg",{"$f":"一次E換算!B7","v":50},null,null,"液化石油ガス（LPG）","MJ/月",0,0,0,0,0,0,0,0,0,0,0,0,0,0,0]
[null,null,null,null,null,null,null,null,"他人から供給された熱","MJ/MJ",{"$f":"一次E換算!B8","v":1.36},null,null,"他人から供給された熱","MJ/月",0,0,0,0,0,0,0,0,0,0,0,0,0,0,0]
[null,null,null,null,null,null,null,null,null,null,null,null,null,"一次エネルギー消費量合計","MJ/月",{"$f":"SUM(P62:P67)","v":{"$error":"#N/A"}},{"$error":"#N/A"},{"$error":"#N/A"},{"$error":"#N/A"},{"$error":"#N/A"},{"$error":"#N/A"},{"$error":"#N/A"},{"$error":"#N/A"},{"$error":"#N/A"},{"$error":"#N/A"},{"$error":"#N/A"},{"$error":"#N/A"},{"$error":"#N/A"},{"$error":"#N/A"},{"$error":"#N/A"}]
[]
[]
[null,null,null,null,null,null,null,null,"■熱源機エネルギーコスト、CO2排出量、一次エネルギー消費量計算（エネルギー消費量を入力）"]
[null,null,null,null,null,null,null,null,null,null,null,null,null,"□エネルギー消費量"]
[null,null,null,null,null,null,null,null,null,"設定セル",null,null,null,"項目","単位","4月","5月","6月","7月","8月","9月","10月","11月","12月","1月","2月","3月","合計","最大","最小","備考"]
[null,null,null,null,null,null,null,null,null,"変更設定していいセル（計算式が入力されている）",null,null,null,"電気","kWh/月",null,null,null,null,null,null,null,null,null,null,null,null,{"$f":"SUM(P74:AA74)","v":0},{"$f":"MAX(P74:AA74)","v":0},{"$f":"MIN(P74:AA74)","v":0}]
[null,null,null,null,null,null,null,null,null,"あまり変更しなくていい設定セル",null,null,null,"都市ガス（13A）","m3/月",{"$f":"IF($D$10=$N75,P$15,0)","v":0},{"$f":"IF($D$10=$N75,Q$15,0)","v":0},0,0,0,0,0,0,0,0,0,0,0,0,0]
[null,null,null,null,null,null,null,null,null,"デフォ値・係数",null,null,null,"灯油","L/月",{"$f":"IF($D$10=$N76,P$15,0)","v":0},0,0,0,0,0,0,0,0,0,0,0,0,0,0]
[null,null,null,null,null,null,null,null,null,"計算式・項目確認セル",null,null,null,"重油","L/月",0,0,0,0,0,0,0,0,0,0,0,0,0,0,0]
[null,null,null,null,null,null,null,null,null,null,null,null,null,"液化石油ガス（LPG）","kg/月",0,0,0,0,0,0,0,0,0,0,0,0,0,0,0]
[null,null,null,null,null,null,null,null,null,null,null,null,null,"他人から供給された熱","MJ/月",0,0,0,0,0,0,0,0,0,0,0,0,0,0,0]
[]
[]
[null,null,null,null,null,null,null,null,"□エネルギーコスト単価(フラットレート)",null,null,null,null,"□エネルギーコスト検討"]
[null,null,null,null,null,null,null,null,"項目","単位","値","備考",null,"項目","単位","4月","5月","6月","7月","8月","9月","10月","11月","12月","1月","2月","3月","合計","最大","最小","備考"]
[null,null,null,null,null,null,null,null,"電気","円/kWh",{"$f":"K42","v":14},null,null,"電気","千円/月",{"$f":"P74*$K84/1000","v":0},0,0,0,0,0,0,0,0,0,0,0,{"$f":"SUM(P84:AA84)","v":0},{"$f":"MAX(P84:AA84)","v":0},{"$f":"MIN(P84:AA84)","v":0}]
[null,null,null,null,null,null,null,null,"都市ガス（13A）","円/m3",{"$f":"K43","v":114.64285714285714},null,null,"都市ガス（13A）","千円/月",{"$f":"P75*$K85/1000","v":0},0,0,0,0,0,0,0,0,0,0,0,0,0,0]
[null,null,null,null,null,null,null,null,"灯油","円/L",107.88888888888889,null,null,"灯油","千円/月",{"$f":"P76*$K86/1000","v":0},0,0,0,0,0,0,0,0,0,0,0,0,0,0]
[null,null,null,null,null,null,null,null,"重油","円/L",76.099999999999994,null,null,"重油","千円/月",{"$f":"P77*$K87/1000","v":0},0,0,0,0,0,0,0,0,0,0,0,0,0,0]
[null,null,null,null,null,null,null,null,"液化石油ガス（LPG）","円/kg",159.40476190476193,null,null,"液化石油ガス（LPG）","千円/月",{"$f":"P78*$K88/1000","v":0},0,0,0,0,0,0,0,0,0,0,0,0,0,0]
[null,null,null,null,null,null,null,null,"他人から供給された熱","円/GJ",6611.9047619047615,null,null,"他人から供給された熱","千円/月",{"$f":"P79*$K89/1000","v":0},0,0,0,0,0,0,0,0,0,0,0,0,0,0]
[null,null,null,null,null,null,null,null,null,null,null,null,null,"エネルギーコスト合計","千円/月",{"$f":"SUM(P84:P89)","v":0},{"$f":"SUM(Q84:Q89)","v":0},0,{"$f":"SUM(S84:S89)","v":0},0,0,0,0,0,0,0,0,{"$f":"SUM(AB84:AB89)","v":0},{"$f":"SUM(AC84:AC89)","v":0},{"$f":"SUM(AD84:AD89)","v":0}]
[]
[null,null,null,null,null,null,null,null,"□CO2換算係数",null,null,null,null,"□CO2排出量"]
[null,null,null,null,null,null,null,null,"項目","単位","値","備考",null,"項目","単位","4月","5月","6月","7月","8月","9月","10月","11月","12月","1月","2月","3月","合計","最大","最小","備考"]
[null,null,null,null,null,null,null,null,"電気","tCO2/kWh",{"$f":"K52","v":4.8799999999999999E-4},null,null,"電気","t-CO2/月",{"$f":"P74*$K94","v":0},0,0,0,0,0,0,0,0,0,0,0,{"$f":"SUM(P94:AA94)","v":0},{"$f":"MAX(P94:AA94)","v":0},{"$f":"MIN(P94:AA94)","v":0}]
[null,null,null,null,null,null,null,null,"都市ガス（13A）","tCO2/km3",{"$f":"K53","v":2.23},null,null,"都市ガス（13A）","t-CO2/月",{"$f":"P75/1000*$K95","v":0},0,0,0,0,0,0,0,0,0,0,0,0,0,0]
[null,null,null,null,null,null,null,null,"灯油","tCO2/kL",2.4900000000000002,null,null,"灯油","t-CO2/月",{"$f":"P76/1000*$K96","v":0},0,0,0,0,0,0,0,0,0,0,0,0,0,0]
[null,null,null,null,null,null,null,null,"重油","tCO2/kL",2.71,null,null,"重油","t-CO2/月",{"$f":"P77/1000*$K97","v":0},0,0,0,0,0,0,0,0,0,0,0,0,0,0]
[null,null,null,null,null,null,null,null,"液化石油ガス（LPG）","tCO2/t",3,null,null,"液化石油ガス（LPG）","t-CO2/月",{"$f":"P78/1000*$K98","v":0},0,0,0,0,0,0,0,0,0,0,0,0,0,0]
[null,null,null,null,null,null,null,null,"他人から供給された熱","tCO2/GJ",5.7000000000000002E-2,null,null,"他人から供給された熱","t-CO2/月",{"$f":"P79/1000*$K99","v":0},0,0,0,0,0,0,0,0,0,0,0,0,0,0]
[null,null,null,null,null,null,null,null,null,null,null,null,null,"CO2排出量合計","t-CO2/月",{"$f":"SUM(P94:P99)","v":0},{"$f":"SUM(Q94:Q99)","v":0},0,0,0,0,0,0,0,0,0,{"$f":"SUM(AA94:AA99)","v":0},{"$f":"SUM(AB94:AB99)","v":0},{"$f":"SUM(AC94:AC99)","v":0},0]
[]
[null,null,null,null,null,null,null,null,"□一次エネルギー換算係数",null,null,null,null,"□一次エネルギー消費量"]
[null,null,null,null,null,null,null,null,"項目","単位","値","備考",null,"項目","単位","4月","5月","6月","7月","8月","9月","10月","11月","12月","1月","2月","3月","合計","最大","最小","備考"]
[null,null,null,null,null,null,null,null,"電気","MJ/kWh",{"$f":"K62","v":9.76},null,null,"電気","MJ/月",{"$f":"P74*$K104","v":0},0,0,0,0,0,0,0,0,0,0,0,{"$f":"SUM(P104:AA104)","v":0},{"$f":"MAX(P104:AA104)","v":0},{"$f":"MIN(P104:AA104)","v":0}]
[null,null,null,null,null,null,null,null,"都市ガス（13A）","MJ/m3",{"$f":"K63","v":45},null,null,"都市ガス（13A）","MJ/月",{"$f":"P75*$K105","v":0},0,0,0,0,0,0,0,0,0,0,0,0,0,0]
[null,null,null,null,null,null,null,null,"灯油","MJ/L",37,null,null,"灯油","MJ/月",{"$f":"P76*$K106","v":0},0,0,0,0,0,0,0,0,0,0,0,0,0,0]
[null,null,null,null,null,null,null,null,"重油","MJ/L",41,null,null,"重油","MJ/月",{"$f":"P77*$K107","v":0},0,0,0,0,0,0,0,0,0,0,0,0,0,0]
[null,null,null,null,null,null,null,null,"液化石油ガス（LPG）","MJ/kg",50,null,null,"液化石油ガス（LPG）","MJ/月",{"$f":"P78*$K108","v":0},0,0,0,0,0,0,0,0,0,0,0,0,0,0]
[null,null,null,null,null,null,null,null,"他人から供給された熱","MJ/MJ",1.36,null,null,"他人から供給された熱","MJ/月",{"$f":"P79*$K109","v":0},0,0,0,0,0,0,0,0,0,0,0,0,0,0]
[null,null,null,null,null,null,null,null,null,null,null,null,null,"一次エネルギー消費量合計","MJ/月",{"$f":"SUM(P104:P109)","v":0},0,0,0,0,0,0,0,0,0,0,{"$f":"SUM(AA104:AA109)","v":0},0,0,0]
[]
[]
[null,null,null,null,null,null,null,null,"■補機類エネルギーコスト、CO2排出量、一次エネルギー消費量計算（エネルギー消費量を入力）"]
[null,null,null,null,null,null,null,null,null,null,null,null,null,"□エネルギー消費量"]
[null,null,null,null,null,null,null,null,null,"設定セル",null,null,null,"項目","単位","4月","5月","6月","7月","8月","9月","10月","11月","12月","1月","2月","3月","合計","最大","最小","備考"]
[null,null,null,null,null,null,null,null,null,"変更設定していいセル（計算式が入力されている）",null,null,null,"電気","kWh/月",{"$f":"P26","v":{"$error":"#N/A"}},{"$error":"#N/A"},{"$error":"#N/A"},{"$error":"#N/A"},{"$error":"#N/A"},{"$error":"#N/A"},{"$error":"#N/A"},{"$error":"#N/A"},{"$error":"#N/A"},{"$error":"#N/A"},{"$error":"#N/A"},{"$error":"#N/A"},{"$f":"SUM(P116:AA116)","v":{"$error":"#N/A"}},{"$f":"MAX(P116:AA116)","v":{"$error":"#N/A"}},{"$f":"MIN(P116:AA116)","v":{"$error":"#N/A"}}]
[null,null,null,null,null,null,null,null,null,"あまり変更しなくていい設定セル",null,null,null,"都市ガス（13A）","m3/月",null,null,null,null,null,null,null,null,null,null,null,null,0,0,0]
[null,null,null,null,null,null,null,null,null,"デフォ値・係数",null,null,null,"灯油","L/月",null,null,null,null,null,null,null,null,null,null,null,null,0,0,0]
[null,null,null,null,null,null,null,null,null,"計算式・項目確認セル",null,null,null,"重油","L/月",null,null,null,null,null,null,null,null,null,null,null,null,0,0,0]
[null,null,null,null,null,null,null,null,null,null,null,null,null,"液化石油ガス（LPG）","kg/月",null,null,null,null,null,null,null,null,null,null,null,null,0,0,0]
[null,null,null,null,null,null,null,null,null,null,null,null,null,"他人から供給された熱","MJ/月",null,null,null,null,null,null,null,null,null,null,null,null,0,0,0]
[]
[]
[null,null,null,null,null,null,null,null,"□エネルギーコスト単価(フラットレート)",null,null,null,null,"□エネルギーコスト検討"]
[null,null,null,null,null,null,null,null,"項目","単位","値","備考",null,"項目","単位","4月","5月","6月","7月","8月","9月","10月","11月","12月","1月","2月","3月","合計","最大","最小","備考"]
[null,null,null,null,null,null,null,null,"電気","円/kWh",{"$f":"K84","v":14},null,null,"電気","千円/月",{"$f":"P116*$K126/1000","v":{"$error":"#N/A"}},{"$error":"#N/A"},{"$error":"#N/A"},{"$error":"#N/A"},{"$error":"#N/A"},{"$error":"#N/A"},{"$error":"#N/A"},{"$error":"#N/A"},{"$error":"#N/A"},{"$error":"#N/A"},{"$error":"#N/A"},{"$error":"#N/A"},{"$f":"SUM(P126:AA126)","v":{"$error":"#N/A"}},{"$f":"MAX(P126:AA126)","v":{"$error":"#N/A"}},{"$f":"MIN(P126:AA126)","v":{"$error":"#N/A"}}]
[null,null,null,null,null,null,null,null,"都市ガス（13A）","円/m3",{"$f":"K85","v":114.64285714285714},null,null,"都市ガス（13A）","千円/月",{"$f":"P117*$K127/1000","v":0},0,0,0,0,0,0,0,0,0,0,0,0,0,0]
[null,null,null,null,null,null,null,null,"灯油","円/L",107.88888888888889,null,null,"灯油","千円/月",{"$f":"P118*$K128/1000","v":0},0,0,0,0,0,0,0,0,0,0,0,0,0,0]
[null,null,null,null,null,null,null,null,"重油","円/L",76.099999999999994,null,null,"重油","千円/月",{"$f":"P119*$K129/1000","v":0},0,0,0,0,0,0,0,0,0,0,0,0,0,0]
[null,null,null,null,null,null,null,null,"液化石油ガス（LPG）","円/kg",159.40476190476193,null,null,"液化石油ガス（LPG）","千円/月",{"$f":"P120*$K130/1000","v":0},0,0,0,0,0,0,0,0,0,0,0,0,0,0]
[null,null,null,null,null,null,null,null,"他人から供給された熱","円/GJ",6611.9047619047615,null,null,"他人から供給された熱","千円/月",{"$f":"P121*$K131/1000","v":0},0,0,0,0,0,0,0,0,0,0,0,0,0,0]
[null,null,null,null,null,null,null,null,null,null,null,null,null,"エネルギーコスト合計","千円/月",{"$f":"SUM(P126:P131)","v":{"$error":"#N/A"}},{"$f":"SUM(Q126:Q131)","v":{"$error":"#N/A"}},{"$error":"#N/A"},{"$error":"#N/A"},{"$error":"#N/A"},{"$error":"#N/A"},{"$error":"#N/A"},{"$error":"#N/A"},{"$error":"#N/A"},{"$error":"#N/A"},{"$error":"#N/A"},{"$f":"SUM(AA126:AA131)","v":{"$error":"#N/A"}},{"$f":"SUM(AB126:AB131)","v":{"$error":"#N/A"}},{"$f":"SUM(AC126:AC131)","v":{"$error":"#N/A"}},{"$f":"SUM(AD126:AD131)","v":{"$error":"#N/A"}}]
[]
[null,null,null,null,null,null,null,null,"□CO2換算係数",null,null,null,null,"□CO2排出量"]
[null,null,null,null,null,null,null,null,"項目","単位","値","備考",null,"項目","単位","4月","5月","6月","7月","8月","9月","10月","11月","12月","1月","2月","3月","合計","最大","最小","備考"]
[null,null,null,null,null,null,null,null,"電気","tCO2/kWh",{"$f":"K94","v":4.8799999999999999E-4},null,null,"電気","t-CO2/月",{"$f":"P116*$K136","v":{"$error":"#N/A"}},{"$error":"#N/A"},{"$error":"#N/A"},{"$error":"#N/A"},{"$error":"#N/A"},{"$error":"#N/A"},{"$error":"#N/A"},{"$error":"#N/A"},{"$error":"#N/A"},{"$error":"#N/A"},{"$error":"#N/A"},{"$error":"#N/A"},{"$f":"SUM(P136:AA136)","v":{"$error":"#N/A"}},{"$f":"MAX(P136:AA136)","v":{"$error":"#N/A"}},{"$f":"MIN(P136:AA136)","v":{"$error":"#N/A"}}]
[null,null,null,null,null,null,null,null,"都市ガス（13A）","tCO2/km3",{"$f":"K95","v":2.23},null,null,"都市ガス（13A）","t-CO2/月",{"$f":"P117/1000*$K137","v":0},0,0,0,0,0,0,0,0,0,0,0,0,0,0]
[null,null,null,null,null,null,null,null,"灯油","tCO2/kL",2.4900000000000002,null,null,"灯油","t-CO2/月",{"$f":"P118/1000*$K138","v":0},0,0,0,0,0,0,0,0,0,0,0,0,0,0]
[null,null,null,null,null,null,null,null,"重油","tCO2/kL",2.71,null,null,"重油","t-CO2/月",{"$f":"P119/1000*$K139","v":0},0,0,0,0,0,0,0,0,0,0,0,0,0,0]
[null,null,null,null,null,null,null,null,"液化石油ガス（LPG）","tCO2/t",3,null,null,"液化石油ガス（LPG）","t-CO2/月",{"$f":"P120/1000*$K140","v":0},0,0,0,0,0,0,0,0,0,0,0,0,0,0]
[null,null,null,null,null,null,null,null,"他人から供給された熱","tCO2/GJ",5.7000000000000002E-2,null,null,"他人から供給された熱","t-CO2/月",{"$f":"P121/1000*$K141","v":0},0,0,0,0,0,0,0,0,0,0,0,0,0,0]
[null,null,null,null,null,null,null,null,null,null,null,null,null,"CO2排出量合計","t-CO2/月",{"$f":"SUM(P136:P141)","v":{"$error":"#N/A"}},{"$f":"SUM(Q136:Q141)","v":{"$error":"#N/A"}},{"$error":"#N/A"},{"$error":"#N/A"},{"$error":"#N/A"},{"$error":"#N/A"},{"$error":"#N/A"},{"$error":"#N/A"},{"$error":"#N/A"},{"$error":"#N/A"},{"$error":"#N/A"},{"$f":"SUM(AA136:AA141)","v":{"$error":"#N/A"}},{"$f":"SUM(AB136:AB141)","v":{"$error":"#N/A"}},{"$f":"SUM(AC136:AC141)","v":{"$error":"#N/A"}},{"$error":"#N/A"}]
[]
[null,null,null,null,null,null,null,null,"□一次エネルギー換算係数",null,null,null,null,"□一次エネルギー消費量"]
[null,null,null,null,null,null,null,null,"項目","単位","値","備考",null,"項目","単位","4月","5月","6月","7月","8月","9月","10月","11月","12月","1月","2月","3月","合計","最大","最小","備考"]
[null,null,null,null,null,null,null,null,"電気","MJ/kWh",{"$f":"K104","v":9.76},null,null,"電気","MJ/月",{"$f":"P116*$K146","v":{"$error":"#N/A"}},{"$error":"#N/A"},{"$error":"#N/A"},{"$error":"#N/A"},{"$error":"#N/A"},{"$error":"#N/A"},{"$error":"#N/A"},{"$error":"#N/A"},{"$error":"#N/A"},{"$error":"#N/A"},{"$error":"#N/A"},{"$error":"#N/A"},{"$f":"SUM(P146:AA146)","v":{"$error":"#N/A"}},{"$f":"MAX(P146:AA146)","v":{"$error":"#N/A"}},{"$f":"MIN(P146:AA146)","v":{"$error":"#N/A"}}]
[null,null,null,null,null,null,null,null,"都市ガス（13A）","MJ/m3",{"$f":"K105","v":45},null,null,"都市ガス（13A）","MJ/月",{"$f":"P117*$K147","v":0},0,0,0,0,0,0,0,0,0,0,0,0,0,0]
[null,null,null,null,null,null,null,null,"灯油","MJ/L",37,null,null,"灯油","MJ/月",{"$f":"P118*$K148","v":0},0,0,0,0,0,0,0,0,0,0,0,0,0,0]
[null,null,null,null,null,null,null,null,"重油","MJ/L",41,null,null,"重油","MJ/月",{"$f":"P119*$K149","v":0},0,0,0,0,0,0,0,0,0,0,0,0,0,0]
[null,null,null,null,null,null,null,null,"液化石油ガス（LPG）","MJ/kg",50,null,null,"液化石油ガス（LPG）","MJ/月",{"$f":"P120*$K150","v":0},0,0,0,0,0,0,0,0,0,0,0,0,0,0]
[null,null,null,null,null,null,null,null,"他人から供給された熱","MJ/MJ",1.36,null,null,"他人から供給された熱","MJ/月",{"$f":"P121*$K151","v":0},0,0,0,0,0,0,0,0,0,0,0,0,0,0]
[null,null,null,null,null,null,null,null,null,null,null,null,null,"一次エネルギー消費量合計","MJ/月",{"$f":"SUM(P146:P151)","v":{"$error":"#N/A"}},{"$error":"#N/A"},{"$error":"#N/A"},{"$error":"#N/A"},{"$error":"#N/A"},{"$error":"#N/A"},{"$error":"#N/A"},{"$error":"#N/A"},{"$error":"#N/A"},{"$error":"#N/A"},{"$error":"#N/A"},{"$f":"SUM(AA146:AA151)","v":{"$error":"#N/A"}},{"$error":"#N/A"},{"$error":"#N/A"},{"$error":"#N/A"}]

{"sheet":"残り需要_既存_燃料_給湯_熱源容量","index":40,"n_rows":37,"n_cols":16,"rows_kept":37,"cut":false,"hidden":true,"merged":[]}
["■時刻別負荷"]
["■時刻負荷パタン設定",null,null,null,null,null,null,null,"■時刻別負荷",null,null,null,"■最大負荷　既存設備　熱源容量設定"]
["項目","値","単位","備考",null,null,null,null,null,"時刻別負荷比率","負荷",null,"項目","値","単位","備考"]
["建物用途",{"$f":"入力シート!C9","v":0},"-",null,null,null,null,null,"時刻","-","kW",null,"最大負荷",{"$f":"MAX(K5:K28)","v":{"$error":"#N/A"}},"kW","既存設備での熱源容量"]
["熱利用用途",{"$f":"HLOOKUP(B7,A13:D14,2,FALSE)","v":{"$error":"#N/A"}},"-",null,null,null,null,null,1,{"$f":"VLOOKUP(I5,熱需要量算定・原単位!$AJ$9:$BL$32,MATCH($B$6,熱需要量算定・原単位!$AK$5:$BL$5,0)+1,FALSE)","v":{"$error":"#N/A"}},{"$f":"$B$7*J5/100","v":{"$error":"#N/A"}}]
["検索key",{"$f":"VLOOKUP(B4&B5,E17:F32,2,FALSE)","v":{"$error":"#N/A"}},"-",null,null,null,null,null,2,{"$f":"VLOOKUP(I6,熱需要量算定・原単位!$AJ$9:$BL$32,MATCH($B$6,熱需要量算定・原単位!$AK$5:$BL$5,0)+1,FALSE)","v":{"$error":"#N/A"}},{"$f":"$B$7*J6/100","v":{"$error":"#N/A"}}]
["一日の熱需要量",{"$f":"MAX(残り需要_既存_燃料_給湯_熱源容量!B13:D13)","v":{"$error":"#N/A"}},"kWh/日",null,null,null,null,null,3,{"$f":"VLOOKUP(I7,熱需要量算定・原単位!$AJ$9:$BL$32,MATCH($B$6,熱需要量算定・原単位!$AK$5:$BL$5,0)+1,FALSE)","v":{"$error":"#N/A"}},{"$error":"#N/A"}]
[null,null,null,null,null,null,null,null,4,{"$f":"VLOOKUP(I8,熱需要量算定・原単位!$AJ$9:$BL$32,MATCH($B$6,熱需要量算定・原単位!$AK$5:$BL$5,0)+1,FALSE)","v":{"$error":"#N/A"}},{"$error":"#N/A"}]
["熱利用用途欄は、日あたりの熱需要量が最も多い月の熱利用用途を下表より検索",null,null,null,null,null,null,null,5,{"$f":"VLOOKUP(I9,熱需要量算定・原単位!$AJ$9:$BL$32,MATCH($B$6,熱需要量算定・原単位!$AK$5:$BL$5,0)+1,FALSE)","v":{"$error":"#N/A"}},{"$error":"#N/A"}]
["検索key欄は、時刻別負荷変動費率を熱需要量算定・原単位シートより転記する列を決定するために利用。",null,null,null,null,null,null,null,6,{"$f":"VLOOKUP(I10,熱需要量算定・原単位!$AJ$9:$BL$32,MATCH($B$6,熱需要量算定・原単位!$AK$5:$BL$5,0)+1,FALSE)","v":{"$error":"#N/A"}},{"$error":"#N/A"}]
[null,null,null,null,null,null,null,null,7,{"$f":"VLOOKUP(I11,熱需要量算定・原単位!$AJ$9:$BL$32,MATCH($B$6,熱需要量算定・原単位!$AK$5:$BL$5,0)+1,FALSE)","v":{"$error":"#N/A"}},{"$error":"#N/A"}]
["■時刻別負荷パタン熱利用用途の決定用",null,null,null,null,null,null,null,8,{"$f":"VLOOKUP(I12,熱需要量算定・原単位!$AJ$9:$BL$32,MATCH($B$6,熱需要量算定・原単位!$AK$5:$BL$5,0)+1,FALSE)","v":{"$error":"#N/A"}},{"$error":"#N/A"}]
["日あたりの熱需要量",{"$f":"SUMPRODUCT(MAX((残り需要_既存_燃料_給湯_RC!$P$5:$AA$5=B14)*(残り需要_既存_燃料_給湯_RC!$P$11:$AA$11)))","v":{"$error":"#N/A"}},{"$f":"SUMPRODUCT(MAX((残り需要_既存_燃料_給湯_RC!$P$5:$AA$5=C14)*(残り需要_既存_燃料_給湯_RC!$P$11:$AA$11)))","v":{"$error":"#N/A"}},{"$f":"SUMPRODUCT(MAX((残り需要_既存_燃料_給湯_RC!$P$5:$AA$5=D14)*(残り需要_既存_燃料_給湯_RC!$P$11:$AA$11)))","v":{"$error":"#N/A"}},null,null,null,null,9,{"$f":"VLOOKUP(I13,熱需要量算定・原単位!$AJ$9:$BL$32,MATCH($B$6,熱需要量算定・原単位!$AK$5:$BL$5,0)+1,FALSE)","v":{"$error":"#N/A"}},{"$error":"#N/A"}]
["熱利用用途","給湯","冷房","暖房",null,null,null,null,10,{"$f":"VLOOKUP(I14,熱需要量算定・原単位!$AJ$9:$BL$32,MATCH($B$6,熱需要量算定・原単位!$AK$5:$BL$5,0)+1,FALSE)","v":{"$error":"#N/A"}},{"$error":"#N/A"}]
[null,null,null,null,null,null,null,null,11,{"$f":"VLOOKUP(I15,熱需要量算定・原単位!$AJ$9:$BL$32,MATCH($B$6,熱需要量算定・原単位!$AK$5:$BL$5,0)+1,FALSE)","v":{"$error":"#N/A"}},{"$error":"#N/A"}]
["■時刻別負荷変動比率　検索key設定",null,null,null,null,null,null,null,12,{"$f":"VLOOKUP(I16,熱需要量算定・原単位!$AJ$9:$BL$32,MATCH($B$6,熱需要量算定・原単位!$AK$5:$BL$5,0)+1,FALSE)","v":{"$error":"#N/A"}},{"$error":"#N/A"}]
["No","建物用途","熱利用用途","季節","VLOOKUP","検索key","運転時間",null,13,{"$f":"VLOOKUP(I17,熱需要量算定・原単位!$AJ$9:$BL$32,MATCH($B$6,熱需要量算定・原単位!$AK$5:$BL$5,0)+1,FALSE)","v":{"$error":"#N/A"}},{"$error":"#N/A"}]
[1,"集合住宅","給湯","冬期",{"$f":"B18&C18","v":"集合住宅給湯"},{"$f":"B18&C18&D18","v":"集合住宅給湯冬期"},{"$f":"HLOOKUP(F18,熱需要量算定・原単位!$AJ$5:$BL$34,30,FALSE)","v":22},null,14,{"$f":"VLOOKUP(I18,熱需要量算定・原単位!$AJ$9:$BL$32,MATCH($B$6,熱需要量算定・原単位!$AK$5:$BL$5,0)+1,FALSE)","v":{"$error":"#N/A"}},{"$error":"#N/A"}]
[2,"集合住宅","冷房","夏期",{"$f":"B19&C19","v":"集合住宅冷房"},{"$f":"B19&C19&D19","v":"集合住宅冷房夏期"},{"$f":"HLOOKUP(F19,熱需要量算定・原単位!$AJ$5:$BL$34,30,FALSE)","v":24},null,15,{"$f":"VLOOKUP(I19,熱需要量算定・原単位!$AJ$9:$BL$32,MATCH($B$6,熱需要量算定・原単位!$AK$5:$BL$5,0)+1,FALSE)","v":{"$error":"#N/A"}},{"$error":"#N/A"}]
[3,"集合住宅","暖房","冬期","集合住宅暖房","集合住宅暖房冬期",{"$f":"HLOOKUP(F20,熱需要量算定・原単位!$AJ$5:$BL$34,30,FALSE)","v":24},null,16,{"$f":"VLOOKUP(I20,熱需要量算定・原単位!$AJ$9:$BL$32,MATCH($B$6,熱需要量算定・原単位!$AK$5:$BL$5,0)+1,FALSE)","v":{"$error":"#N/A"}},{"$error":"#N/A"}]
[4,"業務施設","給湯","冬期","業務施設給湯","業務施設給湯冬期",{"$f":"HLOOKUP(F21,熱需要量算定・原単位!$AJ$5:$BL$34,30,FALSE)","v":14},null,17,{"$f":"VLOOKUP(I21,熱需要量算定・原単位!$AJ$9:$BL$32,MATCH($B$6,熱需要量算定・原単位!$AK$5:$BL$5,0)+1,FALSE)","v":{"$error":"#N/A"}},{"$error":"#N/A"}]
[5,"業務施設","冷房","夏期","業務施設冷房","業務施設冷房夏期",{"$f":"HLOOKUP(F22,熱需要量算定・原単位!$AJ$5:$BL$34,30,FALSE)","v":14},null,18,{"$f":"VLOOKUP(I22,熱需要量算定・原単位!$AJ$9:$BL$32,MATCH($B$6,熱需要量算定・原単位!$AK$5:$BL$5,0)+1,FALSE)","v":{"$error":"#N/A"}},{"$error":"#N/A"}]
[6,"業務施設","暖房","冬期","業務施設暖房","業務施設暖房冬期",{"$f":"HLOOKUP(F23,熱需要量算定・原単位!$AJ$5:$BL$34,30,FALSE)","v":11},null,19,{"$f":"VLOOKUP(I23,熱需要量算定・原単位!$AJ$9:$BL$32,MATCH($B$6,熱需要量算定・原単位!$AK$5:$BL$5,0)+1,FALSE)","v":{"$error":"#N/A"}},{"$error":"#N/A"}]
[7,"商業施設","給湯","-","商業施設給湯","商業施設給湯-",{"$f":"HLOOKUP(F24,熱需要量算定・原単位!$AJ$5:$BL$34,30,FALSE)","v":12},null,20,{"$f":"VLOOKUP(I24,熱需要量算定・原単位!$AJ$9:$BL$32,MATCH($B$6,熱需要量算定・原単位!$AK$5:$BL$5,0)+1,FALSE)","v":{"$error":"#N/A"}},{"$error":"#N/A"}]
[8,"商業施設","冷房","-","商業施設冷房","商業施設冷房-",{"$f":"HLOOKUP(F25,熱需要量算定・原単位!$AJ$5:$BL$34,30,FALSE)","v":11},null,21,{"$f":"VLOOKUP(I25,熱需要量算定・原単位!$AJ$9:$BL$32,MATCH($B$6,熱需要量算定・原単位!$AK$5:$BL$5,0)+1,FALSE)","v":{"$error":"#N/A"}},{"$error":"#N/A"}]
[9,"商業施設","暖房","-","商業施設暖房","商業施設暖房-",{"$f":"HLOOKUP(F26,熱需要量算定・原単位!$AJ$5:$BL$34,30,FALSE)","v":11},null,22,{"$f":"VLOOKUP(I26,熱需要量算定・原単位!$AJ$9:$BL$32,MATCH($B$6,熱需要量算定・原単位!$AK$5:$BL$5,0)+1,FALSE)","v":{"$error":"#N/A"}},{"$error":"#N/A"}]
[10,"宿泊施設","給湯","-","宿泊施設給湯","宿泊施設給湯-",{"$f":"HLOOKUP(F27,熱需要量算定・原単位!$AJ$5:$BL$34,30,FALSE)","v":24},null,23,{"$f":"VLOOKUP(I27,熱需要量算定・原単位!$AJ$9:$BL$32,MATCH($B$6,熱需要量算定・原単位!$AK$5:$BL$5,0)+1,FALSE)","v":{"$error":"#N/A"}},{"$error":"#N/A"}]
[11,"宿泊施設","冷房","夏期","宿泊施設冷房","宿泊施設冷房夏期",{"$f":"HLOOKUP(F28,熱需要量算定・原単位!$AJ$5:$BL$34,30,FALSE)","v":24},null,24,{"$f":"VLOOKUP(I28,熱需要量算定・原単位!$AJ$9:$BL$32,MATCH($B$6,熱需要量算定・原単位!$AK$5:$BL$5,0)+1,FALSE)","v":{"$error":"#N/A"}},{"$error":"#N/A"}]
[12,"宿泊施設","暖房","冬期","宿泊施設暖房","宿泊施設暖房冬期",{"$f":"HLOOKUP(F29,熱需要量算定・原単位!$AJ$5:$BL$34,30,FALSE)","v":23},null,"合計",null,{"$f":"SUM(K5:K28)","v":{"$error":"#N/A"}}]
[13,"医療施設","給湯","冬期","医療施設給湯","医療施設給湯冬期",{"$f":"HLOOKUP(F30,熱需要量算定・原単位!$AJ$5:$BL$34,30,FALSE)","v":24}]
[14,"医療施設","冷房","夏期","医療施設冷房","医療施設冷房夏期",{"$f":"HLOOKUP(F31,熱需要量算定・原単位!$AJ$5:$BL$34,30,FALSE)","v":24}]
[15,"医療施設","暖房","冬期","医療施設暖房","医療施設暖房冬期",{"$f":"HLOOKUP(F32,熱需要量算定・原単位!$AJ$5:$BL$34,30,FALSE)","v":24}]
[]
[]
["■運転時間の設定（熱負荷に合わせた運転の場合）"]
["熱利用用途","給湯","冷房","暖房"]
["運転時間",{"$f":"VLOOKUP($B$4&B36,$E$17:$G$32,3,FALSE)","v":{"$error":"#N/A"}},{"$f":"VLOOKUP($B$4&C36,$E$17:$G$32,3,FALSE)","v":{"$error":"#N/A"}},{"$f":"VLOOKUP($B$4&D36,$E$17:$G$32,3,FALSE)","v":{"$error":"#N/A"}}]

{"sheet":"残り需要_既存_燃料_給湯_IC","index":41,"n_rows":30,"n_cols":16,"rows_kept":30,"cut":false,"hidden":true,"merged":[[27,1,27,2],[28,1,28,2],[29,1,29,2],[4,1,16,1],[17,1,19,1],[20,1,23,1],[24,1,24,2],[25,1,25,2],[26,1,26,2]]}
[null,"■イニシャルコスト算出"]
[]
[null,"残り需要_既存_燃料_給湯"]
[null,null,"名称","摘要","単価[千円]","数量","単位","金額[千円]","備考","memo",null,null,null,null,"価格関数代入値","単位"]
[null,"機械工事","熱源機（ボイラ）",null,{"$f":"IF(O5=0,0,価格関数!E13*O5+価格関数!F13)","v":{"$error":"#N/A"}},1,"台",{"$f":"F5*E5","v":{"$error":"#N/A"}},null,"価格関数",null,null,null,"熱源容量",{"$f":"残り需要_既存_燃料_給湯_RC!K5","v":{"$error":"#N/A"}},"kW"]
[null,null,"冷温水ポンプ",null,{"$f":"IF(O6=0,0,価格関数!$E$21*O6+価格関数!$F$21)","v":{"$error":"#N/A"}},1,"台",{"$f":"F6*E6","v":{"$error":"#N/A"}},null,"価格関数",null,null,null,"ポンプ出力",{"$f":"残り需要_既存_燃料_給湯_RC!K10","v":{"$error":"#N/A"}},"kW"]
[]
[]
[]
[]
[]
[]
[]
[null,null,"自動制御",null,null,1,"式",{"$f":"INT(SUM(H5:H13)*I14)","v":{"$error":"#N/A"}},0.2,"概算　事例等より設定"]
[null,null,"その他配管","概算（付属品込）",null,1,"式",{"$f":"INT(SUM(H5:H14)*I15)","v":{"$error":"#N/A"}},0.1,"配管費=機器類×5~10%と設定"]
[]
[null,null,"小計",null,null,null,null,{"$f":"SUM(H5:H16)","v":{"$error":"#N/A"}}]
[null,"電気工事","概算","概算",null,null,null,{"$f":"INT(H17*I18)","v":{"$error":"#N/A"}},0.3]
[]
[null,null,"小計",null,null,null,null,{"$f":"SUM(H18:H19)","v":{"$error":"#N/A"}}]
[null,"土工事"]
[]
[]
[null,null,"小計",null,null,null,null,{"$f":"SUM(H21:H23)","v":0}]
[null,"直接工事費",null,null,null,null,null,{"$f":"H24+H20+H17","v":{"$error":"#N/A"}}]
[null,"間接工事費",null,null,null,1,"式",{"$f":"INT(H25*0.3)","v":{"$error":"#N/A"}},"直接工事費×30%"]
[null,"工事原価",null,null,null,1,"式",{"$f":"H25+H26","v":{"$error":"#N/A"}}]
[null,"消費税",null,null,null,1,"式"]
[]
[null,"合計",null,null,null,null,null,{"$f":"H27+H28","v":{"$error":"#N/A"}}]

{"sheet":"比較対象_既存_燃料_空調_RC","index":42,"n_rows":152,"n_cols":31,"rows_kept":152,"cut":false,"hidden":true,"merged":[]}
[null,"■入力情報",null,null,null,null,null,null,"■空調　燃料方式システムのエネルギー計算"]
[]
[null,"■対象施設情報",null,null,null,null,null,null,"■空調　燃料方式システム検討",null,null,null,null,"■空調　燃料方式システム　エネルギー計算・エネルギーコスト検討"]
[null,"項目","単位","値","備考",null,null,null,"項目","単位","値","備考",null,"項目","単位","4月","5月","6月","7月","8月","9月","10月","11月","12月","1月","2月","3月","合計","最大","最小","備考"]
[null,"地域選択","-",{"$f":"入力シート!C7","v":0},"都道府県を選択してください。",null,null,null,"暖房効率","-",0.9,null,null,"熱利用用途",null,{"$f":"マッチング!E10","v":""},{"$f":"マッチング!F10","v":""},{"$f":"マッチング!G10","v":""},{"$f":"マッチング!H10","v":""},{"$f":"マッチング!I10","v":""},{"$f":"マッチング!J10","v":""},{"$f":"マッチング!K10","v":""},{"$f":"マッチング!L10","v":""},{"$f":"マッチング!M10","v":""},{"$f":"マッチング!N10","v":""},{"$f":"マッチング!O10","v":""},{"$f":"マッチング!P10","v":""}]
[null,"熱利用用途","-",{"$f":"入力シート!C8","v":0},"給湯、空調、融雪から選択してください。",null,null,null,"冷房効率","-",1.2,null,null,"熱需要量","MJ/月",{"$f":"マッチング!E11","v":{"$error":"#N/A"}},{"$f":"マッチング!F11","v":{"$error":"#N/A"}},{"$f":"マッチング!G11","v":{"$error":"#N/A"}},{"$f":"マッチング!H11","v":{"$error":"#N/A"}},{"$f":"マッチング!I11","v":{"$error":"#N/A"}},{"$f":"マッチング!J11","v":{"$error":"#N/A"}},{"$f":"マッチング!K11","v":{"$error":"#N/A"}},{"$f":"マッチング!L11","v":{"$error":"#N/A"}},{"$f":"マッチング!M11","v":{"$error":"#N/A"}},{"$f":"マッチング!N11","v":{"$error":"#N/A"}},{"$f":"マッチング!O11","v":{"$error":"#N/A"}},{"$f":"マッチング!P11","v":{"$error":"#N/A"}},{"$f":"SUM(P6:AA6)","v":{"$error":"#N/A"}},{"$f":"MAX(P6:AA6)","v":{"$error":"#N/A"}},{"$f":"MIN(P6:AA6)","v":{"$error":"#N/A"}}]
[null,"建物用途","-",{"$f":"入力シート!C9","v":0},"給湯、空調利用の場合は建物用途を選択してください。",null,null,null,"熱源容量(最大負荷月)","kW",{"$f":"比較対象_既存_燃料_空調_熱源容量!P6","v":{"$error":"#N/A"}},"熱源容量シートより",null,null,"kWh/月",{"$f":"P6*1000/3600","v":{"$error":"#N/A"}},{"$f":"Q6*1000/3600","v":{"$error":"#N/A"}},{"$error":"#N/A"},{"$error":"#N/A"},{"$error":"#N/A"},{"$error":"#N/A"},{"$error":"#N/A"},{"$error":"#N/A"},{"$error":"#N/A"},{"$error":"#N/A"},{"$error":"#N/A"},{"$error":"#N/A"},{"$f":"SUM(P7:AA7)","v":{"$error":"#N/A"}},{"$f":"MAX(P7:AA7)","v":{"$error":"#N/A"}},{"$f":"MIN(P7:AA7)","v":{"$error":"#N/A"}}]
[null,"延床面積","m2",{"$f":"入力シート!C10","v":0},"給湯、空調利用の場合は数値を入力してください。",null,null,null,"温度差","℃",5,"想定設定値",null,"日数","日",{"$f":"熱需要量算定・原単位!D24","v":30},{"$f":"熱需要量算定・原単位!E24","v":31},{"$f":"熱需要量算定・原単位!F24","v":30},{"$f":"熱需要量算定・原単位!G24","v":31},{"$f":"熱需要量算定・原単位!H24","v":31},{"$f":"熱需要量算定・原単位!I24","v":30},{"$f":"熱需要量算定・原単位!J24","v":31},{"$f":"熱需要量算定・原単位!K24","v":30},{"$f":"熱需要量算定・原単位!L24","v":31},{"$f":"熱需要量算定・原単位!M24","v":31},{"$f":"熱需要量算定・原単位!N24","v":28},{"$f":"熱需要量算定・原単位!O24","v":31},{"$f":"SUM(P8:AA8)","v":365}]
[null,"対象面積","m2",{"$f":"入力シート!C11","v":0},"融雪利用の場合は数値を入力して下さい。",null,null,null,"冷温水流量","L/min",{"$f":"K7/K8/$D$22/$D$23*1000*60","v":{"$error":"#N/A"}},null,null,"運転時間","h/日",{"$f":"HLOOKUP(P5,比較対象_既存_燃料_空調_熱源容量!$B$36:$D$37,2,FALSE)","v":{"$error":"#N/A"}},{"$f":"HLOOKUP(Q5,比較対象_既存_燃料_空調_熱源容量!$B$36:$D$37,2,FALSE)","v":{"$error":"#N/A"}},{"$f":"HLOOKUP(R5,比較対象_既存_燃料_空調_熱源容量!$B$36:$D$37,2,FALSE)","v":{"$error":"#N/A"}},{"$f":"HLOOKUP(S5,比較対象_既存_燃料_空調_熱源容量!$B$36:$D$37,2,FALSE)","v":{"$error":"#N/A"}},{"$f":"HLOOKUP(T5,比較対象_既存_燃料_空調_熱源容量!$B$36:$D$37,2,FALSE)","v":{"$error":"#N/A"}},{"$f":"HLOOKUP(U5,比較対象_既存_燃料_空調_熱源容量!$B$36:$D$37,2,FALSE)","v":{"$error":"#N/A"}},{"$f":"HLOOKUP(V5,比較対象_既存_燃料_空調_熱源容量!$B$36:$D$37,2,FALSE)","v":{"$error":"#N/A"}},{"$f":"HLOOKUP(W5,比較対象_既存_燃料_空調_熱源容量!$B$36:$D$37,2,FALSE)","v":{"$error":"#N/A"}},{"$f":"HLOOKUP(X5,比較対象_既存_燃料_空調_熱源容量!$B$36:$D$37,2,FALSE)","v":{"$error":"#N/A"}},{"$f":"HLOOKUP(Y5,比較対象_既存_燃料_空調_熱源容量!$B$36:$D$37,2,FALSE)","v":{"$error":"#N/A"}},{"$f":"HLOOKUP(Z5,比較対象_既存_燃料_空調_熱源容量!$B$36:$D$37,2,FALSE)","v":{"$error":"#N/A"}},{"$f":"HLOOKUP(AA5,比較対象_既存_燃料_空調_熱源容量!$B$36:$D$37,2,FALSE)","v":{"$error":"#N/A"}}]
[null,"燃料種別の選択","-",{"$f":"入力シート!C16","v":0},null,null,null,null,"冷温水揚程（想定）","m",15,"想定設定値",null,"日あたりの熱需要量","MJ/日",{"$f":"P6/P8","v":{"$error":"#N/A"}},{"$f":"Q6/Q8","v":{"$error":"#N/A"}},{"$error":"#N/A"},{"$error":"#N/A"},{"$error":"#N/A"},{"$error":"#N/A"},{"$error":"#N/A"},{"$error":"#N/A"},{"$error":"#N/A"},{"$error":"#N/A"},{"$error":"#N/A"},{"$error":"#N/A"},{"$f":"SUM(P10:AA10)","v":{"$error":"#N/A"}},{"$f":"MAX(P10:AA10)","v":{"$error":"#N/A"}},{"$f":"MIN(P10:AA10)","v":{"$error":"#N/A"}}]
[null,"選択燃料の発熱量",{"$f":"VLOOKUP(D10,一次E換算!A3:D8,4,FALSE)","v":{"$error":"#N/A"}},{"$f":"VLOOKUP(D10,一次E換算!A3:D8,2,FALSE)","v":{"$error":"#N/A"}},null,null,null,null,"冷温水ポンプ効率","%",{"$f":"IF(K9<80,ポンプ効率近似式!$D$14,-1.403*LN(K9/1000)^2+6.9719*LN(K9/1000)+53.781)","v":{"$error":"#N/A"}},"ポンプ効率近似式より",null,null,"kWh/日",{"$f":"P10*1000/3600","v":{"$error":"#N/A"}},{"$error":"#N/A"},{"$error":"#N/A"},{"$error":"#N/A"},{"$error":"#N/A"},{"$error":"#N/A"},{"$error":"#N/A"},{"$error":"#N/A"},{"$error":"#N/A"},{"$error":"#N/A"},{"$error":"#N/A"},{"$error":"#N/A"},{"$f":"SUM(P11:AA11)","v":{"$error":"#N/A"}},{"$f":"MAX(P11:AA11)","v":{"$error":"#N/A"}},{"$f":"MIN(P11:AA11)","v":{"$error":"#N/A"}}]
[null,null,null,null,null,null,null,null,"冷温水ポンプ消費電力","kW",{"$f":"$D$23*$D$25*K9/1000/60*K10/10/K11","v":{"$error":"#N/A"}},"ポンプ関数より",null,"熱源機効率","-",{"$f":"IF(P5=\"暖房\",$K$5,$K$6)","v":1.2},{"$f":"IF(Q5=\"暖房\",$K$5,$K$6)","v":1.2},1.2,1.2,1.2,1.2,1.2,1.2,1.2,1.2,1.2,1.2]
[null,null,null,null,null,null,null,null,null,null,null,null,null,"熱源機　燃料　必要発熱量","MJ/月",{"$f":"P6/P12","v":{"$error":"#N/A"}},{"$f":"Q6/Q12","v":{"$error":"#N/A"}},{"$error":"#N/A"},{"$error":"#N/A"},{"$error":"#N/A"},{"$error":"#N/A"},{"$error":"#N/A"},{"$error":"#N/A"},{"$error":"#N/A"},{"$error":"#N/A"},{"$error":"#N/A"},{"$error":"#N/A"},{"$f":"SUM(P13:AA13)","v":{"$error":"#N/A"}},{"$f":"MAX(P13:AA13)","v":{"$error":"#N/A"}},{"$f":"MIN(P13:AA13)","v":{"$error":"#N/A"}}]
[null,null,null,null,null,null,null,null,"熱源容量(冷房最大負荷)","kW",{"$f":"MAX(比較対象_既存_燃料_空調_熱源容量!K5:K28)","v":{"$error":"#N/A"}},"熱源容量シートより",null,null,"kWh/月",{"$f":"P7/P12","v":{"$error":"#N/A"}},{"$error":"#N/A"},{"$error":"#N/A"},{"$error":"#N/A"},{"$error":"#N/A"},{"$error":"#N/A"},{"$error":"#N/A"},{"$error":"#N/A"},{"$error":"#N/A"},{"$error":"#N/A"},{"$error":"#N/A"},{"$error":"#N/A"},{"$f":"SUM(P14:AA14)","v":{"$error":"#N/A"}},{"$f":"MAX(P14:AA14)","v":{"$error":"#N/A"}},{"$f":"MIN(P14:AA14)","v":{"$error":"#N/A"}}]
[null,null,null,null,null,null,null,null,"冷却水流量","L/min",{"$f":"K14/K8/$D$22/$D$23*1000*60","v":{"$error":"#N/A"}},null,null,"熱源機　燃料　消費量",{"$f":"RIGHT(C11,LEN(C11)-3)&\"/月\"","v":{"$error":"#N/A"}},{"$f":"P13/$D$11","v":{"$error":"#N/A"}},{"$error":"#N/A"},{"$error":"#N/A"},{"$error":"#N/A"},{"$error":"#N/A"},{"$error":"#N/A"},{"$error":"#N/A"},{"$error":"#N/A"},{"$error":"#N/A"},{"$error":"#N/A"},{"$error":"#N/A"},{"$error":"#N/A"},{"$f":"SUM(P15:AA15)","v":{"$error":"#N/A"}},{"$f":"MAX(P15:AA15)","v":{"$error":"#N/A"}},{"$f":"MIN(P15:AA15)","v":{"$error":"#N/A"}}]
[null,null,null,null,null,null,null,null,"冷却水揚程（想定）","m",15,"想定設定値",null,"冷温水ポンプ消費電力量","kWh/月",{"$f":"IF(P6=0,0,$K$12*P9*P8)","v":{"$error":"#N/A"}},{"$f":"IF(Q6=0,0,$K$12*Q9*Q8)","v":{"$error":"#N/A"}},{"$error":"#N/A"},{"$error":"#N/A"},{"$error":"#N/A"},{"$error":"#N/A"},{"$error":"#N/A"},{"$error":"#N/A"},{"$error":"#N/A"},{"$error":"#N/A"},{"$error":"#N/A"},{"$error":"#N/A"},{"$f":"SUM(P16:AA16)","v":{"$error":"#N/A"}}]
[null,null,null,null,null,null,null,null,"冷却水ポンプ効率","%",{"$f":"IF(K15<80,ポンプ効率近似式!$D$14,-1.403*LN(K15/1000)^2+6.9719*LN(K15/1000)+53.781)","v":{"$error":"#N/A"}},"ポンプ効率近似式より",null,"冷却水ポンプ消費電力量","kWh/月",{"$f":"IF(P5=\"冷房\",IF(P6=0,0,$K$18*P9*P8),0)","v":0},{"$f":"IF(Q5=\"冷房\",IF(Q6=0,0,$K$18*Q9*Q8),0)","v":0},0,0,0,0,0,0,0,0,0,0,{"$f":"SUM(P17:AA17)","v":0}]
[null,null,null,null,null,null,null,null,"冷却水ポンプ消費電力","kW",{"$f":"$D$23*$D$25*K15/1000/60*K16/10/K17","v":{"$error":"#N/A"}},"ポンプ関数より",null,"冷却塔消費電力量","kWh/月",{"$f":"IF(P5=\"冷房\",IF(P6=0,0,$K$19*P9*P8),0)","v":0},{"$f":"IF(Q5=\"冷房\",IF(Q6=0,0,$K$19*Q9*Q8),0)","v":0},0,0,0,0,0,0,0,0,0,0,{"$f":"SUM(P18:AA18)","v":0}]
[null,null,null,null,null,null,null,null,"冷却塔消費電力","kW",{"$f":"冷却塔消費電力関数!$H$17*K15+冷却塔消費電力関数!$I$17","v":{"$error":"#N/A"}},"冷却塔消費電力関数より",null,"消費電力合計","kWh/月",{"$f":"P16+P17+P18","v":{"$error":"#N/A"}},{"$f":"Q16+Q17+Q18","v":{"$error":"#N/A"}},{"$error":"#N/A"},{"$error":"#N/A"},{"$error":"#N/A"},{"$error":"#N/A"},{"$error":"#N/A"},{"$error":"#N/A"},{"$error":"#N/A"},{"$error":"#N/A"},{"$error":"#N/A"},{"$error":"#N/A"},{"$f":"SUM(P19:AA19)","v":{"$error":"#N/A"}}]
[null,"■係数"]
[null,"項目","値","単位","備考"]
[null,"水の比熱","kJ/kgK",{"$f":"係数・物性!D4","v":4.1790000000000003},"係数・物性より"]
[null,"水の密度","kg/m3",{"$f":"係数・物性!D5","v":996.62},"係数・物性より"]
[null,"容積比熱","MJ/m3K",{"$f":"係数・物性!D6","v":4.1648749800000004},"係数・物性より"]
[null,"重力加速度","m/s2",{"$f":"係数・物性!D7","v":9.8059999999999992},"係数・物性より",null,null,null,null,null,null,null,null,"熱源機　燃料　消費量",{"$f":"RIGHT(C11,LEN(C11)-3)&\"/月\"","v":{"$error":"#N/A"}},{"$f":"P15","v":{"$error":"#N/A"}},{"$f":"Q15","v":{"$error":"#N/A"}},{"$error":"#N/A"},{"$error":"#N/A"},{"$error":"#N/A"},{"$error":"#N/A"},{"$error":"#N/A"},{"$error":"#N/A"},{"$error":"#N/A"},{"$error":"#N/A"},{"$error":"#N/A"},{"$f":"AA15","v":{"$error":"#N/A"}},{"$f":"SUM(P25:AA25)","v":{"$error":"#N/A"}}]
[null,null,null,null,null,null,null,null,null,null,null,null,null,"補機類消費電力量","kWh/月",{"$f":"P16+P17+P18","v":{"$error":"#N/A"}},{"$f":"Q16+Q17+Q18","v":{"$error":"#N/A"}},{"$error":"#N/A"},{"$error":"#N/A"},{"$error":"#N/A"},{"$error":"#N/A"},{"$error":"#N/A"},{"$error":"#N/A"},{"$error":"#N/A"},{"$error":"#N/A"},{"$error":"#N/A"},{"$f":"AA16+AA17+AA18","v":{"$error":"#N/A"}},{"$f":"SUM(P26:AA26)","v":{"$error":"#N/A"}}]
[]
[]
[null,null,null,null,null,null,null,null,"■エネルギーコスト、CO2排出量、一次エネルギー消費量計算（エネルギー消費量を入力）"]
[null,null,null,null,null,null,null,null,null,null,null,null,null,"□エネルギー消費量"]
[null,null,null,null,null,null,null,null,null,"設定セル",null,null,null,"項目","単位","4月","5月","6月","7月","8月","9月","10月","11月","12月","1月","2月","3月","合計","最大","最小","備考"]
[null,null,null,null,null,null,null,null,null,"変更設定していいセル（計算式が入力されている）",null,null,null,"電気","kWh/月",{"$f":"P19","v":{"$error":"#N/A"}},{"$f":"Q19","v":{"$error":"#N/A"}},{"$error":"#N/A"},{"$error":"#N/A"},{"$error":"#N/A"},{"$error":"#N/A"},{"$error":"#N/A"},{"$error":"#N/A"},{"$error":"#N/A"},{"$error":"#N/A"},{"$error":"#N/A"},{"$error":"#N/A"},{"$f":"SUM(P32:AA32)","v":{"$error":"#N/A"}},{"$f":"MAX(P32:AA32)","v":{"$error":"#N/A"}},{"$f":"MIN(P32:AA32)","v":{"$error":"#N/A"}}]
[null,null,null,null,null,null,null,null,null,"あまり変更しなくていい設定セル",null,null,null,"都市ガス（13A）","m3/月",{"$f":"IF($D$10=$N33,P$15,0)","v":0},{"$f":"IF($D$10=$N33,Q$15,0)","v":0},0,0,0,0,0,0,0,0,0,0,0,0,0]
[null,null,null,null,null,null,null,null,null,"デフォ値・係数",null,null,null,"灯油","L/月",0,0,0,0,0,0,0,0,0,0,0,0,0,0,0]
[null,null,null,null,null,null,null,null,null,"計算式・項目確認セル",null,null,null,"重油","L/月",0,0,0,0,0,0,0,0,0,0,0,0,0,0,0]
[null,null,null,null,null,null,null,null,null,null,null,null,null,"液化石油ガス（LPG）","kg/月",0,0,0,0,0,0,0,0,0,0,0,0,0,0,0]
[null,null,null,null,null,null,null,null,null,null,null,null,null,"他人から供給された熱","MJ/月",0,0,0,0,0,0,0,0,0,0,0,0,0,0,0]
[]
[]
[null,null,null,null,null,null,null,null,"□エネルギーコスト単価(フラットレート)",null,null,null,null,"□エネルギーコスト検討"]
[null,null,null,null,null,null,null,null,"項目","単位","値","備考",null,"項目","単位","4月","5月","6月","7月","8月","9月","10月","11月","12月","1月","2月","3月","合計","最大","最小","備考"]
[null,null,null,null,null,null,null,null,"電気","円/kWh",{"$f":"E単価!H5","v":14},null,null,"電気","千円/月",{"$f":"P32*$K42/1000","v":{"$error":"#N/A"}},{"$error":"#N/A"},{"$error":"#N/A"},{"$error":"#N/A"},{"$error":"#N/A"},{"$error":"#N/A"},{"$error":"#N/A"},{"$error":"#N/A"},{"$error":"#N/A"},{"$error":"#N/A"},{"$error":"#N/A"},{"$error":"#N/A"},{"$f":"SUM(P42:AA42)","v":{"$error":"#N/A"}},{"$f":"MAX(P42:AA42)","v":{"$error":"#N/A"}},{"$f":"MIN(P42:AA42)","v":{"$error":"#N/A"}}]
[null,null,null,null,null,null,null,null,"都市ガス（13A）","円/m3",{"$f":"E単価!H6","v":114.64285714285714},null,null,"都市ガス（13A）","千円/月",0,0,0,0,0,0,0,0,0,0,0,0,0,0,0]
[null,null,null,null,null,null,null,null,"灯油","円/L",{"$f":"E単価!H7","v":107.88888888888889},null,null,"灯油","千円/月",0,0,0,0,0,0,0,0,0,0,0,0,0,0,0]
[null,null,null,null,null,null,null,null,"重油","円/L",{"$f":"E単価!H8","v":76.099999999999994},null,null,"重油","千円/月",0,0,0,0,0,0,0,0,0,0,0,0,0,0,0]
[null,null,null,null,null,null,null,null,"液化石油ガス（LPG）","円/kg",{"$f":"E単価!H9","v":159.40476190476193},null,null,"液化石油ガス（LPG）","千円/月",0,0,0,0,0,0,0,0,0,0,0,0,0,0,0]
[null,null,null,null,null,null,null,null,"他人から供給された熱","円/GJ",{"$f":"E単価!H10","v":6611.9047619047615},null,null,"他人から供給された熱","千円/月",0,0,0,0,0,0,0,0,0,0,0,0,0,0,0]
[null,null,null,null,null,null,null,null,null,null,null,null,null,"エネルギーコスト合計","千円/月",{"$f":"SUM(P42:P47)","v":{"$error":"#N/A"}},{"$f":"SUM(Q42:Q47)","v":{"$error":"#N/A"}},{"$error":"#N/A"},{"$error":"#N/A"},{"$error":"#N/A"},{"$error":"#N/A"},{"$error":"#N/A"},{"$error":"#N/A"},{"$error":"#N/A"},{"$error":"#N/A"},{"$error":"#N/A"},{"$error":"#N/A"},{"$f":"SUM(AB42:AB47)","v":{"$error":"#N/A"}},{"$f":"SUM(AC42:AC47)","v":{"$error":"#N/A"}},{"$f":"SUM(AD42:AD47)","v":{"$error":"#N/A"}}]
[]
[null,null,null,null,null,null,null,null,"□CO2換算係数",null,null,null,null,"□CO2排出量"]
[null,null,null,null,null,null,null,null,"項目","単位","値","備考",null,"項目","単位","4月","5月","6月","7月","8月","9月","10月","11月","12月","1月","2月","3月","合計","最大","最小","備考"]
[null,null,null,null,null,null,null,null,"電気","tCO2/kWh",{"$f":"CO2換算係数!B3","v":4.8799999999999999E-4},null,null,"電気","t-CO2/月",{"$f":"P32*$K52","v":{"$error":"#N/A"}},{"$f":"Q32*$K52","v":{"$error":"#N/A"}},{"$error":"#N/A"},{"$error":"#N/A"},{"$error":"#N/A"},{"$error":"#N/A"},{"$error":"#N/A"},{"$error":"#N/A"},{"$error":"#N/A"},{"$error":"#N/A"},{"$error":"#N/A"},{"$f":"AA32*$K52","v":{"$error":"#N/A"}},{"$f":"SUM(P52:AA52)","v":{"$error":"#N/A"}},{"$f":"MAX(P52:AA52)","v":{"$error":"#N/A"}},{"$f":"MIN(P52:AA52)","v":{"$error":"#N/A"}}]
[null,null,null,null,null,null,null,null,"都市ガス（13A）","tCO2/km3",{"$f":"CO2換算係数!B4","v":2.23},null,null,"都市ガス（13A）","t-CO2/月",{"$f":"P33/1000*$K53","v":0},0,0,0,0,0,0,0,0,0,0,0,0,0,0]
[null,null,null,null,null,null,null,null,"灯油","tCO2/kL",{"$f":"CO2換算係数!B5","v":2.4900000000000002},null,null,"灯油","t-CO2/月",0,0,0,0,0,0,0,0,0,0,0,0,0,0,0]
[null,null,null,null,null,null,null,null,"重油","tCO2/kL",{"$f":"CO2換算係数!B6","v":2.71},null,null,"重油","t-CO2/月",0,0,0,0,0,0,0,0,0,0,0,0,0,0,0]
[null,null,null,null,null,null,null,null,"液化石油ガス（LPG）","tCO2/t",{"$f":"CO2換算係数!B7","v":3},null,null,"液化石油ガス（LPG）","t-CO2/月",0,0,0,0,0,0,0,0,0,0,0,0,0,0,0]
[null,null,null,null,null,null,null,null,"他人から供給された熱","tCO2/GJ",{"$f":"CO2換算係数!B8","v":5.7000000000000002E-2},null,null,"他人から供給された熱","t-CO2/月",0,0,0,0,0,0,0,0,0,0,0,0,0,0,0]
[null,null,null,null,null,null,null,null,null,null,null,null,null,"CO2排出量合計","t-CO2/月",{"$f":"SUM(P52:P57)","v":{"$error":"#N/A"}},{"$f":"SUM(Q52:Q57)","v":{"$error":"#N/A"}},{"$error":"#N/A"},{"$error":"#N/A"},{"$error":"#N/A"},{"$error":"#N/A"},{"$error":"#N/A"},{"$error":"#N/A"},{"$error":"#N/A"},{"$error":"#N/A"},{"$error":"#N/A"},{"$error":"#N/A"},{"$f":"SUM(AB52:AB57)","v":{"$error":"#N/A"}},{"$error":"#N/A"},{"$error":"#N/A"}]
[]
[null,null,null,null,null,null,null,null,"□一次エネルギー換算係数",null,null,null,null,"□一次エネルギー消費量"]
[null,null,null,null,null,null,null,null,"項目","単位","値","備考",null,"項目","単位","4月","5月","6月","7月","8月","9月","10月","11月","12月","1月","2月","3月","合計","最大","最小","備考"]
[null,null,null,null,null,null,null,null,"電気","MJ/kWh",{"$f":"一次E換算!B3","v":9.76},null,null,"電気","MJ/月",{"$f":"P32*$K62","v":{"$error":"#N/A"}},{"$error":"#N/A"},{"$error":"#N/A"},{"$error":"#N/A"},{"$error":"#N/A"},{"$error":"#N/A"},{"$error":"#N/A"},{"$error":"#N/A"},{"$error":"#N/A"},{"$error":"#N/A"},{"$error":"#N/A"},{"$error":"#N/A"},{"$f":"SUM(P62:AA62)","v":{"$error":"#N/A"}},{"$f":"MAX(P62:AA62)","v":{"$error":"#N/A"}},{"$f":"MIN(P62:AA62)","v":{"$error":"#N/A"}}]
[null,null,null,null,null,null,null,null,"都市ガス（13A）","MJ/m3",{"$f":"一次E換算!B4","v":45},null,null,"都市ガス（13A）","MJ/月",0,0,0,0,0,0,0,0,0,0,0,0,0,0,0]
[null,null,null,null,null,null,null,null,"灯油","MJ/L",{"$f":"一次E換算!B5","v":37},null,null,"灯油","MJ/月",0,0,0,0,0,0,0,0,0,0,0,0,0,0,0]
[null,null,null,null,null,null,null,null,"重油","MJ/L",{"$f":"一次E換算!B6","v":41},null,null,"重油","MJ/月",0,0,0,0,0,0,0,0,0,0,0,0,0,0,0]
[null,null,null,null,null,null,null,null,"液化石油ガス（LPG）","MJ/kg",{"$f":"一次E換算!B7","v":50},null,null,"液化石油ガス（LPG）","MJ/月",0,0,0,0,0,0,0,0,0,0,0,0,0,0,0]
[null,null,null,null,null,null,null,null,"他人から供給された熱","MJ/MJ",{"$f":"一次E換算!B8","v":1.36},null,null,"他人から供給された熱","MJ/月",0,0,0,0,0,0,0,0,0,0,0,0,0,0,0]
[null,null,null,null,null,null,null,null,null,null,null,null,null,"一次エネルギー消費量合計","MJ/月",{"$f":"SUM(P62:P67)","v":{"$error":"#N/A"}},{"$error":"#N/A"},{"$error":"#N/A"},{"$error":"#N/A"},{"$error":"#N/A"},{"$error":"#N/A"},{"$error":"#N/A"},{"$error":"#N/A"},{"$error":"#N/A"},{"$error":"#N/A"},{"$error":"#N/A"},{"$error":"#N/A"},{"$error":"#N/A"},{"$error":"#N/A"},{"$error":"#N/A"}]
[]
[]
[null,null,null,null,null,null,null,null,"■熱源機エネルギーコスト、CO2排出量、一次エネルギー消費量計算（エネルギー消費量を入力）"]
[null,null,null,null,null,null,null,null,null,null,null,null,null,"□エネルギー消費量"]
[null,null,null,null,null,null,null,null,null,"設定セル",null,null,null,"項目","単位","4月","5月","6月","7月","8月","9月","10月","11月","12月","1月","2月","3月","合計","最大","最小","備考"]
[null,null,null,null,null,null,null,null,null,"変更設定していいセル（計算式が入力されている）",null,null,null,"電気","kWh/月",null,null,null,null,null,null,null,null,null,null,null,null,{"$f":"SUM(P74:AA74)","v":0},{"$f":"MAX(P74:AA74)","v":0},{"$f":"MIN(P74:AA74)","v":0}]
[null,null,null,null,null,null,null,null,null,"あまり変更しなくていい設定セル",null,null,null,"都市ガス（13A）","m3/月",{"$f":"IF($D$10=$N75,P$15,0)","v":0},{"$f":"IF($D$10=$N75,Q$15,0)","v":0},0,0,0,0,0,0,0,0,0,0,0,0,0]
[null,null,null,null,null,null,null,null,null,"デフォ値・係数",null,null,null,"灯油","L/月",{"$f":"IF($D$10=$N76,P$15,0)","v":0},0,0,0,0,0,0,0,0,0,0,0,0,0,0]
[null,null,null,null,null,null,null,null,null,"計算式・項目確認セル",null,null,null,"重油","L/月",0,0,0,0,0,0,0,0,0,0,0,0,0,0,0]
[null,null,null,null,null,null,null,null,null,null,null,null,null,"液化石油ガス（LPG）","kg/月",0,0,0,0,0,0,0,0,0,0,0,0,0,0,0]
[null,null,null,null,null,null,null,null,null,null,null,null,null,"他人から供給された熱","MJ/月",0,0,0,0,0,0,0,0,0,0,0,0,0,0,0]
[]
[]
[null,null,null,null,null,null,null,null,"□エネルギーコスト単価(フラットレート)",null,null,null,null,"□エネルギーコスト検討"]
[null,null,null,null,null,null,null,null,"項目","単位","値","備考",null,"項目","単位","4月","5月","6月","7月","8月","9月","10月","11月","12月","1月","2月","3月","合計","最大","最小","備考"]
[null,null,null,null,null,null,null,null,"電気","円/kWh",{"$f":"K42","v":14},null,null,"電気","千円/月",{"$f":"P74*$K84/1000","v":0},0,0,0,0,0,0,0,0,0,0,0,{"$f":"SUM(P84:AA84)","v":0},{"$f":"MAX(P84:AA84)","v":0},{"$f":"MIN(P84:AA84)","v":0}]
[null,null,null,null,null,null,null,null,"都市ガス（13A）","円/m3",{"$f":"K43","v":114.64285714285714},null,null,"都市ガス（13A）","千円/月",{"$f":"P75*$K85/1000","v":0},0,0,0,0,0,0,0,0,0,0,0,0,0,0]
[null,null,null,null,null,null,null,null,"灯油","円/L",107.88888888888889,null,null,"灯油","千円/月",{"$f":"P76*$K86/1000","v":0},0,0,0,0,0,0,0,0,0,0,0,0,0,0]
[null,null,null,null,null,null,null,null,"重油","円/L",76.099999999999994,null,null,"重油","千円/月",{"$f":"P77*$K87/1000","v":0},0,0,0,0,0,0,0,0,0,0,0,0,0,0]
[null,null,null,null,null,null,null,null,"液化石油ガス（LPG）","円/kg",159.40476190476193,null,null,"液化石油ガス（LPG）","千円/月",{"$f":"P78*$K88/1000","v":0},0,0,0,0,0,0,0,0,0,0,0,0,0,0]
[null,null,null,null,null,null,null,null,"他人から供給された熱","円/GJ",6611.9047619047615,null,null,"他人から供給された熱","千円/月",{"$f":"P79*$K89/1000","v":0},0,0,0,0,0,0,0,0,0,0,0,0,0,0]
[null,null,null,null,null,null,null,null,null,null,null,null,null,"エネルギーコスト合計","千円/月",{"$f":"SUM(P84:P89)","v":0},{"$f":"SUM(Q84:Q89)","v":0},0,{"$f":"SUM(S84:S89)","v":0},0,0,0,0,0,0,0,0,{"$f":"SUM(AB84:AB89)","v":0},{"$f":"SUM(AC84:AC89)","v":0},{"$f":"SUM(AD84:AD89)","v":0}]
[]
[null,null,null,null,null,null,null,null,"□CO2換算係数",null,null,null,null,"□CO2排出量"]
[null,null,null,null,null,null,null,null,"項目","単位","値","備考",null,"項目","単位","4月","5月","6月","7月","8月","9月","10月","11月","12月","1月","2月","3月","合計","最大","最小","備考"]
[null,null,null,null,null,null,null,null,"電気","tCO2/kWh",{"$f":"K52","v":4.8799999999999999E-4},null,null,"電気","t-CO2/月",{"$f":"P74*$K94","v":0},0,0,0,0,0,0,0,0,0,0,0,{"$f":"SUM(P94:AA94)","v":0},{"$f":"MAX(P94:AA94)","v":0},{"$f":"MIN(P94:AA94)","v":0}]
[null,null,null,null,null,null,null,null,"都市ガス（13A）","tCO2/km3",{"$f":"K53","v":2.23},null,null,"都市ガス（13A）","t-CO2/月",{"$f":"P75/1000*$K95","v":0},0,0,0,0,0,0,0,0,0,0,0,0,0,0]
[null,null,null,null,null,null,null,null,"灯油","tCO2/kL",2.4900000000000002,null,null,"灯油","t-CO2/月",{"$f":"P76/1000*$K96","v":0},0,0,0,0,0,0,0,0,0,0,0,0,0,0]
[null,null,null,null,null,null,null,null,"重油","tCO2/kL",2.71,null,null,"重油","t-CO2/月",{"$f":"P77/1000*$K97","v":0},0,0,0,0,0,0,0,0,0,0,0,0,0,0]
[null,null,null,null,null,null,null,null,"液化石油ガス（LPG）","tCO2/t",3,null,null,"液化石油ガス（LPG）","t-CO2/月",{"$f":"P78/1000*$K98","v":0},0,0,0,0,0,0,0,0,0,0,0,0,0,0]
[null,null,null,null,null,null,null,null,"他人から供給された熱","tCO2/GJ",5.7000000000000002E-2,null,null,"他人から供給された熱","t-CO2/月",{"$f":"P79/1000*$K99","v":0},0,0,0,0,0,0,0,0,0,0,0,0,0,0]
[null,null,null,null,null,null,null,null,null,null,null,null,null,"CO2排出量合計","t-CO2/月",{"$f":"SUM(P94:P99)","v":0},{"$f":"SUM(Q94:Q99)","v":0},0,0,0,0,0,0,0,0,0,{"$f":"SUM(AA94:AA99)","v":0},{"$f":"SUM(AB94:AB99)","v":0},{"$f":"SUM(AC94:AC99)","v":0},0]
[]
[null,null,null,null,null,null,null,null,"□一次エネルギー換算係数",null,null,null,null,"□一次エネルギー消費量"]
[null,null,null,null,null,null,null,null,"項目","単位","値","備考",null,"項目","単位","4月","5月","6月","7月","8月","9月","10月","11月","12月","1月","2月","3月","合計","最大","最小","備考"]
[null,null,null,null,null,null,null,null,"電気","MJ/kWh",{"$f":"K62","v":9.76},null,null,"電気","MJ/月",{"$f":"P74*$K104","v":0},0,0,0,0,0,0,0,0,0,0,0,{"$f":"SUM(P104:AA104)","v":0},{"$f":"MAX(P104:AA104)","v":0},{"$f":"MIN(P104:AA104)","v":0}]
[null,null,null,null,null,null,null,null,"都市ガス（13A）","MJ/m3",{"$f":"K63","v":45},null,null,"都市ガス（13A）","MJ/月",{"$f":"P75*$K105","v":0},0,0,0,0,0,0,0,0,0,0,0,0,0,0]
[null,null,null,null,null,null,null,null,"灯油","MJ/L",37,null,null,"灯油","MJ/月",{"$f":"P76*$K106","v":0},0,0,0,0,0,0,0,0,0,0,0,0,0,0]
[null,null,null,null,null,null,null,null,"重油","MJ/L",41,null,null,"重油","MJ/月",{"$f":"P77*$K107","v":0},0,0,0,0,0,0,0,0,0,0,0,0,0,0]
[null,null,null,null,null,null,null,null,"液化石油ガス（LPG）","MJ/kg",50,null,null,"液化石油ガス（LPG）","MJ/月",{"$f":"P78*$K108","v":0},0,0,0,0,0,0,0,0,0,0,0,0,0,0]
[null,null,null,null,null,null,null,null,"他人から供給された熱","MJ/MJ",1.36,null,null,"他人から供給された熱","MJ/月",{"$f":"P79*$K109","v":0},0,0,0,0,0,0,0,0,0,0,0,0,0,0]
[null,null,null,null,null,null,null,null,null,null,null,null,null,"一次エネルギー消費量合計","MJ/月",{"$f":"SUM(P104:P109)","v":0},0,0,0,0,0,0,0,0,0,0,{"$f":"SUM(AA104:AA109)","v":0},0,0,0]
[]
[]
[null,null,null,null,null,null,null,null,"■補機類エネルギーコスト、CO2排出量、一次エネルギー消費量計算（エネルギー消費量を入力）"]
[null,null,null,null,null,null,null,null,null,null,null,null,null,"□エネルギー消費量"]
[null,null,null,null,null,null,null,null,null,"設定セル",null,null,null,"項目","単位","4月","5月","6月","7月","8月","9月","10月","11月","12月","1月","2月","3月","合計","最大","最小","備考"]
[null,null,null,null,null,null,null,null,null,"変更設定していいセル（計算式が入力されている）",null,null,null,"電気","kWh/月",{"$f":"P26","v":{"$error":"#N/A"}},{"$f":"Q26","v":{"$error":"#N/A"}},{"$error":"#N/A"},{"$error":"#N/A"},{"$error":"#N/A"},{"$error":"#N/A"},{"$error":"#N/A"},{"$error":"#N/A"},{"$error":"#N/A"},{"$error":"#N/A"},{"$error":"#N/A"},{"$error":"#N/A"},{"$f":"SUM(P116:AA116)","v":{"$error":"#N/A"}},{"$f":"MAX(P116:AA116)","v":{"$error":"#N/A"}},{"$f":"MIN(P116:AA116)","v":{"$error":"#N/A"}}]
[null,null,null,null,null,null,null,null,null,"あまり変更しなくていい設定セル",null,null,null,"都市ガス（13A）","m3/月",null,null,null,null,null,null,null,null,null,null,null,null,0,0,0]
[null,null,null,null,null,null,null,null,null,"デフォ値・係数",null,null,null,"灯油","L/月",null,null,null,null,null,null,null,null,null,null,null,null,0,0,0]
[null,null,null,null,null,null,null,null,null,"計算式・項目確認セル",null,null,null,"重油","L/月",null,null,null,null,null,null,null,null,null,null,null,null,0,0,0]
[null,null,null,null,null,null,null,null,null,null,null,null,null,"液化石油ガス（LPG）","kg/月",null,null,null,null,null,null,null,null,null,null,null,null,0,0,0]
[null,null,null,null,null,null,null,null,null,null,null,null,null,"他人から供給された熱","MJ/月",null,null,null,null,null,null,null,null,null,null,null,null,0,0,0]
[]
[]
[null,null,null,null,null,null,null,null,"□エネルギーコスト単価(フラットレート)",null,null,null,null,"□エネルギーコスト検討"]
[null,null,null,null,null,null,null,null,"項目","単位","値","備考",null,"項目","単位","4月","5月","6月","7月","8月","9月","10月","11月","12月","1月","2月","3月","合計","最大","最小","備考"]
[null,null,null,null,null,null,null,null,"電気","円/kWh",{"$f":"K84","v":14},null,null,"電気","千円/月",{"$f":"P116*$K126/1000","v":{"$error":"#N/A"}},{"$error":"#N/A"},{"$error":"#N/A"},{"$error":"#N/A"},{"$error":"#N/A"},{"$error":"#N/A"},{"$error":"#N/A"},{"$error":"#N/A"},{"$error":"#N/A"},{"$error":"#N/A"},{"$error":"#N/A"},{"$error":"#N/A"},{"$f":"SUM(P126:AA126)","v":{"$error":"#N/A"}},{"$f":"MAX(P126:AA126)","v":{"$error":"#N/A"}},{"$f":"MIN(P126:AA126)","v":{"$error":"#N/A"}}]
[null,null,null,null,null,null,null,null,"都市ガス（13A）","円/m3",{"$f":"K85","v":114.64285714285714},null,null,"都市ガス（13A）","千円/月",{"$f":"P117*$K127/1000","v":0},0,0,0,0,0,0,0,0,0,0,0,0,0,0]
[null,null,null,null,null,null,null,null,"灯油","円/L",107.88888888888889,null,null,"灯油","千円/月",{"$f":"P118*$K128/1000","v":0},0,0,0,0,0,0,0,0,0,0,0,0,0,0]
[null,null,null,null,null,null,null,null,"重油","円/L",76.099999999999994,null,null,"重油","千円/月",{"$f":"P119*$K129/1000","v":0},0,0,0,0,0,0,0,0,0,0,0,0,0,0]
[null,null,null,null,null,null,null,null,"液化石油ガス（LPG）","円/kg",159.40476190476193,null,null,"液化石油ガス（LPG）","千円/月",{"$f":"P120*$K130/1000","v":0},0,0,0,0,0,0,0,0,0,0,0,0,0,0]
[null,null,null,null,null,null,null,null,"他人から供給された熱","円/GJ",6611.9047619047615,null,null,"他人から供給された熱","千円/月",{"$f":"P121*$K131/1000","v":0},0,0,0,0,0,0,0,0,0,0,0,0,0,0]
[null,null,null,null,null,null,null,null,null,null,null,null,null,"エネルギーコスト合計","千円/月",{"$f":"SUM(P126:P131)","v":{"$error":"#N/A"}},{"$f":"SUM(Q126:Q131)","v":{"$error":"#N/A"}},{"$error":"#N/A"},{"$error":"#N/A"},{"$error":"#N/A"},{"$error":"#N/A"},{"$error":"#N/A"},{"$error":"#N/A"},{"$error":"#N/A"},{"$error":"#N/A"},{"$error":"#N/A"},{"$f":"SUM(AA126:AA131)","v":{"$error":"#N/A"}},{"$f":"SUM(AB126:AB131)","v":{"$error":"#N/A"}},{"$f":"SUM(AC126:AC131)","v":{"$error":"#N/A"}},{"$f":"SUM(AD126:AD131)","v":{"$error":"#N/A"}}]
[]
[null,null,null,null,null,null,null,null,"□CO2換算係数",null,null,null,null,"□CO2排出量"]
[null,null,null,null,null,null,null,null,"項目","単位","値","備考",null,"項目","単位","4月","5月","6月","7月","8月","9月","10月","11月","12月","1月","2月","3月","合計","最大","最小","備考"]
[null,null,null,null,null,null,null,null,"電気","tCO2/kWh",{"$f":"K94","v":4.8799999999999999E-4},null,null,"電気","t-CO2/月",{"$f":"P116*$K136","v":{"$error":"#N/A"}},{"$error":"#N/A"},{"$error":"#N/A"},{"$error":"#N/A"},{"$error":"#N/A"},{"$error":"#N/A"},{"$error":"#N/A"},{"$error":"#N/A"},{"$error":"#N/A"},{"$error":"#N/A"},{"$error":"#N/A"},{"$error":"#N/A"},{"$f":"SUM(P136:AA136)","v":{"$error":"#N/A"}},{"$f":"MAX(P136:AA136)","v":{"$error":"#N/A"}},{"$f":"MIN(P136:AA136)","v":{"$error":"#N/A"}}]
[null,null,null,null,null,null,null,null,"都市ガス（13A）","tCO2/km3",{"$f":"K95","v":2.23},null,null,"都市ガス（13A）","t-CO2/月",{"$f":"P117/1000*$K137","v":0},0,0,0,0,0,0,0,0,0,0,0,0,0,0]
[null,null,null,null,null,null,null,null,"灯油","tCO2/kL",2.4900000000000002,null,null,"灯油","t-CO2/月",{"$f":"P118/1000*$K138","v":0},0,0,0,0,0,0,0,0,0,0,0,0,0,0]
[null,null,null,null,null,null,null,null,"重油","tCO2/kL",2.71,null,null,"重油","t-CO2/月",{"$f":"P119/1000*$K139","v":0},0,0,0,0,0,0,0,0,0,0,0,0,0,0]
[null,null,null,null,null,null,null,null,"液化石油ガス（LPG）","tCO2/t",3,null,null,"液化石油ガス（LPG）","t-CO2/月",{"$f":"P120/1000*$K140","v":0},0,0,0,0,0,0,0,0,0,0,0,0,0,0]
[null,null,null,null,null,null,null,null,"他人から供給された熱","tCO2/GJ",5.7000000000000002E-2,null,null,"他人から供給された熱","t-CO2/月",{"$f":"P121/1000*$K141","v":0},0,0,0,0,0,0,0,0,0,0,0,0,0,0]
[null,null,null,null,null,null,null,null,null,null,null,null,null,"CO2排出量合計","t-CO2/月",{"$f":"SUM(P136:P141)","v":{"$error":"#N/A"}},{"$f":"SUM(Q136:Q141)","v":{"$error":"#N/A"}},{"$error":"#N/A"},{"$error":"#N/A"},{"$error":"#N/A"},{"$error":"#N/A"},{"$error":"#N/A"},{"$error":"#N/A"},{"$error":"#N/A"},{"$error":"#N/A"},{"$error":"#N/A"},{"$f":"SUM(AA136:AA141)","v":{"$error":"#N/A"}},{"$f":"SUM(AB136:AB141)","v":{"$error":"#N/A"}},{"$f":"SUM(AC136:AC141)","v":{"$error":"#N/A"}},{"$error":"#N/A"}]
[]
[null,null,null,null,null,null,null,null,"□一次エネルギー換算係数",null,null,null,null,"□一次エネルギー消費量"]
[null,null,null,null,null,null,null,null,"項目","単位","値","備考",null,"項目","単位","4月","5月","6月","7月","8月","9月","10月","11月","12月","1月","2月","3月","合計","最大","最小","備考"]
[null,null,null,null,null,null,null,null,"電気","MJ/kWh",{"$f":"K104","v":9.76},null,null,"電気","MJ/月",{"$f":"P116*$K146","v":{"$error":"#N/A"}},{"$error":"#N/A"},{"$error":"#N/A"},{"$error":"#N/A"},{"$error":"#N/A"},{"$error":"#N/A"},{"$error":"#N/A"},{"$error":"#N/A"},{"$error":"#N/A"},{"$error":"#N/A"},{"$error":"#N/A"},{"$error":"#N/A"},{"$f":"SUM(P146:AA146)","v":{"$error":"#N/A"}},{"$f":"MAX(P146:AA146)","v":{"$error":"#N/A"}},{"$f":"MIN(P146:AA146)","v":{"$error":"#N/A"}}]
[null,null,null,null,null,null,null,null,"都市ガス（13A）","MJ/m3",{"$f":"K105","v":45},null,null,"都市ガス（13A）","MJ/月",{"$f":"P117*$K147","v":0},0,0,0,0,0,0,0,0,0,0,0,0,0,0]
[null,null,null,null,null,null,null,null,"灯油","MJ/L",37,null,null,"灯油","MJ/月",{"$f":"P118*$K148","v":0},0,0,0,0,0,0,0,0,0,0,0,0,0,0]
[null,null,null,null,null,null,null,null,"重油","MJ/L",41,null,null,"重油","MJ/月",{"$f":"P119*$K149","v":0},0,0,0,0,0,0,0,0,0,0,0,0,0,0]
[null,null,null,null,null,null,null,null,"液化石油ガス（LPG）","MJ/kg",50,null,null,"液化石油ガス（LPG）","MJ/月",{"$f":"P120*$K150","v":0},0,0,0,0,0,0,0,0,0,0,0,0,0,0]
[null,null,null,null,null,null,null,null,"他人から供給された熱","MJ/MJ",1.36,null,null,"他人から供給された熱","MJ/月",{"$f":"P121*$K151","v":0},0,0,0,0,0,0,0,0,0,0,0,0,0,0]
[null,null,null,null,null,null,null,null,null,null,null,null,null,"一次エネルギー消費量合計","MJ/月",{"$f":"SUM(P146:P151)","v":{"$error":"#N/A"}},{"$error":"#N/A"},{"$error":"#N/A"},{"$error":"#N/A"},{"$error":"#N/A"},{"$error":"#N/A"},{"$error":"#N/A"},{"$error":"#N/A"},{"$error":"#N/A"},{"$error":"#N/A"},{"$error":"#N/A"},{"$f":"SUM(AA146:AA151)","v":{"$error":"#N/A"}},{"$error":"#N/A"},{"$error":"#N/A"},{"$error":"#N/A"}]

{"sheet":"比較対象_既存_燃料_空調_熱源容量","index":43,"n_rows":37,"n_cols":18,"rows_kept":37,"cut":false,"hidden":true,"merged":[]}
["■時刻別負荷"]
["■時刻負荷パタン設定",null,null,null,null,null,null,null,"■時刻別負荷",null,null,null,null,null,"■最大負荷　既存設備　熱源容量設定"]
["項目","値","単位","備考",null,null,null,null,null,{"$f":"VLOOKUP(B4&K3,E17:F32,2,FALSE)","v":{"$error":"#N/A"}},"冷房",{"$f":"VLOOKUP(B4&M3,E17:F32,2,FALSE)","v":{"$error":"#N/A"}},"暖房",null,"項目","値","単位","備考・冷房暖房区別VLOOKUP用"]
["建物用途",{"$f":"入力シート!C9","v":0},"-",null,null,null,null,null,"時刻","-","kW","-","kW",null,"冷房",{"$f":"MAX(K5:K28)","v":{"$error":"#N/A"}},"kW","冷房"]
["一日の熱需要量",{"$f":"MAX(比較対象_既存_燃料_空調_熱源容量!B13:D13)","v":{"$error":"#N/A"}},"kWh/日",null,null,null,null,null,1,{"$f":"VLOOKUP(I5,熱需要量算定・原単位!$AJ$9:$BL$32,MATCH($J$3,熱需要量算定・原単位!$AK$5:$BL$5,0)+1,FALSE)","v":{"$error":"#N/A"}},{"$f":"$C$13*J5/100","v":{"$error":"#N/A"}},{"$f":"VLOOKUP(I5,熱需要量算定・原単位!$AJ$9:$BL$32,MATCH($L$3,熱需要量算定・原単位!$AK$5:$BL$5,0)+1,FALSE)","v":{"$error":"#N/A"}},{"$f":"$D$13*L5/100","v":{"$error":"#N/A"}},null,"暖房",{"$f":"MAX(M5:M28)","v":{"$error":"#N/A"}},"kW","暖房"]
[null,null,null,null,null,null,null,null,2,{"$f":"VLOOKUP(I6,熱需要量算定・原単位!$AJ$9:$BL$32,MATCH($J$3,熱需要量算定・原単位!$AK$5:$BL$5,0)+1,FALSE)","v":{"$error":"#N/A"}},{"$f":"$C$13*J6/100","v":{"$error":"#N/A"}},{"$f":"VLOOKUP(I6,熱需要量算定・原単位!$AJ$9:$BL$32,MATCH($L$3,熱需要量算定・原単位!$AK$5:$BL$5,0)+1,FALSE)","v":{"$error":"#N/A"}},{"$f":"$D$13*L6/100","v":{"$error":"#N/A"}},null,"最大負荷",{"$f":"MAX(P4:P5)","v":{"$error":"#N/A"}},"kW","既存設備での熱源容量"]
[null,null,null,null,null,null,null,null,3,{"$f":"VLOOKUP(I7,熱需要量算定・原単位!$AJ$9:$BL$32,MATCH($J$3,熱需要量算定・原単位!$AK$5:$BL$5,0)+1,FALSE)","v":{"$error":"#N/A"}},{"$error":"#N/A"},{"$f":"VLOOKUP(I7,熱需要量算定・原単位!$AJ$9:$BL$32,MATCH($L$3,熱需要量算定・原単位!$AK$5:$BL$5,0)+1,FALSE)","v":{"$error":"#N/A"}},{"$error":"#N/A"}]
[null,null,null,null,null,null,null,null,4,{"$f":"VLOOKUP(I8,熱需要量算定・原単位!$AJ$9:$BL$32,MATCH($J$3,熱需要量算定・原単位!$AK$5:$BL$5,0)+1,FALSE)","v":{"$error":"#N/A"}},{"$error":"#N/A"},{"$f":"VLOOKUP(I8,熱需要量算定・原単位!$AJ$9:$BL$32,MATCH($L$3,熱需要量算定・原単位!$AK$5:$BL$5,0)+1,FALSE)","v":{"$error":"#N/A"}},{"$error":"#N/A"}]
[null,null,null,null,null,null,null,null,5,{"$f":"VLOOKUP(I9,熱需要量算定・原単位!$AJ$9:$BL$32,MATCH($J$3,熱需要量算定・原単位!$AK$5:$BL$5,0)+1,FALSE)","v":{"$error":"#N/A"}},{"$error":"#N/A"},{"$f":"VLOOKUP(I9,熱需要量算定・原単位!$AJ$9:$BL$32,MATCH($L$3,熱需要量算定・原単位!$AK$5:$BL$5,0)+1,FALSE)","v":{"$error":"#N/A"}},{"$error":"#N/A"}]
[null,null,null,null,null,null,null,null,6,{"$f":"VLOOKUP(I10,熱需要量算定・原単位!$AJ$9:$BL$32,MATCH($J$3,熱需要量算定・原単位!$AK$5:$BL$5,0)+1,FALSE)","v":{"$error":"#N/A"}},{"$error":"#N/A"},{"$f":"VLOOKUP(I10,熱需要量算定・原単位!$AJ$9:$BL$32,MATCH($L$3,熱需要量算定・原単位!$AK$5:$BL$5,0)+1,FALSE)","v":{"$error":"#N/A"}},{"$error":"#N/A"}]
[null,null,null,null,null,null,null,null,7,{"$f":"VLOOKUP(I11,熱需要量算定・原単位!$AJ$9:$BL$32,MATCH($J$3,熱需要量算定・原単位!$AK$5:$BL$5,0)+1,FALSE)","v":{"$error":"#N/A"}},{"$error":"#N/A"},{"$f":"VLOOKUP(I11,熱需要量算定・原単位!$AJ$9:$BL$32,MATCH($L$3,熱需要量算定・原単位!$AK$5:$BL$5,0)+1,FALSE)","v":{"$error":"#N/A"}},{"$error":"#N/A"}]
["■時刻別負荷パタン熱利用用途の決定用",null,null,null,null,null,null,null,8,{"$f":"VLOOKUP(I12,熱需要量算定・原単位!$AJ$9:$BL$32,MATCH($J$3,熱需要量算定・原単位!$AK$5:$BL$5,0)+1,FALSE)","v":{"$error":"#N/A"}},{"$error":"#N/A"},{"$f":"VLOOKUP(I12,熱需要量算定・原単位!$AJ$9:$BL$32,MATCH($L$3,熱需要量算定・原単位!$AK$5:$BL$5,0)+1,FALSE)","v":{"$error":"#N/A"}},{"$error":"#N/A"}]
["日あたりの熱需要量",{"$f":"SUMPRODUCT(MAX((比較対象_既存_燃料_空調_RC!$P$5:$AA$5=B14)*(比較対象_既存_燃料_空調_RC!$P$11:$AA$11)))","v":{"$error":"#N/A"}},{"$f":"SUMPRODUCT(MAX((比較対象_既存_燃料_空調_RC!$P$5:$AA$5=C14)*(比較対象_既存_燃料_空調_RC!$P$11:$AA$11)))","v":{"$error":"#N/A"}},{"$f":"SUMPRODUCT(MAX((比較対象_既存_燃料_空調_RC!$P$5:$AA$5=D14)*(比較対象_既存_燃料_空調_RC!$P$11:$AA$11)))","v":{"$error":"#N/A"}},null,null,null,null,9,{"$f":"VLOOKUP(I13,熱需要量算定・原単位!$AJ$9:$BL$32,MATCH($J$3,熱需要量算定・原単位!$AK$5:$BL$5,0)+1,FALSE)","v":{"$error":"#N/A"}},{"$error":"#N/A"},{"$f":"VLOOKUP(I13,熱需要量算定・原単位!$AJ$9:$BL$32,MATCH($L$3,熱需要量算定・原単位!$AK$5:$BL$5,0)+1,FALSE)","v":{"$error":"#N/A"}},{"$error":"#N/A"}]
["熱利用用途","給湯","冷房","暖房",null,null,null,null,10,{"$f":"VLOOKUP(I14,熱需要量算定・原単位!$AJ$9:$BL$32,MATCH($J$3,熱需要量算定・原単位!$AK$5:$BL$5,0)+1,FALSE)","v":{"$error":"#N/A"}},{"$error":"#N/A"},{"$f":"VLOOKUP(I14,熱需要量算定・原単位!$AJ$9:$BL$32,MATCH($L$3,熱需要量算定・原単位!$AK$5:$BL$5,0)+1,FALSE)","v":{"$error":"#N/A"}},{"$error":"#N/A"}]
[null,null,null,null,null,null,null,null,11,{"$f":"VLOOKUP(I15,熱需要量算定・原単位!$AJ$9:$BL$32,MATCH($J$3,熱需要量算定・原単位!$AK$5:$BL$5,0)+1,FALSE)","v":{"$error":"#N/A"}},{"$error":"#N/A"},{"$f":"VLOOKUP(I15,熱需要量算定・原単位!$AJ$9:$BL$32,MATCH($L$3,熱需要量算定・原単位!$AK$5:$BL$5,0)+1,FALSE)","v":{"$error":"#N/A"}},{"$error":"#N/A"}]
["■時刻別負荷変動比率　検索key設定",null,null,null,null,null,null,null,12,{"$f":"VLOOKUP(I16,熱需要量算定・原単位!$AJ$9:$BL$32,MATCH($J$3,熱需要量算定・原単位!$AK$5:$BL$5,0)+1,FALSE)","v":{"$error":"#N/A"}},{"$error":"#N/A"},{"$f":"VLOOKUP(I16,熱需要量算定・原単位!$AJ$9:$BL$32,MATCH($L$3,熱需要量算定・原単位!$AK$5:$BL$5,0)+1,FALSE)","v":{"$error":"#N/A"}},{"$error":"#N/A"}]
["No","建物用途","熱利用用途","季節","VLOOKUP","検索key","運転時間",null,13,{"$f":"VLOOKUP(I17,熱需要量算定・原単位!$AJ$9:$BL$32,MATCH($J$3,熱需要量算定・原単位!$AK$5:$BL$5,0)+1,FALSE)","v":{"$error":"#N/A"}},{"$error":"#N/A"},{"$f":"VLOOKUP(I17,熱需要量算定・原単位!$AJ$9:$BL$32,MATCH($L$3,熱需要量算定・原単位!$AK$5:$BL$5,0)+1,FALSE)","v":{"$error":"#N/A"}},{"$error":"#N/A"}]
[1,"集合住宅","給湯","冬期",{"$f":"B18&C18","v":"集合住宅給湯"},{"$f":"B18&C18&D18","v":"集合住宅給湯冬期"},{"$f":"HLOOKUP(F18,熱需要量算定・原単位!$AJ$5:$BL$34,30,FALSE)","v":22},null,14,{"$f":"VLOOKUP(I18,熱需要量算定・原単位!$AJ$9:$BL$32,MATCH($J$3,熱需要量算定・原単位!$AK$5:$BL$5,0)+1,FALSE)","v":{"$error":"#N/A"}},{"$error":"#N/A"},{"$f":"VLOOKUP(I18,熱需要量算定・原単位!$AJ$9:$BL$32,MATCH($L$3,熱需要量算定・原単位!$AK$5:$BL$5,0)+1,FALSE)","v":{"$error":"#N/A"}},{"$error":"#N/A"}]
[2,"集合住宅","冷房","夏期",{"$f":"B19&C19","v":"集合住宅冷房"},{"$f":"B19&C19&D19","v":"集合住宅冷房夏期"},{"$f":"HLOOKUP(F19,熱需要量算定・原単位!$AJ$5:$BL$34,30,FALSE)","v":24},null,15,{"$f":"VLOOKUP(I19,熱需要量算定・原単位!$AJ$9:$BL$32,MATCH($J$3,熱需要量算定・原単位!$AK$5:$BL$5,0)+1,FALSE)","v":{"$error":"#N/A"}},{"$error":"#N/A"},{"$f":"VLOOKUP(I19,熱需要量算定・原単位!$AJ$9:$BL$32,MATCH($L$3,熱需要量算定・原単位!$AK$5:$BL$5,0)+1,FALSE)","v":{"$error":"#N/A"}},{"$error":"#N/A"}]
[3,"集合住宅","暖房","冬期","集合住宅暖房","集合住宅暖房冬期",{"$f":"HLOOKUP(F20,熱需要量算定・原単位!$AJ$5:$BL$34,30,FALSE)","v":24},null,16,{"$f":"VLOOKUP(I20,熱需要量算定・原単位!$AJ$9:$BL$32,MATCH($J$3,熱需要量算定・原単位!$AK$5:$BL$5,0)+1,FALSE)","v":{"$error":"#N/A"}},{"$error":"#N/A"},{"$f":"VLOOKUP(I20,熱需要量算定・原単位!$AJ$9:$BL$32,MATCH($L$3,熱需要量算定・原単位!$AK$5:$BL$5,0)+1,FALSE)","v":{"$error":"#N/A"}},{"$error":"#N/A"}]
[4,"業務施設","給湯","冬期","業務施設給湯","業務施設給湯冬期",{"$f":"HLOOKUP(F21,熱需要量算定・原単位!$AJ$5:$BL$34,30,FALSE)","v":14},null,17,{"$f":"VLOOKUP(I21,熱需要量算定・原単位!$AJ$9:$BL$32,MATCH($J$3,熱需要量算定・原単位!$AK$5:$BL$5,0)+1,FALSE)","v":{"$error":"#N/A"}},{"$error":"#N/A"},{"$f":"VLOOKUP(I21,熱需要量算定・原単位!$AJ$9:$BL$32,MATCH($L$3,熱需要量算定・原単位!$AK$5:$BL$5,0)+1,FALSE)","v":{"$error":"#N/A"}},{"$error":"#N/A"}]
[5,"業務施設","冷房","夏期","業務施設冷房","業務施設冷房夏期",{"$f":"HLOOKUP(F22,熱需要量算定・原単位!$AJ$5:$BL$34,30,FALSE)","v":14},null,18,{"$f":"VLOOKUP(I22,熱需要量算定・原単位!$AJ$9:$BL$32,MATCH($J$3,熱需要量算定・原単位!$AK$5:$BL$5,0)+1,FALSE)","v":{"$error":"#N/A"}},{"$error":"#N/A"},{"$f":"VLOOKUP(I22,熱需要量算定・原単位!$AJ$9:$BL$32,MATCH($L$3,熱需要量算定・原単位!$AK$5:$BL$5,0)+1,FALSE)","v":{"$error":"#N/A"}},{"$error":"#N/A"}]
[6,"業務施設","暖房","冬期","業務施設暖房","業務施設暖房冬期",{"$f":"HLOOKUP(F23,熱需要量算定・原単位!$AJ$5:$BL$34,30,FALSE)","v":11},null,19,{"$f":"VLOOKUP(I23,熱需要量算定・原単位!$AJ$9:$BL$32,MATCH($J$3,熱需要量算定・原単位!$AK$5:$BL$5,0)+1,FALSE)","v":{"$error":"#N/A"}},{"$error":"#N/A"},{"$f":"VLOOKUP(I23,熱需要量算定・原単位!$AJ$9:$BL$32,MATCH($L$3,熱需要量算定・原単位!$AK$5:$BL$5,0)+1,FALSE)","v":{"$error":"#N/A"}},{"$error":"#N/A"}]
[7,"商業施設","給湯","-","商業施設給湯","商業施設給湯-",{"$f":"HLOOKUP(F24,熱需要量算定・原単位!$AJ$5:$BL$34,30,FALSE)","v":12},null,20,{"$f":"VLOOKUP(I24,熱需要量算定・原単位!$AJ$9:$BL$32,MATCH($J$3,熱需要量算定・原単位!$AK$5:$BL$5,0)+1,FALSE)","v":{"$error":"#N/A"}},{"$error":"#N/A"},{"$f":"VLOOKUP(I24,熱需要量算定・原単位!$AJ$9:$BL$32,MATCH($L$3,熱需要量算定・原単位!$AK$5:$BL$5,0)+1,FALSE)","v":{"$error":"#N/A"}},{"$error":"#N/A"}]
[8,"商業施設","冷房","-","商業施設冷房","商業施設冷房-",{"$f":"HLOOKUP(F25,熱需要量算定・原単位!$AJ$5:$BL$34,30,FALSE)","v":11},null,21,{"$f":"VLOOKUP(I25,熱需要量算定・原単位!$AJ$9:$BL$32,MATCH($J$3,熱需要量算定・原単位!$AK$5:$BL$5,0)+1,FALSE)","v":{"$error":"#N/A"}},{"$error":"#N/A"},{"$f":"VLOOKUP(I25,熱需要量算定・原単位!$AJ$9:$BL$32,MATCH($L$3,熱需要量算定・原単位!$AK$5:$BL$5,0)+1,FALSE)","v":{"$error":"#N/A"}},{"$error":"#N/A"}]
[9,"商業施設","暖房","-","商業施設暖房","商業施設暖房-",{"$f":"HLOOKUP(F26,熱需要量算定・原単位!$AJ$5:$BL$34,30,FALSE)","v":11},null,22,{"$f":"VLOOKUP(I26,熱需要量算定・原単位!$AJ$9:$BL$32,MATCH($J$3,熱需要量算定・原単位!$AK$5:$BL$5,0)+1,FALSE)","v":{"$error":"#N/A"}},{"$error":"#N/A"},{"$f":"VLOOKUP(I26,熱需要量算定・原単位!$AJ$9:$BL$32,MATCH($L$3,熱需要量算定・原単位!$AK$5:$BL$5,0)+1,FALSE)","v":{"$error":"#N/A"}},{"$error":"#N/A"}]
[10,"宿泊施設","給湯","-","宿泊施設給湯","宿泊施設給湯-",{"$f":"HLOOKUP(F27,熱需要量算定・原単位!$AJ$5:$BL$34,30,FALSE)","v":24},null,23,{"$f":"VLOOKUP(I27,熱需要量算定・原単位!$AJ$9:$BL$32,MATCH($J$3,熱需要量算定・原単位!$AK$5:$BL$5,0)+1,FALSE)","v":{"$error":"#N/A"}},{"$error":"#N/A"},{"$f":"VLOOKUP(I27,熱需要量算定・原単位!$AJ$9:$BL$32,MATCH($L$3,熱需要量算定・原単位!$AK$5:$BL$5,0)+1,FALSE)","v":{"$error":"#N/A"}},{"$error":"#N/A"}]
[11,"宿泊施設","冷房","夏期","宿泊施設冷房","宿泊施設冷房夏期",{"$f":"HLOOKUP(F28,熱需要量算定・原単位!$AJ$5:$BL$34,30,FALSE)","v":24},null,24,{"$f":"VLOOKUP(I28,熱需要量算定・原単位!$AJ$9:$BL$32,MATCH($J$3,熱需要量算定・原単位!$AK$5:$BL$5,0)+1,FALSE)","v":{"$error":"#N/A"}},{"$error":"#N/A"},{"$f":"VLOOKUP(I28,熱需要量算定・原単位!$AJ$9:$BL$32,MATCH($L$3,熱需要量算定・原単位!$AK$5:$BL$5,0)+1,FALSE)","v":{"$error":"#N/A"}},{"$error":"#N/A"}]
[12,"宿泊施設","暖房","冬期","宿泊施設暖房","宿泊施設暖房冬期",{"$f":"HLOOKUP(F29,熱需要量算定・原単位!$AJ$5:$BL$34,30,FALSE)","v":23},null,"合計",null,{"$f":"SUM(K5:K28)","v":{"$error":"#N/A"}},null,{"$f":"SUM(M5:M28)","v":{"$error":"#N/A"}}]
[13,"医療施設","給湯","冬期","医療施設給湯","医療施設給湯冬期",{"$f":"HLOOKUP(F30,熱需要量算定・原単位!$AJ$5:$BL$34,30,FALSE)","v":24}]
[14,"医療施設","冷房","夏期","医療施設冷房","医療施設冷房夏期",{"$f":"HLOOKUP(F31,熱需要量算定・原単位!$AJ$5:$BL$34,30,FALSE)","v":24}]
[15,"医療施設","暖房","冬期","医療施設暖房","医療施設暖房冬期",{"$f":"HLOOKUP(F32,熱需要量算定・原単位!$AJ$5:$BL$34,30,FALSE)","v":24}]
[]
[]
["■運転時間の設定（熱負荷に合わせた運転の場合）"]
["熱利用用途","給湯","冷房","暖房"]
["運転時間",{"$f":"VLOOKUP($B$4&B36,$E$17:$G$32,3,FALSE)","v":{"$error":"#N/A"}},{"$f":"VLOOKUP($B$4&C36,$E$17:$G$32,3,FALSE)","v":{"$error":"#N/A"}},{"$f":"VLOOKUP($B$4&D36,$E$17:$G$32,3,FALSE)","v":{"$error":"#N/A"}}]

{"sheet":"比較対象_既存_燃料_空調_IC","index":44,"n_rows":30,"n_cols":17,"rows_kept":30,"cut":false,"hidden":true,"merged":[[27,1,27,2],[28,1,28,2],[29,1,29,2],[4,1,16,1],[17,1,19,1],[20,1,23,1],[24,1,24,2],[25,1,25,2],[26,1,26,2]]}
[null,"■イニシャルコスト算出"]
[]
[null,"比較対象_既存_燃料_空調"]
[null,null,"名称","摘要","単価[千円]","数量","単位","金額[千円]","備考","memo",null,null,null,null,"価格関数代入値","単位","備考"]
[null,"機械工事","熱源機（吸収式）",null,{"$f":"IF(O5=0,0,IF(Q5=\"冷房\",価格関数!E15*O5+価格関数!F15,価格関数!E16*O5+価格関数!F16))","v":{"$error":"#N/A"}},1,"台",{"$f":"F5*E5","v":{"$error":"#N/A"}},null,"価格関数",null,null,null,"熱源容量",{"$f":"比較対象_既存_燃料_空調_熱源容量!P6","v":{"$error":"#N/A"}},"kW",{"$f":"VLOOKUP(O5,比較対象_既存_燃料_空調_熱源容量!P4:R5,3,FALSE)","v":{"$error":"#N/A"}}]
[null,null,"冷温水ポンプ",null,{"$f":"IF(O6=0,0,価格関数!$E$21*O6+価格関数!$F$21)","v":{"$error":"#N/A"}},1,"台",{"$f":"F6*E6","v":{"$error":"#N/A"}},null,"価格関数",null,null,null,"ポンプ出力",{"$f":"比較対象_既存_燃料_空調_RC!K12","v":{"$error":"#N/A"}},"kW"]
[null,null,"冷却水ポンプ",null,{"$f":"IF(O7=0,0,価格関数!$E$21*O7+価格関数!$F$21)","v":{"$error":"#N/A"}},1,"台",{"$f":"F7*E7","v":{"$error":"#N/A"}},null,"価格関数",null,null,null,"ポンプ出力",{"$f":"比較対象_既存_燃料_空調_RC!K18","v":{"$error":"#N/A"}},"kW"]
[null,null,"冷却塔",null,{"$f":"IF(O8=0,0,価格関数!$E$19*比較対象_既存_燃料_空調_IC!O8+価格関数!$F$19)","v":{"$error":"#N/A"}},1,"台",{"$f":"F8*E8","v":{"$error":"#N/A"}},null,"価格関数",null,null,null,"冷却水流量",{"$f":"比較対象_既存_燃料_空調_RC!K15","v":{"$error":"#N/A"}},"L/min"]
[]
[]
[]
[]
[]
[null,null,"自動制御",null,null,1,"式",{"$f":"INT(SUM(H5:H13)*I14)","v":{"$error":"#N/A"}},0.2,"概算　事例等より設定"]
[null,null,"その他配管","概算（付属品込）",null,1,"式",{"$f":"INT(SUM(H5:H14)*I15)","v":{"$error":"#N/A"}},0.1,"配管費=機器類×5~10%と設定"]
[]
[null,null,"小計",null,null,null,null,{"$f":"SUM(H5:H16)","v":{"$error":"#N/A"}}]
[null,"電気工事","概算","概算",null,null,null,{"$f":"INT(H17*I18)","v":{"$error":"#N/A"}},0.3]
[]
[null,null,"小計",null,null,null,null,{"$f":"SUM(H18:H19)","v":{"$error":"#N/A"}}]
[null,"土工事"]
[]
[]
[null,null,"小計",null,null,null,null,{"$f":"SUM(H21:H23)","v":0}]
[null,"直接工事費",null,null,null,null,null,{"$f":"H24+H20+H17","v":{"$error":"#N/A"}}]
[null,"間接工事費",null,null,null,1,"式",{"$f":"INT(H25*0.3)","v":{"$error":"#N/A"}},"直接工事費×30%"]
[null,"工事原価",null,null,null,1,"式",{"$f":"H25+H26","v":{"$error":"#N/A"}}]
[null,"消費税",null,null,null,1,"式"]
[]
[null,"合計",null,null,null,null,null,{"$f":"H27+H28","v":{"$error":"#N/A"}}]

{"sheet":"残り需要_既存_燃料_空調_RC","index":45,"n_rows":152,"n_cols":31,"rows_kept":152,"cut":false,"hidden":true,"merged":[]}
[null,"■入力情報",null,null,null,null,null,null,"■空調　燃料方式システムのエネルギー計算"]
[]
[null,"■対象施設情報",null,null,null,null,null,null,"■空調　燃料方式システム検討",null,null,null,null,"■空調　燃料方式システム　エネルギー計算・エネルギーコスト検討"]
[null,"項目","単位","値","備考",null,null,null,"項目","単位","値","備考",null,"項目","単位","4月","5月","6月","7月","8月","9月","10月","11月","12月","1月","2月","3月","合計","最大","最小","備考"]
[null,"地域選択","-",{"$f":"入力シート!C7","v":0},"都道府県を選択してください。",null,null,null,"暖房効率","-",0.9,null,null,"熱利用用途",null,{"$f":"マッチング!E10","v":""},{"$f":"マッチング!F10","v":""},{"$f":"マッチング!G10","v":""},{"$f":"マッチング!H10","v":""},{"$f":"マッチング!I10","v":""},{"$f":"マッチング!J10","v":""},{"$f":"マッチング!K10","v":""},{"$f":"マッチング!L10","v":""},{"$f":"マッチング!M10","v":""},{"$f":"マッチング!N10","v":""},{"$f":"マッチング!O10","v":""},{"$f":"マッチング!P10","v":""}]
[null,"熱利用用途","-",{"$f":"入力シート!C8","v":0},"給湯、空調、融雪から選択してください。",null,null,null,"冷房効率","-",1.2,null,null,"熱需要量","MJ/月",{"$f":"マッチング!E116","v":{"$error":"#N/A"}},{"$f":"マッチング!F116","v":{"$error":"#N/A"}},{"$f":"マッチング!G116","v":{"$error":"#N/A"}},{"$f":"マッチング!H116","v":{"$error":"#N/A"}},{"$f":"マッチング!I116","v":{"$error":"#N/A"}},{"$f":"マッチング!J116","v":{"$error":"#N/A"}},{"$f":"マッチング!K116","v":{"$error":"#N/A"}},{"$f":"マッチング!L116","v":{"$error":"#N/A"}},{"$f":"マッチング!M116","v":{"$error":"#N/A"}},{"$f":"マッチング!N116","v":{"$error":"#N/A"}},{"$f":"マッチング!O116","v":{"$error":"#N/A"}},{"$f":"マッチング!P116","v":{"$error":"#N/A"}},{"$f":"SUM(P6:AA6)","v":{"$error":"#N/A"}},{"$f":"MAX(P6:AA6)","v":{"$error":"#N/A"}},{"$f":"MIN(P6:AA6)","v":{"$error":"#N/A"}}]
[null,"建物用途","-",{"$f":"入力シート!C9","v":0},"給湯、空調利用の場合は建物用途を選択してください。",null,null,null,"熱源容量(最大負荷月)","kW",{"$f":"残り需要_既存_燃料_空調_熱源容量!P6","v":{"$error":"#N/A"}},"熱源容量シートより",null,null,"kWh/月",{"$f":"P6*1000/3600","v":{"$error":"#N/A"}},{"$f":"Q6*1000/3600","v":{"$error":"#N/A"}},{"$error":"#N/A"},{"$error":"#N/A"},{"$error":"#N/A"},{"$error":"#N/A"},{"$error":"#N/A"},{"$error":"#N/A"},{"$error":"#N/A"},{"$error":"#N/A"},{"$error":"#N/A"},{"$error":"#N/A"},{"$f":"SUM(P7:AA7)","v":{"$error":"#N/A"}},{"$f":"MAX(P7:AA7)","v":{"$error":"#N/A"}},{"$f":"MIN(P7:AA7)","v":{"$error":"#N/A"}}]
[null,"延床面積","m2",{"$f":"入力シート!C10","v":0},"給湯、空調利用の場合は数値を入力してください。",null,null,null,"温度差","℃",5,"想定設定値",null,"日数","日",{"$f":"熱需要量算定・原単位!D24","v":30},{"$f":"熱需要量算定・原単位!E24","v":31},{"$f":"熱需要量算定・原単位!F24","v":30},{"$f":"熱需要量算定・原単位!G24","v":31},{"$f":"熱需要量算定・原単位!H24","v":31},{"$f":"熱需要量算定・原単位!I24","v":30},{"$f":"熱需要量算定・原単位!J24","v":31},{"$f":"熱需要量算定・原単位!K24","v":30},{"$f":"熱需要量算定・原単位!L24","v":31},{"$f":"熱需要量算定・原単位!M24","v":31},{"$f":"熱需要量算定・原単位!N24","v":28},{"$f":"熱需要量算定・原単位!O24","v":31},{"$f":"SUM(P8:AA8)","v":365}]
[null,"対象面積","m2",{"$f":"入力シート!C11","v":0},"融雪利用の場合は数値を入力して下さい。",null,null,null,"冷温水流量","L/min",{"$f":"K7/K8/$D$22/$D$23*1000*60","v":{"$error":"#N/A"}},null,null,"運転時間","h/日",{"$f":"HLOOKUP(P5,残り需要_既存_燃料_空調_熱源容量!$B$36:$D$37,2,FALSE)","v":{"$error":"#N/A"}},{"$f":"HLOOKUP(Q5,残り需要_既存_燃料_空調_熱源容量!$B$36:$D$37,2,FALSE)","v":{"$error":"#N/A"}},{"$f":"HLOOKUP(R5,残り需要_既存_燃料_空調_熱源容量!$B$36:$D$37,2,FALSE)","v":{"$error":"#N/A"}},{"$f":"HLOOKUP(S5,残り需要_既存_燃料_空調_熱源容量!$B$36:$D$37,2,FALSE)","v":{"$error":"#N/A"}},{"$f":"HLOOKUP(T5,残り需要_既存_燃料_空調_熱源容量!$B$36:$D$37,2,FALSE)","v":{"$error":"#N/A"}},{"$f":"HLOOKUP(U5,残り需要_既存_燃料_空調_熱源容量!$B$36:$D$37,2,FALSE)","v":{"$error":"#N/A"}},{"$f":"HLOOKUP(V5,残り需要_既存_燃料_空調_熱源容量!$B$36:$D$37,2,FALSE)","v":{"$error":"#N/A"}},{"$f":"HLOOKUP(W5,残り需要_既存_燃料_空調_熱源容量!$B$36:$D$37,2,FALSE)","v":{"$error":"#N/A"}},{"$f":"HLOOKUP(X5,残り需要_既存_燃料_空調_熱源容量!$B$36:$D$37,2,FALSE)","v":{"$error":"#N/A"}},{"$f":"HLOOKUP(Y5,残り需要_既存_燃料_空調_熱源容量!$B$36:$D$37,2,FALSE)","v":{"$error":"#N/A"}},{"$f":"HLOOKUP(Z5,残り需要_既存_燃料_空調_熱源容量!$B$36:$D$37,2,FALSE)","v":{"$error":"#N/A"}},{"$f":"HLOOKUP(AA5,残り需要_既存_燃料_空調_熱源容量!$B$36:$D$37,2,FALSE)","v":{"$error":"#N/A"}}]
[null,"燃料種別の選択","-",{"$f":"入力シート!C16","v":0},null,null,null,null,"冷温水揚程（想定）","m",15,"想定設定値",null,"日あたりの熱需要量","MJ/日",{"$f":"P6/P8","v":{"$error":"#N/A"}},{"$f":"Q6/Q8","v":{"$error":"#N/A"}},{"$error":"#N/A"},{"$error":"#N/A"},{"$error":"#N/A"},{"$error":"#N/A"},{"$error":"#N/A"},{"$error":"#N/A"},{"$error":"#N/A"},{"$error":"#N/A"},{"$error":"#N/A"},{"$error":"#N/A"},{"$f":"SUM(P10:AA10)","v":{"$error":"#N/A"}},{"$f":"MAX(P10:AA10)","v":{"$error":"#N/A"}},{"$f":"MIN(P10:AA10)","v":{"$error":"#N/A"}}]
[null,"選択燃料の発熱量",{"$f":"VLOOKUP(D10,一次E換算!A3:D8,4,FALSE)","v":{"$error":"#N/A"}},{"$f":"VLOOKUP(D10,一次E換算!A3:D8,2,FALSE)","v":{"$error":"#N/A"}},null,null,null,null,"冷温水ポンプ効率","%",{"$f":"IF(K9<80,ポンプ効率近似式!$D$14,-1.403*LN(K9/1000)^2+6.9719*LN(K9/1000)+53.781)","v":{"$error":"#N/A"}},"ポンプ効率近似式より",null,null,"kWh/日",{"$f":"P10*1000/3600","v":{"$error":"#N/A"}},{"$error":"#N/A"},{"$error":"#N/A"},{"$error":"#N/A"},{"$error":"#N/A"},{"$error":"#N/A"},{"$error":"#N/A"},{"$error":"#N/A"},{"$error":"#N/A"},{"$error":"#N/A"},{"$error":"#N/A"},{"$error":"#N/A"},{"$f":"SUM(P11:AA11)","v":{"$error":"#N/A"}},{"$f":"MAX(P11:AA11)","v":{"$error":"#N/A"}},{"$f":"MIN(P11:AA11)","v":{"$error":"#N/A"}}]
[null,null,null,null,null,null,null,null,"冷温水ポンプ消費電力","kW",{"$f":"$D$23*$D$25*K9/1000/60*K10/10/K11","v":{"$error":"#N/A"}},"ポンプ関数より",null,"熱源機効率","-",{"$f":"IF(P5=\"暖房\",$K$5,$K$6)","v":1.2},{"$f":"IF(Q5=\"暖房\",$K$5,$K$6)","v":1.2},1.2,1.2,1.2,1.2,1.2,1.2,1.2,1.2,1.2,1.2]
[null,null,null,null,null,null,null,null,null,null,null,null,null,"熱源機　燃料　必要発熱量","MJ/月",{"$f":"P6/P12","v":{"$error":"#N/A"}},{"$f":"Q6/Q12","v":{"$error":"#N/A"}},{"$error":"#N/A"},{"$error":"#N/A"},{"$error":"#N/A"},{"$error":"#N/A"},{"$error":"#N/A"},{"$error":"#N/A"},{"$error":"#N/A"},{"$error":"#N/A"},{"$error":"#N/A"},{"$error":"#N/A"},{"$f":"SUM(P13:AA13)","v":{"$error":"#N/A"}},{"$f":"MAX(P13:AA13)","v":{"$error":"#N/A"}},{"$f":"MIN(P13:AA13)","v":{"$error":"#N/A"}}]
[null,null,null,null,null,null,null,null,"熱源容量(冷房最大負荷)","kW",{"$f":"MAX(残り需要_既存_燃料_空調_熱源容量!K5:K28)","v":{"$error":"#N/A"}},"熱源容量シートより",null,null,"kWh/月",{"$f":"P7/P12","v":{"$error":"#N/A"}},{"$error":"#N/A"},{"$error":"#N/A"},{"$error":"#N/A"},{"$error":"#N/A"},{"$error":"#N/A"},{"$error":"#N/A"},{"$error":"#N/A"},{"$error":"#N/A"},{"$error":"#N/A"},{"$error":"#N/A"},{"$error":"#N/A"},{"$f":"SUM(P14:AA14)","v":{"$error":"#N/A"}},{"$f":"MAX(P14:AA14)","v":{"$error":"#N/A"}},{"$f":"MIN(P14:AA14)","v":{"$error":"#N/A"}}]
[null,null,null,null,null,null,null,null,"冷却水流量","L/min",{"$f":"K14/K8/$D$22/$D$23*1000*60","v":{"$error":"#N/A"}},null,null,"熱源機　燃料　消費量",{"$f":"RIGHT(C11,LEN(C11)-3)&\"/月\"","v":{"$error":"#N/A"}},{"$f":"P13/$D$11","v":{"$error":"#N/A"}},{"$error":"#N/A"},{"$error":"#N/A"},{"$error":"#N/A"},{"$error":"#N/A"},{"$error":"#N/A"},{"$error":"#N/A"},{"$error":"#N/A"},{"$error":"#N/A"},{"$error":"#N/A"},{"$error":"#N/A"},{"$error":"#N/A"},{"$f":"SUM(P15:AA15)","v":{"$error":"#N/A"}},{"$f":"MAX(P15:AA15)","v":{"$error":"#N/A"}},{"$f":"MIN(P15:AA15)","v":{"$error":"#N/A"}}]
[null,null,null,null,null,null,null,null,"冷却水揚程（想定）","m",15,"想定設定値",null,"冷温水ポンプ消費電力量","kWh/月",{"$f":"IF(P6=0,0,$K$12*P9*P8)","v":{"$error":"#N/A"}},{"$f":"IF(Q6=0,0,$K$12*Q9*Q8)","v":{"$error":"#N/A"}},{"$error":"#N/A"},{"$error":"#N/A"},{"$error":"#N/A"},{"$error":"#N/A"},{"$error":"#N/A"},{"$error":"#N/A"},{"$error":"#N/A"},{"$error":"#N/A"},{"$error":"#N/A"},{"$error":"#N/A"},{"$f":"SUM(P16:AA16)","v":{"$error":"#N/A"}}]
[null,null,null,null,null,null,null,null,"冷却水ポンプ効率","%",{"$f":"IF(K15<80,ポンプ効率近似式!$D$14,-1.403*LN(K15/1000)^2+6.9719*LN(K15/1000)+53.781)","v":{"$error":"#N/A"}},"ポンプ効率近似式より",null,"冷却水ポンプ消費電力量","kWh/月",{"$f":"IF(P5=\"冷房\",IF(P6=0,0,$K$18*P9*P8),0)","v":0},{"$f":"IF(Q5=\"冷房\",IF(Q6=0,0,$K$18*Q9*Q8),0)","v":0},0,0,0,0,0,0,0,0,0,0,{"$f":"SUM(P17:AA17)","v":0}]
[null,null,null,null,null,null,null,null,"冷却水ポンプ消費電力","kW",{"$f":"$D$23*$D$25*K15/1000/60*K16/10/K17","v":{"$error":"#N/A"}},"ポンプ関数より",null,"冷却塔消費電力量","kWh/月",{"$f":"IF(P5=\"冷房\",IF(P6=0,0,$K$19*P9*P8),0)","v":0},{"$f":"IF(Q5=\"冷房\",IF(Q6=0,0,$K$19*Q9*Q8),0)","v":0},0,0,0,0,0,0,0,0,0,0,{"$f":"SUM(P18:AA18)","v":0}]
[null,null,null,null,null,null,null,null,"冷却塔消費電力","kW",{"$f":"冷却塔消費電力関数!$H$17*K15+冷却塔消費電力関数!$I$17","v":{"$error":"#N/A"}},"冷却塔消費電力関数より",null,"消費電力合計","kWh/月",{"$f":"P16+P17+P18","v":{"$error":"#N/A"}},{"$f":"Q16+Q17+Q18","v":{"$error":"#N/A"}},{"$error":"#N/A"},{"$error":"#N/A"},{"$error":"#N/A"},{"$error":"#N/A"},{"$error":"#N/A"},{"$error":"#N/A"},{"$error":"#N/A"},{"$error":"#N/A"},{"$error":"#N/A"},{"$error":"#N/A"},{"$f":"SUM(P19:AA19)","v":{"$error":"#N/A"}}]
[null,"■係数"]
[null,"項目","値","単位","備考"]
[null,"水の比熱","kJ/kgK",{"$f":"係数・物性!D4","v":4.1790000000000003},"係数・物性より"]
[null,"水の密度","kg/m3",{"$f":"係数・物性!D5","v":996.62},"係数・物性より"]
[null,"容積比熱","MJ/m3K",{"$f":"係数・物性!D6","v":4.1648749800000004},"係数・物性より"]
[null,"重力加速度","m/s2",{"$f":"係数・物性!D7","v":9.8059999999999992},"係数・物性より",null,null,null,null,null,null,null,null,"熱源機　燃料　消費量",{"$f":"RIGHT(C11,LEN(C11)-3)&\"/月\"","v":{"$error":"#N/A"}},{"$f":"P15","v":{"$error":"#N/A"}},{"$f":"Q15","v":{"$error":"#N/A"}},{"$error":"#N/A"},{"$error":"#N/A"},{"$error":"#N/A"},{"$error":"#N/A"},{"$error":"#N/A"},{"$error":"#N/A"},{"$error":"#N/A"},{"$error":"#N/A"},{"$error":"#N/A"},{"$f":"AA15","v":{"$error":"#N/A"}},{"$f":"SUM(P25:AA25)","v":{"$error":"#N/A"}}]
[null,null,null,null,null,null,null,null,null,null,null,null,null,"補機類消費電力量","kWh/月",{"$f":"P16+P17+P18","v":{"$error":"#N/A"}},{"$f":"Q16+Q17+Q18","v":{"$error":"#N/A"}},{"$error":"#N/A"},{"$error":"#N/A"},{"$error":"#N/A"},{"$error":"#N/A"},{"$error":"#N/A"},{"$error":"#N/A"},{"$error":"#N/A"},{"$error":"#N/A"},{"$error":"#N/A"},{"$f":"AA16+AA17+AA18","v":{"$error":"#N/A"}},{"$f":"SUM(P26:AA26)","v":{"$error":"#N/A"}}]
[]
[]
[null,null,null,null,null,null,null,null,"■エネルギーコスト、CO2排出量、一次エネルギー消費量計算（エネルギー消費量を入力）"]
[null,null,null,null,null,null,null,null,null,null,null,null,null,"□エネルギー消費量"]
[null,null,null,null,null,null,null,null,null,"設定セル",null,null,null,"項目","単位","4月","5月","6月","7月","8月","9月","10月","11月","12月","1月","2月","3月","合計","最大","最小","備考"]
[null,null,null,null,null,null,null,null,null,"変更設定していいセル（計算式が入力されている）",null,null,null,"電気","kWh/月",{"$f":"P19","v":{"$error":"#N/A"}},{"$error":"#N/A"},{"$error":"#N/A"},{"$error":"#N/A"},{"$error":"#N/A"},{"$error":"#N/A"},{"$error":"#N/A"},{"$error":"#N/A"},{"$error":"#N/A"},{"$error":"#N/A"},{"$error":"#N/A"},{"$error":"#N/A"},{"$f":"SUM(P32:AA32)","v":{"$error":"#N/A"}},{"$f":"MAX(P32:AA32)","v":{"$error":"#N/A"}},{"$f":"MIN(P32:AA32)","v":{"$error":"#N/A"}}]
[null,null,null,null,null,null,null,null,null,"あまり変更しなくていい設定セル",null,null,null,"都市ガス（13A）","m3/月",{"$f":"IF($D$10=$N33,P$15,0)","v":0},0,0,0,0,0,0,0,0,0,0,0,0,0,0]
[null,null,null,null,null,null,null,null,null,"デフォ値・係数",null,null,null,"灯油","L/月",0,0,0,0,0,0,0,0,0,0,0,0,0,0,0]
[null,null,null,null,null,null,null,null,null,"計算式・項目確認セル",null,null,null,"重油","L/月",0,0,0,0,0,0,0,0,0,0,0,0,0,0,0]
[null,null,null,null,null,null,null,null,null,null,null,null,null,"液化石油ガス（LPG）","kg/月",0,0,0,0,0,0,0,0,0,0,0,0,0,0,0]
[null,null,null,null,null,null,null,null,null,null,null,null,null,"他人から供給された熱","MJ/月",0,0,0,0,0,0,0,0,0,0,0,0,0,0,0]
[]
[]
[null,null,null,null,null,null,null,null,"□エネルギーコスト単価(フラットレート)",null,null,null,null,"□エネルギーコスト検討"]
[null,null,null,null,null,null,null,null,"項目","単位","値","備考",null,"項目","単位","4月","5月","6月","7月","8月","9月","10月","11月","12月","1月","2月","3月","合計","最大","最小","備考"]
[null,null,null,null,null,null,null,null,"電気","円/kWh",{"$f":"E単価!H5","v":14},null,null,"電気","千円/月",{"$f":"P32*$K42/1000","v":{"$error":"#N/A"}},{"$error":"#N/A"},{"$error":"#N/A"},{"$error":"#N/A"},{"$error":"#N/A"},{"$error":"#N/A"},{"$error":"#N/A"},{"$error":"#N/A"},{"$error":"#N/A"},{"$error":"#N/A"},{"$error":"#N/A"},{"$error":"#N/A"},{"$f":"SUM(P42:AA42)","v":{"$error":"#N/A"}},{"$f":"MAX(P42:AA42)","v":{"$error":"#N/A"}},{"$f":"MIN(P42:AA42)","v":{"$error":"#N/A"}}]
[null,null,null,null,null,null,null,null,"都市ガス（13A）","円/m3",{"$f":"E単価!H6","v":114.64285714285714},null,null,"都市ガス（13A）","千円/月",0,0,0,0,0,0,0,0,0,0,0,0,0,0,0]
[null,null,null,null,null,null,null,null,"灯油","円/L",{"$f":"E単価!H7","v":107.88888888888889},null,null,"灯油","千円/月",0,0,0,0,0,0,0,0,0,0,0,0,0,0,0]
[null,null,null,null,null,null,null,null,"重油","円/L",{"$f":"E単価!H8","v":76.099999999999994},null,null,"重油","千円/月",0,0,0,0,0,0,0,0,0,0,0,0,0,0,0]
[null,null,null,null,null,null,null,null,"液化石油ガス（LPG）","円/kg",{"$f":"E単価!H9","v":159.40476190476193},null,null,"液化石油ガス（LPG）","千円/月",0,0,0,0,0,0,0,0,0,0,0,0,0,0,0]
[null,null,null,null,null,null,null,null,"他人から供給された熱","円/GJ",{"$f":"E単価!H10","v":6611.9047619047615},null,null,"他人から供給された熱","千円/月",0,0,0,0,0,0,0,0,0,0,0,0,0,0,0]
[null,null,null,null,null,null,null,null,null,null,null,null,null,"エネルギーコスト合計","千円/月",{"$f":"SUM(P42:P47)","v":{"$error":"#N/A"}},{"$f":"SUM(Q42:Q47)","v":{"$error":"#N/A"}},{"$error":"#N/A"},{"$error":"#N/A"},{"$error":"#N/A"},{"$error":"#N/A"},{"$error":"#N/A"},{"$error":"#N/A"},{"$error":"#N/A"},{"$error":"#N/A"},{"$error":"#N/A"},{"$error":"#N/A"},{"$f":"SUM(AB42:AB47)","v":{"$error":"#N/A"}},{"$f":"SUM(AC42:AC47)","v":{"$error":"#N/A"}},{"$f":"SUM(AD42:AD47)","v":{"$error":"#N/A"}}]
[]
[null,null,null,null,null,null,null,null,"□CO2換算係数",null,null,null,null,"□CO2排出量"]
[null,null,null,null,null,null,null,null,"項目","単位","値","備考",null,"項目","単位","4月","5月","6月","7月","8月","9月","10月","11月","12月","1月","2月","3月","合計","最大","最小","備考"]
[null,null,null,null,null,null,null,null,"電気","tCO2/kWh",{"$f":"CO2換算係数!B3","v":4.8799999999999999E-4},null,null,"電気","t-CO2/月",{"$f":"P32*$K52","v":{"$error":"#N/A"}},{"$f":"Q32*$K52","v":{"$error":"#N/A"}},{"$error":"#N/A"},{"$error":"#N/A"},{"$error":"#N/A"},{"$error":"#N/A"},{"$error":"#N/A"},{"$error":"#N/A"},{"$error":"#N/A"},{"$error":"#N/A"},{"$error":"#N/A"},{"$f":"AA32*$K52","v":{"$error":"#N/A"}},{"$f":"SUM(P52:AA52)","v":{"$error":"#N/A"}},{"$f":"MAX(P52:AA52)","v":{"$error":"#N/A"}},{"$f":"MIN(P52:AA52)","v":{"$error":"#N/A"}}]
[null,null,null,null,null,null,null,null,"都市ガス（13A）","tCO2/km3",{"$f":"CO2換算係数!B4","v":2.23},null,null,"都市ガス（13A）","t-CO2/月",{"$f":"P33/1000*$K53","v":0},0,0,0,0,0,0,0,0,0,0,0,0,0,0]
[null,null,null,null,null,null,null,null,"灯油","tCO2/kL",{"$f":"CO2換算係数!B5","v":2.4900000000000002},null,null,"灯油","t-CO2/月",0,0,0,0,0,0,0,0,0,0,0,0,0,0,0]
[null,null,null,null,null,null,null,null,"重油","tCO2/kL",{"$f":"CO2換算係数!B6","v":2.71},null,null,"重油","t-CO2/月",0,0,0,0,0,0,0,0,0,0,0,0,0,0,0]
[null,null,null,null,null,null,null,null,"液化石油ガス（LPG）","tCO2/t",{"$f":"CO2換算係数!B7","v":3},null,null,"液化石油ガス（LPG）","t-CO2/月",0,0,0,0,0,0,0,0,0,0,0,0,0,0,0]
[null,null,null,null,null,null,null,null,"他人から供給された熱","tCO2/GJ",{"$f":"CO2換算係数!B8","v":5.7000000000000002E-2},null,null,"他人から供給された熱","t-CO2/月",0,0,0,0,0,0,0,0,0,0,0,0,0,0,0]
[null,null,null,null,null,null,null,null,null,null,null,null,null,"CO2排出量合計","t-CO2/月",{"$f":"SUM(P52:P57)","v":{"$error":"#N/A"}},{"$f":"SUM(Q52:Q57)","v":{"$error":"#N/A"}},{"$error":"#N/A"},{"$error":"#N/A"},{"$error":"#N/A"},{"$error":"#N/A"},{"$error":"#N/A"},{"$error":"#N/A"},{"$error":"#N/A"},{"$error":"#N/A"},{"$error":"#N/A"},{"$error":"#N/A"},{"$f":"SUM(AB52:AB57)","v":{"$error":"#N/A"}},{"$error":"#N/A"},{"$error":"#N/A"}]
[]
[null,null,null,null,null,null,null,null,"□一次エネルギー換算係数",null,null,null,null,"□一次エネルギー消費量"]
[null,null,null,null,null,null,null,null,"項目","単位","値","備考",null,"項目","単位","4月","5月","6月","7月","8月","9月","10月","11月","12月","1月","2月","3月","合計","最大","最小","備考"]
[null,null,null,null,null,null,null,null,"電気","MJ/kWh",{"$f":"一次E換算!B3","v":9.76},null,null,"電気","MJ/月",{"$f":"P32*$K62","v":{"$error":"#N/A"}},{"$error":"#N/A"},{"$error":"#N/A"},{"$error":"#N/A"},{"$error":"#N/A"},{"$error":"#N/A"},{"$error":"#N/A"},{"$error":"#N/A"},{"$error":"#N/A"},{"$error":"#N/A"},{"$error":"#N/A"},{"$error":"#N/A"},{"$f":"SUM(P62:AA62)","v":{"$error":"#N/A"}},{"$f":"MAX(P62:AA62)","v":{"$error":"#N/A"}},{"$f":"MIN(P62:AA62)","v":{"$error":"#N/A"}}]
[null,null,null,null,null,null,null,null,"都市ガス（13A）","MJ/m3",{"$f":"一次E換算!B4","v":45},null,null,"都市ガス（13A）","MJ/月",0,0,0,0,0,0,0,0,0,0,0,0,0,0,0]
[null,null,null,null,null,null,null,null,"灯油","MJ/L",{"$f":"一次E換算!B5","v":37},null,null,"灯油","MJ/月",0,0,0,0,0,0,0,0,0,0,0,0,0,0,0]
[null,null,null,null,null,null,null,null,"重油","MJ/L",{"$f":"一次E換算!B6","v":41},null,null,"重油","MJ/月",0,0,0,0,0,0,0,0,0,0,0,0,0,0,0]
[null,null,null,null,null,null,null,null,"液化石油ガス（LPG）","MJ/kg",{"$f":"一次E換算!B7","v":50},null,null,"液化石油ガス（LPG）","MJ/月",0,0,0,0,0,0,0,0,0,0,0,0,0,0,0]
[null,null,null,null,null,null,null,null,"他人から供給された熱","MJ/MJ",{"$f":"一次E換算!B8","v":1.36},null,null,"他人から供給された熱","MJ/月",0,0,0,0,0,0,0,0,0,0,0,0,0,0,0]
[null,null,null,null,null,null,null,null,null,null,null,null,null,"一次エネルギー消費量合計","MJ/月",{"$f":"SUM(P62:P67)","v":{"$error":"#N/A"}},{"$error":"#N/A"},{"$error":"#N/A"},{"$error":"#N/A"},{"$error":"#N/A"},{"$error":"#N/A"},{"$error":"#N/A"},{"$error":"#N/A"},{"$error":"#N/A"},{"$error":"#N/A"},{"$error":"#N/A"},{"$error":"#N/A"},{"$error":"#N/A"},{"$error":"#N/A"},{"$error":"#N/A"}]
[]
[]
[null,null,null,null,null,null,null,null,"■熱源機エネルギーコスト、CO2排出量、一次エネルギー消費量計算（エネルギー消費量を入力）"]
[null,null,null,null,null,null,null,null,null,null,null,null,null,"□エネルギー消費量"]
[null,null,null,null,null,null,null,null,null,"設定セル",null,null,null,"項目","単位","4月","5月","6月","7月","8月","9月","10月","11月","12月","1月","2月","3月","合計","最大","最小","備考"]
[null,null,null,null,null,null,null,null,null,"変更設定していいセル（計算式が入力されている）",null,null,null,"電気","kWh/月",null,null,null,null,null,null,null,null,null,null,null,null,{"$f":"SUM(P74:AA74)","v":0},{"$f":"MAX(P74:AA74)","v":0},{"$f":"MIN(P74:AA74)","v":0}]
[null,null,null,null,null,null,null,null,null,"あまり変更しなくていい設定セル",null,null,null,"都市ガス（13A）","m3/月",{"$f":"IF($D$10=$N75,P$15,0)","v":0},{"$f":"IF($D$10=$N75,Q$15,0)","v":0},0,0,0,0,0,0,0,0,0,0,0,0,0]
[null,null,null,null,null,null,null,null,null,"デフォ値・係数",null,null,null,"灯油","L/月",{"$f":"IF($D$10=$N76,P$15,0)","v":0},0,0,0,0,0,0,0,0,0,0,0,0,0,0]
[null,null,null,null,null,null,null,null,null,"計算式・項目確認セル",null,null,null,"重油","L/月",0,0,0,0,0,0,0,0,0,0,0,0,0,0,0]
[null,null,null,null,null,null,null,null,null,null,null,null,null,"液化石油ガス（LPG）","kg/月",0,0,0,0,0,0,0,0,0,0,0,0,0,0,0]
[null,null,null,null,null,null,null,null,null,null,null,null,null,"他人から供給された熱","MJ/月",0,0,0,0,0,0,0,0,0,0,0,0,0,0,0]
[]
[]
[null,null,null,null,null,null,null,null,"□エネルギーコスト単価(フラットレート)",null,null,null,null,"□エネルギーコスト検討"]
[null,null,null,null,null,null,null,null,"項目","単位","値","備考",null,"項目","単位","4月","5月","6月","7月","8月","9月","10月","11月","12月","1月","2月","3月","合計","最大","最小","備考"]
[null,null,null,null,null,null,null,null,"電気","円/kWh",{"$f":"K42","v":14},null,null,"電気","千円/月",{"$f":"P74*$K84/1000","v":0},0,0,0,0,0,0,0,0,0,0,0,{"$f":"SUM(P84:AA84)","v":0},{"$f":"MAX(P84:AA84)","v":0},{"$f":"MIN(P84:AA84)","v":0}]
[null,null,null,null,null,null,null,null,"都市ガス（13A）","円/m3",{"$f":"K43","v":114.64285714285714},null,null,"都市ガス（13A）","千円/月",{"$f":"P75*$K85/1000","v":0},0,0,0,0,0,0,0,0,0,0,0,0,0,0]
[null,null,null,null,null,null,null,null,"灯油","円/L",107.88888888888889,null,null,"灯油","千円/月",{"$f":"P76*$K86/1000","v":0},0,0,0,0,0,0,0,0,0,0,0,0,0,0]
[null,null,null,null,null,null,null,null,"重油","円/L",76.099999999999994,null,null,"重油","千円/月",{"$f":"P77*$K87/1000","v":0},0,0,0,0,0,0,0,0,0,0,0,0,0,0]
[null,null,null,null,null,null,null,null,"液化石油ガス（LPG）","円/kg",159.40476190476193,null,null,"液化石油ガス（LPG）","千円/月",{"$f":"P78*$K88/1000","v":0},0,0,0,0,0,0,0,0,0,0,0,0,0,0]
[null,null,null,null,null,null,null,null,"他人から供給された熱","円/GJ",6611.9047619047615,null,null,"他人から供給された熱","千円/月",{"$f":"P79*$K89/1000","v":0},0,0,0,0,0,0,0,0,0,0,0,0,0,0]
[null,null,null,null,null,null,null,null,null,null,null,null,null,"エネルギーコスト合計","千円/月",{"$f":"SUM(P84:P89)","v":0},{"$f":"SUM(Q84:Q89)","v":0},0,{"$f":"SUM(S84:S89)","v":0},0,0,0,0,0,0,0,0,{"$f":"SUM(AB84:AB89)","v":0},{"$f":"SUM(AC84:AC89)","v":0},{"$f":"SUM(AD84:AD89)","v":0}]
[]
[null,null,null,null,null,null,null,null,"□CO2換算係数",null,null,null,null,"□CO2排出量"]
[null,null,null,null,null,null,null,null,"項目","単位","値","備考",null,"項目","単位","4月","5月","6月","7月","8月","9月","10月","11月","12月","1月","2月","3月","合計","最大","最小","備考"]
[null,null,null,null,null,null,null,null,"電気","tCO2/kWh",{"$f":"K52","v":4.8799999999999999E-4},null,null,"電気","t-CO2/月",{"$f":"P74*$K94","v":0},0,0,0,0,0,0,0,0,0,0,0,{"$f":"SUM(P94:AA94)","v":0},{"$f":"MAX(P94:AA94)","v":0},{"$f":"MIN(P94:AA94)","v":0}]
[null,null,null,null,null,null,null,null,"都市ガス（13A）","tCO2/km3",{"$f":"K53","v":2.23},null,null,"都市ガス（13A）","t-CO2/月",{"$f":"P75/1000*$K95","v":0},0,0,0,0,0,0,0,0,0,0,0,0,0,0]
[null,null,null,null,null,null,null,null,"灯油","tCO2/kL",2.4900000000000002,null,null,"灯油","t-CO2/月",{"$f":"P76/1000*$K96","v":0},0,0,0,0,0,0,0,0,0,0,0,0,0,0]
[null,null,null,null,null,null,null,null,"重油","tCO2/kL",2.71,null,null,"重油","t-CO2/月",{"$f":"P77/1000*$K97","v":0},0,0,0,0,0,0,0,0,0,0,0,0,0,0]
[null,null,null,null,null,null,null,null,"液化石油ガス（LPG）","tCO2/t",3,null,null,"液化石油ガス（LPG）","t-CO2/月",{"$f":"P78/1000*$K98","v":0},0,0,0,0,0,0,0,0,0,0,0,0,0,0]
[null,null,null,null,null,null,null,null,"他人から供給された熱","tCO2/GJ",5.7000000000000002E-2,null,null,"他人から供給された熱","t-CO2/月",{"$f":"P79/1000*$K99","v":0},0,0,0,0,0,0,0,0,0,0,0,0,0,0]
[null,null,null,null,null,null,null,null,null,null,null,null,null,"CO2排出量合計","t-CO2/月",{"$f":"SUM(P94:P99)","v":0},{"$f":"SUM(Q94:Q99)","v":0},0,0,0,0,0,0,0,0,0,{"$f":"SUM(AA94:AA99)","v":0},{"$f":"SUM(AB94:AB99)","v":0},{"$f":"SUM(AC94:AC99)","v":0},0]
[]
[null,null,null,null,null,null,null,null,"□一次エネルギー換算係数",null,null,null,null,"□一次エネルギー消費量"]
[null,null,null,null,null,null,null,null,"項目","単位","値","備考",null,"項目","単位","4月","5月","6月","7月","8月","9月","10月","11月","12月","1月","2月","3月","合計","最大","最小","備考"]
[null,null,null,null,null,null,null,null,"電気","MJ/kWh",{"$f":"K62","v":9.76},null,null,"電気","MJ/月",{"$f":"P74*$K104","v":0},0,0,0,0,0,0,0,0,0,0,0,{"$f":"SUM(P104:AA104)","v":0},{"$f":"MAX(P104:AA104)","v":0},{"$f":"MIN(P104:AA104)","v":0}]
[null,null,null,null,null,null,null,null,"都市ガス（13A）","MJ/m3",{"$f":"K63","v":45},null,null,"都市ガス（13A）","MJ/月",{"$f":"P75*$K105","v":0},0,0,0,0,0,0,0,0,0,0,0,0,0,0]
[null,null,null,null,null,null,null,null,"灯油","MJ/L",37,null,null,"灯油","MJ/月",{"$f":"P76*$K106","v":0},0,0,0,0,0,0,0,0,0,0,0,0,0,0]
[null,null,null,null,null,null,null,null,"重油","MJ/L",41,null,null,"重油","MJ/月",{"$f":"P77*$K107","v":0},0,0,0,0,0,0,0,0,0,0,0,0,0,0]
[null,null,null,null,null,null,null,null,"液化石油ガス（LPG）","MJ/kg",50,null,null,"液化石油ガス（LPG）","MJ/月",{"$f":"P78*$K108","v":0},0,0,0,0,0,0,0,0,0,0,0,0,0,0]
[null,null,null,null,null,null,null,null,"他人から供給された熱","MJ/MJ",1.36,null,null,"他人から供給された熱","MJ/月",{"$f":"P79*$K109","v":0},0,0,0,0,0,0,0,0,0,0,0,0,0,0]
[null,null,null,null,null,null,null,null,null,null,null,null,null,"一次エネルギー消費量合計","MJ/月",{"$f":"SUM(P104:P109)","v":0},0,0,0,0,0,0,0,0,0,0,{"$f":"SUM(AA104:AA109)","v":0},0,0,0]
[]
[]
[null,null,null,null,null,null,null,null,"■補機類エネルギーコスト、CO2排出量、一次エネルギー消費量計算（エネルギー消費量を入力）"]
[null,null,null,null,null,null,null,null,null,null,null,null,null,"□エネルギー消費量"]
[null,null,null,null,null,null,null,null,null,"設定セル",null,null,null,"項目","単位","4月","5月","6月","7月","8月","9月","10月","11月","12月","1月","2月","3月","合計","最大","最小","備考"]
[null,null,null,null,null,null,null,null,null,"変更設定していいセル（計算式が入力されている）",null,null,null,"電気","kWh/月",{"$f":"P26","v":{"$error":"#N/A"}},{"$f":"Q26","v":{"$error":"#N/A"}},{"$error":"#N/A"},{"$error":"#N/A"},{"$error":"#N/A"},{"$error":"#N/A"},{"$error":"#N/A"},{"$error":"#N/A"},{"$error":"#N/A"},{"$f":"Y26","v":{"$error":"#N/A"}},{"$error":"#N/A"},{"$error":"#N/A"},{"$f":"SUM(P116:AA116)","v":{"$error":"#N/A"}},{"$f":"MAX(P116:AA116)","v":{"$error":"#N/A"}},{"$f":"MIN(P116:AA116)","v":{"$error":"#N/A"}}]
[null,null,null,null,null,null,null,null,null,"あまり変更しなくていい設定セル",null,null,null,"都市ガス（13A）","m3/月",null,null,null,null,null,null,null,null,null,null,null,null,0,0,0]
[null,null,null,null,null,null,null,null,null,"デフォ値・係数",null,null,null,"灯油","L/月",null,null,null,null,null,null,null,null,null,null,null,null,0,0,0]
[null,null,null,null,null,null,null,null,null,"計算式・項目確認セル",null,null,null,"重油","L/月",null,null,null,null,null,null,null,null,null,null,null,null,0,0,0]
[null,null,null,null,null,null,null,null,null,null,null,null,null,"液化石油ガス（LPG）","kg/月",null,null,null,null,null,null,null,null,null,null,null,null,0,0,0]
[null,null,null,null,null,null,null,null,null,null,null,null,null,"他人から供給された熱","MJ/月",null,null,null,null,null,null,null,null,null,null,null,null,0,0,0]
[]
[]
[null,null,null,null,null,null,null,null,"□エネルギーコスト単価(フラットレート)",null,null,null,null,"□エネルギーコスト検討"]
[null,null,null,null,null,null,null,null,"項目","単位","値","備考",null,"項目","単位","4月","5月","6月","7月","8月","9月","10月","11月","12月","1月","2月","3月","合計","最大","最小","備考"]
[null,null,null,null,null,null,null,null,"電気","円/kWh",{"$f":"K84","v":14},null,null,"電気","千円/月",{"$f":"P116*$K126/1000","v":{"$error":"#N/A"}},{"$error":"#N/A"},{"$error":"#N/A"},{"$error":"#N/A"},{"$error":"#N/A"},{"$error":"#N/A"},{"$error":"#N/A"},{"$error":"#N/A"},{"$error":"#N/A"},{"$error":"#N/A"},{"$error":"#N/A"},{"$error":"#N/A"},{"$f":"SUM(P126:AA126)","v":{"$error":"#N/A"}},{"$f":"MAX(P126:AA126)","v":{"$error":"#N/A"}},{"$f":"MIN(P126:AA126)","v":{"$error":"#N/A"}}]
[null,null,null,null,null,null,null,null,"都市ガス（13A）","円/m3",{"$f":"K85","v":114.64285714285714},null,null,"都市ガス（13A）","千円/月",{"$f":"P117*$K127/1000","v":0},0,0,0,0,0,0,0,0,0,0,0,0,0,0]
[null,null,null,null,null,null,null,null,"灯油","円/L",107.88888888888889,null,null,"灯油","千円/月",{"$f":"P118*$K128/1000","v":0},0,0,0,0,0,0,0,0,0,0,0,0,0,0]
[null,null,null,null,null,null,null,null,"重油","円/L",76.099999999999994,null,null,"重油","千円/月",{"$f":"P119*$K129/1000","v":0},0,0,0,0,0,0,0,0,0,0,0,0,0,0]
[null,null,null,null,null,null,null,null,"液化石油ガス（LPG）","円/kg",159.40476190476193,null,null,"液化石油ガス（LPG）","千円/月",{"$f":"P120*$K130/1000","v":0},0,0,0,0,0,0,0,0,0,0,0,0,0,0]
[null,null,null,null,null,null,null,null,"他人から供給された熱","円/GJ",6611.9047619047615,null,null,"他人から供給された熱","千円/月",{"$f":"P121*$K131/1000","v":0},0,0,0,0,0,0,0,0,0,0,0,0,0,0]
[null,null,null,null,null,null,null,null,null,null,null,null,null,"エネルギーコスト合計","千円/月",{"$f":"SUM(P126:P131)","v":{"$error":"#N/A"}},{"$f":"SUM(Q126:Q131)","v":{"$error":"#N/A"}},{"$error":"#N/A"},{"$error":"#N/A"},{"$error":"#N/A"},{"$error":"#N/A"},{"$error":"#N/A"},{"$error":"#N/A"},{"$error":"#N/A"},{"$error":"#N/A"},{"$error":"#N/A"},{"$f":"SUM(AA126:AA131)","v":{"$error":"#N/A"}},{"$f":"SUM(AB126:AB131)","v":{"$error":"#N/A"}},{"$f":"SUM(AC126:AC131)","v":{"$error":"#N/A"}},{"$f":"SUM(AD126:AD131)","v":{"$error":"#N/A"}}]
[]
[null,null,null,null,null,null,null,null,"□CO2換算係数",null,null,null,null,"□CO2排出量"]
[null,null,null,null,null,null,null,null,"項目","単位","値","備考",null,"項目","単位","4月","5月","6月","7月","8月","9月","10月","11月","12月","1月","2月","3月","合計","最大","最小","備考"]
[null,null,null,null,null,null,null,null,"電気","tCO2/kWh",{"$f":"K94","v":4.8799999999999999E-4},null,null,"電気","t-CO2/月",{"$f":"P116*$K136","v":{"$error":"#N/A"}},{"$error":"#N/A"},{"$error":"#N/A"},{"$error":"#N/A"},{"$error":"#N/A"},{"$error":"#N/A"},{"$error":"#N/A"},{"$error":"#N/A"},{"$error":"#N/A"},{"$error":"#N/A"},{"$error":"#N/A"},{"$error":"#N/A"},{"$f":"SUM(P136:AA136)","v":{"$error":"#N/A"}},{"$f":"MAX(P136:AA136)","v":{"$error":"#N/A"}},{"$f":"MIN(P136:AA136)","v":{"$error":"#N/A"}}]
[null,null,null,null,null,null,null,null,"都市ガス（13A）","tCO2/km3",{"$f":"K95","v":2.23},null,null,"都市ガス（13A）","t-CO2/月",{"$f":"P117/1000*$K137","v":0},0,0,0,0,0,0,0,0,0,0,0,0,0,0]
[null,null,null,null,null,null,null,null,"灯油","tCO2/kL",2.4900000000000002,null,null,"灯油","t-CO2/月",{"$f":"P118/1000*$K138","v":0},0,0,0,0,0,0,0,0,0,0,0,0,0,0]
[null,null,null,null,null,null,null,null,"重油","tCO2/kL",2.71,null,null,"重油","t-CO2/月",{"$f":"P119/1000*$K139","v":0},0,0,0,0,0,0,0,0,0,0,0,0,0,0]
[null,null,null,null,null,null,null,null,"液化石油ガス（LPG）","tCO2/t",3,null,null,"液化石油ガス（LPG）","t-CO2/月",{"$f":"P120/1000*$K140","v":0},0,0,0,0,0,0,0,0,0,0,0,0,0,0]
[null,null,null,null,null,null,null,null,"他人から供給された熱","tCO2/GJ",5.7000000000000002E-2,null,null,"他人から供給された熱","t-CO2/月",{"$f":"P121/1000*$K141","v":0},0,0,0,0,0,0,0,0,0,0,0,0,0,0]
[null,null,null,null,null,null,null,null,null,null,null,null,null,"CO2排出量合計","t-CO2/月",{"$f":"SUM(P136:P141)","v":{"$error":"#N/A"}},{"$f":"SUM(Q136:Q141)","v":{"$error":"#N/A"}},{"$error":"#N/A"},{"$error":"#N/A"},{"$error":"#N/A"},{"$error":"#N/A"},{"$error":"#N/A"},{"$error":"#N/A"},{"$error":"#N/A"},{"$error":"#N/A"},{"$error":"#N/A"},{"$f":"SUM(AA136:AA141)","v":{"$error":"#N/A"}},{"$f":"SUM(AB136:AB141)","v":{"$error":"#N/A"}},{"$f":"SUM(AC136:AC141)","v":{"$error":"#N/A"}},{"$error":"#N/A"}]
[]
[null,null,null,null,null,null,null,null,"□一次エネルギー換算係数",null,null,null,null,"□一次エネルギー消費量"]
[null,null,null,null,null,null,null,null,"項目","単位","値","備考",null,"項目","単位","4月","5月","6月","7月","8月","9月","10月","11月","12月","1月","2月","3月","合計","最大","最小","備考"]
[null,null,null,null,null,null,null,null,"電気","MJ/kWh",{"$f":"K104","v":9.76},null,null,"電気","MJ/月",{"$f":"P116*$K146","v":{"$error":"#N/A"}},{"$error":"#N/A"},{"$error":"#N/A"},{"$error":"#N/A"},{"$error":"#N/A"},{"$error":"#N/A"},{"$error":"#N/A"},{"$error":"#N/A"},{"$error":"#N/A"},{"$error":"#N/A"},{"$error":"#N/A"},{"$error":"#N/A"},{"$f":"SUM(P146:AA146)","v":{"$error":"#N/A"}},{"$f":"MAX(P146:AA146)","v":{"$error":"#N/A"}},{"$f":"MIN(P146:AA146)","v":{"$error":"#N/A"}}]
[null,null,null,null,null,null,null,null,"都市ガス（13A）","MJ/m3",{"$f":"K105","v":45},null,null,"都市ガス（13A）","MJ/月",{"$f":"P117*$K147","v":0},0,0,0,0,0,0,0,0,0,0,0,0,0,0]
[null,null,null,null,null,null,null,null,"灯油","MJ/L",37,null,null,"灯油","MJ/月",{"$f":"P118*$K148","v":0},0,0,0,0,0,0,0,0,0,0,0,0,0,0]
[null,null,null,null,null,null,null,null,"重油","MJ/L",41,null,null,"重油","MJ/月",{"$f":"P119*$K149","v":0},0,0,0,0,0,0,0,0,0,0,0,0,0,0]
[null,null,null,null,null,null,null,null,"液化石油ガス（LPG）","MJ/kg",50,null,null,"液化石油ガス（LPG）","MJ/月",{"$f":"P120*$K150","v":0},0,0,0,0,0,0,0,0,0,0,0,0,0,0]
[null,null,null,null,null,null,null,null,"他人から供給された熱","MJ/MJ",1.36,null,null,"他人から供給された熱","MJ/月",{"$f":"P121*$K151","v":0},0,0,0,0,0,0,0,0,0,0,0,0,0,0]
[null,null,null,null,null,null,null,null,null,null,null,null,null,"一次エネルギー消費量合計","MJ/月",{"$f":"SUM(P146:P151)","v":{"$error":"#N/A"}},{"$error":"#N/A"},{"$error":"#N/A"},{"$error":"#N/A"},{"$error":"#N/A"},{"$error":"#N/A"},{"$error":"#N/A"},{"$error":"#N/A"},{"$error":"#N/A"},{"$error":"#N/A"},{"$error":"#N/A"},{"$f":"SUM(AA146:AA151)","v":{"$error":"#N/A"}},{"$error":"#N/A"},{"$error":"#N/A"},{"$error":"#N/A"}]

{"sheet":"残り需要_既存_燃料_空調_熱源容量","index":46,"n_rows":37,"n_cols":18,"rows_kept":37,"cut":false,"hidden":true,"merged":[]}
["■時刻別負荷"]
["■時刻負荷パタン設定",null,null,null,null,null,null,null,"■時刻別負荷",null,null,null,null,null,"■最大負荷　既存設備　熱源容量設定"]
["項目","値","単位","備考",null,null,null,null,null,{"$f":"VLOOKUP(B4&K3,E17:F32,2,FALSE)","v":{"$error":"#N/A"}},"冷房",{"$f":"VLOOKUP(B4&M3,E17:F32,2,FALSE)","v":{"$error":"#N/A"}},"暖房",null,"項目","値","単位","備考・冷房暖房区別VLOOKUP用"]
["建物用途",{"$f":"入力シート!C9","v":0},"-",null,null,null,null,null,"時刻","-","kW","-","kW",null,"冷房",{"$f":"MAX(K5:K28)","v":{"$error":"#N/A"}},"kW","冷房"]
["一日の熱需要量",{"$f":"MAX(残り需要_既存_燃料_空調_熱源容量!B13:D13)","v":{"$error":"#N/A"}},"kWh/日",null,null,null,null,null,1,{"$f":"VLOOKUP(I5,熱需要量算定・原単位!$AJ$9:$BL$32,MATCH($J$3,熱需要量算定・原単位!$AK$5:$BL$5,0)+1,FALSE)","v":{"$error":"#N/A"}},{"$f":"$C$13*J5/100","v":{"$error":"#N/A"}},{"$f":"VLOOKUP(I5,熱需要量算定・原単位!$AJ$9:$BL$32,MATCH($L$3,熱需要量算定・原単位!$AK$5:$BL$5,0)+1,FALSE)","v":{"$error":"#N/A"}},{"$f":"$D$13*L5/100","v":{"$error":"#N/A"}},null,"暖房",{"$f":"MAX(M5:M28)","v":{"$error":"#N/A"}},"kW","暖房"]
[null,null,null,null,null,null,null,null,2,{"$f":"VLOOKUP(I6,熱需要量算定・原単位!$AJ$9:$BL$32,MATCH($J$3,熱需要量算定・原単位!$AK$5:$BL$5,0)+1,FALSE)","v":{"$error":"#N/A"}},{"$f":"$C$13*J6/100","v":{"$error":"#N/A"}},{"$f":"VLOOKUP(I6,熱需要量算定・原単位!$AJ$9:$BL$32,MATCH($L$3,熱需要量算定・原単位!$AK$5:$BL$5,0)+1,FALSE)","v":{"$error":"#N/A"}},{"$f":"$D$13*L6/100","v":{"$error":"#N/A"}},null,"最大負荷",{"$f":"MAX(P4:P5)","v":{"$error":"#N/A"}},"kW","既存設備での熱源容量"]
[null,null,null,null,null,null,null,null,3,{"$f":"VLOOKUP(I7,熱需要量算定・原単位!$AJ$9:$BL$32,MATCH($J$3,熱需要量算定・原単位!$AK$5:$BL$5,0)+1,FALSE)","v":{"$error":"#N/A"}},{"$f":"$C$13*J7/100","v":{"$error":"#N/A"}},{"$f":"VLOOKUP(I7,熱需要量算定・原単位!$AJ$9:$BL$32,MATCH($L$3,熱需要量算定・原単位!$AK$5:$BL$5,0)+1,FALSE)","v":{"$error":"#N/A"}},{"$error":"#N/A"}]
[null,null,null,null,null,null,null,null,4,{"$f":"VLOOKUP(I8,熱需要量算定・原単位!$AJ$9:$BL$32,MATCH($J$3,熱需要量算定・原単位!$AK$5:$BL$5,0)+1,FALSE)","v":{"$error":"#N/A"}},{"$error":"#N/A"},{"$f":"VLOOKUP(I8,熱需要量算定・原単位!$AJ$9:$BL$32,MATCH($L$3,熱需要量算定・原単位!$AK$5:$BL$5,0)+1,FALSE)","v":{"$error":"#N/A"}},{"$error":"#N/A"}]
[null,null,null,null,null,null,null,null,5,{"$f":"VLOOKUP(I9,熱需要量算定・原単位!$AJ$9:$BL$32,MATCH($J$3,熱需要量算定・原単位!$AK$5:$BL$5,0)+1,FALSE)","v":{"$error":"#N/A"}},{"$error":"#N/A"},{"$f":"VLOOKUP(I9,熱需要量算定・原単位!$AJ$9:$BL$32,MATCH($L$3,熱需要量算定・原単位!$AK$5:$BL$5,0)+1,FALSE)","v":{"$error":"#N/A"}},{"$error":"#N/A"}]
[null,null,null,null,null,null,null,null,6,{"$f":"VLOOKUP(I10,熱需要量算定・原単位!$AJ$9:$BL$32,MATCH($J$3,熱需要量算定・原単位!$AK$5:$BL$5,0)+1,FALSE)","v":{"$error":"#N/A"}},{"$error":"#N/A"},{"$f":"VLOOKUP(I10,熱需要量算定・原単位!$AJ$9:$BL$32,MATCH($L$3,熱需要量算定・原単位!$AK$5:$BL$5,0)+1,FALSE)","v":{"$error":"#N/A"}},{"$error":"#N/A"}]
[null,null,null,null,null,null,null,null,7,{"$f":"VLOOKUP(I11,熱需要量算定・原単位!$AJ$9:$BL$32,MATCH($J$3,熱需要量算定・原単位!$AK$5:$BL$5,0)+1,FALSE)","v":{"$error":"#N/A"}},{"$error":"#N/A"},{"$f":"VLOOKUP(I11,熱需要量算定・原単位!$AJ$9:$BL$32,MATCH($L$3,熱需要量算定・原単位!$AK$5:$BL$5,0)+1,FALSE)","v":{"$error":"#N/A"}},{"$error":"#N/A"}]
["■時刻別負荷パタン熱利用用途の決定用",null,null,null,null,null,null,null,8,{"$f":"VLOOKUP(I12,熱需要量算定・原単位!$AJ$9:$BL$32,MATCH($J$3,熱需要量算定・原単位!$AK$5:$BL$5,0)+1,FALSE)","v":{"$error":"#N/A"}},{"$error":"#N/A"},{"$f":"VLOOKUP(I12,熱需要量算定・原単位!$AJ$9:$BL$32,MATCH($L$3,熱需要量算定・原単位!$AK$5:$BL$5,0)+1,FALSE)","v":{"$error":"#N/A"}},{"$error":"#N/A"}]
["日あたりの熱需要量",{"$f":"SUMPRODUCT(MAX((残り需要_既存_燃料_空調_RC!$P$5:$AA$5=B14)*(残り需要_既存_燃料_空調_RC!$P$11:$AA$11)))","v":{"$error":"#N/A"}},{"$f":"SUMPRODUCT(MAX((残り需要_既存_燃料_空調_RC!$P$5:$AA$5=C14)*(残り需要_既存_燃料_空調_RC!$P$11:$AA$11)))","v":{"$error":"#N/A"}},{"$f":"SUMPRODUCT(MAX((残り需要_既存_燃料_空調_RC!$P$5:$AA$5=D14)*(残り需要_既存_燃料_空調_RC!$P$11:$AA$11)))","v":{"$error":"#N/A"}},null,null,null,null,9,{"$f":"VLOOKUP(I13,熱需要量算定・原単位!$AJ$9:$BL$32,MATCH($J$3,熱需要量算定・原単位!$AK$5:$BL$5,0)+1,FALSE)","v":{"$error":"#N/A"}},{"$error":"#N/A"},{"$f":"VLOOKUP(I13,熱需要量算定・原単位!$AJ$9:$BL$32,MATCH($L$3,熱需要量算定・原単位!$AK$5:$BL$5,0)+1,FALSE)","v":{"$error":"#N/A"}},{"$error":"#N/A"}]
["熱利用用途","給湯","冷房","暖房",null,null,null,null,10,{"$f":"VLOOKUP(I14,熱需要量算定・原単位!$AJ$9:$BL$32,MATCH($J$3,熱需要量算定・原単位!$AK$5:$BL$5,0)+1,FALSE)","v":{"$error":"#N/A"}},{"$error":"#N/A"},{"$f":"VLOOKUP(I14,熱需要量算定・原単位!$AJ$9:$BL$32,MATCH($L$3,熱需要量算定・原単位!$AK$5:$BL$5,0)+1,FALSE)","v":{"$error":"#N/A"}},{"$error":"#N/A"}]
[null,null,null,null,null,null,null,null,11,{"$f":"VLOOKUP(I15,熱需要量算定・原単位!$AJ$9:$BL$32,MATCH($J$3,熱需要量算定・原単位!$AK$5:$BL$5,0)+1,FALSE)","v":{"$error":"#N/A"}},{"$error":"#N/A"},{"$f":"VLOOKUP(I15,熱需要量算定・原単位!$AJ$9:$BL$32,MATCH($L$3,熱需要量算定・原単位!$AK$5:$BL$5,0)+1,FALSE)","v":{"$error":"#N/A"}},{"$error":"#N/A"}]
["■時刻別負荷変動比率　検索key設定",null,null,null,null,null,null,null,12,{"$f":"VLOOKUP(I16,熱需要量算定・原単位!$AJ$9:$BL$32,MATCH($J$3,熱需要量算定・原単位!$AK$5:$BL$5,0)+1,FALSE)","v":{"$error":"#N/A"}},{"$error":"#N/A"},{"$f":"VLOOKUP(I16,熱需要量算定・原単位!$AJ$9:$BL$32,MATCH($L$3,熱需要量算定・原単位!$AK$5:$BL$5,0)+1,FALSE)","v":{"$error":"#N/A"}},{"$error":"#N/A"}]
["No","建物用途","熱利用用途","季節","VLOOKUP","検索key","運転時間",null,13,{"$f":"VLOOKUP(I17,熱需要量算定・原単位!$AJ$9:$BL$32,MATCH($J$3,熱需要量算定・原単位!$AK$5:$BL$5,0)+1,FALSE)","v":{"$error":"#N/A"}},{"$error":"#N/A"},{"$f":"VLOOKUP(I17,熱需要量算定・原単位!$AJ$9:$BL$32,MATCH($L$3,熱需要量算定・原単位!$AK$5:$BL$5,0)+1,FALSE)","v":{"$error":"#N/A"}},{"$error":"#N/A"}]
[1,"集合住宅","給湯","冬期",{"$f":"B18&C18","v":"集合住宅給湯"},{"$f":"B18&C18&D18","v":"集合住宅給湯冬期"},{"$f":"HLOOKUP(F18,熱需要量算定・原単位!$AJ$5:$BL$34,30,FALSE)","v":22},null,14,{"$f":"VLOOKUP(I18,熱需要量算定・原単位!$AJ$9:$BL$32,MATCH($J$3,熱需要量算定・原単位!$AK$5:$BL$5,0)+1,FALSE)","v":{"$error":"#N/A"}},{"$error":"#N/A"},{"$f":"VLOOKUP(I18,熱需要量算定・原単位!$AJ$9:$BL$32,MATCH($L$3,熱需要量算定・原単位!$AK$5:$BL$5,0)+1,FALSE)","v":{"$error":"#N/A"}},{"$error":"#N/A"}]
[2,"集合住宅","冷房","夏期",{"$f":"B19&C19","v":"集合住宅冷房"},{"$f":"B19&C19&D19","v":"集合住宅冷房夏期"},{"$f":"HLOOKUP(F19,熱需要量算定・原単位!$AJ$5:$BL$34,30,FALSE)","v":24},null,15,{"$f":"VLOOKUP(I19,熱需要量算定・原単位!$AJ$9:$BL$32,MATCH($J$3,熱需要量算定・原単位!$AK$5:$BL$5,0)+1,FALSE)","v":{"$error":"#N/A"}},{"$error":"#N/A"},{"$f":"VLOOKUP(I19,熱需要量算定・原単位!$AJ$9:$BL$32,MATCH($L$3,熱需要量算定・原単位!$AK$5:$BL$5,0)+1,FALSE)","v":{"$error":"#N/A"}},{"$error":"#N/A"}]
[3,"集合住宅","暖房","冬期","集合住宅暖房","集合住宅暖房冬期",{"$f":"HLOOKUP(F20,熱需要量算定・原単位!$AJ$5:$BL$34,30,FALSE)","v":24},null,16,{"$f":"VLOOKUP(I20,熱需要量算定・原単位!$AJ$9:$BL$32,MATCH($J$3,熱需要量算定・原単位!$AK$5:$BL$5,0)+1,FALSE)","v":{"$error":"#N/A"}},{"$error":"#N/A"},{"$f":"VLOOKUP(I20,熱需要量算定・原単位!$AJ$9:$BL$32,MATCH($L$3,熱需要量算定・原単位!$AK$5:$BL$5,0)+1,FALSE)","v":{"$error":"#N/A"}},{"$error":"#N/A"}]
[4,"業務施設","給湯","冬期","業務施設給湯","業務施設給湯冬期",{"$f":"HLOOKUP(F21,熱需要量算定・原単位!$AJ$5:$BL$34,30,FALSE)","v":14},null,17,{"$f":"VLOOKUP(I21,熱需要量算定・原単位!$AJ$9:$BL$32,MATCH($J$3,熱需要量算定・原単位!$AK$5:$BL$5,0)+1,FALSE)","v":{"$error":"#N/A"}},{"$error":"#N/A"},{"$f":"VLOOKUP(I21,熱需要量算定・原単位!$AJ$9:$BL$32,MATCH($L$3,熱需要量算定・原単位!$AK$5:$BL$5,0)+1,FALSE)","v":{"$error":"#N/A"}},{"$error":"#N/A"}]
[5,"業務施設","冷房","夏期","業務施設冷房","業務施設冷房夏期",{"$f":"HLOOKUP(F22,熱需要量算定・原単位!$AJ$5:$BL$34,30,FALSE)","v":14},null,18,{"$f":"VLOOKUP(I22,熱需要量算定・原単位!$AJ$9:$BL$32,MATCH($J$3,熱需要量算定・原単位!$AK$5:$BL$5,0)+1,FALSE)","v":{"$error":"#N/A"}},{"$error":"#N/A"},{"$f":"VLOOKUP(I22,熱需要量算定・原単位!$AJ$9:$BL$32,MATCH($L$3,熱需要量算定・原単位!$AK$5:$BL$5,0)+1,FALSE)","v":{"$error":"#N/A"}},{"$error":"#N/A"}]
[6,"業務施設","暖房","冬期","業務施設暖房","業務施設暖房冬期",{"$f":"HLOOKUP(F23,熱需要量算定・原単位!$AJ$5:$BL$34,30,FALSE)","v":11},null,19,{"$f":"VLOOKUP(I23,熱需要量算定・原単位!$AJ$9:$BL$32,MATCH($J$3,熱需要量算定・原単位!$AK$5:$BL$5,0)+1,FALSE)","v":{"$error":"#N/A"}},{"$error":"#N/A"},{"$f":"VLOOKUP(I23,熱需要量算定・原単位!$AJ$9:$BL$32,MATCH($L$3,熱需要量算定・原単位!$AK$5:$BL$5,0)+1,FALSE)","v":{"$error":"#N/A"}},{"$error":"#N/A"}]
[7,"商業施設","給湯","-","商業施設給湯","商業施設給湯-",{"$f":"HLOOKUP(F24,熱需要量算定・原単位!$AJ$5:$BL$34,30,FALSE)","v":12},null,20,{"$f":"VLOOKUP(I24,熱需要量算定・原単位!$AJ$9:$BL$32,MATCH($J$3,熱需要量算定・原単位!$AK$5:$BL$5,0)+1,FALSE)","v":{"$error":"#N/A"}},{"$error":"#N/A"},{"$f":"VLOOKUP(I24,熱需要量算定・原単位!$AJ$9:$BL$32,MATCH($L$3,熱需要量算定・原単位!$AK$5:$BL$5,0)+1,FALSE)","v":{"$error":"#N/A"}},{"$error":"#N/A"}]
[8,"商業施設","冷房","-","商業施設冷房","商業施設冷房-",{"$f":"HLOOKUP(F25,熱需要量算定・原単位!$AJ$5:$BL$34,30,FALSE)","v":11},null,21,{"$f":"VLOOKUP(I25,熱需要量算定・原単位!$AJ$9:$BL$32,MATCH($J$3,熱需要量算定・原単位!$AK$5:$BL$5,0)+1,FALSE)","v":{"$error":"#N/A"}},{"$error":"#N/A"},{"$f":"VLOOKUP(I25,熱需要量算定・原単位!$AJ$9:$BL$32,MATCH($L$3,熱需要量算定・原単位!$AK$5:$BL$5,0)+1,FALSE)","v":{"$error":"#N/A"}},{"$error":"#N/A"}]
[9,"商業施設","暖房","-","商業施設暖房","商業施設暖房-",{"$f":"HLOOKUP(F26,熱需要量算定・原単位!$AJ$5:$BL$34,30,FALSE)","v":11},null,22,{"$f":"VLOOKUP(I26,熱需要量算定・原単位!$AJ$9:$BL$32,MATCH($J$3,熱需要量算定・原単位!$AK$5:$BL$5,0)+1,FALSE)","v":{"$error":"#N/A"}},{"$error":"#N/A"},{"$f":"VLOOKUP(I26,熱需要量算定・原単位!$AJ$9:$BL$32,MATCH($L$3,熱需要量算定・原単位!$AK$5:$BL$5,0)+1,FALSE)","v":{"$error":"#N/A"}},{"$error":"#N/A"}]
[10,"宿泊施設","給湯","-","宿泊施設給湯","宿泊施設給湯-",{"$f":"HLOOKUP(F27,熱需要量算定・原単位!$AJ$5:$BL$34,30,FALSE)","v":24},null,23,{"$f":"VLOOKUP(I27,熱需要量算定・原単位!$AJ$9:$BL$32,MATCH($J$3,熱需要量算定・原単位!$AK$5:$BL$5,0)+1,FALSE)","v":{"$error":"#N/A"}},{"$error":"#N/A"},{"$f":"VLOOKUP(I27,熱需要量算定・原単位!$AJ$9:$BL$32,MATCH($L$3,熱需要量算定・原単位!$AK$5:$BL$5,0)+1,FALSE)","v":{"$error":"#N/A"}},{"$error":"#N/A"}]
[11,"宿泊施設","冷房","夏期","宿泊施設冷房","宿泊施設冷房夏期",{"$f":"HLOOKUP(F28,熱需要量算定・原単位!$AJ$5:$BL$34,30,FALSE)","v":24},null,24,{"$f":"VLOOKUP(I28,熱需要量算定・原単位!$AJ$9:$BL$32,MATCH($J$3,熱需要量算定・原単位!$AK$5:$BL$5,0)+1,FALSE)","v":{"$error":"#N/A"}},{"$error":"#N/A"},{"$f":"VLOOKUP(I28,熱需要量算定・原単位!$AJ$9:$BL$32,MATCH($L$3,熱需要量算定・原単位!$AK$5:$BL$5,0)+1,FALSE)","v":{"$error":"#N/A"}},{"$error":"#N/A"}]
[12,"宿泊施設","暖房","冬期","宿泊施設暖房","宿泊施設暖房冬期",{"$f":"HLOOKUP(F29,熱需要量算定・原単位!$AJ$5:$BL$34,30,FALSE)","v":23},null,"合計",null,{"$f":"SUM(K5:K28)","v":{"$error":"#N/A"}},null,{"$f":"SUM(M5:M28)","v":{"$error":"#N/A"}}]
[13,"医療施設","給湯","冬期","医療施設給湯","医療施設給湯冬期",{"$f":"HLOOKUP(F30,熱需要量算定・原単位!$AJ$5:$BL$34,30,FALSE)","v":24}]
[14,"医療施設","冷房","夏期","医療施設冷房","医療施設冷房夏期",{"$f":"HLOOKUP(F31,熱需要量算定・原単位!$AJ$5:$BL$34,30,FALSE)","v":24}]
[15,"医療施設","暖房","冬期","医療施設暖房","医療施設暖房冬期",{"$f":"HLOOKUP(F32,熱需要量算定・原単位!$AJ$5:$BL$34,30,FALSE)","v":24}]
[]
[]
["■運転時間の設定（熱負荷に合わせた運転の場合）"]
["熱利用用途","給湯","冷房","暖房"]
["運転時間",{"$f":"VLOOKUP($B$4&B36,$E$17:$G$32,3,FALSE)","v":{"$error":"#N/A"}},{"$f":"VLOOKUP($B$4&C36,$E$17:$G$32,3,FALSE)","v":{"$error":"#N/A"}},{"$f":"VLOOKUP($B$4&D36,$E$17:$G$32,3,FALSE)","v":{"$error":"#N/A"}}]

{"sheet":"残り需要_既存_燃料_空調_IC","index":47,"n_rows":30,"n_cols":17,"rows_kept":30,"cut":false,"hidden":true,"merged":[[27,1,27,2],[28,1,28,2],[29,1,29,2],[4,1,16,1],[17,1,19,1],[20,1,23,1],[24,1,24,2],[25,1,25,2],[26,1,26,2]]}
[null,"■イニシャルコスト算出"]
[]
[null,"残り需要_既存_燃料_空調"]
[null,null,"名称","摘要","単価[千円]","数量","単位","金額[千円]","備考","memo",null,null,null,null,"価格関数代入値","単位","備考"]
[null,"機械工事","熱源機（吸収式冷温水機）",null,{"$f":"IF(O5=0,0,IF(Q5=\"冷房\",価格関数!E15*O5+価格関数!F15,価格関数!E16*O5+価格関数!F16))","v":{"$error":"#N/A"}},1,"台",{"$f":"F5*E5","v":{"$error":"#N/A"}},null,"価格関数",null,null,null,"熱源容量",{"$f":"残り需要_既存_燃料_空調_熱源容量!P6","v":{"$error":"#N/A"}},"kW",{"$f":"VLOOKUP(O5,残り需要_既存_燃料_空調_熱源容量!P4:R5,3,FALSE)","v":{"$error":"#N/A"}}]
[null,null,"冷温水ポンプ",null,{"$f":"IF(O6=0,0,価格関数!$E$21*O6+価格関数!$F$21)","v":{"$error":"#N/A"}},1,"台",{"$f":"F6*E6","v":{"$error":"#N/A"}},null,"価格関数",null,null,null,"ポンプ出力",{"$f":"残り需要_既存_燃料_空調_RC!K12","v":{"$error":"#N/A"}},"kW"]
[null,null,"冷却水ポンプ",null,{"$f":"IF(O7=0,0,価格関数!$E$21*O7+価格関数!$F$21)","v":{"$error":"#N/A"}},1,"台",{"$f":"F7*E7","v":{"$error":"#N/A"}},null,"価格関数",null,null,null,"ポンプ出力",{"$f":"残り需要_既存_燃料_空調_RC!K18","v":{"$error":"#N/A"}},"kW"]
[null,null,"冷却塔",null,{"$f":"IF(O8=0,0,価格関数!$E$19*残り需要_既存_燃料_空調_IC!O8+価格関数!$F$19)","v":{"$error":"#N/A"}},1,"台",{"$f":"F8*E8","v":{"$error":"#N/A"}},null,"価格関数",null,null,null,"冷却水流量",{"$f":"残り需要_既存_燃料_空調_RC!K15","v":{"$error":"#N/A"}},"L/min"]
[]
[]
[]
[]
[]
[null,null,"自動制御",null,null,1,"式",{"$f":"INT(SUM(H5:H13)*I14)","v":{"$error":"#N/A"}},0.2,"概算　事例等より設定"]
[null,null,"その他配管","概算（付属品込）",null,1,"式",{"$f":"INT(SUM(H5:H14)*I15)","v":{"$error":"#N/A"}},0.1,"配管費=機器類×5~10%と設定"]
[]
[null,null,"小計",null,null,null,null,{"$f":"SUM(H5:H16)","v":{"$error":"#N/A"}}]
[null,"電気工事","概算","概算",null,null,null,{"$f":"INT(H17*I18)","v":{"$error":"#N/A"}},0.3]
[]
[null,null,"小計",null,null,null,null,{"$f":"SUM(H18:H19)","v":{"$error":"#N/A"}}]
[null,"土工事"]
[]
[]
[null,null,"小計",null,null,null,null,{"$f":"SUM(H21:H23)","v":0}]
[null,"直接工事費",null,null,null,null,null,{"$f":"H24+H20+H17","v":{"$error":"#N/A"}}]
[null,"間接工事費",null,null,null,1,"式",{"$f":"INT(H25*0.3)","v":{"$error":"#N/A"}},"直接工事費×30%"]
[null,"工事原価",null,null,null,1,"式",{"$f":"H25+H26","v":{"$error":"#N/A"}}]
[null,"消費税",null,null,null,1,"式"]
[]
[null,"合計",null,null,null,null,null,{"$f":"H27+H28","v":{"$error":"#N/A"}}]

{"sheet":"比較対象_既存_燃料_融雪_RC","index":48,"n_rows":152,"n_cols":31,"rows_kept":152,"cut":false,"hidden":true,"merged":[]}
[null,"■入力情報",null,null,null,null,null,null,"■融雪　燃料方式システムのエネルギー計算"]
[]
[null,"■対象施設情報",null,null,null,null,null,null,"■融雪　燃料方式システム検討",null,null,null,null,"■融雪　燃料方式システム　エネルギー計算・エネルギーコスト検討"]
[null,"項目","単位","値","備考",null,null,null,"項目","単位","値","備考",null,"項目","単位","4月","5月","6月","7月","8月","9月","10月","11月","12月","1月","2月","3月","合計","最大","最小","備考"]
[null,"地域選択","-",{"$f":"入力シート!C7","v":0},"都道府県を選択してください。",null,null,null,"運転時間","h/日",24,null,null,"熱利用用途",null,{"$f":"マッチング!E10","v":""},{"$f":"マッチング!F10","v":""},{"$f":"マッチング!G10","v":""},{"$f":"マッチング!H10","v":""},{"$f":"マッチング!I10","v":""},{"$f":"マッチング!J10","v":""},{"$f":"マッチング!K10","v":""},{"$f":"マッチング!L10","v":""},{"$f":"マッチング!M10","v":""},{"$f":"マッチング!N10","v":""},{"$f":"マッチング!O10","v":""},{"$f":"マッチング!P10","v":""}]
[null,"熱利用用途","-",{"$f":"入力シート!C8","v":0},"給湯、空調、融雪から選択してください。",null,null,null,"熱源容量","kW",{"$f":"AC12","v":{"$error":"#N/A"}},"熱源容量シートより",null,"熱需要量","MJ/月",{"$f":"マッチング!E11","v":{"$error":"#N/A"}},{"$f":"マッチング!F11","v":{"$error":"#N/A"}},{"$f":"マッチング!G11","v":{"$error":"#N/A"}},{"$f":"マッチング!H11","v":{"$error":"#N/A"}},{"$f":"マッチング!I11","v":{"$error":"#N/A"}},{"$f":"マッチング!J11","v":{"$error":"#N/A"}},{"$f":"マッチング!K11","v":{"$error":"#N/A"}},{"$f":"マッチング!L11","v":{"$error":"#N/A"}},{"$f":"マッチング!M11","v":{"$error":"#N/A"}},{"$f":"マッチング!N11","v":{"$error":"#N/A"}},{"$f":"マッチング!O11","v":{"$error":"#N/A"}},{"$f":"マッチング!P11","v":{"$error":"#N/A"}},{"$f":"SUM(P6:AA6)","v":{"$error":"#N/A"}},{"$f":"MAX(P6:AA6)","v":{"$error":"#N/A"}},{"$f":"MIN(P6:AA6)","v":{"$error":"#N/A"}}]
[null,"建物用途","-",{"$f":"入力シート!C9","v":0},"給湯、空調利用の場合は建物用途を選択してください。",null,null,null,"温度差","℃",5,"想定設定値",null,null,"kWh/月",{"$f":"P6*1000/3600","v":{"$error":"#N/A"}},{"$f":"Q6*1000/3600","v":{"$error":"#N/A"}},{"$error":"#N/A"},{"$error":"#N/A"},{"$error":"#N/A"},{"$error":"#N/A"},{"$error":"#N/A"},{"$error":"#N/A"},{"$error":"#N/A"},{"$error":"#N/A"},{"$error":"#N/A"},{"$error":"#N/A"},{"$f":"SUM(P7:AA7)","v":{"$error":"#N/A"}},{"$f":"MAX(P7:AA7)","v":{"$error":"#N/A"}},{"$f":"MIN(P7:AA7)","v":{"$error":"#N/A"}}]
[null,"延床面積","m2",{"$f":"入力シート!C10","v":0},"給湯、空調利用の場合は数値を入力してください。",null,null,null,"冷温水流量","L/min",{"$f":"K6/K7/$D$22/$D$23*1000*60","v":{"$error":"#N/A"}},null,null,"日数","日",{"$f":"熱需要量算定・原単位!D24","v":30},{"$f":"熱需要量算定・原単位!E24","v":31},{"$f":"熱需要量算定・原単位!F24","v":30},{"$f":"熱需要量算定・原単位!G24","v":31},{"$f":"熱需要量算定・原単位!H24","v":31},{"$f":"熱需要量算定・原単位!I24","v":30},{"$f":"熱需要量算定・原単位!J24","v":31},{"$f":"熱需要量算定・原単位!K24","v":30},{"$f":"熱需要量算定・原単位!L24","v":31},{"$f":"熱需要量算定・原単位!M24","v":31},{"$f":"熱需要量算定・原単位!N24","v":28},{"$f":"熱需要量算定・原単位!O24","v":31},{"$f":"SUM(P8:AA8)","v":365}]
[null,"対象面積","m2",{"$f":"入力シート!C11","v":0},"融雪利用の場合は数値を入力して下さい。",null,null,null,"冷温水揚程（想定）","m",15,"想定設定値",null,"運転時間","h/日",{"$f":"K5","v":24},{"$f":"P9","v":24},{"$f":"Q9","v":24},24,24,24,24,24,24,24,24,24]
[null,"燃料種別の選択","-",{"$f":"入力シート!C16","v":0},null,null,null,null,"冷温水ポンプ効率","%",{"$f":"IF(K8<80,ポンプ効率近似式!$D$14,-1.403*LN(K8/1000)^2+6.9719*LN(K8/1000)+53.781)","v":{"$error":"#N/A"}},"ポンプ効率近似式より",null,"日あたりの熱需要量","MJ/日",{"$f":"P6/P8","v":{"$error":"#N/A"}},{"$error":"#N/A"},{"$error":"#N/A"},{"$error":"#N/A"},{"$error":"#N/A"},{"$error":"#N/A"},{"$error":"#N/A"},{"$error":"#N/A"},{"$error":"#N/A"},{"$error":"#N/A"},{"$error":"#N/A"},{"$error":"#N/A"},{"$f":"SUM(P10:AA10)","v":{"$error":"#N/A"}},{"$f":"MAX(P10:AA10)","v":{"$error":"#N/A"}},{"$f":"MIN(P10:AA10)","v":{"$error":"#N/A"}}]
[null,"選択燃料の発熱量",{"$f":"VLOOKUP(D10,一次E換算!A3:D8,4,FALSE)","v":{"$error":"#N/A"}},{"$f":"VLOOKUP(D10,一次E換算!A3:D8,2,FALSE)","v":{"$error":"#N/A"}},null,null,null,null,"冷温水ポンプ消費電力","kW",{"$f":"$D$23*$D$25*K8/1000/60*K9/10/K10","v":{"$error":"#N/A"}},"ポンプ関数より",null,null,"kWh/日",{"$f":"P10*1000/3600","v":{"$error":"#N/A"}},{"$f":"Q10*1000/3600","v":{"$error":"#N/A"}},{"$error":"#N/A"},{"$error":"#N/A"},{"$error":"#N/A"},{"$error":"#N/A"},{"$error":"#N/A"},{"$error":"#N/A"},{"$error":"#N/A"},{"$error":"#N/A"},{"$error":"#N/A"},{"$error":"#N/A"},{"$f":"SUM(P11:AA11)","v":{"$error":"#N/A"}},{"$f":"MAX(P11:AA11)","v":{"$error":"#N/A"}},{"$f":"MIN(P11:AA11)","v":{"$error":"#N/A"}}]
[null,null,null,null,null,null,null,null,null,null,null,null,null,"熱源容量","kW",{"$f":"P11/P9","v":{"$error":"#N/A"}},{"$f":"Q11/Q9","v":{"$error":"#N/A"}},{"$error":"#N/A"},{"$error":"#N/A"},{"$error":"#N/A"},{"$error":"#N/A"},{"$error":"#N/A"},{"$error":"#N/A"},{"$error":"#N/A"},{"$error":"#N/A"},{"$error":"#N/A"},{"$error":"#N/A"},null,{"$f":"MAX(P12:AA12)","v":{"$error":"#N/A"}},{"$f":"MIN(P12:AA12)","v":{"$error":"#N/A"}}]
[null,null,null,null,null,null,null,null,null,null,null,null,null,"熱源機効率","-",0.9,0.9,0.9,0.9,0.9,0.9,0.9,0.9,0.9,0.9,0.9,0.9]
[null,null,null,null,null,null,null,null,null,null,null,null,null,"熱源機　燃料　必要発熱量","MJ/月",{"$f":"P6/P13","v":{"$error":"#N/A"}},{"$error":"#N/A"},{"$error":"#N/A"},{"$error":"#N/A"},{"$error":"#N/A"},{"$error":"#N/A"},{"$error":"#N/A"},{"$error":"#N/A"},{"$error":"#N/A"},{"$error":"#N/A"},{"$error":"#N/A"},{"$error":"#N/A"},{"$f":"SUM(P14:AA14)","v":{"$error":"#N/A"}},{"$f":"MAX(P14:AA14)","v":{"$error":"#N/A"}},{"$f":"MIN(P14:AA14)","v":{"$error":"#N/A"}}]
[null,null,null,null,null,null,null,null,null,null,null,null,null,null,"kWh/月",{"$f":"P7/P13","v":{"$error":"#N/A"}},{"$error":"#N/A"},{"$error":"#N/A"},{"$error":"#N/A"},{"$error":"#N/A"},{"$error":"#N/A"},{"$error":"#N/A"},{"$error":"#N/A"},{"$error":"#N/A"},{"$error":"#N/A"},{"$error":"#N/A"},{"$error":"#N/A"},{"$f":"SUM(P15:AA15)","v":{"$error":"#N/A"}},{"$f":"MAX(P15:AA15)","v":{"$error":"#N/A"}},{"$f":"MIN(P15:AA15)","v":{"$error":"#N/A"}}]
[null,null,null,null,null,null,null,null,null,null,null,null,null,"熱源機　燃料　消費量",{"$f":"RIGHT(C11,LEN(C11)-3)&\"/月\"","v":{"$error":"#N/A"}},{"$f":"P14/$D$11","v":{"$error":"#N/A"}},{"$error":"#N/A"},{"$error":"#N/A"},{"$error":"#N/A"},{"$error":"#N/A"},{"$error":"#N/A"},{"$error":"#N/A"},{"$error":"#N/A"},{"$error":"#N/A"},{"$error":"#N/A"},{"$error":"#N/A"},{"$error":"#N/A"},{"$f":"SUM(P16:AA16)","v":{"$error":"#N/A"}},{"$f":"MAX(P16:AA16)","v":{"$error":"#N/A"}},{"$f":"MIN(P16:AA16)","v":{"$error":"#N/A"}}]
[null,null,null,null,null,null,null,null,null,null,null,null,null,"冷温水ポンプ消費電力量","kWh/月",{"$f":"IF(P6=0,0,$K$11*P9*P8)","v":{"$error":"#N/A"}},{"$f":"IF(Q6=0,0,$K$11*Q9*Q8)","v":{"$error":"#N/A"}},{"$error":"#N/A"},{"$error":"#N/A"},{"$error":"#N/A"},{"$error":"#N/A"},{"$error":"#N/A"},{"$error":"#N/A"},{"$error":"#N/A"},{"$error":"#N/A"},{"$error":"#N/A"},{"$error":"#N/A"},{"$f":"SUM(P17:AA17)","v":{"$error":"#N/A"}}]
[null,null,null,null,null,null,null,null,null,null,null,null,null,"消費電力合計","kWh/月",{"$f":"P17","v":{"$error":"#N/A"}},{"$f":"Q17","v":{"$error":"#N/A"}},{"$error":"#N/A"},{"$error":"#N/A"},{"$error":"#N/A"},{"$error":"#N/A"},{"$error":"#N/A"},{"$error":"#N/A"},{"$error":"#N/A"},{"$error":"#N/A"},{"$error":"#N/A"},{"$error":"#N/A"},{"$f":"SUM(P18:AA18)","v":{"$error":"#N/A"}}]
[]
[null,"■係数"]
[null,"項目","値","単位","備考"]
[null,"水の比熱","kJ/kgK",{"$f":"係数・物性!D4","v":4.1790000000000003},"係数・物性より"]
[null,"水の密度","kg/m3",{"$f":"係数・物性!D5","v":996.62},"係数・物性より"]
[null,"容積比熱","MJ/m3K",{"$f":"係数・物性!D6","v":4.1648749800000004},"係数・物性より"]
[null,"重力加速度","m/s2",{"$f":"係数・物性!D7","v":9.8059999999999992},"係数・物性より",null,null,null,null,null,null,null,null,"熱源機　燃料　消費量",{"$f":"RIGHT(C11,LEN(C11)-3)&\"/月\"","v":{"$error":"#N/A"}},{"$f":"P16","v":{"$error":"#N/A"}},{"$f":"Q16","v":{"$error":"#N/A"}},{"$error":"#N/A"},{"$error":"#N/A"},{"$error":"#N/A"},{"$error":"#N/A"},{"$error":"#N/A"},{"$error":"#N/A"},{"$error":"#N/A"},{"$error":"#N/A"},{"$error":"#N/A"},{"$error":"#N/A"},{"$f":"SUM(P25:AA25)","v":{"$error":"#N/A"}}]
[null,null,null,null,null,null,null,null,null,null,null,null,null,"補機類消費電力量","kWh/月",{"$f":"P17","v":{"$error":"#N/A"}},{"$f":"Q17","v":{"$error":"#N/A"}},{"$error":"#N/A"},{"$error":"#N/A"},{"$error":"#N/A"},{"$error":"#N/A"},{"$error":"#N/A"},{"$error":"#N/A"},{"$error":"#N/A"},{"$error":"#N/A"},{"$error":"#N/A"},{"$error":"#N/A"},{"$f":"SUM(P26:AA26)","v":{"$error":"#N/A"}}]
[]
[]
[null,null,null,null,null,null,null,null,"■エネルギーコスト、CO2排出量、一次エネルギー消費量計算（エネルギー消費量を入力）"]
[null,null,null,null,null,null,null,null,null,null,null,null,null,"□エネルギー消費量"]
[null,null,null,null,null,null,null,null,null,"設定セル",null,null,null,"項目","単位","4月","5月","6月","7月","8月","9月","10月","11月","12月","1月","2月","3月","合計","最大","最小","備考"]
[null,null,null,null,null,null,null,null,null,"変更設定していいセル（計算式が入力されている）",null,null,null,"電気","kWh/月",{"$f":"P18","v":{"$error":"#N/A"}},{"$error":"#N/A"},{"$error":"#N/A"},{"$error":"#N/A"},{"$error":"#N/A"},{"$error":"#N/A"},{"$error":"#N/A"},{"$error":"#N/A"},{"$error":"#N/A"},{"$error":"#N/A"},{"$error":"#N/A"},{"$error":"#N/A"},{"$f":"SUM(P32:AA32)","v":{"$error":"#N/A"}},{"$f":"MAX(P32:AA32)","v":{"$error":"#N/A"}},{"$f":"MIN(P32:AA32)","v":{"$error":"#N/A"}}]
[null,null,null,null,null,null,null,null,null,"あまり変更しなくていい設定セル",null,null,null,"都市ガス（13A）","m3/月",{"$f":"IF($D$10=$N33,P$16,0)","v":0},0,0,0,0,0,0,0,0,0,0,0,0,0,0]
[null,null,null,null,null,null,null,null,null,"デフォ値・係数",null,null,null,"灯油","L/月",0,0,0,0,0,0,0,0,0,0,0,0,0,0,0]
[null,null,null,null,null,null,null,null,null,"計算式・項目確認セル",null,null,null,"重油","L/月",0,0,0,0,0,0,0,0,0,0,0,0,0,0,0]
[null,null,null,null,null,null,null,null,null,null,null,null,null,"液化石油ガス（LPG）","kg/月",0,0,0,0,0,0,0,0,0,0,0,0,0,0,0]
[null,null,null,null,null,null,null,null,null,null,null,null,null,"他人から供給された熱","MJ/月",0,0,0,0,0,0,0,0,0,0,0,0,0,0,0]
[]
[]
[null,null,null,null,null,null,null,null,"□エネルギーコスト単価(フラットレート)",null,null,null,null,"□エネルギーコスト検討"]
[null,null,null,null,null,null,null,null,"項目","単位","値","備考",null,"項目","単位","4月","5月","6月","7月","8月","9月","10月","11月","12月","1月","2月","3月","合計","最大","最小","備考"]
[null,null,null,null,null,null,null,null,"電気","円/kWh",{"$f":"E単価!H5","v":14},null,null,"電気","千円/月",{"$f":"P32*$K42/1000","v":{"$error":"#N/A"}},{"$error":"#N/A"},{"$error":"#N/A"},{"$error":"#N/A"},{"$error":"#N/A"},{"$error":"#N/A"},{"$error":"#N/A"},{"$error":"#N/A"},{"$error":"#N/A"},{"$error":"#N/A"},{"$error":"#N/A"},{"$error":"#N/A"},{"$f":"SUM(P42:AA42)","v":{"$error":"#N/A"}},{"$f":"MAX(P42:AA42)","v":{"$error":"#N/A"}},{"$f":"MIN(P42:AA42)","v":{"$error":"#N/A"}}]
[null,null,null,null,null,null,null,null,"都市ガス（13A）","円/m3",{"$f":"E単価!H6","v":114.64285714285714},null,null,"都市ガス（13A）","千円/月",0,0,0,0,0,0,0,0,0,0,0,0,0,0,0]
[null,null,null,null,null,null,null,null,"灯油","円/L",{"$f":"E単価!H7","v":107.88888888888889},null,null,"灯油","千円/月",0,0,0,0,0,0,0,0,0,0,0,0,0,0,0]
[null,null,null,null,null,null,null,null,"重油","円/L",{"$f":"E単価!H8","v":76.099999999999994},null,null,"重油","千円/月",0,0,0,0,0,0,0,0,0,0,0,0,0,0,0]
[null,null,null,null,null,null,null,null,"液化石油ガス（LPG）","円/kg",{"$f":"E単価!H9","v":159.40476190476193},null,null,"液化石油ガス（LPG）","千円/月",0,0,0,0,0,0,0,0,0,0,0,0,0,0,0]
[null,null,null,null,null,null,null,null,"他人から供給された熱","円/GJ",{"$f":"E単価!H10","v":6611.9047619047615},null,null,"他人から供給された熱","千円/月",0,0,0,0,0,0,0,0,0,0,0,0,0,0,0]
[null,null,null,null,null,null,null,null,null,null,null,null,null,"エネルギーコスト合計","千円/月",{"$f":"SUM(P42:P47)","v":{"$error":"#N/A"}},{"$f":"SUM(Q42:Q47)","v":{"$error":"#N/A"}},{"$error":"#N/A"},{"$error":"#N/A"},{"$error":"#N/A"},{"$error":"#N/A"},{"$error":"#N/A"},{"$error":"#N/A"},{"$error":"#N/A"},{"$error":"#N/A"},{"$error":"#N/A"},{"$error":"#N/A"},{"$f":"SUM(AB42:AB47)","v":{"$error":"#N/A"}},{"$f":"SUM(AC42:AC47)","v":{"$error":"#N/A"}},{"$f":"SUM(AD42:AD47)","v":{"$error":"#N/A"}}]
[]
[null,null,null,null,null,null,null,null,"□CO2換算係数",null,null,null,null,"□CO2排出量"]
[null,null,null,null,null,null,null,null,"項目","単位","値","備考",null,"項目","単位","4月","5月","6月","7月","8月","9月","10月","11月","12月","1月","2月","3月","合計","最大","最小","備考"]
[null,null,null,null,null,null,null,null,"電気","tCO2/kWh",{"$f":"CO2換算係数!B3","v":4.8799999999999999E-4},null,null,"電気","t-CO2/月",{"$f":"P32*$K52","v":{"$error":"#N/A"}},{"$f":"Q32*$K52","v":{"$error":"#N/A"}},{"$error":"#N/A"},{"$error":"#N/A"},{"$error":"#N/A"},{"$error":"#N/A"},{"$error":"#N/A"},{"$error":"#N/A"},{"$error":"#N/A"},{"$error":"#N/A"},{"$error":"#N/A"},{"$f":"AA32*$K52","v":{"$error":"#N/A"}},{"$f":"SUM(P52:AA52)","v":{"$error":"#N/A"}},{"$f":"MAX(P52:AA52)","v":{"$error":"#N/A"}},{"$f":"MIN(P52:AA52)","v":{"$error":"#N/A"}}]
[null,null,null,null,null,null,null,null,"都市ガス（13A）","tCO2/km3",{"$f":"CO2換算係数!B4","v":2.23},null,null,"都市ガス（13A）","t-CO2/月",{"$f":"P33/1000*$K53","v":0},0,0,0,0,0,0,0,0,0,0,0,0,0,0]
[null,null,null,null,null,null,null,null,"灯油","tCO2/kL",{"$f":"CO2換算係数!B5","v":2.4900000000000002},null,null,"灯油","t-CO2/月",0,0,0,0,0,0,0,0,0,0,0,0,0,0,0]
[null,null,null,null,null,null,null,null,"重油","tCO2/kL",{"$f":"CO2換算係数!B6","v":2.71},null,null,"重油","t-CO2/月",0,0,0,0,0,0,0,0,0,0,0,0,0,0,0]
[null,null,null,null,null,null,null,null,"液化石油ガス（LPG）","tCO2/t",{"$f":"CO2換算係数!B7","v":3},null,null,"液化石油ガス（LPG）","t-CO2/月",0,0,0,0,0,0,0,0,0,0,0,0,0,0,0]
[null,null,null,null,null,null,null,null,"他人から供給された熱","tCO2/GJ",{"$f":"CO2換算係数!B8","v":5.7000000000000002E-2},null,null,"他人から供給された熱","t-CO2/月",0,0,0,0,0,0,0,0,0,0,0,0,0,0,0]
[null,null,null,null,null,null,null,null,null,null,null,null,null,"CO2排出量合計","t-CO2/月",{"$f":"SUM(P52:P57)","v":{"$error":"#N/A"}},{"$f":"SUM(Q52:Q57)","v":{"$error":"#N/A"}},{"$error":"#N/A"},{"$error":"#N/A"},{"$error":"#N/A"},{"$error":"#N/A"},{"$error":"#N/A"},{"$error":"#N/A"},{"$error":"#N/A"},{"$error":"#N/A"},{"$error":"#N/A"},{"$error":"#N/A"},{"$f":"SUM(AB52:AB57)","v":{"$error":"#N/A"}},{"$error":"#N/A"},{"$error":"#N/A"}]
[]
[null,null,null,null,null,null,null,null,"□一次エネルギー換算係数",null,null,null,null,"□一次エネルギー消費量"]
[null,null,null,null,null,null,null,null,"項目","単位","値","備考",null,"項目","単位","4月","5月","6月","7月","8月","9月","10月","11月","12月","1月","2月","3月","合計","最大","最小","備考"]
[null,null,null,null,null,null,null,null,"電気","MJ/kWh",{"$f":"一次E換算!B3","v":9.76},null,null,"電気","MJ/月",{"$f":"P32*$K62","v":{"$error":"#N/A"}},{"$error":"#N/A"},{"$error":"#N/A"},{"$error":"#N/A"},{"$error":"#N/A"},{"$error":"#N/A"},{"$error":"#N/A"},{"$error":"#N/A"},{"$error":"#N/A"},{"$error":"#N/A"},{"$error":"#N/A"},{"$error":"#N/A"},{"$f":"SUM(P62:AA62)","v":{"$error":"#N/A"}},{"$f":"MAX(P62:AA62)","v":{"$error":"#N/A"}},{"$f":"MIN(P62:AA62)","v":{"$error":"#N/A"}}]
[null,null,null,null,null,null,null,null,"都市ガス（13A）","MJ/m3",{"$f":"一次E換算!B4","v":45},null,null,"都市ガス（13A）","MJ/月",0,0,0,0,0,0,0,0,0,0,0,0,0,0,0]
[null,null,null,null,null,null,null,null,"灯油","MJ/L",{"$f":"一次E換算!B5","v":37},null,null,"灯油","MJ/月",0,0,0,0,0,0,0,0,0,0,0,0,0,0,0]
[null,null,null,null,null,null,null,null,"重油","MJ/L",{"$f":"一次E換算!B6","v":41},null,null,"重油","MJ/月",0,0,0,0,0,0,0,0,0,0,0,0,0,0,0]
[null,null,null,null,null,null,null,null,"液化石油ガス（LPG）","MJ/kg",{"$f":"一次E換算!B7","v":50},null,null,"液化石油ガス（LPG）","MJ/月",0,0,0,0,0,0,0,0,0,0,0,0,0,0,0]
[null,null,null,null,null,null,null,null,"他人から供給された熱","MJ/MJ",{"$f":"一次E換算!B8","v":1.36},null,null,"他人から供給された熱","MJ/月",0,0,0,0,0,0,0,0,0,0,0,0,0,0,0]
[null,null,null,null,null,null,null,null,null,null,null,null,null,"一次エネルギー消費量合計","MJ/月",{"$f":"SUM(P62:P67)","v":{"$error":"#N/A"}},{"$error":"#N/A"},{"$error":"#N/A"},{"$error":"#N/A"},{"$error":"#N/A"},{"$error":"#N/A"},{"$error":"#N/A"},{"$error":"#N/A"},{"$error":"#N/A"},{"$error":"#N/A"},{"$error":"#N/A"},{"$error":"#N/A"},{"$error":"#N/A"},{"$error":"#N/A"},{"$error":"#N/A"}]
[]
[]
[null,null,null,null,null,null,null,null,"■熱源機エネルギーコスト、CO2排出量、一次エネルギー消費量計算（エネルギー消費量を入力）"]
[null,null,null,null,null,null,null,null,null,null,null,null,null,"□エネルギー消費量"]
[null,null,null,null,null,null,null,null,null,"設定セル",null,null,null,"項目","単位","4月","5月","6月","7月","8月","9月","10月","11月","12月","1月","2月","3月","合計","最大","最小","備考"]
[null,null,null,null,null,null,null,null,null,"変更設定していいセル（計算式が入力されている）",null,null,null,"電気","kWh/月",null,null,null,null,null,null,null,null,null,null,null,null,{"$f":"SUM(P74:AA74)","v":0},{"$f":"MAX(P74:AA74)","v":0},{"$f":"MIN(P74:AA74)","v":0}]
[null,null,null,null,null,null,null,null,null,"あまり変更しなくていい設定セル",null,null,null,"都市ガス（13A）","m3/月",{"$f":"IF($D$10=$N75,P$16,0)","v":0},{"$f":"IF($D$10=$N75,Q$16,0)","v":0},0,0,0,0,0,0,0,0,0,0,0,0,0]
[null,null,null,null,null,null,null,null,null,"デフォ値・係数",null,null,null,"灯油","L/月",{"$f":"IF($D$10=$N76,P$16,0)","v":0},0,0,0,0,0,0,0,0,0,0,0,0,0,0]
[null,null,null,null,null,null,null,null,null,"計算式・項目確認セル",null,null,null,"重油","L/月",0,0,0,0,0,0,0,0,0,0,0,{"$f":"IF($D$10=$N77,AA$16,0)","v":0},0,0,0]
[null,null,null,null,null,null,null,null,null,null,null,null,null,"液化石油ガス（LPG）","kg/月",0,0,0,0,0,0,0,0,0,0,0,0,0,0,0]
[null,null,null,null,null,null,null,null,null,null,null,null,null,"他人から供給された熱","MJ/月",0,0,0,0,0,0,0,0,0,0,0,{"$f":"IF($D$10=$N79,AA$16,0)","v":0},0,0,0]
[]
[]
[null,null,null,null,null,null,null,null,"□エネルギーコスト単価(フラットレート)",null,null,null,null,"□エネルギーコスト検討"]
[null,null,null,null,null,null,null,null,"項目","単位","値","備考",null,"項目","単位","4月","5月","6月","7月","8月","9月","10月","11月","12月","1月","2月","3月","合計","最大","最小","備考"]
[null,null,null,null,null,null,null,null,"電気","円/kWh",{"$f":"K42","v":14},null,null,"電気","千円/月",{"$f":"P74*$K84/1000","v":0},0,0,0,0,0,0,0,0,0,0,0,{"$f":"SUM(P84:AA84)","v":0},{"$f":"MAX(P84:AA84)","v":0},{"$f":"MIN(P84:AA84)","v":0}]
[null,null,null,null,null,null,null,null,"都市ガス（13A）","円/m3",{"$f":"K43","v":114.64285714285714},null,null,"都市ガス（13A）","千円/月",{"$f":"P75*$K85/1000","v":0},0,0,0,0,0,0,0,0,0,0,0,0,0,0]
[null,null,null,null,null,null,null,null,"灯油","円/L",107.88888888888889,null,null,"灯油","千円/月",{"$f":"P76*$K86/1000","v":0},0,0,0,0,0,0,0,0,0,0,0,0,0,0]
[null,null,null,null,null,null,null,null,"重油","円/L",76.099999999999994,null,null,"重油","千円/月",{"$f":"P77*$K87/1000","v":0},0,0,0,0,0,0,0,0,0,0,0,0,0,0]
[null,null,null,null,null,null,null,null,"液化石油ガス（LPG）","円/kg",159.40476190476193,null,null,"液化石油ガス（LPG）","千円/月",{"$f":"P78*$K88/1000","v":0},0,0,0,0,0,0,0,0,0,0,0,0,0,0]
[null,null,null,null,null,null,null,null,"他人から供給された熱","円/GJ",6611.9047619047615,null,null,"他人から供給された熱","千円/月",{"$f":"P79*$K89/1000","v":0},0,0,0,0,0,0,0,0,0,0,0,0,0,0]
[null,null,null,null,null,null,null,null,null,null,null,null,null,"エネルギーコスト合計","千円/月",{"$f":"SUM(P84:P89)","v":0},{"$f":"SUM(Q84:Q89)","v":0},0,{"$f":"SUM(S84:S89)","v":0},0,0,0,0,0,0,0,0,{"$f":"SUM(AB84:AB89)","v":0},{"$f":"SUM(AC84:AC89)","v":0},{"$f":"SUM(AD84:AD89)","v":0}]
[]
[null,null,null,null,null,null,null,null,"□CO2換算係数",null,null,null,null,"□CO2排出量"]
[null,null,null,null,null,null,null,null,"項目","単位","値","備考",null,"項目","単位","4月","5月","6月","7月","8月","9月","10月","11月","12月","1月","2月","3月","合計","最大","最小","備考"]
[null,null,null,null,null,null,null,null,"電気","tCO2/kWh",{"$f":"K52","v":4.8799999999999999E-4},null,null,"電気","t-CO2/月",{"$f":"P74*$K94","v":0},0,0,0,0,0,0,0,0,0,0,0,{"$f":"SUM(P94:AA94)","v":0},{"$f":"MAX(P94:AA94)","v":0},{"$f":"MIN(P94:AA94)","v":0}]
[null,null,null,null,null,null,null,null,"都市ガス（13A）","tCO2/km3",{"$f":"K53","v":2.23},null,null,"都市ガス（13A）","t-CO2/月",{"$f":"P75/1000*$K95","v":0},0,0,0,0,0,0,0,0,0,0,0,0,0,0]
[null,null,null,null,null,null,null,null,"灯油","tCO2/kL",2.4900000000000002,null,null,"灯油","t-CO2/月",{"$f":"P76/1000*$K96","v":0},0,0,0,0,0,0,0,0,0,0,0,0,0,0]
[null,null,null,null,null,null,null,null,"重油","tCO2/kL",2.71,null,null,"重油","t-CO2/月",{"$f":"P77/1000*$K97","v":0},0,0,0,0,0,0,0,0,0,0,0,0,0,0]
[null,null,null,null,null,null,null,null,"液化石油ガス（LPG）","tCO2/t",3,null,null,"液化石油ガス（LPG）","t-CO2/月",{"$f":"P78/1000*$K98","v":0},0,0,0,0,0,0,0,0,0,0,0,0,0,0]
[null,null,null,null,null,null,null,null,"他人から供給された熱","tCO2/GJ",5.7000000000000002E-2,null,null,"他人から供給された熱","t-CO2/月",{"$f":"P79/1000*$K99","v":0},0,0,0,0,0,0,0,0,0,0,0,0,0,0]
[null,null,null,null,null,null,null,null,null,null,null,null,null,"CO2排出量合計","t-CO2/月",{"$f":"SUM(P94:P99)","v":0},{"$f":"SUM(Q94:Q99)","v":0},0,0,0,0,0,0,0,0,0,{"$f":"SUM(AA94:AA99)","v":0},{"$f":"SUM(AB94:AB99)","v":0},{"$f":"SUM(AC94:AC99)","v":0},0]
[]
[null,null,null,null,null,null,null,null,"□一次エネルギー換算係数",null,null,null,null,"□一次エネルギー消費量"]
[null,null,null,null,null,null,null,null,"項目","単位","値","備考",null,"項目","単位","4月","5月","6月","7月","8月","9月","10月","11月","12月","1月","2月","3月","合計","最大","最小","備考"]
[null,null,null,null,null,null,null,null,"電気","MJ/kWh",{"$f":"K62","v":9.76},null,null,"電気","MJ/月",{"$f":"P74*$K104","v":0},0,0,0,0,0,0,0,0,0,0,0,{"$f":"SUM(P104:AA104)","v":0},{"$f":"MAX(P104:AA104)","v":0},{"$f":"MIN(P104:AA104)","v":0}]
[null,null,null,null,null,null,null,null,"都市ガス（13A）","MJ/m3",{"$f":"K63","v":45},null,null,"都市ガス（13A）","MJ/月",{"$f":"P75*$K105","v":0},0,0,0,0,0,0,0,0,0,0,0,0,0,0]
[null,null,null,null,null,null,null,null,"灯油","MJ/L",37,null,null,"灯油","MJ/月",{"$f":"P76*$K106","v":0},0,0,0,0,0,0,0,0,0,0,0,0,0,0]
[null,null,null,null,null,null,null,null,"重油","MJ/L",41,null,null,"重油","MJ/月",{"$f":"P77*$K107","v":0},0,0,0,0,0,0,0,0,0,0,0,0,0,0]
[null,null,null,null,null,null,null,null,"液化石油ガス（LPG）","MJ/kg",50,null,null,"液化石油ガス（LPG）","MJ/月",{"$f":"P78*$K108","v":0},0,0,0,0,0,0,0,0,0,0,0,0,0,0]
[null,null,null,null,null,null,null,null,"他人から供給された熱","MJ/MJ",1.36,null,null,"他人から供給された熱","MJ/月",{"$f":"P79*$K109","v":0},0,0,0,0,0,0,0,0,0,0,0,0,0,0]
[null,null,null,null,null,null,null,null,null,null,null,null,null,"一次エネルギー消費量合計","MJ/月",{"$f":"SUM(P104:P109)","v":0},0,0,0,0,0,0,0,0,0,0,{"$f":"SUM(AA104:AA109)","v":0},0,0,0]
[]
[]
[null,null,null,null,null,null,null,null,"■補機類エネルギーコスト、CO2排出量、一次エネルギー消費量計算（エネルギー消費量を入力）"]
[null,null,null,null,null,null,null,null,null,null,null,null,null,"□エネルギー消費量"]
[null,null,null,null,null,null,null,null,null,"設定セル",null,null,null,"項目","単位","4月","5月","6月","7月","8月","9月","10月","11月","12月","1月","2月","3月","合計","最大","最小","備考"]
[null,null,null,null,null,null,null,null,null,"変更設定していいセル（計算式が入力されている）",null,null,null,"電気","kWh/月",{"$f":"P26","v":{"$error":"#N/A"}},{"$error":"#N/A"},{"$error":"#N/A"},{"$error":"#N/A"},{"$error":"#N/A"},{"$error":"#N/A"},{"$error":"#N/A"},{"$error":"#N/A"},{"$error":"#N/A"},{"$error":"#N/A"},{"$error":"#N/A"},{"$error":"#N/A"},{"$f":"SUM(P116:AA116)","v":{"$error":"#N/A"}},{"$f":"MAX(P116:AA116)","v":{"$error":"#N/A"}},{"$f":"MIN(P116:AA116)","v":{"$error":"#N/A"}}]
[null,null,null,null,null,null,null,null,null,"あまり変更しなくていい設定セル",null,null,null,"都市ガス（13A）","m3/月",null,null,null,null,null,null,null,null,null,null,null,null,0,0,0]
[null,null,null,null,null,null,null,null,null,"デフォ値・係数",null,null,null,"灯油","L/月",null,null,null,null,null,null,null,null,null,null,null,null,0,0,0]
[null,null,null,null,null,null,null,null,null,"計算式・項目確認セル",null,null,null,"重油","L/月",null,null,null,null,null,null,null,null,null,null,null,null,0,0,0]
[null,null,null,null,null,null,null,null,null,null,null,null,null,"液化石油ガス（LPG）","kg/月",null,null,null,null,null,null,null,null,null,null,null,null,0,0,0]
[null,null,null,null,null,null,null,null,null,null,null,null,null,"他人から供給された熱","MJ/月",null,null,null,null,null,null,null,null,null,null,null,null,0,0,0]
[]
[]
[null,null,null,null,null,null,null,null,"□エネルギーコスト単価(フラットレート)",null,null,null,null,"□エネルギーコスト検討"]
[null,null,null,null,null,null,null,null,"項目","単位","値","備考",null,"項目","単位","4月","5月","6月","7月","8月","9月","10月","11月","12月","1月","2月","3月","合計","最大","最小","備考"]
[null,null,null,null,null,null,null,null,"電気","円/kWh",{"$f":"K84","v":14},null,null,"電気","千円/月",{"$f":"P116*$K126/1000","v":{"$error":"#N/A"}},{"$error":"#N/A"},{"$error":"#N/A"},{"$error":"#N/A"},{"$error":"#N/A"},{"$error":"#N/A"},{"$error":"#N/A"},{"$error":"#N/A"},{"$error":"#N/A"},{"$error":"#N/A"},{"$error":"#N/A"},{"$error":"#N/A"},{"$f":"SUM(P126:AA126)","v":{"$error":"#N/A"}},{"$f":"MAX(P126:AA126)","v":{"$error":"#N/A"}},{"$f":"MIN(P126:AA126)","v":{"$error":"#N/A"}}]
[null,null,null,null,null,null,null,null,"都市ガス（13A）","円/m3",{"$f":"K85","v":114.64285714285714},null,null,"都市ガス（13A）","千円/月",{"$f":"P117*$K127/1000","v":0},0,0,0,0,0,0,0,0,0,0,0,0,0,0]
[null,null,null,null,null,null,null,null,"灯油","円/L",107.88888888888889,null,null,"灯油","千円/月",{"$f":"P118*$K128/1000","v":0},0,0,0,0,0,0,0,0,0,0,0,0,0,0]
[null,null,null,null,null,null,null,null,"重油","円/L",76.099999999999994,null,null,"重油","千円/月",{"$f":"P119*$K129/1000","v":0},0,0,0,0,0,0,0,0,0,0,0,0,0,0]
[null,null,null,null,null,null,null,null,"液化石油ガス（LPG）","円/kg",159.40476190476193,null,null,"液化石油ガス（LPG）","千円/月",{"$f":"P120*$K130/1000","v":0},0,0,0,0,0,0,0,0,0,0,0,0,0,0]
[null,null,null,null,null,null,null,null,"他人から供給された熱","円/GJ",6611.9047619047615,null,null,"他人から供給された熱","千円/月",{"$f":"P121*$K131/1000","v":0},0,0,0,0,0,0,0,0,0,0,0,0,0,0]
[null,null,null,null,null,null,null,null,null,null,null,null,null,"エネルギーコスト合計","千円/月",{"$f":"SUM(P126:P131)","v":{"$error":"#N/A"}},{"$f":"SUM(Q126:Q131)","v":{"$error":"#N/A"}},{"$error":"#N/A"},{"$error":"#N/A"},{"$error":"#N/A"},{"$error":"#N/A"},{"$error":"#N/A"},{"$error":"#N/A"},{"$error":"#N/A"},{"$error":"#N/A"},{"$error":"#N/A"},{"$f":"SUM(AA126:AA131)","v":{"$error":"#N/A"}},{"$f":"SUM(AB126:AB131)","v":{"$error":"#N/A"}},{"$f":"SUM(AC126:AC131)","v":{"$error":"#N/A"}},{"$f":"SUM(AD126:AD131)","v":{"$error":"#N/A"}}]
[]
[null,null,null,null,null,null,null,null,"□CO2換算係数",null,null,null,null,"□CO2排出量"]
[null,null,null,null,null,null,null,null,"項目","単位","値","備考",null,"項目","単位","4月","5月","6月","7月","8月","9月","10月","11月","12月","1月","2月","3月","合計","最大","最小","備考"]
[null,null,null,null,null,null,null,null,"電気","tCO2/kWh",{"$f":"K94","v":4.8799999999999999E-4},null,null,"電気","t-CO2/月",{"$f":"P116*$K136","v":{"$error":"#N/A"}},{"$error":"#N/A"},{"$error":"#N/A"},{"$error":"#N/A"},{"$error":"#N/A"},{"$error":"#N/A"},{"$error":"#N/A"},{"$error":"#N/A"},{"$error":"#N/A"},{"$error":"#N/A"},{"$error":"#N/A"},{"$error":"#N/A"},{"$f":"SUM(P136:AA136)","v":{"$error":"#N/A"}},{"$f":"MAX(P136:AA136)","v":{"$error":"#N/A"}},{"$f":"MIN(P136:AA136)","v":{"$error":"#N/A"}}]
[null,null,null,null,null,null,null,null,"都市ガス（13A）","tCO2/km3",{"$f":"K95","v":2.23},null,null,"都市ガス（13A）","t-CO2/月",{"$f":"P117/1000*$K137","v":0},0,0,0,0,0,0,0,0,0,0,0,0,0,0]
[null,null,null,null,null,null,null,null,"灯油","tCO2/kL",2.4900000000000002,null,null,"灯油","t-CO2/月",{"$f":"P118/1000*$K138","v":0},0,0,0,0,0,0,0,0,0,0,0,0,0,0]
[null,null,null,null,null,null,null,null,"重油","tCO2/kL",2.71,null,null,"重油","t-CO2/月",{"$f":"P119/1000*$K139","v":0},0,0,0,0,0,0,0,0,0,0,0,0,0,0]
[null,null,null,null,null,null,null,null,"液化石油ガス（LPG）","tCO2/t",3,null,null,"液化石油ガス（LPG）","t-CO2/月",{"$f":"P120/1000*$K140","v":0},0,0,0,0,0,0,0,0,0,0,0,0,0,0]
[null,null,null,null,null,null,null,null,"他人から供給された熱","tCO2/GJ",5.7000000000000002E-2,null,null,"他人から供給された熱","t-CO2/月",{"$f":"P121/1000*$K141","v":0},0,0,0,0,0,0,0,0,0,0,0,0,0,0]
[null,null,null,null,null,null,null,null,null,null,null,null,null,"CO2排出量合計","t-CO2/月",{"$f":"SUM(P136:P141)","v":{"$error":"#N/A"}},{"$f":"SUM(Q136:Q141)","v":{"$error":"#N/A"}},{"$error":"#N/A"},{"$error":"#N/A"},{"$error":"#N/A"},{"$error":"#N/A"},{"$error":"#N/A"},{"$error":"#N/A"},{"$error":"#N/A"},{"$error":"#N/A"},{"$error":"#N/A"},{"$f":"SUM(AA136:AA141)","v":{"$error":"#N/A"}},{"$f":"SUM(AB136:AB141)","v":{"$error":"#N/A"}},{"$f":"SUM(AC136:AC141)","v":{"$error":"#N/A"}},{"$error":"#N/A"}]
[]
[null,null,null,null,null,null,null,null,"□一次エネルギー換算係数",null,null,null,null,"□一次エネルギー消費量"]
[null,null,null,null,null,null,null,null,"項目","単位","値","備考",null,"項目","単位","4月","5月","6月","7月","8月","9月","10月","11月","12月","1月","2月","3月","合計","最大","最小","備考"]
[null,null,null,null,null,null,null,null,"電気","MJ/kWh",{"$f":"K104","v":9.76},null,null,"電気","MJ/月",{"$f":"P116*$K146","v":{"$error":"#N/A"}},{"$error":"#N/A"},{"$error":"#N/A"},{"$error":"#N/A"},{"$error":"#N/A"},{"$error":"#N/A"},{"$error":"#N/A"},{"$error":"#N/A"},{"$error":"#N/A"},{"$error":"#N/A"},{"$error":"#N/A"},{"$error":"#N/A"},{"$f":"SUM(P146:AA146)","v":{"$error":"#N/A"}},{"$f":"MAX(P146:AA146)","v":{"$error":"#N/A"}},{"$f":"MIN(P146:AA146)","v":{"$error":"#N/A"}}]
[null,null,null,null,null,null,null,null,"都市ガス（13A）","MJ/m3",{"$f":"K105","v":45},null,null,"都市ガス（13A）","MJ/月",{"$f":"P117*$K147","v":0},0,0,0,0,0,0,0,0,0,0,0,0,0,0]
[null,null,null,null,null,null,null,null,"灯油","MJ/L",37,null,null,"灯油","MJ/月",{"$f":"P118*$K148","v":0},0,0,0,0,0,0,0,0,0,0,0,0,0,0]
[null,null,null,null,null,null,null,null,"重油","MJ/L",41,null,null,"重油","MJ/月",{"$f":"P119*$K149","v":0},0,0,0,0,0,0,0,0,0,0,0,0,0,0]
[null,null,null,null,null,null,null,null,"液化石油ガス（LPG）","MJ/kg",50,null,null,"液化石油ガス（LPG）","MJ/月",{"$f":"P120*$K150","v":0},0,0,0,0,0,0,0,0,0,0,0,0,0,0]
[null,null,null,null,null,null,null,null,"他人から供給された熱","MJ/MJ",1.36,null,null,"他人から供給された熱","MJ/月",{"$f":"P121*$K151","v":0},0,0,0,0,0,0,0,0,0,0,0,0,0,0]
[null,null,null,null,null,null,null,null,null,null,null,null,null,"一次エネルギー消費量合計","MJ/月",{"$f":"SUM(P146:P151)","v":{"$error":"#N/A"}},{"$error":"#N/A"},{"$error":"#N/A"},{"$error":"#N/A"},{"$error":"#N/A"},{"$error":"#N/A"},{"$error":"#N/A"},{"$error":"#N/A"},{"$error":"#N/A"},{"$error":"#N/A"},{"$error":"#N/A"},{"$f":"SUM(AA146:AA151)","v":{"$error":"#N/A"}},{"$error":"#N/A"},{"$error":"#N/A"},{"$error":"#N/A"}]

{"sheet":"比較対象_既存_燃料_融雪_IC","index":49,"n_rows":30,"n_cols":16,"rows_kept":30,"cut":false,"hidden":true,"merged":[[27,1,27,2],[28,1,28,2],[29,1,29,2],[4,1,16,1],[17,1,19,1],[20,1,23,1],[24,1,24,2],[25,1,25,2],[26,1,26,2]]}
[null,"■イニシャルコスト算出"]
[]
[null,"比較対象_既存_燃料_融雪"]
[null,null,"名称","摘要","単価[千円]","数量","単位","金額[千円]","備考","memo",null,null,null,null,"価格関数代入値","単位"]
[null,"機械工事","熱源機（ボイラ）",null,{"$f":"IF(O5=0,0,価格関数!E13*O5+価格関数!F13)","v":{"$error":"#N/A"}},1,"台",{"$f":"F5*E5","v":{"$error":"#N/A"}},null,"価格関数",null,null,null,"熱源容量",{"$f":"比較対象_既存_燃料_融雪_RC!K6","v":{"$error":"#N/A"}},"kW"]
[null,null,"冷温水ポンプ",null,{"$f":"IF(O6=0,0,価格関数!$E$21*O6+価格関数!$F$21)","v":{"$error":"#N/A"}},1,"台",{"$f":"F6*E6","v":{"$error":"#N/A"}},null,"価格関数",null,null,null,"ポンプ出力",{"$f":"比較対象_既存_燃料_融雪_RC!K11","v":{"$error":"#N/A"}},"kW"]
[]
[]
[]
[]
[]
[]
[]
[null,null,"自動制御",null,null,1,"式",{"$f":"INT(SUM(H5:H13)*I14)","v":{"$error":"#N/A"}},0.2,"概算　事例等より設定"]
[null,null,"その他配管","概算（付属品込）",null,1,"式",{"$f":"INT(SUM(H5:H14)*I15)","v":{"$error":"#N/A"}},0.1,"配管費=機器類×5~10%と設定"]
[]
[null,null,"小計",null,null,null,null,{"$f":"SUM(H5:H16)","v":{"$error":"#N/A"}}]
[null,"電気工事","概算","概算",null,null,null,{"$f":"INT(H17*I18)","v":{"$error":"#N/A"}},0.3]
[]
[null,null,"小計",null,null,null,null,{"$f":"SUM(H18:H19)","v":{"$error":"#N/A"}}]
[null,"土工事"]
[]
[]
[null,null,"小計",null,null,null,null,{"$f":"SUM(H21:H23)","v":0}]
[null,"直接工事費",null,null,null,null,null,{"$f":"H24+H20+H17","v":{"$error":"#N/A"}}]
[null,"間接工事費",null,null,null,1,"式",{"$f":"INT(H25*0.3)","v":{"$error":"#N/A"}},"直接工事費×30%"]
[null,"工事原価",null,null,null,1,"式",{"$f":"H25+H26","v":{"$error":"#N/A"}}]
[null,"消費税",null,null,null,1,"式"]
[]
[null,"合計",null,null,null,null,null,{"$f":"H27+H28","v":{"$error":"#N/A"}}]

{"sheet":"残り需要_既存_燃料_融雪_RC","index":50,"n_rows":152,"n_cols":31,"rows_kept":152,"cut":false,"hidden":true,"merged":[]}
[null,"■入力情報",null,null,null,null,null,null,"■融雪　燃料方式システムのエネルギー計算"]
[]
[null,"■対象施設情報",null,null,null,null,null,null,"■融雪　燃料方式システム検討",null,null,null,null,"■融雪　燃料方式システム　エネルギー計算・エネルギーコスト検討"]
[null,"項目","単位","値","備考",null,null,null,"項目","単位","値","備考",null,"項目","単位","4月","5月","6月","7月","8月","9月","10月","11月","12月","1月","2月","3月","合計","最大","最小","備考"]
[null,"地域選択","-",{"$f":"入力シート!C7","v":0},"都道府県を選択してください。",null,null,null,"運転時間","h/日",24,null,null,"熱利用用途",null,{"$f":"マッチング!E10","v":""},{"$f":"マッチング!F10","v":""},{"$f":"マッチング!G10","v":""},{"$f":"マッチング!H10","v":""},{"$f":"マッチング!I10","v":""},{"$f":"マッチング!J10","v":""},{"$f":"マッチング!K10","v":""},{"$f":"マッチング!L10","v":""},{"$f":"マッチング!M10","v":""},{"$f":"マッチング!N10","v":""},{"$f":"マッチング!O10","v":""},{"$f":"マッチング!P10","v":""}]
[null,"熱利用用途","-",{"$f":"入力シート!C8","v":0},"給湯、空調、融雪から選択してください。",null,null,null,"熱源容量","kW",{"$f":"AC12","v":{"$error":"#N/A"}},"熱源容量シートより",null,"熱需要量","MJ/月",{"$f":"マッチング!E116","v":{"$error":"#N/A"}},{"$f":"マッチング!F116","v":{"$error":"#N/A"}},{"$f":"マッチング!G116","v":{"$error":"#N/A"}},{"$f":"マッチング!H116","v":{"$error":"#N/A"}},{"$f":"マッチング!I116","v":{"$error":"#N/A"}},{"$f":"マッチング!J116","v":{"$error":"#N/A"}},{"$f":"マッチング!K116","v":{"$error":"#N/A"}},{"$f":"マッチング!L116","v":{"$error":"#N/A"}},{"$f":"マッチング!M116","v":{"$error":"#N/A"}},{"$f":"マッチング!N116","v":{"$error":"#N/A"}},{"$f":"マッチング!O116","v":{"$error":"#N/A"}},{"$f":"マッチング!P116","v":{"$error":"#N/A"}},{"$f":"SUM(P6:AA6)","v":{"$error":"#N/A"}},{"$f":"MAX(P6:AA6)","v":{"$error":"#N/A"}},{"$f":"MIN(P6:AA6)","v":{"$error":"#N/A"}}]
[null,"建物用途","-",{"$f":"入力シート!C9","v":0},"給湯、空調利用の場合は建物用途を選択してください。",null,null,null,"温度差","℃",5,"想定設定値",null,null,"kWh/月",{"$f":"P6*1000/3600","v":{"$error":"#N/A"}},{"$f":"Q6*1000/3600","v":{"$error":"#N/A"}},{"$error":"#N/A"},{"$error":"#N/A"},{"$error":"#N/A"},{"$error":"#N/A"},{"$error":"#N/A"},{"$error":"#N/A"},{"$error":"#N/A"},{"$error":"#N/A"},{"$error":"#N/A"},{"$error":"#N/A"},{"$f":"SUM(P7:AA7)","v":{"$error":"#N/A"}},{"$f":"MAX(P7:AA7)","v":{"$error":"#N/A"}},{"$f":"MIN(P7:AA7)","v":{"$error":"#N/A"}}]
[null,"延床面積","m2",{"$f":"入力シート!C10","v":0},"給湯、空調利用の場合は数値を入力してください。",null,null,null,"冷温水流量","L/min",{"$f":"K6/K7/$D$22/$D$23*1000*60","v":{"$error":"#N/A"}},null,null,"日数","日",{"$f":"熱需要量算定・原単位!D24","v":30},{"$f":"熱需要量算定・原単位!E24","v":31},{"$f":"熱需要量算定・原単位!F24","v":30},{"$f":"熱需要量算定・原単位!G24","v":31},{"$f":"熱需要量算定・原単位!H24","v":31},{"$f":"熱需要量算定・原単位!I24","v":30},{"$f":"熱需要量算定・原単位!J24","v":31},{"$f":"熱需要量算定・原単位!K24","v":30},{"$f":"熱需要量算定・原単位!L24","v":31},{"$f":"熱需要量算定・原単位!M24","v":31},{"$f":"熱需要量算定・原単位!N24","v":28},{"$f":"熱需要量算定・原単位!O24","v":31},{"$f":"SUM(P8:AA8)","v":365}]
[null,"対象面積","m2",{"$f":"入力シート!C11","v":0},"融雪利用の場合は数値を入力して下さい。",null,null,null,"冷温水揚程（想定）","m",15,"想定設定値",null,"運転時間","h/日",{"$f":"K5","v":24},{"$f":"P9","v":24},{"$f":"Q9","v":24},24,24,24,24,24,24,24,24,24]
[null,"燃料種別の選択","-",{"$f":"入力シート!C16","v":0},null,null,null,null,"冷温水ポンプ効率","%",{"$f":"IF(K8<80,ポンプ効率近似式!$D$14,-1.403*LN(K8/1000)^2+6.9719*LN(K8/1000)+53.781)","v":{"$error":"#N/A"}},"ポンプ効率近似式より",null,"日あたりの熱需要量","MJ/日",{"$f":"P6/P8","v":{"$error":"#N/A"}},{"$error":"#N/A"},{"$error":"#N/A"},{"$error":"#N/A"},{"$error":"#N/A"},{"$error":"#N/A"},{"$error":"#N/A"},{"$error":"#N/A"},{"$error":"#N/A"},{"$error":"#N/A"},{"$error":"#N/A"},{"$error":"#N/A"},{"$f":"SUM(P10:AA10)","v":{"$error":"#N/A"}},{"$f":"MAX(P10:AA10)","v":{"$error":"#N/A"}},{"$f":"MIN(P10:AA10)","v":{"$error":"#N/A"}}]
[null,"選択燃料の発熱量",{"$f":"VLOOKUP(D10,一次E換算!A3:D8,4,FALSE)","v":{"$error":"#N/A"}},{"$f":"VLOOKUP(D10,一次E換算!A3:D8,2,FALSE)","v":{"$error":"#N/A"}},null,null,null,null,"冷温水ポンプ消費電力","kW",{"$f":"$D$23*$D$25*K8/1000/60*K9/10/K10","v":{"$error":"#N/A"}},"ポンプ関数より",null,null,"kWh/日",{"$f":"P10*1000/3600","v":{"$error":"#N/A"}},{"$f":"Q10*1000/3600","v":{"$error":"#N/A"}},{"$error":"#N/A"},{"$error":"#N/A"},{"$error":"#N/A"},{"$error":"#N/A"},{"$error":"#N/A"},{"$error":"#N/A"},{"$error":"#N/A"},{"$error":"#N/A"},{"$error":"#N/A"},{"$error":"#N/A"},{"$f":"SUM(P11:AA11)","v":{"$error":"#N/A"}},{"$f":"MAX(P11:AA11)","v":{"$error":"#N/A"}},{"$f":"MIN(P11:AA11)","v":{"$error":"#N/A"}}]
[null,null,null,null,null,null,null,null,null,null,null,null,null,"熱源容量","kW",{"$f":"P11/P9","v":{"$error":"#N/A"}},{"$f":"Q11/Q9","v":{"$error":"#N/A"}},{"$error":"#N/A"},{"$error":"#N/A"},{"$error":"#N/A"},{"$error":"#N/A"},{"$error":"#N/A"},{"$error":"#N/A"},{"$error":"#N/A"},{"$error":"#N/A"},{"$error":"#N/A"},{"$error":"#N/A"},null,{"$f":"MAX(P12:AA12)","v":{"$error":"#N/A"}},{"$f":"MIN(P12:AA12)","v":{"$error":"#N/A"}}]
[null,null,null,null,null,null,null,null,null,null,null,null,null,"熱源機効率","-",0.9,0.9,0.9,0.9,0.9,0.9,0.9,0.9,0.9,0.9,0.9,0.9]
[null,null,null,null,null,null,null,null,null,null,null,null,null,"熱源機　燃料　必要発熱量","MJ/月",{"$f":"P6/P13","v":{"$error":"#N/A"}},{"$error":"#N/A"},{"$error":"#N/A"},{"$error":"#N/A"},{"$error":"#N/A"},{"$error":"#N/A"},{"$error":"#N/A"},{"$error":"#N/A"},{"$error":"#N/A"},{"$error":"#N/A"},{"$error":"#N/A"},{"$error":"#N/A"},{"$f":"SUM(P14:AA14)","v":{"$error":"#N/A"}},{"$f":"MAX(P14:AA14)","v":{"$error":"#N/A"}},{"$f":"MIN(P14:AA14)","v":{"$error":"#N/A"}}]
[null,null,null,null,null,null,null,null,null,null,null,null,null,null,"kWh/月",{"$f":"P7/P13","v":{"$error":"#N/A"}},{"$error":"#N/A"},{"$error":"#N/A"},{"$error":"#N/A"},{"$error":"#N/A"},{"$error":"#N/A"},{"$error":"#N/A"},{"$error":"#N/A"},{"$error":"#N/A"},{"$error":"#N/A"},{"$error":"#N/A"},{"$error":"#N/A"},{"$f":"SUM(P15:AA15)","v":{"$error":"#N/A"}},{"$f":"MAX(P15:AA15)","v":{"$error":"#N/A"}},{"$f":"MIN(P15:AA15)","v":{"$error":"#N/A"}}]
[null,null,null,null,null,null,null,null,null,null,null,null,null,"熱源機　燃料　消費量",{"$f":"RIGHT(C11,LEN(C11)-3)&\"/月\"","v":{"$error":"#N/A"}},{"$f":"P14/$D$11","v":{"$error":"#N/A"}},{"$error":"#N/A"},{"$error":"#N/A"},{"$error":"#N/A"},{"$error":"#N/A"},{"$error":"#N/A"},{"$error":"#N/A"},{"$error":"#N/A"},{"$error":"#N/A"},{"$error":"#N/A"},{"$error":"#N/A"},{"$error":"#N/A"},{"$f":"SUM(P16:AA16)","v":{"$error":"#N/A"}},{"$f":"MAX(P16:AA16)","v":{"$error":"#N/A"}},{"$f":"MIN(P16:AA16)","v":{"$error":"#N/A"}}]
[null,null,null,null,null,null,null,null,null,null,null,null,null,"冷温水ポンプ消費電力量","kWh/月",{"$f":"IF(P6=0,0,$K$11*P9*P8)","v":{"$error":"#N/A"}},{"$f":"IF(Q6=0,0,$K$11*Q9*Q8)","v":{"$error":"#N/A"}},{"$error":"#N/A"},{"$error":"#N/A"},{"$error":"#N/A"},{"$error":"#N/A"},{"$error":"#N/A"},{"$error":"#N/A"},{"$error":"#N/A"},{"$error":"#N/A"},{"$error":"#N/A"},{"$error":"#N/A"},{"$f":"SUM(P17:AA17)","v":{"$error":"#N/A"}}]
[null,null,null,null,null,null,null,null,null,null,null,null,null,"消費電力合計","kWh/月",{"$f":"P17","v":{"$error":"#N/A"}},{"$f":"Q17","v":{"$error":"#N/A"}},{"$error":"#N/A"},{"$error":"#N/A"},{"$error":"#N/A"},{"$error":"#N/A"},{"$error":"#N/A"},{"$error":"#N/A"},{"$error":"#N/A"},{"$error":"#N/A"},{"$error":"#N/A"},{"$error":"#N/A"},{"$f":"SUM(P18:AA18)","v":{"$error":"#N/A"}}]
[]
[null,"■係数"]
[null,"項目","値","単位","備考"]
[null,"水の比熱","kJ/kgK",{"$f":"係数・物性!D4","v":4.1790000000000003},"係数・物性より"]
[null,"水の密度","kg/m3",{"$f":"係数・物性!D5","v":996.62},"係数・物性より"]
[null,"容積比熱","MJ/m3K",{"$f":"係数・物性!D6","v":4.1648749800000004},"係数・物性より"]
[null,"重力加速度","m/s2",{"$f":"係数・物性!D7","v":9.8059999999999992},"係数・物性より",null,null,null,null,null,null,null,null,"熱源機　燃料　消費量",{"$f":"RIGHT(C11,LEN(C11)-3)&\"/月\"","v":{"$error":"#N/A"}},{"$f":"P16","v":{"$error":"#N/A"}},{"$f":"Q16","v":{"$error":"#N/A"}},{"$error":"#N/A"},{"$error":"#N/A"},{"$error":"#N/A"},{"$error":"#N/A"},{"$error":"#N/A"},{"$error":"#N/A"},{"$error":"#N/A"},{"$error":"#N/A"},{"$error":"#N/A"},{"$f":"AA16","v":{"$error":"#N/A"}},{"$f":"SUM(P25:AA25)","v":{"$error":"#N/A"}}]
[null,null,null,null,null,null,null,null,null,null,null,null,null,"補機類消費電力量","kWh/月",{"$f":"P17","v":{"$error":"#N/A"}},{"$error":"#N/A"},{"$error":"#N/A"},{"$error":"#N/A"},{"$error":"#N/A"},{"$error":"#N/A"},{"$error":"#N/A"},{"$error":"#N/A"},{"$error":"#N/A"},{"$error":"#N/A"},{"$error":"#N/A"},{"$f":"AA17","v":{"$error":"#N/A"}},{"$f":"SUM(P26:AA26)","v":{"$error":"#N/A"}}]
[]
[]
[null,null,null,null,null,null,null,null,"■エネルギーコスト、CO2排出量、一次エネルギー消費量計算（エネルギー消費量を入力）"]
[null,null,null,null,null,null,null,null,null,null,null,null,null,"□エネルギー消費量"]
[null,null,null,null,null,null,null,null,null,"設定セル",null,null,null,"項目","単位","4月","5月","6月","7月","8月","9月","10月","11月","12月","1月","2月","3月","合計","最大","最小","備考"]
[null,null,null,null,null,null,null,null,null,"変更設定していいセル（計算式が入力されている）",null,null,null,"電気","kWh/月",{"$f":"P18","v":{"$error":"#N/A"}},{"$error":"#N/A"},{"$error":"#N/A"},{"$error":"#N/A"},{"$error":"#N/A"},{"$error":"#N/A"},{"$error":"#N/A"},{"$error":"#N/A"},{"$error":"#N/A"},{"$error":"#N/A"},{"$error":"#N/A"},{"$error":"#N/A"},{"$f":"SUM(P32:AA32)","v":{"$error":"#N/A"}},{"$f":"MAX(P32:AA32)","v":{"$error":"#N/A"}},{"$f":"MIN(P32:AA32)","v":{"$error":"#N/A"}}]
[null,null,null,null,null,null,null,null,null,"あまり変更しなくていい設定セル",null,null,null,"都市ガス（13A）","m3/月",{"$f":"IF($D$10=$N33,P$16,0)","v":0},0,0,0,0,0,0,0,0,0,0,0,0,0,0]
[null,null,null,null,null,null,null,null,null,"デフォ値・係数",null,null,null,"灯油","L/月",0,0,0,0,0,0,0,0,0,0,0,0,0,0,0]
[null,null,null,null,null,null,null,null,null,"計算式・項目確認セル",null,null,null,"重油","LJ/月",0,0,0,0,0,0,0,0,0,0,0,0,0,0,0]
[null,null,null,null,null,null,null,null,null,null,null,null,null,"液化石油ガス（LPG）","kg/月",0,0,0,0,0,0,0,0,0,0,0,0,0,0,0]
[null,null,null,null,null,null,null,null,null,null,null,null,null,"他人から供給された熱","MJ/月",0,0,0,0,0,0,0,0,0,0,0,0,0,0,0]
[]
[]
[null,null,null,null,null,null,null,null,"□エネルギーコスト単価(フラットレート)",null,null,null,null,"□エネルギーコスト検討"]
[null,null,null,null,null,null,null,null,"項目","単位","値","備考",null,"項目","単位","4月","5月","6月","7月","8月","9月","10月","11月","12月","1月","2月","3月","合計","最大","最小","備考"]
[null,null,null,null,null,null,null,null,"電気","円/kWh",{"$f":"E単価!H5","v":14},null,null,"電気","千円/月",{"$f":"P32*$K42/1000","v":{"$error":"#N/A"}},{"$error":"#N/A"},{"$error":"#N/A"},{"$error":"#N/A"},{"$error":"#N/A"},{"$error":"#N/A"},{"$error":"#N/A"},{"$error":"#N/A"},{"$error":"#N/A"},{"$error":"#N/A"},{"$error":"#N/A"},{"$error":"#N/A"},{"$f":"SUM(P42:AA42)","v":{"$error":"#N/A"}},{"$f":"MAX(P42:AA42)","v":{"$error":"#N/A"}},{"$f":"MIN(P42:AA42)","v":{"$error":"#N/A"}}]
[null,null,null,null,null,null,null,null,"都市ガス（13A）","円/m3",{"$f":"E単価!H6","v":114.64285714285714},null,null,"都市ガス（13A）","千円/月",0,0,0,0,0,0,0,0,0,0,0,0,0,0,0]
[null,null,null,null,null,null,null,null,"灯油","円/L",{"$f":"E単価!H7","v":107.88888888888889},null,null,"灯油","千円/月",0,0,0,0,0,0,0,0,0,0,0,0,0,0,0]
[null,null,null,null,null,null,null,null,"重油","円/L",{"$f":"E単価!H8","v":76.099999999999994},null,null,"重油","千円/月",0,0,0,0,0,0,0,0,0,0,0,0,0,0,0]
[null,null,null,null,null,null,null,null,"液化石油ガス（LPG）","円/kg",{"$f":"E単価!H9","v":159.40476190476193},null,null,"液化石油ガス（LPG）","千円/月",0,0,0,0,0,0,0,0,0,0,0,0,0,0,0]
[null,null,null,null,null,null,null,null,"他人から供給された熱","円/GJ",{"$f":"E単価!H10","v":6611.9047619047615},null,null,"他人から供給された熱","千円/月",0,0,0,0,0,0,0,0,0,0,0,0,0,0,0]
[null,null,null,null,null,null,null,null,null,null,null,null,null,"エネルギーコスト合計","千円/月",{"$f":"SUM(P42:P47)","v":{"$error":"#N/A"}},{"$f":"SUM(Q42:Q47)","v":{"$error":"#N/A"}},{"$error":"#N/A"},{"$error":"#N/A"},{"$error":"#N/A"},{"$error":"#N/A"},{"$error":"#N/A"},{"$error":"#N/A"},{"$error":"#N/A"},{"$error":"#N/A"},{"$error":"#N/A"},{"$error":"#N/A"},{"$f":"SUM(AB42:AB47)","v":{"$error":"#N/A"}},{"$f":"SUM(AC42:AC47)","v":{"$error":"#N/A"}},{"$f":"SUM(AD42:AD47)","v":{"$error":"#N/A"}}]
[]
[null,null,null,null,null,null,null,null,"□CO2換算係数",null,null,null,null,"□CO2排出量"]
[null,null,null,null,null,null,null,null,"項目","単位","値","備考",null,"項目","単位","4月","5月","6月","7月","8月","9月","10月","11月","12月","1月","2月","3月","合計","最大","最小","備考"]
[null,null,null,null,null,null,null,null,"電気","tCO2/kWh",{"$f":"CO2換算係数!B3","v":4.8799999999999999E-4},null,null,"電気","t-CO2/月",{"$f":"P32*$K52","v":{"$error":"#N/A"}},{"$f":"Q32*$K52","v":{"$error":"#N/A"}},{"$error":"#N/A"},{"$error":"#N/A"},{"$error":"#N/A"},{"$error":"#N/A"},{"$error":"#N/A"},{"$error":"#N/A"},{"$error":"#N/A"},{"$error":"#N/A"},{"$error":"#N/A"},{"$f":"AA32*$K52","v":{"$error":"#N/A"}},{"$f":"SUM(P52:AA52)","v":{"$error":"#N/A"}},{"$f":"MAX(P52:AA52)","v":{"$error":"#N/A"}},{"$f":"MIN(P52:AA52)","v":{"$error":"#N/A"}}]
[null,null,null,null,null,null,null,null,"都市ガス（13A）","tCO2/km3",{"$f":"CO2換算係数!B4","v":2.23},null,null,"都市ガス（13A）","t-CO2/月",{"$f":"P33/1000*$K53","v":0},0,0,0,0,0,0,0,0,0,0,0,0,0,0]
[null,null,null,null,null,null,null,null,"灯油","tCO2/kL",{"$f":"CO2換算係数!B5","v":2.4900000000000002},null,null,"灯油","t-CO2/月",0,0,0,0,0,0,0,0,0,0,0,0,0,0,0]
[null,null,null,null,null,null,null,null,"重油","tCO2/kL",{"$f":"CO2換算係数!B6","v":2.71},null,null,"重油","t-CO2/月",0,0,0,0,0,0,0,0,0,0,0,0,0,0,0]
[null,null,null,null,null,null,null,null,"液化石油ガス（LPG）","tCO2/t",{"$f":"CO2換算係数!B7","v":3},null,null,"液化石油ガス（LPG）","t-CO2/月",0,0,0,0,0,0,0,0,0,0,0,0,0,0,0]
[null,null,null,null,null,null,null,null,"他人から供給された熱","tCO2/GJ",{"$f":"CO2換算係数!B8","v":5.7000000000000002E-2},null,null,"他人から供給された熱","t-CO2/月",0,0,0,0,0,0,0,0,0,0,0,0,0,0,0]
[null,null,null,null,null,null,null,null,null,null,null,null,null,"CO2排出量合計","t-CO2/月",{"$f":"SUM(P52:P57)","v":{"$error":"#N/A"}},{"$f":"SUM(Q52:Q57)","v":{"$error":"#N/A"}},{"$error":"#N/A"},{"$error":"#N/A"},{"$error":"#N/A"},{"$error":"#N/A"},{"$error":"#N/A"},{"$error":"#N/A"},{"$error":"#N/A"},{"$error":"#N/A"},{"$error":"#N/A"},{"$error":"#N/A"},{"$f":"SUM(AB52:AB57)","v":{"$error":"#N/A"}},{"$error":"#N/A"},{"$error":"#N/A"}]
[]
[null,null,null,null,null,null,null,null,"□一次エネルギー換算係数",null,null,null,null,"□一次エネルギー消費量"]
[null,null,null,null,null,null,null,null,"項目","単位","値","備考",null,"項目","単位","4月","5月","6月","7月","8月","9月","10月","11月","12月","1月","2月","3月","合計","最大","最小","備考"]
[null,null,null,null,null,null,null,null,"電気","MJ/kWh",{"$f":"一次E換算!B3","v":9.76},null,null,"電気","MJ/月",{"$f":"P32*$K62","v":{"$error":"#N/A"}},{"$error":"#N/A"},{"$error":"#N/A"},{"$error":"#N/A"},{"$error":"#N/A"},{"$error":"#N/A"},{"$error":"#N/A"},{"$error":"#N/A"},{"$error":"#N/A"},{"$error":"#N/A"},{"$error":"#N/A"},{"$error":"#N/A"},{"$f":"SUM(P62:AA62)","v":{"$error":"#N/A"}},{"$f":"MAX(P62:AA62)","v":{"$error":"#N/A"}},{"$f":"MIN(P62:AA62)","v":{"$error":"#N/A"}}]
[null,null,null,null,null,null,null,null,"都市ガス（13A）","MJ/m3",{"$f":"一次E換算!B4","v":45},null,null,"都市ガス（13A）","MJ/月",0,0,0,0,0,0,0,0,0,0,0,0,0,0,0]
[null,null,null,null,null,null,null,null,"灯油","MJ/L",{"$f":"一次E換算!B5","v":37},null,null,"灯油","MJ/月",0,0,0,0,0,0,0,0,0,0,0,0,0,0,0]
[null,null,null,null,null,null,null,null,"重油","MJ/L",{"$f":"一次E換算!B6","v":41},null,null,"重油","MJ/月",0,0,0,0,0,0,0,0,0,0,0,0,0,0,0]
[null,null,null,null,null,null,null,null,"液化石油ガス（LPG）","MJ/kg",{"$f":"一次E換算!B7","v":50},null,null,"液化石油ガス（LPG）","MJ/月",0,0,0,0,0,0,0,0,0,0,0,0,0,0,0]
[null,null,null,null,null,null,null,null,"他人から供給された熱","MJ/MJ",{"$f":"一次E換算!B8","v":1.36},null,null,"他人から供給された熱","MJ/月",0,0,0,0,0,0,0,0,0,0,0,0,0,0,0]
[null,null,null,null,null,null,null,null,null,null,null,null,null,"一次エネルギー消費量合計","MJ/月",{"$f":"SUM(P62:P67)","v":{"$error":"#N/A"}},{"$error":"#N/A"},{"$error":"#N/A"},{"$error":"#N/A"},{"$error":"#N/A"},{"$error":"#N/A"},{"$error":"#N/A"},{"$error":"#N/A"},{"$error":"#N/A"},{"$error":"#N/A"},{"$error":"#N/A"},{"$error":"#N/A"},{"$error":"#N/A"},{"$error":"#N/A"},{"$error":"#N/A"}]
[]
[]
[null,null,null,null,null,null,null,null,"■熱源機エネルギーコスト、CO2排出量、一次エネルギー消費量計算（エネルギー消費量を入力）"]
[null,null,null,null,null,null,null,null,null,null,null,null,null,"□エネルギー消費量"]
[null,null,null,null,null,null,null,null,null,"設定セル",null,null,null,"項目","単位","4月","5月","6月","7月","8月","9月","10月","11月","12月","1月","2月","3月","合計","最大","最小","備考"]
[null,null,null,null,null,null,null,null,null,"変更設定していいセル（計算式が入力されている）",null,null,null,"電気","kWh/月",null,null,null,null,null,null,null,null,null,null,null,null,{"$f":"SUM(P74:AA74)","v":0},{"$f":"MAX(P74:AA74)","v":0},{"$f":"MIN(P74:AA74)","v":0}]
[null,null,null,null,null,null,null,null,null,"あまり変更しなくていい設定セル",null,null,null,"都市ガス（13A）","m3/月",{"$f":"IF($D$10=$N75,P$16,0)","v":0},{"$f":"IF($D$10=$N75,Q$16,0)","v":0},0,0,0,0,0,0,0,0,0,0,0,0,0]
[null,null,null,null,null,null,null,null,null,"デフォ値・係数",null,null,null,"灯油","L/月",{"$f":"IF($D$10=$N76,P$16,0)","v":0},0,0,0,0,0,0,0,0,0,0,0,0,0,0]
[null,null,null,null,null,null,null,null,null,"計算式・項目確認セル",null,null,null,"重油","LJ/月",0,0,0,0,0,0,0,0,0,0,0,{"$f":"IF($D$10=$N77,AA$16,0)","v":0},0,0,0]
[null,null,null,null,null,null,null,null,null,null,null,null,null,"液化石油ガス（LPG）","kg/月",0,0,0,0,0,0,0,0,0,0,0,0,0,0,0]
[null,null,null,null,null,null,null,null,null,null,null,null,null,"他人から供給された熱","MJ/月",0,0,0,0,0,0,0,0,0,0,0,{"$f":"IF($D$10=$N79,AA$16,0)","v":0},0,0,0]
[]
[]
[null,null,null,null,null,null,null,null,"□エネルギーコスト単価(フラットレート)",null,null,null,null,"□エネルギーコスト検討"]
[null,null,null,null,null,null,null,null,"項目","単位","値","備考",null,"項目","単位","4月","5月","6月","7月","8月","9月","10月","11月","12月","1月","2月","3月","合計","最大","最小","備考"]
[null,null,null,null,null,null,null,null,"電気","円/kWh",{"$f":"K42","v":14},null,null,"電気","千円/月",{"$f":"P74*$K84/1000","v":0},0,0,0,0,0,0,0,0,0,0,0,{"$f":"SUM(P84:AA84)","v":0},{"$f":"MAX(P84:AA84)","v":0},{"$f":"MIN(P84:AA84)","v":0}]
[null,null,null,null,null,null,null,null,"都市ガス（13A）","円/m3",{"$f":"K43","v":114.64285714285714},null,null,"都市ガス（13A）","千円/月",{"$f":"P75*$K85/1000","v":0},0,0,0,0,0,0,0,0,0,0,0,0,0,0]
[null,null,null,null,null,null,null,null,"灯油","円/L",107.88888888888889,null,null,"灯油","千円/月",{"$f":"P76*$K86/1000","v":0},0,0,0,0,0,0,0,0,0,0,0,0,0,0]
[null,null,null,null,null,null,null,null,"重油","円/L",76.099999999999994,null,null,"重油","千円/月",{"$f":"P77*$K87/1000","v":0},0,0,0,0,0,0,0,0,0,0,0,0,0,0]
[null,null,null,null,null,null,null,null,"液化石油ガス（LPG）","円/kg",159.40476190476193,null,null,"液化石油ガス（LPG）","千円/月",{"$f":"P78*$K88/1000","v":0},0,0,0,0,0,0,0,0,0,0,0,0,0,0]
[null,null,null,null,null,null,null,null,"他人から供給された熱","円/GJ",6611.9047619047615,null,null,"他人から供給された熱","千円/月",{"$f":"P79*$K89/1000","v":0},0,0,0,0,0,0,0,0,0,0,0,0,0,0]
[null,null,null,null,null,null,null,null,null,null,null,null,null,"エネルギーコスト合計","千円/月",{"$f":"SUM(P84:P89)","v":0},{"$f":"SUM(Q84:Q89)","v":0},0,{"$f":"SUM(S84:S89)","v":0},0,0,0,0,0,0,0,0,{"$f":"SUM(AB84:AB89)","v":0},{"$f":"SUM(AC84:AC89)","v":0},{"$f":"SUM(AD84:AD89)","v":0}]
[]
[null,null,null,null,null,null,null,null,"□CO2換算係数",null,null,null,null,"□CO2排出量"]
[null,null,null,null,null,null,null,null,"項目","単位","値","備考",null,"項目","単位","4月","5月","6月","7月","8月","9月","10月","11月","12月","1月","2月","3月","合計","最大","最小","備考"]
[null,null,null,null,null,null,null,null,"電気","tCO2/kWh",{"$f":"K52","v":4.8799999999999999E-4},null,null,"電気","t-CO2/月",{"$f":"P74*$K94","v":0},0,0,0,0,0,0,0,0,0,0,0,{"$f":"SUM(P94:AA94)","v":0},{"$f":"MAX(P94:AA94)","v":0},{"$f":"MIN(P94:AA94)","v":0}]
[null,null,null,null,null,null,null,null,"都市ガス（13A）","tCO2/km3",{"$f":"K53","v":2.23},null,null,"都市ガス（13A）","t-CO2/月",{"$f":"P75/1000*$K95","v":0},0,0,0,0,0,0,0,0,0,0,0,0,0,0]
[null,null,null,null,null,null,null,null,"灯油","tCO2/kL",2.4900000000000002,null,null,"灯油","t-CO2/月",{"$f":"P76/1000*$K96","v":0},0,0,0,0,0,0,0,0,0,0,0,0,0,0]
[null,null,null,null,null,null,null,null,"重油","tCO2/kL",2.71,null,null,"重油","t-CO2/月",{"$f":"P77/1000*$K97","v":0},0,0,0,0,0,0,0,0,0,0,0,0,0,0]
[null,null,null,null,null,null,null,null,"液化石油ガス（LPG）","tCO2/t",3,null,null,"液化石油ガス（LPG）","t-CO2/月",{"$f":"P78/1000*$K98","v":0},0,0,0,0,0,0,0,0,0,0,0,0,0,0]
[null,null,null,null,null,null,null,null,"他人から供給された熱","tCO2/GJ",5.7000000000000002E-2,null,null,"他人から供給された熱","t-CO2/月",{"$f":"P79/1000*$K99","v":0},0,0,0,0,0,0,0,0,0,0,0,0,0,0]
[null,null,null,null,null,null,null,null,null,null,null,null,null,"CO2排出量合計","t-CO2/月",{"$f":"SUM(P94:P99)","v":0},{"$f":"SUM(Q94:Q99)","v":0},0,0,0,0,0,0,0,0,0,{"$f":"SUM(AA94:AA99)","v":0},{"$f":"SUM(AB94:AB99)","v":0},{"$f":"SUM(AC94:AC99)","v":0},0]
[]
[null,null,null,null,null,null,null,null,"□一次エネルギー換算係数",null,null,null,null,"□一次エネルギー消費量"]
[null,null,null,null,null,null,null,null,"項目","単位","値","備考",null,"項目","単位","4月","5月","6月","7月","8月","9月","10月","11月","12月","1月","2月","3月","合計","最大","最小","備考"]
[null,null,null,null,null,null,null,null,"電気","MJ/kWh",{"$f":"K62","v":9.76},null,null,"電気","MJ/月",{"$f":"P74*$K104","v":0},0,0,0,0,0,0,0,0,0,0,0,{"$f":"SUM(P104:AA104)","v":0},{"$f":"MAX(P104:AA104)","v":0},{"$f":"MIN(P104:AA104)","v":0}]
[null,null,null,null,null,null,null,null,"都市ガス（13A）","MJ/m3",{"$f":"K63","v":45},null,null,"都市ガス（13A）","MJ/月",{"$f":"P75*$K105","v":0},0,0,0,0,0,0,0,0,0,0,0,0,0,0]
[null,null,null,null,null,null,null,null,"灯油","MJ/L",37,null,null,"灯油","MJ/月",{"$f":"P76*$K106","v":0},0,0,0,0,0,0,0,0,0,0,0,0,0,0]
[null,null,null,null,null,null,null,null,"重油","MJ/L",41,null,null,"重油","MJ/月",{"$f":"P77*$K107","v":0},0,0,0,0,0,0,0,0,0,0,0,0,0,0]
[null,null,null,null,null,null,null,null,"液化石油ガス（LPG）","MJ/kg",50,null,null,"液化石油ガス（LPG）","MJ/月",{"$f":"P78*$K108","v":0},0,0,0,0,0,0,0,0,0,0,0,0,0,0]
[null,null,null,null,null,null,null,null,"他人から供給された熱","MJ/MJ",1.36,null,null,"他人から供給された熱","MJ/月",{"$f":"P79*$K109","v":0},0,0,0,0,0,0,0,0,0,0,0,0,0,0]
[null,null,null,null,null,null,null,null,null,null,null,null,null,"一次エネルギー消費量合計","MJ/月",{"$f":"SUM(P104:P109)","v":0},0,0,0,0,0,0,0,0,0,0,{"$f":"SUM(AA104:AA109)","v":0},0,0,0]
[]
[]
[null,null,null,null,null,null,null,null,"■補機類エネルギーコスト、CO2排出量、一次エネルギー消費量計算（エネルギー消費量を入力）"]
[null,null,null,null,null,null,null,null,null,null,null,null,null,"□エネルギー消費量"]
[null,null,null,null,null,null,null,null,null,"設定セル",null,null,null,"項目","単位","4月","5月","6月","7月","8月","9月","10月","11月","12月","1月","2月","3月","合計","最大","最小","備考"]
[null,null,null,null,null,null,null,null,null,"変更設定していいセル（計算式が入力されている）",null,null,null,"電気","kWh/月",{"$f":"P26","v":{"$error":"#N/A"}},{"$error":"#N/A"},{"$error":"#N/A"},{"$error":"#N/A"},{"$error":"#N/A"},{"$error":"#N/A"},{"$error":"#N/A"},{"$error":"#N/A"},{"$error":"#N/A"},{"$error":"#N/A"},{"$error":"#N/A"},{"$error":"#N/A"},{"$f":"SUM(P116:AA116)","v":{"$error":"#N/A"}},{"$f":"MAX(P116:AA116)","v":{"$error":"#N/A"}},{"$f":"MIN(P116:AA116)","v":{"$error":"#N/A"}}]
[null,null,null,null,null,null,null,null,null,"あまり変更しなくていい設定セル",null,null,null,"都市ガス（13A）","m3/月",null,null,null,null,null,null,null,null,null,null,null,null,0,0,0]
[null,null,null,null,null,null,null,null,null,"デフォ値・係数",null,null,null,"灯油","L/月",null,null,null,null,null,null,null,null,null,null,null,null,0,0,0]
[null,null,null,null,null,null,null,null,null,"計算式・項目確認セル",null,null,null,"重油","LJ/月",null,null,null,null,null,null,null,null,null,null,null,null,0,0,0]
[null,null,null,null,null,null,null,null,null,null,null,null,null,"液化石油ガス（LPG）","kg/月",null,null,null,null,null,null,null,null,null,null,null,null,0,0,0]
[null,null,null,null,null,null,null,null,null,null,null,null,null,"他人から供給された熱","MJ/月",null,null,null,null,null,null,null,null,null,null,null,null,0,0,0]
[]
[]
[null,null,null,null,null,null,null,null,"□エネルギーコスト単価(フラットレート)",null,null,null,null,"□エネルギーコスト検討"]
[null,null,null,null,null,null,null,null,"項目","単位","値","備考",null,"項目","単位","4月","5月","6月","7月","8月","9月","10月","11月","12月","1月","2月","3月","合計","最大","最小","備考"]
[null,null,null,null,null,null,null,null,"電気","円/kWh",{"$f":"K84","v":14},null,null,"電気","千円/月",{"$f":"P116*$K126/1000","v":{"$error":"#N/A"}},{"$error":"#N/A"},{"$error":"#N/A"},{"$error":"#N/A"},{"$error":"#N/A"},{"$error":"#N/A"},{"$error":"#N/A"},{"$error":"#N/A"},{"$error":"#N/A"},{"$error":"#N/A"},{"$error":"#N/A"},{"$error":"#N/A"},{"$f":"SUM(P126:AA126)","v":{"$error":"#N/A"}},{"$f":"MAX(P126:AA126)","v":{"$error":"#N/A"}},{"$f":"MIN(P126:AA126)","v":{"$error":"#N/A"}}]
[null,null,null,null,null,null,null,null,"都市ガス（13A）","円/m3",{"$f":"K85","v":114.64285714285714},null,null,"都市ガス（13A）","千円/月",{"$f":"P117*$K127/1000","v":0},0,0,0,0,0,0,0,0,0,0,0,0,0,0]
[null,null,null,null,null,null,null,null,"灯油","円/L",107.88888888888889,null,null,"灯油","千円/月",{"$f":"P118*$K128/1000","v":0},0,0,0,0,0,0,0,0,0,0,0,0,0,0]
[null,null,null,null,null,null,null,null,"重油","円/L",76.099999999999994,null,null,"重油","千円/月",{"$f":"P119*$K129/1000","v":0},0,0,0,0,0,0,0,0,0,0,0,0,0,0]
[null,null,null,null,null,null,null,null,"液化石油ガス（LPG）","円/kg",159.40476190476193,null,null,"液化石油ガス（LPG）","千円/月",{"$f":"P120*$K130/1000","v":0},0,0,0,0,0,0,0,0,0,0,0,0,0,0]
[null,null,null,null,null,null,null,null,"他人から供給された熱","円/GJ",6611.9047619047615,null,null,"他人から供給された熱","千円/月",{"$f":"P121*$K131/1000","v":0},0,0,0,0,0,0,0,0,0,0,0,0,0,0]
[null,null,null,null,null,null,null,null,null,null,null,null,null,"エネルギーコスト合計","千円/月",{"$f":"SUM(P126:P131)","v":{"$error":"#N/A"}},{"$f":"SUM(Q126:Q131)","v":{"$error":"#N/A"}},{"$error":"#N/A"},{"$error":"#N/A"},{"$error":"#N/A"},{"$error":"#N/A"},{"$error":"#N/A"},{"$error":"#N/A"},{"$error":"#N/A"},{"$error":"#N/A"},{"$error":"#N/A"},{"$f":"SUM(AA126:AA131)","v":{"$error":"#N/A"}},{"$f":"SUM(AB126:AB131)","v":{"$error":"#N/A"}},{"$f":"SUM(AC126:AC131)","v":{"$error":"#N/A"}},{"$f":"SUM(AD126:AD131)","v":{"$error":"#N/A"}}]
[]
[null,null,null,null,null,null,null,null,"□CO2換算係数",null,null,null,null,"□CO2排出量"]
[null,null,null,null,null,null,null,null,"項目","単位","値","備考",null,"項目","単位","4月","5月","6月","7月","8月","9月","10月","11月","12月","1月","2月","3月","合計","最大","最小","備考"]
[null,null,null,null,null,null,null,null,"電気","tCO2/kWh",{"$f":"K94","v":4.8799999999999999E-4},null,null,"電気","t-CO2/月",{"$f":"P116*$K136","v":{"$error":"#N/A"}},{"$error":"#N/A"},{"$error":"#N/A"},{"$error":"#N/A"},{"$error":"#N/A"},{"$error":"#N/A"},{"$error":"#N/A"},{"$error":"#N/A"},{"$error":"#N/A"},{"$error":"#N/A"},{"$error":"#N/A"},{"$error":"#N/A"},{"$f":"SUM(P136:AA136)","v":{"$error":"#N/A"}},{"$f":"MAX(P136:AA136)","v":{"$error":"#N/A"}},{"$f":"MIN(P136:AA136)","v":{"$error":"#N/A"}}]
[null,null,null,null,null,null,null,null,"都市ガス（13A）","tCO2/km3",{"$f":"K95","v":2.23},null,null,"都市ガス（13A）","t-CO2/月",{"$f":"P117/1000*$K137","v":0},0,0,0,0,0,0,0,0,0,0,0,0,0,0]
[null,null,null,null,null,null,null,null,"灯油","tCO2/kL",2.4900000000000002,null,null,"灯油","t-CO2/月",{"$f":"P118/1000*$K138","v":0},0,0,0,0,0,0,0,0,0,0,0,0,0,0]
[null,null,null,null,null,null,null,null,"重油","tCO2/kL",2.71,null,null,"重油","t-CO2/月",{"$f":"P119/1000*$K139","v":0},0,0,0,0,0,0,0,0,0,0,0,0,0,0]
[null,null,null,null,null,null,null,null,"液化石油ガス（LPG）","tCO2/t",3,null,null,"液化石油ガス（LPG）","t-CO2/月",{"$f":"P120/1000*$K140","v":0},0,0,0,0,0,0,0,0,0,0,0,0,0,0]
[null,null,null,null,null,null,null,null,"他人から供給された熱","tCO2/GJ",5.7000000000000002E-2,null,null,"他人から供給された熱","t-CO2/月",{"$f":"P121/1000*$K141","v":0},0,0,0,0,0,0,0,0,0,0,0,0,0,0]
[null,null,null,null,null,null,null,null,null,null,null,null,null,"CO2排出量合計","t-CO2/月",{"$f":"SUM(P136:P141)","v":{"$error":"#N/A"}},{"$f":"SUM(Q136:Q141)","v":{"$error":"#N/A"}},{"$error":"#N/A"},{"$error":"#N/A"},{"$error":"#N/A"},{"$error":"#N/A"},{"$error":"#N/A"},{"$error":"#N/A"},{"$error":"#N/A"},{"$error":"#N/A"},{"$error":"#N/A"},{"$f":"SUM(AA136:AA141)","v":{"$error":"#N/A"}},{"$f":"SUM(AB136:AB141)","v":{"$error":"#N/A"}},{"$f":"SUM(AC136:AC141)","v":{"$error":"#N/A"}},{"$error":"#N/A"}]
[]
[null,null,null,null,null,null,null,null,"□一次エネルギー換算係数",null,null,null,null,"□一次エネルギー消費量"]
[null,null,null,null,null,null,null,null,"項目","単位","値","備考",null,"項目","単位","4月","5月","6月","7月","8月","9月","10月","11月","12月","1月","2月","3月","合計","最大","最小","備考"]
[null,null,null,null,null,null,null,null,"電気","MJ/kWh",{"$f":"K104","v":9.76},null,null,"電気","MJ/月",{"$f":"P116*$K146","v":{"$error":"#N/A"}},{"$error":"#N/A"},{"$error":"#N/A"},{"$error":"#N/A"},{"$error":"#N/A"},{"$error":"#N/A"},{"$error":"#N/A"},{"$error":"#N/A"},{"$error":"#N/A"},{"$error":"#N/A"},{"$error":"#N/A"},{"$error":"#N/A"},{"$f":"SUM(P146:AA146)","v":{"$error":"#N/A"}},{"$f":"MAX(P146:AA146)","v":{"$error":"#N/A"}},{"$f":"MIN(P146:AA146)","v":{"$error":"#N/A"}}]
[null,null,null,null,null,null,null,null,"都市ガス（13A）","MJ/m3",{"$f":"K105","v":45},null,null,"都市ガス（13A）","MJ/月",{"$f":"P117*$K147","v":0},0,0,0,0,0,0,0,0,0,0,0,0,0,0]
[null,null,null,null,null,null,null,null,"灯油","MJ/L",37,null,null,"灯油","MJ/月",{"$f":"P118*$K148","v":0},0,0,0,0,0,0,0,0,0,0,0,0,0,0]
[null,null,null,null,null,null,null,null,"重油","MJ/L",41,null,null,"重油","MJ/月",{"$f":"P119*$K149","v":0},0,0,0,0,0,0,0,0,0,0,0,0,0,0]
[null,null,null,null,null,null,null,null,"液化石油ガス（LPG）","MJ/kg",50,null,null,"液化石油ガス（LPG）","MJ/月",{"$f":"P120*$K150","v":0},0,0,0,0,0,0,0,0,0,0,0,0,0,0]
[null,null,null,null,null,null,null,null,"他人から供給された熱","MJ/MJ",1.36,null,null,"他人から供給された熱","MJ/月",{"$f":"P121*$K151","v":0},0,0,0,0,0,0,0,0,0,0,0,0,0,0]
[null,null,null,null,null,null,null,null,null,null,null,null,null,"一次エネルギー消費量合計","MJ/月",{"$f":"SUM(P146:P151)","v":{"$error":"#N/A"}},{"$error":"#N/A"},{"$error":"#N/A"},{"$error":"#N/A"},{"$error":"#N/A"},{"$error":"#N/A"},{"$error":"#N/A"},{"$error":"#N/A"},{"$error":"#N/A"},{"$error":"#N/A"},{"$error":"#N/A"},{"$f":"SUM(AA146:AA151)","v":{"$error":"#N/A"}},{"$error":"#N/A"},{"$error":"#N/A"},{"$error":"#N/A"}]

{"sheet":"残り需要_既存_燃料_融雪_IC","index":51,"n_rows":30,"n_cols":16,"rows_kept":30,"cut":false,"hidden":true,"merged":[[27,1,27,2],[28,1,28,2],[29,1,29,2],[4,1,16,1],[17,1,19,1],[20,1,23,1],[24,1,24,2],[25,1,25,2],[26,1,26,2]]}
[null,"■イニシャルコスト算出"]
[]
[null,"比較対象_既存_燃料_融雪"]
[null,null,"名称","摘要","単価[千円]","数量","単位","金額[千円]","備考","memo",null,null,null,null,"価格関数代入値","単位"]
[null,"機械工事","熱源機（ボイラ）",null,{"$f":"IF(O5=0,0,価格関数!E13*O5+価格関数!F13)","v":{"$error":"#N/A"}},1,"台",{"$f":"F5*E5","v":{"$error":"#N/A"}},null,"価格関数",null,null,null,"熱源容量",{"$f":"残り需要_既存_燃料_融雪_RC!K6","v":{"$error":"#N/A"}},"kW"]
[null,null,"冷温水ポンプ",null,{"$f":"IF(O6=0,0,価格関数!$E$21*O6+価格関数!$F$21)","v":{"$error":"#N/A"}},1,"台",{"$f":"F6*E6","v":{"$error":"#N/A"}},null,"価格関数",null,null,null,"ポンプ出力",{"$f":"残り需要_既存_燃料_融雪_RC!K11","v":{"$error":"#N/A"}},"kW"]
[]
[]
[]
[]
[]
[]
[]
[null,null,"自動制御",null,null,1,"式",{"$f":"INT(SUM(H5:H13)*I14)","v":{"$error":"#N/A"}},0.2,"概算　事例等より設定"]
[null,null,"その他配管","概算（付属品込）",null,1,"式",{"$f":"INT(SUM(H5:H14)*I15)","v":{"$error":"#N/A"}},0.1,"配管費=機器類×5~10%と設定"]
[]
[null,null,"小計",null,null,null,null,{"$f":"SUM(H5:H16)","v":{"$error":"#N/A"}}]
[null,"電気工事","概算","概算",null,null,null,{"$f":"INT(H17*I18)","v":{"$error":"#N/A"}},0.3]
[]
[null,null,"小計",null,null,null,null,{"$f":"SUM(H18:H19)","v":{"$error":"#N/A"}}]
[null,"土工事"]
[]
[]
[null,null,"小計",null,null,null,null,{"$f":"SUM(H21:H23)","v":0}]
[null,"直接工事費",null,null,null,null,null,{"$f":"H24+H20+H17","v":{"$error":"#N/A"}}]
[null,"間接工事費",null,null,null,1,"式",{"$f":"INT(H25*0.3)","v":{"$error":"#N/A"}},"直接工事費×30%"]
[null,"工事原価",null,null,null,1,"式",{"$f":"H25+H26","v":{"$error":"#N/A"}}]
[null,"消費税",null,null,null,1,"式"]
[]
[null,"合計",null,null,null,null,null,{"$f":"H27+H28","v":{"$error":"#N/A"}}]

{"sheet":"太陽熱_ポテンシャル・RC・IC","index":52,"n_rows":104,"n_cols":31,"rows_kept":104,"cut":false,"hidden":true,"merged":[]}
[]
[null,"■集熱器コスト",null,null,null,null,"■太陽熱利用システム　単位面積あたりの集熱量"]
[null,"集熱器タイプ","有効集熱面積1m2当たりの単価","備考",null,null,"項目","項目","記号","単位","4月","5月","6月","7月","8月","9月","10月","11月","12月","1月","2月","3月","合計","最大","最小","備考"]
[null,"真空ガラス管型集熱器","87.3 [千円/m2]","（N=37）",null,null,"受熱面日射量の算定","設置場所","-","-",{"$f":"入力シート!C7","v":0},{"$f":"K4","v":0},{"$f":"L4","v":0},0,0,0,0,0,0,0,0,0]
[null,"平板形集熱器","53.5 [千円/m2]","（N=13）",null,null,null,"方位角","α","°",0,0,0,0,0,0,0,0,0,0,0,0]
[null,null,null,null,null,null,null,"傾斜角","γ","°",30,30,30,30,30,30,30,30,30,30,30,30]
[null,"■有効集熱面積100m2とした場合の導入費用内訳（試算値）",null,null,null,null,null,"集熱器ガラス汚れ係数","ηD","%",0.05,0.05,0.05,0.05,0.05,0.05,0.05,0.05,0.05,0.05,0.05,0.05,null,null,null,"ガラスの汚れにより集熱量が5%低下すると想定"]
[null,"項目","金額[千円]","N","備考",null,null,"水平面日射量","JHT","MJ/m2日",{"$f":"太陽熱_月平均水平面日射量!V3","v":{"$error":"#N/A"}},{"$f":"太陽熱_月平均水平面日射量!W3","v":{"$error":"#N/A"}},{"$f":"太陽熱_月平均水平面日射量!X3","v":{"$error":"#N/A"}},{"$f":"太陽熱_月平均水平面日射量!Y3","v":{"$error":"#N/A"}},{"$f":"太陽熱_月平均水平面日射量!Z3","v":{"$error":"#N/A"}},{"$f":"太陽熱_月平均水平面日射量!AA3","v":{"$error":"#N/A"}},{"$f":"太陽熱_月平均水平面日射量!AB3","v":{"$error":"#N/A"}},{"$f":"太陽熱_月平均水平面日射量!AC3","v":{"$error":"#N/A"}},{"$f":"太陽熱_月平均水平面日射量!AD3","v":{"$error":"#N/A"}},{"$f":"太陽熱_月平均水平面日射量!S3","v":{"$error":"#N/A"}},{"$f":"太陽熱_月平均水平面日射量!T3","v":{"$error":"#N/A"}},{"$f":"太陽熱_月平均水平面日射量!U3","v":{"$error":"#N/A"}},null,null,null,"参考表4.1.1より"]
[null,"施工費 ",11541,23,null,null,null,"傾斜角による日射量倍率","Kγ","-",{"$f":"太陽熱_傾斜角による日射量倍率!V3","v":{"$error":"#N/A"}},{"$f":"太陽熱_傾斜角による日射量倍率!W3","v":{"$error":"#N/A"}},{"$f":"太陽熱_傾斜角による日射量倍率!X3","v":{"$error":"#N/A"}},{"$f":"太陽熱_傾斜角による日射量倍率!Y3","v":{"$error":"#N/A"}},{"$f":"太陽熱_傾斜角による日射量倍率!Z3","v":{"$error":"#N/A"}},{"$f":"太陽熱_傾斜角による日射量倍率!AA3","v":{"$error":"#N/A"}},{"$f":"太陽熱_傾斜角による日射量倍率!AB3","v":{"$error":"#N/A"}},{"$f":"太陽熱_傾斜角による日射量倍率!AC3","v":{"$error":"#N/A"}},{"$f":"太陽熱_傾斜角による日射量倍率!AD3","v":{"$error":"#N/A"}},{"$f":"太陽熱_傾斜角による日射量倍率!S3","v":{"$error":"#N/A"}},{"$f":"太陽熱_傾斜角による日射量倍率!T3","v":{"$error":"#N/A"}},{"$f":"太陽熱_傾斜角による日射量倍率!U3","v":{"$error":"#N/A"}},null,null,null,"参考図4.1.1より　参考資料3)より作成"]
[null,"真空ガラス管型集熱器",8674,37,null,null,null,"方位角による日射量倍率","Kα","-",1,1,1,1,1,1,1,1,1,1,1,1,null,null,null,"参考図4.1.2より 南に固定"]
[null,"蓄熱槽費用",3345,19,"蓄熱槽容量7.0 [m3]",null,null,"受熱面日射量","JT","MJ/m2日",{"$f":"K8*K9*K10*(1-K7)","v":{"$error":"#N/A"}},{"$f":"L8*L9*L10*(1-L7)","v":{"$error":"#N/A"}},{"$f":"M8*M9*M10*(1-M7)","v":{"$error":"#N/A"}},{"$error":"#N/A"},{"$error":"#N/A"},{"$error":"#N/A"},{"$error":"#N/A"},{"$error":"#N/A"},{"$error":"#N/A"},{"$error":"#N/A"},{"$error":"#N/A"},{"$error":"#N/A"}]
[null,"熱交換器",724,9,null,null,"全日集熱効率の算定","給水栓温度",null,"℃",{"$f":"太陽熱_月平均給水温度!V3","v":{"$error":"#N/A"}},{"$f":"太陽熱_月平均給水温度!W3","v":{"$error":"#N/A"}},{"$f":"太陽熱_月平均給水温度!X3","v":{"$error":"#N/A"}},{"$f":"太陽熱_月平均給水温度!Y3","v":{"$error":"#N/A"}},{"$f":"太陽熱_月平均給水温度!Z3","v":{"$error":"#N/A"}},{"$f":"太陽熱_月平均給水温度!AA3","v":{"$error":"#N/A"}},{"$f":"太陽熱_月平均給水温度!AB3","v":{"$error":"#N/A"}},{"$f":"太陽熱_月平均給水温度!AC3","v":{"$error":"#N/A"}},{"$f":"太陽熱_月平均給水温度!AD3","v":{"$error":"#N/A"}},{"$f":"太陽熱_月平均給水温度!S3","v":{"$error":"#N/A"}},{"$f":"太陽熱_月平均給水温度!T3","v":{"$error":"#N/A"}},{"$f":"太陽熱_月平均給水温度!U3","v":{"$error":"#N/A"}},null,null,null,"参考表4.1.2の給水栓温度より"]
[null,"補助ボイラ",1761,6,null,null,null,"蓄熱槽の集熱開始時水温","Tst","℃",{"$f":"K12*1.2","v":{"$error":"#N/A"}},{"$f":"L12*1.2","v":{"$error":"#N/A"}},{"$error":"#N/A"},{"$error":"#N/A"},{"$error":"#N/A"},{"$error":"#N/A"},{"$error":"#N/A"},{"$error":"#N/A"},{"$error":"#N/A"},{"$error":"#N/A"},{"$error":"#N/A"},{"$error":"#N/A"},null,null,null,"参考表4.1.2の給水栓温度より給水栓温度×1.2と仮定"]
[null,"その他付帯設備等",3135,22,null,null,null,"蓄熱槽の集熱終了時水温","Tend","℃",50,50,50,50,50,50,50,50,50,50,50,50,null,null,null,"集熱終了時の温度を50℃と仮定"]
[null,"合計",29180,null,null,null,null,"平均集熱温度","Tmd","℃",{"$f":"(K13+2*K14)/3","v":{"$error":"#N/A"}},{"$f":"(L13+2*L14)/3","v":{"$error":"#N/A"}},{"$f":"(M13+2*M14)/3","v":{"$error":"#N/A"}},{"$error":"#N/A"},{"$error":"#N/A"},{"$error":"#N/A"},{"$error":"#N/A"},{"$error":"#N/A"},{"$error":"#N/A"},{"$error":"#N/A"},{"$error":"#N/A"},{"$error":"#N/A"},null,null,null,"Tmd=(Tst+2×Tend)/3により近似的に求める。"]
[null,"※業務用太陽熱利用システムの導入検討ガイドライン、NEDO、2009年",null,null,null,null,null,"日中平均外気温度","Taird","℃",{"$f":"太陽熱_日射時平均気温!V3","v":{"$error":"#N/A"}},{"$f":"太陽熱_日射時平均気温!W3","v":{"$error":"#N/A"}},{"$f":"太陽熱_日射時平均気温!X3","v":{"$error":"#N/A"}},{"$f":"太陽熱_日射時平均気温!Y3","v":{"$error":"#N/A"}},{"$f":"太陽熱_日射時平均気温!Z3","v":{"$error":"#N/A"}},{"$f":"太陽熱_日射時平均気温!AA3","v":{"$error":"#N/A"}},{"$f":"太陽熱_日射時平均気温!AB3","v":{"$error":"#N/A"}},{"$f":"太陽熱_日射時平均気温!AC3","v":{"$error":"#N/A"}},{"$f":"太陽熱_日射時平均気温!AD3","v":{"$error":"#N/A"}},{"$f":"太陽熱_日射時平均気温!S3","v":{"$error":"#N/A"}},{"$f":"太陽熱_日射時平均気温!T3","v":{"$error":"#N/A"}},{"$f":"太陽熱_日射時平均気温!U3","v":{"$error":"#N/A"}},null,null,null,"参考表4.1.3より"]
[null,"※Nはサンプル数を表す",null,null,null,null,null,"集熱器受熱面の温度差","⊿Td","℃",{"$f":"K15-K16","v":{"$error":"#N/A"}},{"$f":"L15-L16","v":{"$error":"#N/A"}},{"$f":"M15-M16","v":{"$error":"#N/A"}},{"$error":"#N/A"},{"$error":"#N/A"},{"$error":"#N/A"},{"$error":"#N/A"},{"$error":"#N/A"},{"$error":"#N/A"},{"$error":"#N/A"},{"$error":"#N/A"},{"$error":"#N/A"},null,null,null,"TmdとTairdの温度差"]
[null,null,null,null,null,null,null,"⊿Td/JT",null,"m2日/kJ℃",{"$f":"K17/K11/1000","v":{"$error":"#N/A"}},{"$f":"L17/L11/1000","v":{"$error":"#N/A"}},{"$f":"M17/M11/1000","v":{"$error":"#N/A"}},{"$error":"#N/A"},{"$error":"#N/A"},{"$error":"#N/A"},{"$error":"#N/A"},{"$error":"#N/A"},{"$error":"#N/A"},{"$error":"#N/A"},{"$error":"#N/A"},{"$error":"#N/A"}]
[null,"■投資コスト原単位",null,null,null,null,null,"冷暖房の別（参考）",null,null,{"$f":"熱需要量算定・原単位!D39","v":"暖房"},{"$f":"熱需要量算定・原単位!E39","v":"冷房"},{"$f":"熱需要量算定・原単位!F39","v":"冷房"},{"$f":"熱需要量算定・原単位!G39","v":"冷房"},{"$f":"熱需要量算定・原単位!H39","v":"冷房"},{"$f":"熱需要量算定・原単位!I39","v":"冷房"},{"$f":"熱需要量算定・原単位!J39","v":"冷房"},{"$f":"熱需要量算定・原単位!K39","v":"暖房"},{"$f":"熱需要量算定・原単位!L39","v":"暖房"},{"$f":"熱需要量算定・原単位!M39","v":"暖房"},{"$f":"熱需要量算定・原単位!N39","v":"暖房"},{"$f":"熱需要量算定・原単位!O39","v":"暖房"}]
[null,null,"有効集熱面積1m2当たりの単価",null,null,null,null,"全日集熱効率線図の別",null,null,"春夏秋","春夏秋","春夏秋","春夏秋","春夏秋","春夏秋","春夏秋","春夏秋","冬期","冬期","冬期","冬期"]
[null,"設置面積あたりの導入コスト[千円/m2]",{"$f":"C15/100","v":291.8},null,null,null,null,"全日集熱効率","ηcd","-",{"$f":"太陽光_全日集熱効率_関数!$I$14*K18+太陽光_全日集熱効率_関数!$I$15","v":{"$error":"#N/A"}},{"$f":"太陽光_全日集熱効率_関数!$I$14*L18+太陽光_全日集熱効率_関数!$I$15","v":{"$error":"#N/A"}},{"$f":"太陽光_全日集熱効率_関数!$I$14*M18+太陽光_全日集熱効率_関数!$I$15","v":{"$error":"#N/A"}},{"$f":"太陽光_全日集熱効率_関数!$I$14*N18+太陽光_全日集熱効率_関数!$I$15","v":{"$error":"#N/A"}},{"$f":"太陽光_全日集熱効率_関数!$I$14*O18+太陽光_全日集熱効率_関数!$I$15","v":{"$error":"#N/A"}},{"$f":"太陽光_全日集熱効率_関数!$I$14*P18+太陽光_全日集熱効率_関数!$I$15","v":{"$error":"#N/A"}},{"$f":"太陽光_全日集熱効率_関数!$I$14*Q18+太陽光_全日集熱効率_関数!$I$15","v":{"$error":"#N/A"}},{"$f":"太陽光_全日集熱効率_関数!$I$14*R18+太陽光_全日集熱効率_関数!$I$15","v":{"$error":"#N/A"}},{"$f":"太陽光_全日集熱効率_関数!$H$14*S18+太陽光_全日集熱効率_関数!$H$15","v":{"$error":"#N/A"}},{"$f":"太陽光_全日集熱効率_関数!$H$14*T18+太陽光_全日集熱効率_関数!$H$15","v":{"$error":"#N/A"}},{"$f":"太陽光_全日集熱効率_関数!$H$14*U18+太陽光_全日集熱効率_関数!$H$15","v":{"$error":"#N/A"}},{"$f":"太陽光_全日集熱効率_関数!$H$14*V18+太陽光_全日集熱効率_関数!$H$15","v":{"$error":"#N/A"}},null,null,null,"関数より"]
[null,null,null,null,null,null,"面積あたり集熱量の計算","蓄熱槽・配管等の熱損失率","ηL","%",0.1,0.1,0.1,0.1,0.1,0.1,0.1,0.1,0.1,0.1,0.1,0.1,null,null,null,"熱損失により集熱量が10％低下すると想定"]
[null,"■導入コスト算定",null,null,null,null,null,"1日の単位面積当り集熱量","Qcd'","MJ/m2日",{"$f":"K11*K21*(1-K22)","v":{"$error":"#N/A"}},{"$f":"L11*L21*(1-L22)","v":{"$error":"#N/A"}},{"$f":"M11*M21*(1-M22)","v":{"$error":"#N/A"}},{"$error":"#N/A"},{"$error":"#N/A"},{"$error":"#N/A"},{"$error":"#N/A"},{"$error":"#N/A"},{"$error":"#N/A"},{"$error":"#N/A"},{"$error":"#N/A"},{"$error":"#N/A"},null,null,null,"Qcd'=JT×ηcd×(1-ηL)"]
[null,"項目","単位","値",null,null,null,"月別晴天日日数",null,"日/月",{"$f":"太陽熱_晴天日日数!V3","v":{"$error":"#N/A"}},{"$f":"太陽熱_晴天日日数!W3","v":{"$error":"#N/A"}},{"$f":"太陽熱_晴天日日数!X3","v":{"$error":"#N/A"}},{"$f":"太陽熱_晴天日日数!Y3","v":{"$error":"#N/A"}},{"$f":"太陽熱_晴天日日数!Z3","v":{"$error":"#N/A"}},{"$f":"太陽熱_晴天日日数!AA3","v":{"$error":"#N/A"}},{"$f":"太陽熱_晴天日日数!AB3","v":{"$error":"#N/A"}},{"$f":"太陽熱_晴天日日数!AC3","v":{"$error":"#N/A"}},{"$f":"太陽熱_晴天日日数!AD3","v":{"$error":"#N/A"}},{"$f":"太陽熱_晴天日日数!S3","v":{"$error":"#N/A"}},{"$f":"太陽熱_晴天日日数!T3","v":{"$error":"#N/A"}},{"$f":"太陽熱_晴天日日数!U3","v":{"$error":"#N/A"}}]
[null,"導入する設置面積","m2",{"$f":"K39","v":1125.8753135244262},null,null,null,"月別面積あたり集熱量",null,"MJ/m2月",{"$f":"K23*K24","v":{"$error":"#N/A"}},{"$f":"L23*L24","v":{"$error":"#N/A"}},{"$f":"M23*M24","v":{"$error":"#N/A"}},{"$error":"#N/A"},{"$error":"#N/A"},{"$error":"#N/A"},{"$error":"#N/A"},{"$error":"#N/A"},{"$error":"#N/A"},{"$error":"#N/A"},{"$error":"#N/A"},{"$error":"#N/A"},{"$f":"SUM(K25:V25)","v":{"$error":"#N/A"}}]
[null,"導入コスト","千円",{"$f":"D25*C21","v":328530.4164864276}]
[null,null,null,null,null,null,"■利用可能熱量"]
[null,null,null,null,null,null,"項目","項目","記号","単位","4月","5月","6月","7月","8月","9月","10月","11月","12月","1月","2月","3月","合計","最大","最小","備考"]
[null,null,null,null,null,null,"設置可能面積に対する集熱量","設置可能面積",null,"m2",{"$f":"入力シート!C77","v":500},{"$f":"K29","v":500},{"$f":"L29","v":500},500,500,500,500,500,500,500,500,500]
[null,null,null,null,null,null,"（利用可能熱量）","設置可能面積に対する月別集熱量","Qm","MJ/月",{"$f":"K25*K29","v":{"$error":"#N/A"}},{"$error":"#N/A"},{"$error":"#N/A"},{"$error":"#N/A"},{"$error":"#N/A"},{"$error":"#N/A"},{"$error":"#N/A"},{"$error":"#N/A"},{"$error":"#N/A"},{"$error":"#N/A"},{"$error":"#N/A"},{"$error":"#N/A"},{"$f":"SUM(K30:V30)","v":{"$error":"#N/A"}}]
[null,null,null,null,null,null,"参考"]
[null,null,null,null,null,null,"1)業務用太陽熱利用システムの導入検討ガイドライン_平成21年度_NEDO"]
[null,null,null,null,null,null,"2)ソーラーシステム・データブック2019 http://www.ssda.or.jp/profile/publication/"]
[null,null,null,null,null,null,"3)ソーラーシステム標準気象データ及び給水温度、ソーラーシステム振興協会。2003年3月"]
[]
[null,null,null,null,null,null,"■太陽熱で賄う熱量"]
[null,null,null,null,null,null,"項目","項目","記号","単位","4月","5月","6月","7月","8月","9月","10月","11月","12月","1月","2月","3月","合計","最大","最小","備考"]
[null,null,null,null,null,null,"熱需要量","太陽熱で賄う熱需要量",null,"MJ/月",{"$f":"マッチング!E60","v":{"$error":"#N/A"}},{"$f":"マッチング!F60","v":{"$error":"#N/A"}},{"$f":"マッチング!G60","v":{"$error":"#N/A"}},{"$f":"マッチング!H60","v":{"$error":"#N/A"}},{"$f":"マッチング!I60","v":{"$error":"#N/A"}},{"$f":"マッチング!J60","v":{"$error":"#N/A"}},{"$f":"マッチング!K60","v":{"$error":"#N/A"}},{"$f":"マッチング!L60","v":{"$error":"#N/A"}},{"$f":"マッチング!M60","v":{"$error":"#N/A"}},{"$f":"マッチング!N60","v":{"$error":"#N/A"}},{"$f":"マッチング!O60","v":{"$error":"#N/A"}},{"$f":"マッチング!P60","v":{"$error":"#N/A"}},{"$f":"SUM(K38:V38)","v":{"$error":"#N/A"}},{"$f":"MAX(K38:V38)","v":{"$error":"#N/A"}},{"$f":"MIN(K38:W38)","v":{"$error":"#N/A"}}]
[null,null,null,null,null,null,"必要設置面積の決定","必要設置面積",null,"m2",1125.8753135244262,{"$f":"K39","v":1125.8753135244262},{"$f":"L39","v":1125.8753135244262},1125.8753135244262,1125.8753135244262,1125.8753135244262,1125.8753135244262,1125.8753135244262,1125.8753135244262,1125.8753135244262,1125.8753135244262,1125.8753135244262]
[null,null,null,null,null,null,null,"太陽熱集熱量",null,"MJ/月",{"$f":"K39*K25","v":{"$error":"#N/A"}},{"$f":"L39*L25","v":{"$error":"#N/A"}},{"$error":"#N/A"},{"$error":"#N/A"},{"$error":"#N/A"},{"$error":"#N/A"},{"$error":"#N/A"},{"$error":"#N/A"},{"$error":"#N/A"},{"$error":"#N/A"},{"$error":"#N/A"},{"$error":"#N/A"},{"$f":"SUM(K40:V40)","v":{"$error":"#N/A"}},{"$f":"HLOOKUP(X38,K38:V40,3,FALSE)","v":{"$error":"#N/A"}},{"$f":"MIN(K40:W40)","v":{"$error":"#N/A"}}]
[null,null,null,null,null,null,null,null,null,null,null,null,null,null,null,null,null,null,null,null,null,null,null,{"$f":"X38-X40","v":{"$error":"#N/A"}},null,"←ここが0になるように、面積を逆算する。"]
[null,null,null,null,null,null,"■補機類流量の算定",null,null,null,null,null,null,null,null,null,null,null,null,null,null,null,null,null,null,null,null,"■係数・設定"]
[null,null,null,null,null,null,"項目","項目","記号","単位","4月","5月","6月","7月","8月","9月","10月","11月","12月","1月","2月","3月","合計","最大","最小","備考",null,"項目","単位","値","備考"]
[null,null,null,null,null,null,"運転時間",null,null,"h/日",8,{"$f":"K44","v":8},{"$f":"L44","v":8},8,8,8,8,8,8,8,8,8,null,null,null,null,null,"水の比熱","kJ/kgK",{"$f":"係数・物性!D4","v":4.1790000000000003},"係数・物性より"]
[null,null,null,null,null,null,"熱量（平均の熱出力）",null,null,"kW",{"$f":"K38/K24/K44/3.6","v":{"$error":"#N/A"}},{"$f":"L38/L24/L44/3.6","v":{"$error":"#N/A"}},{"$error":"#N/A"},{"$error":"#N/A"},{"$error":"#N/A"},{"$error":"#N/A"},{"$error":"#N/A"},{"$error":"#N/A"},{"$error":"#N/A"},{"$error":"#N/A"},{"$error":"#N/A"},{"$error":"#N/A"},null,null,null,null,null,"水の密度","kg/m3",{"$f":"係数・物性!D5","v":996.62},"係数・物性より"]
[null,null,null,null,null,null,"温水ポンプ温度差",null,null,"℃",{"$f":"K14-K13","v":{"$error":"#N/A"}},{"$f":"L14-L13","v":{"$error":"#N/A"}},{"$error":"#N/A"},{"$error":"#N/A"},{"$error":"#N/A"},{"$error":"#N/A"},{"$error":"#N/A"},{"$error":"#N/A"},{"$error":"#N/A"},{"$error":"#N/A"},{"$error":"#N/A"},{"$error":"#N/A"},null,null,null,null,null,"容積比熱","MJ/m3K",{"$f":"係数・物性!D6","v":4.1648749800000004},"係数・物性より"]
[null,null,null,null,null,null,"温水ポンプ流量",null,null,"L/min",{"$f":"K38*1000/K24/K44/60/$AD$44/$AD$45/K46*1000","v":{"$error":"#N/A"}},{"$f":"L38*1000/L24/L44/60/$AD$44/$AD$45/L46*1000","v":{"$error":"#N/A"}},{"$error":"#N/A"},{"$error":"#N/A"},{"$error":"#N/A"},{"$error":"#N/A"},{"$error":"#N/A"},{"$error":"#N/A"},{"$error":"#N/A"},{"$error":"#N/A"},{"$error":"#N/A"},{"$error":"#N/A"},null,null,null,null,null,"重力加速度","m/s2",{"$f":"係数・物性!D7","v":9.8059999999999992},"係数・物性より"]
[null,null,null,null,null,null,"循環ポンプ温度差",null,null,"℃",5,{"$f":"K48","v":5},{"$f":"L48","v":5},5,5,5,5,5,5,5,5,5]
[null,null,null,null,null,null,"循環ポンプ流量",null,null,"L/min",{"$f":"K38*1000/K24/K44/60/$AD$44/$AD$45/K48*1000","v":{"$error":"#N/A"}},{"$error":"#N/A"},{"$error":"#N/A"},{"$error":"#N/A"},{"$error":"#N/A"},{"$error":"#N/A"},{"$error":"#N/A"},{"$error":"#N/A"},{"$error":"#N/A"},{"$error":"#N/A"},{"$error":"#N/A"},{"$error":"#N/A"}]
[]
[null,null,null,null,null,null,"■補機類消費電力の算定"]
[null,null,null,null,null,null,"項目","項目","記号","単位","4月","5月","6月","7月","8月","9月","10月","11月","12月","1月","2月","3月","合計","最大","最小","備考"]
[null,null,null,null,null,null,"集熱ポンプ","流量",null,"L/min",{"$f":"K47","v":{"$error":"#N/A"}},{"$error":"#N/A"},{"$error":"#N/A"},{"$error":"#N/A"},{"$error":"#N/A"},{"$error":"#N/A"},{"$error":"#N/A"},{"$error":"#N/A"},{"$error":"#N/A"},{"$error":"#N/A"},{"$error":"#N/A"},{"$error":"#N/A"}]
[null,null,null,null,null,null,null,"揚程",null,"m",20,{"$f":"K54","v":20},{"$f":"L54","v":20},20,20,20,20,20,20,20,20,20,null,null,null,"設定"]
[null,null,null,null,null,null,null,"ポンプ効率",null,"%",{"$f":"IF(K53<80,ポンプ効率近似式!$D$14,-1.403*LN(K53/1000)^2+6.9719*LN(K53/1000)+53.781)","v":{"$error":"#N/A"}},{"$f":"IF(L53<80,ポンプ効率近似式!$D$14,-1.403*LN(L53/1000)^2+6.9719*LN(L53/1000)+53.781)","v":{"$error":"#N/A"}},{"$f":"IF(M53<80,ポンプ効率近似式!$D$14,-1.403*LN(M53/1000)^2+6.9719*LN(M53/1000)+53.781)","v":{"$error":"#N/A"}},{"$f":"IF(N53<80,ポンプ効率近似式!$D$14,-1.403*LN(N53/1000)^2+6.9719*LN(N53/1000)+53.781)","v":{"$error":"#N/A"}},{"$f":"IF(O53<80,ポンプ効率近似式!$D$14,-1.403*LN(O53/1000)^2+6.9719*LN(O53/1000)+53.781)","v":{"$error":"#N/A"}},{"$f":"IF(P53<80,ポンプ効率近似式!$D$14,-1.403*LN(P53/1000)^2+6.9719*LN(P53/1000)+53.781)","v":{"$error":"#N/A"}},{"$f":"IF(Q53<80,ポンプ効率近似式!$D$14,-1.403*LN(Q53/1000)^2+6.9719*LN(Q53/1000)+53.781)","v":{"$error":"#N/A"}},{"$f":"IF(R53<80,ポンプ効率近似式!$D$14,-1.403*LN(R53/1000)^2+6.9719*LN(R53/1000)+53.781)","v":{"$error":"#N/A"}},{"$f":"IF(S53<80,ポンプ効率近似式!$D$14,-1.403*LN(S53/1000)^2+6.9719*LN(S53/1000)+53.781)","v":{"$error":"#N/A"}},{"$f":"IF(T53<80,ポンプ効率近似式!$D$14,-1.403*LN(T53/1000)^2+6.9719*LN(T53/1000)+53.781)","v":{"$error":"#N/A"}},{"$f":"IF(U53<80,ポンプ効率近似式!$D$14,-1.403*LN(U53/1000)^2+6.9719*LN(U53/1000)+53.781)","v":{"$error":"#N/A"}},{"$f":"IF(V53<80,ポンプ効率近似式!$D$14,-1.403*LN(V53/1000)^2+6.9719*LN(V53/1000)+53.781)","v":{"$error":"#N/A"}}]
[null,null,null,null,null,null,null,"消費電力",null,"kW",{"$f":"$AD$45*$AD$47*K53/1000/60*K54/10/K55","v":{"$error":"#N/A"}},{"$error":"#N/A"},{"$error":"#N/A"},{"$error":"#N/A"},{"$error":"#N/A"},{"$error":"#N/A"},{"$error":"#N/A"},{"$error":"#N/A"},{"$error":"#N/A"},{"$error":"#N/A"},{"$error":"#N/A"},{"$error":"#N/A"}]
[null,null,null,null,null,null,null,"消費電力量",null,"kWh/月",{"$f":"K56*K44*K24","v":{"$error":"#N/A"}},{"$f":"L56*L44*L24","v":{"$error":"#N/A"}},{"$error":"#N/A"},{"$error":"#N/A"},{"$f":"O56*O44*O24","v":{"$error":"#N/A"}},{"$error":"#N/A"},{"$error":"#N/A"},{"$error":"#N/A"},{"$error":"#N/A"},{"$error":"#N/A"},{"$error":"#N/A"},{"$error":"#N/A"}]
[null,null,null,null,null,null,"循環ポンプ","流量",null,"L/min",{"$f":"K49","v":{"$error":"#N/A"}},{"$error":"#N/A"},{"$error":"#N/A"},{"$error":"#N/A"},{"$error":"#N/A"},{"$error":"#N/A"},{"$error":"#N/A"},{"$error":"#N/A"},{"$error":"#N/A"},{"$error":"#N/A"},{"$error":"#N/A"},{"$error":"#N/A"}]
[null,null,null,null,null,null,null,"揚程",null,"m",20,{"$f":"K59","v":20},{"$f":"L59","v":20},20,20,20,20,20,20,20,20,20,null,null,null,"設定"]
[null,null,null,null,null,null,null,"ポンプ効率",null,"%",{"$f":"IF(K58<80,ポンプ効率近似式!$D$14,-1.403*LN(K58/1000)^2+6.9719*LN(K58/1000)+53.781)","v":{"$error":"#N/A"}},{"$f":"IF(L58<80,ポンプ効率近似式!$D$14,-1.403*LN(L58/1000)^2+6.9719*LN(L58/1000)+53.781)","v":{"$error":"#N/A"}},{"$f":"IF(M58<80,ポンプ効率近似式!$D$14,-1.403*LN(M58/1000)^2+6.9719*LN(M58/1000)+53.781)","v":{"$error":"#N/A"}},{"$f":"IF(N58<80,ポンプ効率近似式!$D$14,-1.403*LN(N58/1000)^2+6.9719*LN(N58/1000)+53.781)","v":{"$error":"#N/A"}},{"$f":"IF(O58<80,ポンプ効率近似式!$D$14,-1.403*LN(O58/1000)^2+6.9719*LN(O58/1000)+53.781)","v":{"$error":"#N/A"}},{"$f":"IF(P58<80,ポンプ効率近似式!$D$14,-1.403*LN(P58/1000)^2+6.9719*LN(P58/1000)+53.781)","v":{"$error":"#N/A"}},{"$f":"IF(Q58<80,ポンプ効率近似式!$D$14,-1.403*LN(Q58/1000)^2+6.9719*LN(Q58/1000)+53.781)","v":{"$error":"#N/A"}},{"$f":"IF(R58<80,ポンプ効率近似式!$D$14,-1.403*LN(R58/1000)^2+6.9719*LN(R58/1000)+53.781)","v":{"$error":"#N/A"}},{"$f":"IF(S58<80,ポンプ効率近似式!$D$14,-1.403*LN(S58/1000)^2+6.9719*LN(S58/1000)+53.781)","v":{"$error":"#N/A"}},{"$f":"IF(T58<80,ポンプ効率近似式!$D$14,-1.403*LN(T58/1000)^2+6.9719*LN(T58/1000)+53.781)","v":{"$error":"#N/A"}},{"$f":"IF(U58<80,ポンプ効率近似式!$D$14,-1.403*LN(U58/1000)^2+6.9719*LN(U58/1000)+53.781)","v":{"$error":"#N/A"}},{"$f":"IF(V58<80,ポンプ効率近似式!$D$14,-1.403*LN(V58/1000)^2+6.9719*LN(V58/1000)+53.781)","v":{"$error":"#N/A"}}]
[null,null,null,null,null,null,null,"消費電力",null,"kW",{"$f":"$AD$45*$AD$47*K58/1000/60*K59/10/K60","v":{"$error":"#N/A"}},{"$error":"#N/A"},{"$error":"#N/A"},{"$error":"#N/A"},{"$error":"#N/A"},{"$error":"#N/A"},{"$error":"#N/A"},{"$error":"#N/A"},{"$error":"#N/A"},{"$error":"#N/A"},{"$error":"#N/A"},{"$error":"#N/A"}]
[null,null,null,null,null,null,null,"消費電力量",null,"kWh/月",{"$f":"K61*K44*K24","v":{"$error":"#N/A"}},{"$f":"L61*L44*L24","v":{"$error":"#N/A"}},{"$error":"#N/A"},{"$error":"#N/A"},{"$error":"#N/A"},{"$error":"#N/A"},{"$error":"#N/A"},{"$error":"#N/A"},{"$error":"#N/A"},{"$error":"#N/A"},{"$error":"#N/A"},{"$error":"#N/A"}]
[null,null,null,null,null,null,"合計","消費電力量",null,"kWh/月",{"$f":"K57+K62","v":{"$error":"#N/A"}},{"$f":"L57+L62","v":{"$error":"#N/A"}},{"$error":"#N/A"},{"$error":"#N/A"},{"$f":"O57+O62","v":{"$error":"#N/A"}},{"$error":"#N/A"},{"$error":"#N/A"},{"$error":"#N/A"},{"$error":"#N/A"},{"$error":"#N/A"},{"$error":"#N/A"},{"$error":"#N/A"}]
[]
[null,"■エネルギーコスト、CO2排出量、一次エネルギー消費量計算（エネルギー消費量を入力）"]
[null,null,null,null,null,null,"□エネルギー消費量"]
[null,null,"設定セル",null,null,null,"項目","項目",null,"単位","4月","5月","6月","7月","8月","9月","10月","11月","12月","1月","2月","3月","合計","最大","最小","備考"]
[null,null,"変更設定していいセル（計算式が入力されている）",null,null,null,"エネルギー消費量","電気",null,"kWh/月",{"$f":"K63","v":{"$error":"#N/A"}},{"$f":"L63","v":{"$error":"#N/A"}},{"$error":"#N/A"},{"$error":"#N/A"},{"$error":"#N/A"},{"$error":"#N/A"},{"$error":"#N/A"},{"$error":"#N/A"},{"$error":"#N/A"},{"$error":"#N/A"},{"$error":"#N/A"},{"$error":"#N/A"},{"$f":"SUM(K68:V68)","v":{"$error":"#N/A"}},{"$f":"MAX(K68:V68)","v":{"$error":"#N/A"}},{"$f":"MIN(K68:V68)","v":{"$error":"#N/A"}}]
[null,null,"あまり変更しなくていい設定セル",null,null,null,null,"都市ガス（13A）",null,"m3/月",null,null,null,null,null,null,null,null,null,null,null,null,0,0,0]
[null,null,"デフォ値・係数",null,null,null,null,"灯油",null,"L/月",null,null,null,null,null,null,null,null,null,null,null,null,0,0,0]
[null,null,"計算式・項目確認セル",null,null,null,null,"重油",null,"L/月",null,null,null,null,null,null,null,null,null,null,null,null,0,0,0]
[null,null,null,null,null,null,null,"液化石油ガス（LPG）",null,"kg/月",null,null,null,null,null,null,null,null,null,null,null,null,0,0,0]
[null,null,null,null,null,null,null,"他人から供給された熱",null,"MJ/月",null,null,null,null,null,null,null,null,null,null,null,null,0,0,0]
[]
[]
[null,"□エネルギーコスト単価(フラットレート)",null,null,null,null,"□エネルギーコスト検討"]
[null,"項目","単位","値","備考",null,"項目","項目",null,"単位","4月","5月","6月","7月","8月","9月","10月","11月","12月","1月","2月","3月","合計","最大","最小","備考"]
[null,"電気","円/kWh",{"$f":"E単価!H5","v":14},null,null,"エネルギーコスト検討","電気",null,"千円/月",{"$f":"K68*$D78/1000","v":{"$error":"#N/A"}},{"$f":"L68*$D78/1000","v":{"$error":"#N/A"}},{"$error":"#N/A"},{"$error":"#N/A"},{"$error":"#N/A"},{"$error":"#N/A"},{"$error":"#N/A"},{"$error":"#N/A"},{"$error":"#N/A"},{"$error":"#N/A"},{"$error":"#N/A"},{"$error":"#N/A"},{"$f":"SUM(K78:V78)","v":{"$error":"#N/A"}},{"$f":"MAX(K78:V78)","v":{"$error":"#N/A"}},{"$f":"MIN(K78:V78)","v":{"$error":"#N/A"}}]
[null,"都市ガス（13A）","円/m3",{"$f":"E単価!H6","v":114.64285714285714},null,null,null,"都市ガス（13A）",null,"千円/月",{"$f":"K69*$D79/1000","v":0},0,0,0,0,0,0,0,0,0,0,0,0,0,0]
[null,"灯油","円/L",{"$f":"E単価!H7","v":107.88888888888889},null,null,null,"灯油",null,"千円/月",0,0,0,0,0,0,0,0,0,0,0,0,0,0,0]
[null,"重油","円/L",{"$f":"E単価!H8","v":76.099999999999994},null,null,null,"重油",null,"千円/月",0,0,0,0,0,0,0,0,0,0,0,0,0,0,0]
[null,"液化石油ガス（LPG）","円/kg",{"$f":"E単価!H9","v":159.40476190476193},null,null,null,"液化石油ガス（LPG）",null,"千円/月",0,0,0,0,0,0,0,0,0,0,0,0,0,0,0]
[null,"他人から供給された熱","円/GJ",{"$f":"E単価!H10","v":6611.9047619047615},null,null,null,"他人から供給された熱",null,"千円/月",0,0,0,0,0,0,0,0,0,0,0,0,0,0,0]
[null,null,null,null,null,null,null,"エネルギーコスト合計",null,"千円/月",{"$f":"SUM(K78:K83)","v":{"$error":"#N/A"}},{"$f":"SUM(L78:L83)","v":{"$error":"#N/A"}},{"$error":"#N/A"},{"$error":"#N/A"},{"$error":"#N/A"},{"$error":"#N/A"},{"$error":"#N/A"},{"$error":"#N/A"},{"$error":"#N/A"},{"$error":"#N/A"},{"$error":"#N/A"},{"$error":"#N/A"},{"$f":"SUM(W78:W83)","v":{"$error":"#N/A"}},{"$f":"SUM(X78:X83)","v":{"$error":"#N/A"}},{"$f":"SUM(Y78:Y83)","v":{"$error":"#N/A"}}]
[]
[null,"□CO2換算係数",null,null,null,null,"□CO2排出量"]
[null,"項目","単位","値","備考",null,"項目","項目",null,"単位","4月","5月","6月","7月","8月","9月","10月","11月","12月","1月","2月","3月","合計","最大","最小","備考"]
[null,"電気","tCO2/kWh",{"$f":"CO2換算係数!B3","v":4.8799999999999999E-4},null,null,"CO2排出量","電気",null,"t-CO2/月",{"$f":"K68*$D88","v":{"$error":"#N/A"}},{"$f":"L68*$D88","v":{"$error":"#N/A"}},{"$error":"#N/A"},{"$error":"#N/A"},{"$error":"#N/A"},{"$error":"#N/A"},{"$error":"#N/A"},{"$error":"#N/A"},{"$error":"#N/A"},{"$error":"#N/A"},{"$error":"#N/A"},{"$error":"#N/A"},{"$f":"SUM(K88:V88)","v":{"$error":"#N/A"}},{"$f":"MAX(K88:V88)","v":{"$error":"#N/A"}},{"$f":"MIN(K88:V88)","v":{"$error":"#N/A"}}]
[null,"都市ガス（13A）","tCO2/km3",{"$f":"CO2換算係数!B4","v":2.23},null,null,null,"都市ガス（13A）",null,"t-CO2/月",{"$f":"K69*$D89","v":0},0,0,0,0,0,0,0,0,0,0,0,0,0,0]
[null,"灯油","tCO2/kL",{"$f":"CO2換算係数!B5","v":2.4900000000000002},null,null,null,"灯油",null,"t-CO2/月",0,0,0,0,0,0,0,0,0,0,0,0,0,0,0]
[null,"重油","tCO2/kL",{"$f":"CO2換算係数!B6","v":2.71},null,null,null,"重油",null,"t-CO2/月",0,0,0,0,0,0,0,0,0,0,0,0,0,0,0]
[null,"液化石油ガス（LPG）","tCO2/t",{"$f":"CO2換算係数!B7","v":3},null,null,null,"液化石油ガス（LPG）",null,"t-CO2/月",0,0,0,0,0,0,0,0,0,0,0,0,0,0,0]
[null,"他人から供給された熱","tCO2/GJ",{"$f":"CO2換算係数!B8","v":5.7000000000000002E-2},null,null,null,"他人から供給された熱",null,"t-CO2/月",0,0,0,0,0,0,0,0,0,0,0,0,0,0,0]
[null,null,null,null,null,null,null,"CO2排出量合計",null,"t-CO2/月",{"$f":"SUM(K88:K93)","v":{"$error":"#N/A"}},{"$f":"SUM(L88:L93)","v":{"$error":"#N/A"}},{"$f":"SUM(M88:M93)","v":{"$error":"#N/A"}},{"$f":"SUM(N88:N93)","v":{"$error":"#N/A"}},{"$f":"SUM(O88:O93)","v":{"$error":"#N/A"}},{"$f":"SUM(P88:P93)","v":{"$error":"#N/A"}},{"$f":"SUM(Q88:Q93)","v":{"$error":"#N/A"}},{"$f":"SUM(R88:R93)","v":{"$error":"#N/A"}},{"$f":"SUM(S88:S93)","v":{"$error":"#N/A"}},{"$f":"SUM(T88:T93)","v":{"$error":"#N/A"}},{"$f":"SUM(U88:U93)","v":{"$error":"#N/A"}},{"$f":"SUM(V88:V93)","v":{"$error":"#N/A"}},{"$f":"SUM(W88:W93)","v":{"$error":"#N/A"}},{"$f":"SUM(X88:X93)","v":{"$error":"#N/A"}},{"$error":"#N/A"}]
[]
[null,"□一次エネルギー換算係数",null,null,null,null,"□一次エネルギー消費量"]
[null,"項目","単位","値","備考",null,"項目","項目",null,"単位","4月","5月","6月","7月","8月","9月","10月","11月","12月","1月","2月","3月","合計","最大","最小","備考"]
[null,"電気","MJ/kWh",{"$f":"一次E換算!B3","v":9.76},null,null,"一次エネルギー消費量","電気",null,"MJ/月",{"$f":"K68*$D98","v":{"$error":"#N/A"}},{"$f":"L68*$D98","v":{"$error":"#N/A"}},{"$error":"#N/A"},{"$error":"#N/A"},{"$error":"#N/A"},{"$error":"#N/A"},{"$error":"#N/A"},{"$error":"#N/A"},{"$error":"#N/A"},{"$error":"#N/A"},{"$error":"#N/A"},{"$error":"#N/A"},{"$f":"SUM(K98:V98)","v":{"$error":"#N/A"}},{"$f":"MAX(K98:V98)","v":{"$error":"#N/A"}},{"$f":"MIN(K98:V98)","v":{"$error":"#N/A"}}]
[null,"都市ガス（13A）","MJ/m3",{"$f":"一次E換算!B4","v":45},null,null,null,"都市ガス（13A）",null,"MJ/月",{"$f":"K69*$D99","v":0},0,0,0,0,0,0,0,0,0,0,0,0,0,0]
[null,"灯油","MJ/L",{"$f":"一次E換算!B5","v":37},null,null,null,"灯油",null,"MJ/月",0,0,0,0,0,0,0,0,0,0,0,0,0,0,0]
[null,"重油","MJ/L",{"$f":"一次E換算!B6","v":41},null,null,null,"重油",null,"MJ/月",0,0,0,0,0,0,0,0,0,0,0,0,0,0,0]
[null,"液化石油ガス（LPG）","MJ/kg",{"$f":"一次E換算!B7","v":50},null,null,null,"液化石油ガス（LPG）",null,"MJ/月",0,0,0,0,0,0,0,0,0,0,0,0,0,0,0]
[null,"他人から供給された熱","MJ/MJ",{"$f":"一次E換算!B8","v":1.36},null,null,null,"他人から供給された熱",null,"MJ/月",0,0,0,0,0,0,0,0,0,0,0,0,0,0,0]
[null,null,null,null,null,null,null,"一次エネルギー消費量合計",null,"MJ/月",{"$f":"SUM(K98:K103)","v":{"$error":"#N/A"}},{"$f":"SUM(L98:L103)","v":{"$error":"#N/A"}},{"$f":"SUM(M98:M103)","v":{"$error":"#N/A"}},{"$f":"SUM(N98:N103)","v":{"$error":"#N/A"}},{"$f":"SUM(O98:O103)","v":{"$error":"#N/A"}},{"$f":"SUM(P98:P103)","v":{"$error":"#N/A"}},{"$f":"SUM(Q98:Q103)","v":{"$error":"#N/A"}},{"$f":"SUM(R98:R103)","v":{"$error":"#N/A"}},{"$f":"SUM(S98:S103)","v":{"$error":"#N/A"}},{"$f":"SUM(T98:T103)","v":{"$error":"#N/A"}},{"$f":"SUM(U98:U103)","v":{"$error":"#N/A"}},{"$f":"SUM(V98:V103)","v":{"$error":"#N/A"}},{"$f":"SUM(W98:W103)","v":{"$error":"#N/A"}},{"$error":"#N/A"},{"$error":"#N/A"}]

{"sheet":"太陽熱_月平均給水温度","index":53,"n_rows":53,"n_cols":31,"rows_kept":53,"cut":false,"hidden":true,"merged":[]}
["3 .   月平均給水温度  （全国２５地点）",null,null,null,null,null,null,null,null,null,null,null,null,null,null,"■月平均水平面日射量データ（地域選択）"]
[null,null,null,null,null,null,null,null,null,null,null,null,null,null,null,null,"都道府県","代表地点・代替地点","1月","2月","3月","4月","5月","6月","7月","8月","9月","10月","11月","12月"]
[null,null,null,null,null,null,null,null,null,null,null,null,null,null,null,null,{"$f":"入力シート!C7","v":0},{"$f":"VLOOKUP($Q$3,$Q$5:$AE$52,2,FALSE)","v":{"$error":"#N/A"}},{"$f":"VLOOKUP($Q$3,$Q$5:$AE$52,3,FALSE)","v":{"$error":"#N/A"}},{"$f":"VLOOKUP($Q$3,$Q$5:$AE$52,4,FALSE)","v":{"$error":"#N/A"}},{"$f":"VLOOKUP($Q$3,$Q$5:$AE$52,5,FALSE)","v":{"$error":"#N/A"}},{"$f":"VLOOKUP($Q$3,$Q$5:$AE$52,6,FALSE)","v":{"$error":"#N/A"}},{"$f":"VLOOKUP($Q$3,$Q$5:$AE$52,7,FALSE)","v":{"$error":"#N/A"}},{"$f":"VLOOKUP($Q$3,$Q$5:$AE$52,8,FALSE)","v":{"$error":"#N/A"}},{"$f":"VLOOKUP($Q$3,$Q$5:$AE$52,9,FALSE)","v":{"$error":"#N/A"}},{"$f":"VLOOKUP($Q$3,$Q$5:$AE$52,10,FALSE)","v":{"$error":"#N/A"}},{"$f":"VLOOKUP($Q$3,$Q$5:$AE$52,11,FALSE)","v":{"$error":"#N/A"}},{"$f":"VLOOKUP($Q$3,$Q$5:$AE$52,12,FALSE)","v":{"$error":"#N/A"}},{"$f":"VLOOKUP($Q$3,$Q$5:$AE$52,13,FALSE)","v":{"$error":"#N/A"}},{"$f":"VLOOKUP($Q$3,$Q$5:$AE$52,14,FALSE)","v":{"$error":"#N/A"}}]
[null,null,null,null,null,null,null,null,null,null,null,null,null,"単位：℃"]
["地    点","１月","２月","３月","４月","５月","６月","７月","８月","９月","１０月","１１月","１２月","年平均",null,"地域区分","都道府県","代表地点・代替地点","1月","2月","3月","4月","5月","6月","7月","8月","9月","10月","11月","12月","年平均"]
["旭川",2.6,1.9,2,3.7,9,13.5,17.5,19.3,17.5,12.8,8.1,4.4000000000000004,9.4,null,"北海道","北海道","札幌",{"$f":"VLOOKUP($R6,$A$5:$N$30,S$53,FALSE)","v":4},{"$f":"VLOOKUP($R6,$A$5:$N$30,T$53,FALSE)","v":3.7},3.5,4,7.1,10.8,14.8,18.100000000000001,17.8,14.7,9.4,6.4,9.5]
["札幌",4,3.7,3.5,4,7.1,10.8,14.8,18.100000000000001,17.8,14.7,9.4,6.4,9.5,null,"東北","青森県","秋田",6.9,6.2,5.8,8.6999999999999993,14.8,18.5,23.7,26.1,23.1,18.600000000000001,12.3,8.6,14.4]
["根室",5.9,5.3,4.8,5.6,8,10.6,13,15.4,16.100000000000001,14.5,11,7.5,9.8000000000000007,null,"東北","岩手県","盛岡",3.9,3.6,4.3,8.1,12.5,18.2,19.899999999999999,22.6,20.5,17,12.3,6.4,12.4]
["室蘭",5,4.9000000000000004,5.9,6.5,10.7,13.8,16.100000000000001,18.100000000000001,17.3,13.7,11.2,6.1,10.8,null,"東北","宮城県","仙台",8,6.6,8,10.3,14.2,17.600000000000001,21.8,23.7,22.7,20.2,16.5,11.7,15.1]
["秋田",6.9,6.2,5.8,8.6999999999999993,14.8,18.5,23.7,26.1,23.1,18.600000000000001,12.3,8.6,14.4,null,"東北","秋田県","秋田",6.9,6.2,5.8,8.6999999999999993,14.8,18.5,23.7,26.1,23.1,18.600000000000001,12.3,8.6,14.4]
["盛岡",3.9,3.6,4.3,8.1,12.5,18.2,19.899999999999999,22.6,20.5,17,12.3,6.4,12.4,null,"東北","山形県","盛岡",3.9,3.6,4.3,8.1,12.5,18.2,19.899999999999999,22.6,20.5,17,12.3,6.4,12.4]
["仙台",8,6.6,8,10.3,14.2,17.600000000000001,21.8,23.7,22.7,20.2,16.5,11.7,15.1,null,"東北","福島県","福島",5.7,5.3,7.2,11,17,20.7,24.7,27,24.5,18.7,15,8.5,15.4]
["福島",5.7,5.3,7.2,11,17,20.7,24.7,27,24.5,18.7,15,8.5,15.4,null,"関東","茨城県","宇都宮",9,8.3000000000000007,10,13.4,17.7,20.7,21.8,26.3,24.5,21.6,15.7,12.3,16.8]
["宇都宮",9,8.3000000000000007,10,13.4,17.7,20.7,21.8,26.3,24.5,21.6,15.7,12.3,16.8,null,"関東","栃木県","宇都宮",9,8.3000000000000007,10,13.4,17.7,20.7,21.8,26.3,24.5,21.6,15.7,12.3,16.8]
["桐生",10.1,8.5,10,13.2,16.399999999999999,21.1,22.5,25.3,24.5,20.8,16.8,12.3,16.8,null,"関東","群馬県","桐生",10.1,8.5,10,13.2,16.399999999999999,21.1,22.5,25.3,24.5,20.8,16.8,12.3,16.8]
["東京",8.4,7.8,10.4,15.3,20.399999999999999,23,26.2,28.8,26.4,21.4,16.2,11.2,17.899999999999999,null,"関東","埼玉県","東京",8.4,7.8,10.4,15.3,20.399999999999999,23,26.2,28.8,26.4,21.4,16.2,11.2,17.899999999999999]
["松本",4.7,4.5999999999999996,5.6,8.1,14.1,18,20,22.2,21.6,18.600000000000001,12.3,8.4,13.2,null,"関東","千葉県","東京",8.4,7.8,10.4,15.3,20.399999999999999,23,26.2,28.8,26.4,21.4,16.2,11.2,17.899999999999999]
["静岡",13.1,12.8,13.1,13.9,15.3,18.2,21,21.4,22.5,20.6,17.5,15,17,null,"関東","東京都","東京",8.4,7.8,10.4,15.3,20.399999999999999,23,26.2,28.8,26.4,21.4,16.2,11.2,17.899999999999999]
["名古屋",9.3000000000000007,8.5,10.4,13.7,18.3,20.8,23.2,26.4,25.6,22.5,17.399999999999999,12.9,17.399999999999999,null,"関東","神奈川県","東京",8.4,7.8,10.4,15.3,20.399999999999999,23,26.2,28.8,26.4,21.4,16.2,11.2,17.899999999999999]
["新潟",4.7,4.5,5.8,8.4,15.3,18.8,23.1,27.2,24.4,20,14.6,8.4,14.6,null,"北陸","新潟県","新潟",4.7,4.5,5.8,8.4,15.3,18.8,23.1,27.2,24.4,20,14.6,8.4,14.6]
["富山",5.8,5.9,6.9,10.9,14.5,16.7,19.3,23.8,22.8,19.7,14.8,9.4,14.2,null,"北陸","富山県","富山",5.8,5.9,6.9,10.9,14.5,16.7,19.3,23.8,22.8,19.7,14.8,9.4,14.2]
["大阪",8.4,8.8000000000000007,12.1,16,21.6,24.3,27.1,28.8,26.7,20.3,15.6,12.4,18.5,null,"北陸","石川県","富山",{"$f":"VLOOKUP($R22,$A$5:$N$30,S$53,FALSE)","v":5.8},5.9,6.9,10.9,14.5,16.7,19.3,23.8,22.8,19.7,14.8,9.4,14.2]
["広島",8.1999999999999993,7.7,10.3,12.6,19.600000000000001,23.5,24,27.3,25.7,20.8,17.600000000000001,12,17.399999999999999,null,"北陸","福井県","富山",5.8,5.9,6.9,10.9,14.5,16.7,19.3,23.8,22.8,19.7,14.8,9.4,14.2]
["米子",12.6,7.3,10.3,11.9,15.5,19.8,19.899999999999999,25,23.9,21.9,19.3,13.5,16.7,null,"山梨県","山梨県","東京",8.4,7.8,10.4,15.3,20.399999999999999,23,26.2,28.8,26.4,21.4,16.2,11.2,17.899999999999999]
["高松",8.1,8.5,10.199999999999999,12.7,18.5,22.8,25.4,28.1,26.9,22.7,17.399999999999999,10.9,17.7,null,"長野県","長野県","松本",4.7,4.5999999999999996,5.6,8.1,14.1,18,20,22.2,21.6,18.600000000000001,12.3,8.4,13.2]
["高知",12.2,11.6,13.3,16.8,20,21.3,25.4,26.4,25.5,23,19.2,16.100000000000001,19.2,null,"東海","岐阜県","松本",4.7,4.5999999999999996,5.6,8.1,14.1,18,20,22.2,21.6,18.600000000000001,12.3,8.4,13.2]
["福岡",9.9,8.5,10.4,14,18.3,21.3,22.8,25.5,24.4,21.8,16.899999999999999,12.6,17.2,null,"静岡県","静岡県","静岡",13.1,12.8,13.1,13.9,15.3,18.2,21,21.4,22.5,20.6,17.5,15,17]
["熊本",17.600000000000001,17.600000000000001,18.3,19.3,20.8,20,20.9,21.6,20.100000000000001,20,19,18.3,19.5,null,"東海","愛知県","名古屋",9.3000000000000007,8.5,10.4,13.7,18.3,20.8,23.2,26.4,25.6,22.5,17.399999999999999,12.9,17.399999999999999]
["鹿児島",10.9,12.4,12.7,17.2,19.8,21.3,25.5,25.2,25.4,22.5,18.7,14.4,18.8,null,"東海","三重県","名古屋",9.3000000000000007,8.5,10.4,13.7,18.3,20.8,23.2,26.4,25.6,22.5,17.399999999999999,12.9,17.399999999999999]
["那覇",21,19.7,20.5,22.3,24.2,26.6,29,28.9,28.6,27.6,25.7,23.3,24.8,null,"近畿","滋賀県","大阪",8.4,8.8000000000000007,12.1,16,21.6,24.3,27.1,28.8,26.7,20.3,15.6,12.4,18.5]
[null,null,null,null,null,null,null,null,null,null,null,null,null,null,null,"近畿","京都府","大阪",8.4,8.8000000000000007,12.1,16,21.6,24.3,27.1,28.8,26.7,20.3,15.6,12.4,18.5]
[null,null,null,null,null,null,null,null,null,null,null,null,null,null,null,"近畿","大阪府","大阪",8.4,8.8000000000000007,12.1,16,21.6,24.3,27.1,28.8,26.7,20.3,15.6,12.4,18.5]
[null,null,null,null,null,null,null,null,null,null,null,null,null,null,null,"近畿","兵庫県","大阪",8.4,8.8000000000000007,12.1,16,21.6,24.3,27.1,28.8,26.7,20.3,15.6,12.4,18.5]
[null,null,null,null,null,null,null,null,null,null,null,null,null,null,null,"近畿","奈良県","大阪",8.4,8.8000000000000007,12.1,16,21.6,24.3,27.1,28.8,26.7,20.3,15.6,12.4,18.5]
[null,null,null,null,null,null,null,null,null,null,null,null,null,null,null,"近畿","和歌山県","大阪",8.4,8.8000000000000007,12.1,16,21.6,24.3,27.1,28.8,26.7,20.3,15.6,12.4,18.5]
[null,null,null,null,null,null,null,null,null,null,null,null,null,null,null,"中国","鳥取県","米子",12.6,7.3,10.3,11.9,15.5,19.8,19.899999999999999,25,23.9,21.9,19.3,13.5,16.7]
[null,null,null,null,null,null,null,null,null,null,null,null,null,null,null,"中国","島根県","米子",12.6,7.3,10.3,11.9,15.5,19.8,19.899999999999999,25,23.9,21.9,19.3,13.5,16.7]
[null,null,null,null,null,null,null,null,null,null,null,null,null,null,null,"中国","岡山県","広島",{"$f":"VLOOKUP($R38,$A$5:$N$30,S$53,FALSE)","v":8.1999999999999993},7.7,10.3,12.6,19.600000000000001,23.5,24,27.3,25.7,20.8,17.600000000000001,12,17.399999999999999]
[null,null,null,null,null,null,null,null,null,null,null,null,null,null,null,"中国","広島県","広島",8.1999999999999993,7.7,10.3,12.6,19.600000000000001,23.5,24,27.3,25.7,20.8,17.600000000000001,12,17.399999999999999]
[null,null,null,null,null,null,null,null,null,null,null,null,null,null,null,"中国","山口県","広島",8.1999999999999993,7.7,10.3,12.6,19.600000000000001,23.5,24,27.3,25.7,20.8,17.600000000000001,12,17.399999999999999]
[null,null,null,null,null,null,null,null,null,null,null,null,null,null,null,"四国","徳島県","高知",12.2,11.6,13.3,16.8,20,21.3,25.4,26.4,25.5,23,19.2,16.100000000000001,19.2]
[null,null,null,null,null,null,null,null,null,null,null,null,null,null,null,"四国","香川県","高松",8.1,8.5,10.199999999999999,12.7,18.5,22.8,25.4,28.1,26.9,22.7,17.399999999999999,10.9,17.7]
[null,null,null,null,null,null,null,null,null,null,null,null,null,null,null,"四国","愛媛県","高松",8.1,8.5,10.199999999999999,12.7,18.5,22.8,25.4,28.1,26.9,22.7,17.399999999999999,10.9,17.7]
[null,null,null,null,null,null,null,null,null,null,null,null,null,null,null,"四国","高知県","高知",12.2,11.6,13.3,16.8,20,21.3,25.4,26.4,25.5,23,19.2,16.100000000000001,19.2]
[null,null,null,null,null,null,null,null,null,null,null,null,null,null,null,"九州","福岡県","福岡",9.9,8.5,10.4,14,18.3,21.3,22.8,25.5,24.4,21.8,16.899999999999999,12.6,17.2]
[null,null,null,null,null,null,null,null,null,null,null,null,null,null,null,"九州","佐賀県","福岡",9.9,8.5,10.4,14,18.3,21.3,22.8,25.5,24.4,21.8,16.899999999999999,12.6,17.2]
[null,null,null,null,null,null,null,null,null,null,null,null,null,null,null,"九州","長崎県","福岡",9.9,8.5,10.4,14,18.3,21.3,22.8,25.5,24.4,21.8,16.899999999999999,12.6,17.2]
[null,null,null,null,null,null,null,null,null,null,null,null,null,null,null,"九州","熊本県","熊本",17.600000000000001,17.600000000000001,18.3,19.3,20.8,20,20.9,21.6,20.100000000000001,20,19,18.3,19.5]
[null,null,null,null,null,null,null,null,null,null,null,null,null,null,null,"九州","大分県","熊本",17.600000000000001,17.600000000000001,18.3,19.3,20.8,20,20.9,21.6,20.100000000000001,20,19,18.3,19.5]
[null,null,null,null,null,null,null,null,null,null,null,null,null,null,null,"九州","宮崎県","熊本",17.600000000000001,17.600000000000001,18.3,19.3,20.8,20,20.9,21.6,20.100000000000001,20,19,18.3,19.5]
[null,null,null,null,null,null,null,null,null,null,null,null,null,null,null,"九州","鹿児島県","鹿児島",10.9,12.4,12.7,17.2,19.8,21.3,25.5,25.2,25.4,22.5,18.7,14.4,18.8]
[null,null,null,null,null,null,null,null,null,null,null,null,null,null,null,"沖縄","沖縄県","那覇",21,19.7,20.5,22.3,24.2,26.6,29,28.9,28.6,27.6,25.7,23.3,24.8]
[null,null,null,null,null,null,null,null,null,null,null,null,null,null,null,null,null,"読み込み列→",2,3,4,5,6,7,8,9,10,11,12,13,14]

{"sheet":"太陽熱_月平均水平面日射量","index":54,"n_rows":53,"n_cols":31,"rows_kept":53,"cut":false,"hidden":true,"merged":[]}
["Ⅳ    その他",null,null,null,null,null,null,null,null,null,null,null,null,null,null,"■月平均水平面日射量データ（地域選択）"]
["Ⅳ－１  標準気象データ",null,null,null,null,null,null,null,null,null,null,null,null,null,null,null,"都道府県","代表地点・代替地点","1月","2月","3月","4月","5月","6月","7月","8月","9月","10月","11月","12月"]
["1 .   月平均水平面日射量  （全国２５地点）",null,null,null,null,null,null,null,null,null,null,null,null,null,null,null,{"$f":"入力シート!C7","v":0},{"$f":"VLOOKUP($Q$3,$Q$5:$AE$52,2,FALSE)","v":{"$error":"#N/A"}},{"$f":"VLOOKUP($Q$3,$Q$5:$AE$52,3,FALSE)","v":{"$error":"#N/A"}},{"$f":"VLOOKUP($Q$3,$Q$5:$AE$52,4,FALSE)","v":{"$error":"#N/A"}},{"$f":"VLOOKUP($Q$3,$Q$5:$AE$52,5,FALSE)","v":{"$error":"#N/A"}},{"$f":"VLOOKUP($Q$3,$Q$5:$AE$52,6,FALSE)","v":{"$error":"#N/A"}},{"$f":"VLOOKUP($Q$3,$Q$5:$AE$52,7,FALSE)","v":{"$error":"#N/A"}},{"$f":"VLOOKUP($Q$3,$Q$5:$AE$52,8,FALSE)","v":{"$error":"#N/A"}},{"$f":"VLOOKUP($Q$3,$Q$5:$AE$52,9,FALSE)","v":{"$error":"#N/A"}},{"$f":"VLOOKUP($Q$3,$Q$5:$AE$52,10,FALSE)","v":{"$error":"#N/A"}},{"$f":"VLOOKUP($Q$3,$Q$5:$AE$52,11,FALSE)","v":{"$error":"#N/A"}},{"$f":"VLOOKUP($Q$3,$Q$5:$AE$52,12,FALSE)","v":{"$error":"#N/A"}},{"$f":"VLOOKUP($Q$3,$Q$5:$AE$52,13,FALSE)","v":{"$error":"#N/A"}},{"$f":"VLOOKUP($Q$3,$Q$5:$AE$52,14,FALSE)","v":{"$error":"#N/A"}}]
["単位：MJ／㎡・日"]
["地点","１月","２月","３月","４月","５月","６月","７月","８月","９月","１０月","１１月","１２月","年平均",null,"地域区分","都道府県","代表地点・代替地点","1月","2月","3月","4月","5月","6月","7月","8月","9月","10月","11月","12月","年平均"]
["旭川",5.1100000000000003,8.75,13,15.6,17.5,19.100000000000001,17.899999999999999,15.4,12.6,8.82,4.79,4,11.9,null,"北海道","北海道","札幌",{"$f":"VLOOKUP($R6,$A$5:$N$30,S$53,FALSE)","v":6.05},9.0399999999999991,13,15.9,18.3,19.3,17.899999999999999,15.9,13.5,9.5,5.9,4.75,12.4]
["札幌",6.05,9.0399999999999991,13,15.9,18.3,19.3,17.899999999999999,15.9,13.5,9.5,5.9,4.75,12.4,null,"東北","青森県","秋田",4.72,7.52,11.8,15.6,17.7,17.899999999999999,16.899999999999999,17,13.3,10.199999999999999,5.8,3.92,11.8]
["根室",6.91,10.3,14.1,15.8,17.5,17.399999999999999,16,14.1,12.7,10.199999999999999,6.91,5.69,12.3,null,"東北","岩手県","盛岡",6.98,10,13.4,15.8,18.2,17.2,16,15.7,12.3,10.5,6.8,5.54,12.4]
["室蘭",5.33,8.68,13.8,16.100000000000001,18.3,17.600000000000001,16.100000000000001,14.4,13.5,10.9,6.08,4.3899999999999997,12.1,null,"東北","宮城県","仙台",7.74,10.3,13.5,16,18,15.2,14.2,14.7,11.4,10.199999999999999,7.85,6.77,12.2]
["秋田",4.72,7.52,11.8,15.6,17.7,17.899999999999999,16.899999999999999,17,13.3,10.199999999999999,5.8,3.92,11.8,null,"東北","秋田県","秋田",4.72,7.52,11.8,15.6,17.7,17.899999999999999,16.899999999999999,17,13.3,10.199999999999999,5.8,3.92,11.8]
["盛岡",6.98,10,13.4,15.8,18.2,17.2,16,15.7,12.3,10.5,6.8,5.54,12.4,null,"東北","山形県","盛岡",6.98,10,13.4,15.8,18.2,17.2,16,15.7,12.3,10.5,6.8,5.54,12.4]
["仙台",7.74,10.3,13.5,16,18,15.2,14.2,14.7,11.4,10.199999999999999,7.85,6.77,12.2,null,"東北","福島県","福島",7.63,10.5,13.8,16.2,18.100000000000001,15.9,15.3,15.4,11.6,10,7.67,6.77,12.4]
["福島",7.63,10.5,13.8,16.2,18.100000000000001,15.9,15.3,15.4,11.6,10,7.67,6.77,12.4,null,"関東","茨城県","宇都宮",9.32,11.4,14,15.3,17.2,14.5,13.8,14.9,11.4,10.3,8.68,8.1,12.4]
["宇都宮",9.32,11.4,14,15.3,17.2,14.5,13.8,14.9,11.4,10.3,8.68,8.1,12.4,null,"関東","栃木県","宇都宮",9.32,11.4,14,15.3,17.2,14.5,13.8,14.9,11.4,10.3,8.68,8.1,12.4]
["桐生",9.5,11.7,13.6,15.3,17.2,14.4,14.3,15.6,11.3,10.4,8.86,8.39,12.6,null,"関東","群馬県","桐生",9.5,11.7,13.6,15.3,17.2,14.4,14.3,15.6,11.3,10.4,8.86,8.39,12.6]
["東京",8.64,10.3,12.9,14.5,16.600000000000001,14.6,14.3,15.3,11.5,9.94,8.0299999999999994,7.63,12,null,"関東","埼玉県","東京",{"$f":"VLOOKUP($R16,$A$5:$N$30,S$53,FALSE)","v":8.64},10.3,12.9,14.5,16.600000000000001,14.6,14.3,15.3,11.5,9.94,8.0299999999999994,7.63,12]
["松本",9.25,12.1,14.6,17.2,19.7,18,17.8,18,13.5,11.2,9.11,8.14,14,null,"関東","千葉県","東京",8.64,10.3,12.9,14.5,16.600000000000001,14.6,14.3,15.3,11.5,9.94,8.0299999999999994,7.63,12]
["静岡",9.86,11.6,13.7,15.2,17.399999999999999,15.2,15.6,17,13.5,10.9,9.36,8.75,13.2,null,"関東","東京都","東京",8.64,10.3,12.9,14.5,16.600000000000001,14.6,14.3,15.3,11.5,9.94,8.0299999999999994,7.63,12]
["名古屋",8.89,11.2,14.3,15.8,17.8,15.8,15.9,16.899999999999999,12.7,11.2,9.0399999999999991,7.96,13.1,null,"関東","神奈川県","東京",8.64,10.3,12.9,14.5,16.600000000000001,14.6,14.3,15.3,11.5,9.94,8.0299999999999994,7.63,12]
["新潟",5.04,7.81,11.6,15.6,18.100000000000001,17.3,17.399999999999999,17.600000000000001,12.7,9.7899999999999991,6.16,4.3600000000000003,12,null,"北陸","新潟県","新潟",5.04,7.81,11.6,15.6,18.100000000000001,17.3,17.399999999999999,17.600000000000001,12.7,9.7899999999999991,6.16,4.3600000000000003,12]
["富山",5.72,8.39,11.6,15.3,17.7,16.2,17.2,17.2,12.5,10.1,6.84,5.04,12,null,"北陸","富山県","富山",5.72,8.39,11.6,15.3,17.7,16.2,17.2,17.2,12.5,10.1,6.84,5.04,12]
["大阪",7.7,9.4700000000000006,12.6,15.4,18.3,16.600000000000001,18.100000000000001,17.2,13.1,10.9,8.39,7.09,12.9,null,"北陸","石川県","富山",5.72,8.39,11.6,15.3,17.7,16.2,17.2,17.2,12.5,10.1,6.84,5.04,12]
["広島",8.2100000000000009,10.199999999999999,13.4,17,19.5,18.3,18.7,19.3,14,12.1,9.07,7.67,14,null,"北陸","福井県","富山",5.72,8.39,11.6,15.3,17.7,16.2,17.2,17.2,12.5,10.1,6.84,5.04,12]
["米子",6.05,9.14,12.1,15.8,19.100000000000001,17.2,17.899999999999999,18,13.6,11.1,7.56,5.72,12.8,null,"山梨県","山梨県","東京",8.64,10.3,12.9,14.5,16.600000000000001,14.6,14.3,15.3,11.5,9.94,8.0299999999999994,7.63,12]
["高松",8.2799999999999994,10.4,13.6,16.2,18.600000000000001,17.5,19.2,18.600000000000001,13.9,11.7,8.86,7.56,13.7,null,"長野県","長野県","松本",9.25,12.1,14.6,17.2,19.7,18,17.8,18,13.5,11.2,9.11,8.14,14]
["高知",10.199999999999999,12.1,14.5,15.9,17.2,15.7,17.3,17.7,14.1,12.4,10,9.18,13.9,null,"東海","岐阜県","松本",{"$f":"VLOOKUP($R26,$A$5:$N$30,S$53,FALSE)","v":9.25},12.1,14.6,17.2,19.7,18,17.8,18,13.5,11.2,9.11,8.14,14]
["福岡",6.73,9.0399999999999991,12.7,15.6,17.100000000000001,16.399999999999999,16.7,17.3,13.9,12.2,8.5299999999999994,6.55,12.7,null,"静岡県","静岡県","静岡",9.86,11.6,13.7,15.2,17.399999999999999,15.2,15.6,17,13.5,10.9,9.36,8.75,13.2]
["熊本",7.96,10.1,13.2,15.6,17.5,15.4,17.7,18.399999999999999,15.2,12.7,9.43,7.67,13.4,null,"東海","愛知県","名古屋",8.89,11.2,14.3,15.8,17.8,15.8,15.9,16.899999999999999,12.7,11.2,9.0399999999999991,7.96,13.1]
["鹿児島",8.7100000000000009,10.4,13,14.9,16.100000000000001,14.5,17.7,18,15,12.9,9.83,8.35,13.3,null,"東海","三重県","名古屋",8.89,11.2,14.3,15.8,17.8,15.8,15.9,16.899999999999999,12.7,11.2,9.0399999999999991,7.96,13.1]
["那覇",8.6,9.9700000000000006,13.3,15.7,16.5,18,21.1,19.3,17.600000000000001,14.1,10.4,8.75,14.4,null,"近畿","滋賀県","大阪",7.7,9.4700000000000006,12.6,15.4,18.3,16.600000000000001,18.100000000000001,17.2,13.1,10.9,8.39,7.09,12.9]
[null,null,null,null,null,null,null,null,null,null,null,null,null,null,null,"近畿","京都府","大阪",7.7,9.4700000000000006,12.6,15.4,18.3,16.600000000000001,18.100000000000001,17.2,13.1,10.9,8.39,7.09,12.9]
[null,null,null,null,null,null,null,null,null,null,null,null,null,null,null,"近畿","大阪府","大阪",7.7,9.4700000000000006,12.6,15.4,18.3,16.600000000000001,18.100000000000001,17.2,13.1,10.9,8.39,7.09,12.9]
[null,null,null,null,null,null,null,null,null,null,null,null,null,null,null,"近畿","兵庫県","大阪",7.7,9.4700000000000006,12.6,15.4,18.3,16.600000000000001,18.100000000000001,17.2,13.1,10.9,8.39,7.09,12.9]
[null,null,null,null,null,null,null,null,null,null,null,null,null,null,null,"近畿","奈良県","大阪",7.7,9.4700000000000006,12.6,15.4,18.3,16.600000000000001,18.100000000000001,17.2,13.1,10.9,8.39,7.09,12.9]
[null,null,null,null,null,null,null,null,null,null,null,null,null,null,null,"近畿","和歌山県","大阪",7.7,9.4700000000000006,12.6,15.4,18.3,16.600000000000001,18.100000000000001,17.2,13.1,10.9,8.39,7.09,12.9]
[null,null,null,null,null,null,null,null,null,null,null,null,null,null,null,"中国","鳥取県","米子",{"$f":"VLOOKUP($R36,$A$5:$N$30,S$53,FALSE)","v":6.05},9.14,12.1,15.8,19.100000000000001,17.2,17.899999999999999,18,13.6,11.1,7.56,5.72,12.8]
[null,null,null,null,null,null,null,null,null,null,null,null,null,null,null,"中国","島根県","米子",6.05,9.14,12.1,15.8,19.100000000000001,17.2,17.899999999999999,18,13.6,11.1,7.56,5.72,12.8]
[null,null,null,null,null,null,null,null,null,null,null,null,null,null,null,"中国","岡山県","広島",8.2100000000000009,10.199999999999999,13.4,17,19.5,18.3,18.7,19.3,14,12.1,9.07,7.67,14]
[null,null,null,null,null,null,null,null,null,null,null,null,null,null,null,"中国","広島県","広島",8.2100000000000009,10.199999999999999,13.4,17,19.5,18.3,18.7,19.3,14,12.1,9.07,7.67,14]
[null,null,null,null,null,null,null,null,null,null,null,null,null,null,null,"中国","山口県","広島",8.2100000000000009,10.199999999999999,13.4,17,19.5,18.3,18.7,19.3,14,12.1,9.07,7.67,14]
[null,null,null,null,null,null,null,null,null,null,null,null,null,null,null,"四国","徳島県","高知",10.199999999999999,12.1,14.5,15.9,17.2,15.7,17.3,17.7,14.1,12.4,10,9.18,13.9]
[null,null,null,null,null,null,null,null,null,null,null,null,null,null,null,"四国","香川県","高松",8.2799999999999994,10.4,13.6,16.2,18.600000000000001,17.5,19.2,18.600000000000001,13.9,11.7,8.86,7.56,13.7]
[null,null,null,null,null,null,null,null,null,null,null,null,null,null,null,"四国","愛媛県","高松",8.2799999999999994,10.4,13.6,16.2,18.600000000000001,17.5,19.2,18.600000000000001,13.9,11.7,8.86,7.56,13.7]
[null,null,null,null,null,null,null,null,null,null,null,null,null,null,null,"四国","高知県","高知",10.199999999999999,12.1,14.5,15.9,17.2,15.7,17.3,17.7,14.1,12.4,10,9.18,13.9]
[null,null,null,null,null,null,null,null,null,null,null,null,null,null,null,"九州","福岡県","福岡",6.73,9.0399999999999991,12.7,15.6,17.100000000000001,16.399999999999999,16.7,17.3,13.9,12.2,8.5299999999999994,6.55,12.7]
[null,null,null,null,null,null,null,null,null,null,null,null,null,null,null,"九州","佐賀県","福岡",{"$f":"VLOOKUP($R46,$A$5:$N$30,S$53,FALSE)","v":6.73},9.0399999999999991,12.7,15.6,17.100000000000001,16.399999999999999,16.7,17.3,13.9,12.2,8.5299999999999994,6.55,12.7]
[null,null,null,null,null,null,null,null,null,null,null,null,null,null,null,"九州","長崎県","福岡",6.73,9.0399999999999991,12.7,15.6,17.100000000000001,16.399999999999999,16.7,17.3,13.9,12.2,8.5299999999999994,6.55,12.7]
[null,null,null,null,null,null,null,null,null,null,null,null,null,null,null,"九州","熊本県","熊本",7.96,10.1,13.2,15.6,17.5,15.4,17.7,18.399999999999999,15.2,12.7,9.43,7.67,13.4]
[null,null,null,null,null,null,null,null,null,null,null,null,null,null,null,"九州","大分県","熊本",7.96,10.1,13.2,15.6,17.5,15.4,17.7,18.399999999999999,15.2,12.7,9.43,7.67,13.4]
[null,null,null,null,null,null,null,null,null,null,null,null,null,null,null,"九州","宮崎県","熊本",7.96,10.1,13.2,15.6,17.5,15.4,17.7,18.399999999999999,15.2,12.7,9.43,7.67,13.4]
[null,null,null,null,null,null,null,null,null,null,null,null,null,null,null,"九州","鹿児島県","鹿児島",8.7100000000000009,10.4,13,14.9,16.100000000000001,14.5,17.7,18,15,12.9,9.83,8.35,13.3]
[null,null,null,null,null,null,null,null,null,null,null,null,null,null,null,"沖縄","沖縄県","那覇",8.6,9.9700000000000006,13.3,15.7,16.5,18,21.1,19.3,17.600000000000001,14.1,10.4,8.75,14.4]
[null,null,null,null,null,null,null,null,null,null,null,null,null,null,null,null,null,"読み込み列→",2,3,4,5,6,7,8,9,10,11,12,13,14]

{"sheet":"太陽熱_日射時平均気温","index":55,"n_rows":55,"n_cols":31,"rows_kept":55,"cut":false,"hidden":true,"merged":[]}
["2 .   月平均気温  （全国２５地点）",null,null,null,null,null,null,null,null,null,null,null,null,"単位：℃",null,"■日射時平均気温データ（地域選択）"]
[null,null,null,null,null,null,null,null,null,null,null,null,null,null,null,null,"都道府県","代表地点・代替地点","1月","2月","3月","4月","5月","6月","7月","8月","9月","10月","11月","12月"]
[null,null,null,null,null,null,null,null,null,null,null,null,null,null,null,null,{"$f":"入力シート!C7","v":0},{"$f":"VLOOKUP($Q$3,$Q$5:$AE$52,2,FALSE)","v":{"$error":"#N/A"}},{"$f":"VLOOKUP($Q$3,$Q$5:$AE$52,3,FALSE)","v":{"$error":"#N/A"}},{"$f":"VLOOKUP($Q$3,$Q$5:$AE$52,4,FALSE)","v":{"$error":"#N/A"}},{"$f":"VLOOKUP($Q$3,$Q$5:$AE$52,5,FALSE)","v":{"$error":"#N/A"}},{"$f":"VLOOKUP($Q$3,$Q$5:$AE$52,6,FALSE)","v":{"$error":"#N/A"}},{"$f":"VLOOKUP($Q$3,$Q$5:$AE$52,7,FALSE)","v":{"$error":"#N/A"}},{"$f":"VLOOKUP($Q$3,$Q$5:$AE$52,8,FALSE)","v":{"$error":"#N/A"}},{"$f":"VLOOKUP($Q$3,$Q$5:$AE$52,9,FALSE)","v":{"$error":"#N/A"}},{"$f":"VLOOKUP($Q$3,$Q$5:$AE$52,10,FALSE)","v":{"$error":"#N/A"}},{"$f":"VLOOKUP($Q$3,$Q$5:$AE$52,11,FALSE)","v":{"$error":"#N/A"}},{"$f":"VLOOKUP($Q$3,$Q$5:$AE$52,12,FALSE)","v":{"$error":"#N/A"}},{"$f":"VLOOKUP($Q$3,$Q$5:$AE$52,13,FALSE)","v":{"$error":"#N/A"}},{"$f":"VLOOKUP($Q$3,$Q$5:$AE$52,14,FALSE)","v":{"$error":"#N/A"}}]
[]
["地    点","気温","１月","２月","３月","４月","５月","６月","７月","８月","９月","１０月","１１月","１２月",null,"地域区分","都道府県","代表地点・代替地点","1月","2月","3月","4月","5月","6月","7月","8月","9月","10月","11月","12月","年平均"]
["旭川","日射時平均気温",-5.6,-5.5,-0.6,7.8,13.4,18.3,22.2,23.5,18.3,10.7,4,-4.3,null,"北海道","北海道","札幌",{"$f":"VLOOKUP($R6,$A$5:$N$55,S$53,FALSE)","v":-3.6},{"$f":"VLOOKUP($R6,$A$5:$N$55,T$53,FALSE)","v":-2.2999999999999998},1.9,8.9,14,17.8,22.1,23.9,19.7,13.6,6,0.7]
[null,"平均気温",-6.8,-6.8,-1.9,5.8,11.3,16.3,20.2,21.5,15.8,8.5,2.1,-4.7,null,"東北","青森県","秋田",{"$f":"VLOOKUP($R7,$A$5:$N$55,S$53,FALSE)","v":0.5},1.1000000000000001,4.5,11.5,16,20,23.8,26.2,22.1,15.2,8.6999999999999993,3.4]
["札幌","日射時平均気温",-3.6,-2.2999999999999998,1.9,8.9,14,17.8,22.1,23.9,19.7,13.6,6,0.7,null,"東北","岩手県","盛岡",-0.9,0,4.4000000000000004,10.6,15.2,19.7,23.7,25.5,21.2,14.5,7.4,2.4]
[null,"平均気温",-4.4000000000000004,-3.3,0.7,7.3,12.4,16.399999999999999,20.7,22.3,17.8,11.6,4.8,-0.6,null,"東北","宮城県","仙台",2.8,3.4,5.9,11.9,15.9,19.5,23.4,25.7,21.6,16.100000000000001,10.4,5.8]
["根室","日射時平均気温",-3.7,-4.3,-0.3,4.7,9.6,10.6,15.9,18,16.5,12.5,6.2,0.2,null,"東北","秋田県","秋田",0.5,1.1000000000000001,4.5,11.5,16,20,23.8,26.2,22.1,15.2,8.6999999999999993,3.4]
[null,"平均気温",-4.3,-5.0999999999999996,-1.2,3.3,8.1,9.4,14.7,16.899999999999999,15.4,11.2,5.0999999999999996,-0.4,null,"東北","山形県","盛岡",-0.9,0,4.4000000000000004,10.6,15.2,19.7,23.7,25.5,21.2,14.5,7.4,2.4]
["室蘭","日射時平均気温",-1.8,-1.6,1.2,6.6,11.2,14.5,18.600000000000001,21.4,18.8,13,6.4,1,null,"東北","福島県","福島",3.1,3.8,7.4,12.8,19.2,20.9,24.5,27.2,22.4,16.8,10.199999999999999,6.6]
[null,"平均気温",-2.2000000000000002,-2.1,0.3,5.5,10,13.6,17.7,20.7,17.600000000000001,12,5.8,0.9,null,"関東","茨城県","宇都宮",5,4.5999999999999996,8.1,14.4,19.399999999999999,21.5,25.5,26.8,23.2,18,12.1,7.3]
["秋田","日射時平均気温",0.5,1.1000000000000001,4.5,11.5,16,20,23.8,26.2,22.1,15.2,8.6999999999999993,3.4,null,"関東","栃木県","宇都宮",5,4.5999999999999996,8.1,14.4,19.399999999999999,21.5,25.5,26.8,23.2,18,12.1,7.3]
[null,"平均気温",-0.2,0.3,3.1,9.6,14.2,18.7,22.6,24.5,20.3,13.4,7.3,2.5,null,"関東","群馬県","桐生",5.9,5.9,8.6999999999999993,14.9,19.100000000000001,21.8,26.3,27.8,23.9,17.899999999999999,12.2,8.9]
["盛岡","日射時平均気温",-0.9,0,4.4000000000000004,10.6,15.2,19.7,23.7,25.5,21.2,14.5,7.4,2.4,null,"関東","埼玉県","東京",7.1,7.7,9.6,16.2,20.7,22.1,28,28.5,24.5,19.100000000000001,13.7,10.4]
[null,"平均気温",-2.1,-1.4,2.6,8.4,13.3,17.899999999999999,21.7,23.7,18.899999999999999,12.1,5.5,0.7,null,"関東","千葉県","東京",7.1,7.7,9.6,16.2,20.7,22.1,28,28.5,24.5,19.100000000000001,13.7,10.4]
["仙台","日射時平均気温",2.8,3.4,5.9,11.9,15.9,19.5,23.4,25.7,21.6,16.100000000000001,10.4,5.8,null,"関東","東京都","東京",7.1,7.7,9.6,16.2,20.7,22.1,28,28.5,24.5,19.100000000000001,13.7,10.4]
[null,"平均気温",1.7,1.9,4.5,10.1,14.5,18.100000000000001,22.1,24.4,20.3,14.5,9,4.4000000000000004,null,"関東","神奈川県","東京",7.1,7.7,9.6,16.2,20.7,22.1,28,28.5,24.5,19.100000000000001,13.7,10.4]
["福島","日射時平均気温",3.1,3.8,7.4,12.8,19.2,20.9,24.5,27.2,22.4,16.8,10.199999999999999,6.6,null,"北陸","新潟県","新潟",3.3,3.8,7.1,13.5,18.100000000000001,21.4,26.3,27.7,23.9,17.7,11.4,6.7]
[null,"平均気温",1.6,2.2999999999999998,5.7,11.1,16.899999999999999,19.399999999999999,22.9,25.5,20.6,14.9,8.5,4.7,null,"北陸","富山県","富山",3.1,3.3,7,14.1,18.3,21.4,25.9,27.6,23.3,18.2,12.3,7.4]
["宇都宮","日射時平均気温",5,4.5999999999999996,8.1,14.4,19.399999999999999,21.5,25.5,26.8,23.2,18,12.1,7.3,null,"北陸","石川県","富山",3.1,3.3,7,14.1,18.3,21.4,25.9,27.6,23.3,18.2,12.3,7.4]
[null,"平均気温",2.1,2,5.9,12.2,17.3,19.8,23.7,25.1,21.4,15.4,9.3000000000000007,4.0999999999999996,null,"北陸","福井県","富山",3.1,3.3,7,14.1,18.3,21.4,25.9,27.6,23.3,18.2,12.3,7.4]
["桐生","日射時平均気温",5.9,5.9,8.6999999999999993,14.9,19.100000000000001,21.8,26.3,27.8,23.9,17.899999999999999,12.2,8.9,null,"山梨県","山梨県","東京",7.1,7.7,9.6,16.2,20.7,22.1,28,28.5,24.5,19.100000000000001,13.7,10.4]
[null,"平均気温",3.4,3.5,6.9,13,17.100000000000001,20.2,25,26.2,22,15.7,9.9,5.9,null,"長野県","長野県","松本",1.4,1.7,5.4,13.2,17.7,21.5,25.3,25.9,22,15.4,9.3000000000000007,4.5]
["東京","日射時平均気温",7.1,7.7,9.6,16.2,20.7,22.1,28,28.5,24.5,19.100000000000001,13.7,10.4,null,"東海","岐阜県","松本",1.4,1.7,5.4,13.2,17.7,21.5,25.3,25.9,22,15.4,9.3000000000000007,4.5]
[null,"平均気温",5.7,6.5,8.6,15,19.2,21.1,26.6,27.3,23.1,17.899999999999999,12.4,9,null,"静岡県","静岡県","静岡",8.6999999999999993,9.3000000000000007,11.9,15.9,20.399999999999999,22.5,27.1,28.5,25.4,20.2,16.2,12.1]
["松本","日射時平均気温",1.4,1.7,5.4,13.2,17.7,21.5,25.3,25.9,22,15.4,9.3000000000000007,4.5,null,"東海","愛知県","名古屋",5.7,5.9,9.5,15.7,20.5,23.7,26.9,29.5,25.5,19.600000000000001,14,8.6]
[null,"平均気温",-0.7,-0.7,3.6,10.6,15.4,19.399999999999999,23.3,23.8,19.5,12.9,7,2.5,null,"東海","三重県","名古屋",5.7,5.9,9.5,15.7,20.5,23.7,26.9,29.5,25.5,19.600000000000001,14,8.6]
["静岡","日射時平均気温",8.6999999999999993,9.3000000000000007,11.9,15.9,20.399999999999999,22.5,27.1,28.5,25.4,20.2,16.2,12.1,null,"近畿","滋賀県","大阪",7.5,6.9,9.9,16.8,20.6,24,27.7,29.4,26.3,19.7,14.8,9.6]
[null,"平均気温",6.4,6.8,10,14.4,18.600000000000001,21.2,25.8,27,23.8,18.3,13.9,9.3000000000000007,null,"近畿","京都府","大阪",7.5,6.9,9.9,16.8,20.6,24,27.7,29.4,26.3,19.7,14.8,9.6]
["名古屋","日射時平均気温",5.7,5.9,9.5,15.7,20.5,23.7,26.9,29.5,25.5,19.600000000000001,14,8.6,null,"近畿","大阪府","大阪",7.5,6.9,9.9,16.8,20.6,24,27.7,29.4,26.3,19.7,14.8,9.6]
[null,"平均気温",4.2,4.2,7.8,13.9,18.600000000000001,22.1,25.4,27.8,23.6,17.600000000000001,12,6.9,null,"近畿","兵庫県","大阪",7.5,6.9,9.9,16.8,20.6,24,27.7,29.4,26.3,19.7,14.8,9.6]
["新潟","日射時平均気温",3.3,3.8,7.1,13.5,18.100000000000001,21.4,26.3,27.7,23.9,17.7,11.4,6.7,null,"近畿","奈良県","大阪",7.5,6.9,9.9,16.8,20.6,24,27.7,29.4,26.3,19.7,14.8,9.6]
[null,"平均気温",2.5,2.7,5.6,11.8,16.5,20.3,25.2,26.4,22.5,16.100000000000001,9.8000000000000007,5.6,null,"近畿","和歌山県","大阪",7.5,6.9,9.9,16.8,20.6,24,27.7,29.4,26.3,19.7,14.8,9.6]
["富山","日射時平均気温",3.1,3.3,7,14.1,18.3,21.4,25.9,27.6,23.3,18.2,12.3,7.4,null,"中国","鳥取県","米子",5.5,6,8.9,14.7,19,22.5,27.4,27.4,23.1,18.600000000000001,14.1,9.3000000000000007]
[null,"平均気温",2.2000000000000002,2.1,5.3,12.3,16.5,20.2,24.4,26.1,21.8,16.2,10.3,5.6,null,"中国","島根県","米子",5.5,6,8.9,14.7,19,22.5,27.4,27.4,23.1,18.600000000000001,14.1,9.3000000000000007]
["大阪","日射時平均気温",7.5,6.9,9.9,16.8,20.6,24,27.7,29.4,26.3,19.7,14.8,9.6,null,"中国","岡山県","広島",6.7,7.7,10.199999999999999,16.3,20.7,23.2,27.8,28.4,25.8,18.7,14.2,8.6999999999999993]
[null,"平均気温",6.1,5.8,8.4,15.3,18.899999999999999,22.7,26.4,27.9,24.5,17.899999999999999,13.3,8.4,null,"中国","広島県","広島",6.7,7.7,10.199999999999999,16.3,20.7,23.2,27.8,28.4,25.8,18.7,14.2,8.6999999999999993]
["広島","日射時平均気温",6.7,7.7,10.199999999999999,16.3,20.7,23.2,27.8,28.4,25.8,18.7,14.2,8.6999999999999993,null,"中国","山口県","広島",6.7,7.7,10.199999999999999,16.3,20.7,23.2,27.8,28.4,25.8,18.7,14.2,8.6999999999999993]
[null,"平均気温",5.2,5.9,9,14.4,19,22,26.8,27.1,24.1,16.899999999999999,12.2,7.3,null,"四国","徳島県","高知",8.6999999999999993,9.6,12.1,17.399999999999999,20.8,24.2,27.7,29.1,26,21.4,16.3,10.7]
["米子","日射時平均気温",5.5,6,8.9,14.7,19,22.5,27.4,27.4,23.1,18.600000000000001,14.1,9.3000000000000007,null,"四国","香川県","高松",{"$f":"VLOOKUP($R42,$A$5:$N$55,S$53,FALSE)","v":7.3},7.8,10,16,20.100000000000001,24.4,28,28.3,25.5,19.7,14.7,9.1]
[null,"平均気温",4.5,4.5,7.2,12.8,17.100000000000001,21.1,25.8,25.8,21.2,16.2,11.6,7.4,null,"四国","愛媛県","高松",7.3,7.8,10,16,20.100000000000001,24.4,28,28.3,25.5,19.7,14.7,9.1]
["高松","日射時平均気温",7.3,7.8,10,16,20.100000000000001,24.4,28,28.3,25.5,19.7,14.7,9.1,null,"四国","高知県","高知",8.6999999999999993,9.6,12.1,17.399999999999999,20.8,24.2,27.7,29.1,26,21.4,16.3,10.7]
[null,"平均気温",5.8,5.9,8.5,14.1,18.5,22.8,26.5,26.7,23.7,17.3,12.3,7.3,null,"九州","福岡県","福岡",8.4,7.3,10.8,17.2,21,23.4,28.9,28.7,26.2,20.6,15.6,10.3]
["高知","日射時平均気温",8.6999999999999993,9.6,12.1,17.399999999999999,20.8,24.2,27.7,29.1,26,21.4,16.3,10.7,null,"九州","佐賀県","福岡",8.4,7.3,10.8,17.2,21,23.4,28.9,28.7,26.2,20.6,15.6,10.3]
[null,"平均気温",6.2,6.9,9.9,15.5,19,22.6,26.2,27.3,23.9,18.8,13.3,8,null,"九州","長崎県","福岡",8.4,7.3,10.8,17.2,21,23.4,28.9,28.7,26.2,20.6,15.6,10.3]
["福岡","日射時平均気温",8.4,7.3,10.8,17.2,21,23.4,28.9,28.7,26.2,20.6,15.6,10.3,null,"九州","熊本県","熊本",6.8,8.1,12.5,18.100000000000001,21.4,24.6,28.2,29.1,26.1,21.2,15.5,9.6]
[null,"平均気温",7.1,6.1,9.4,15.4,19.3,22.1,27.4,27.2,24.6,18.5,13.7,8.9,null,"九州","大分県","熊本",6.8,8.1,12.5,18.100000000000001,21.4,24.6,28.2,29.1,26.1,21.2,15.5,9.6]
["熊本","日射時平均気温",6.8,8.1,12.5,18.100000000000001,21.4,24.6,28.2,29.1,26.1,21.2,15.5,9.6,null,"九州","宮崎県","熊本",6.8,8.1,12.5,18.100000000000001,21.4,24.6,28.2,29.1,26.1,21.2,15.5,9.6]
[null,"平均気温",4.5999999999999996,6,10.4,15.9,19.399999999999999,23,26.7,27.1,24.2,18.600000000000001,12.8,7.3,null,"九州","鹿児島県","鹿児島",10.3,10.1,13.7,18.600000000000001,22.1,25.2,28.9,29.9,26.8,22.2,17.3,11.8]
["鹿児島","日射時平均気温",10.3,10.1,13.7,18.600000000000001,22.1,25.2,28.9,29.9,26.8,22.2,17.3,11.8,null,"沖縄","沖縄県","那覇",18.100000000000001,17.8,19.399999999999999,22.3,24.8,27.2,29.6,29.3,28.6,26,22.3,19.5]
[null,"平均気温",8.3000000000000007,8.4,11.8,16.899999999999999,20.399999999999999,23.9,27.7,28.4,25.3,19.899999999999999,15.2,9.8000000000000007,null,null,null,"読み込み列→",3,4,5,6,7,8,9,10,11,12,13,14]
["那覇","日射時平均気温",18.100000000000001,17.8,19.399999999999999,22.3,24.8,27.2,29.6,29.3,28.6,26,22.3,19.5]
[null,"平均気温",17.2,16.899999999999999,18.3,21.3,23.7,26.2,28.6,28.3,27.5,25,21.1,18.399999999999999]

{"sheet":"太陽熱_傾斜角による日射量倍率","index":56,"n_rows":53,"n_cols":31,"rows_kept":53,"cut":false,"hidden":true,"merged":[]}
[null,null,null,null,null,null,null,null,null,null,null,null,null,null,null,"■月別の傾斜角による日射量倍率（地域選択）"]
[null,null,null,null,null,null,null,null,null,null,null,null,null,null,null,null,"都道府県","代表地点・代替地点","1月","2月","3月","4月","5月","6月","7月","8月","9月","10月","11月","12月"]
["■月別の傾斜角による日射量倍率",null,null,null,null,null,null,null,null,null,null,null,null,null,null,null,{"$f":"入力シート!C7","v":0},{"$f":"VLOOKUP($Q$3,$Q$5:$AE$52,2,FALSE)","v":{"$error":"#N/A"}},{"$f":"VLOOKUP($Q$3,$Q$5:$AE$52,3,FALSE)","v":{"$error":"#N/A"}},{"$f":"VLOOKUP($Q$3,$Q$5:$AE$52,4,FALSE)","v":{"$error":"#N/A"}},{"$f":"VLOOKUP($Q$3,$Q$5:$AE$52,5,FALSE)","v":{"$error":"#N/A"}},{"$f":"VLOOKUP($Q$3,$Q$5:$AE$52,6,FALSE)","v":{"$error":"#N/A"}},{"$f":"VLOOKUP($Q$3,$Q$5:$AE$52,7,FALSE)","v":{"$error":"#N/A"}},{"$f":"VLOOKUP($Q$3,$Q$5:$AE$52,8,FALSE)","v":{"$error":"#N/A"}},{"$f":"VLOOKUP($Q$3,$Q$5:$AE$52,9,FALSE)","v":{"$error":"#N/A"}},{"$f":"VLOOKUP($Q$3,$Q$5:$AE$52,10,FALSE)","v":{"$error":"#N/A"}},{"$f":"VLOOKUP($Q$3,$Q$5:$AE$52,11,FALSE)","v":{"$error":"#N/A"}},{"$f":"VLOOKUP($Q$3,$Q$5:$AE$52,12,FALSE)","v":{"$error":"#N/A"}},{"$f":"VLOOKUP($Q$3,$Q$5:$AE$52,13,FALSE)","v":{"$error":"#N/A"}},{"$f":"VLOOKUP($Q$3,$Q$5:$AE$52,14,FALSE)","v":{"$error":"#N/A"}}]
["方位角0°、傾斜角30°"]
["地点","1月","2月","3月","4月","5月","6月","7月","8月","9月","10月","11月","12月","年平均",null,"地域区分","都道府県","代表地点・代替地点","1月","2月","3月","4月","5月","6月","7月","8月","9月","10月","11月","12月","年平均"]
["旭川",null,null,null,null,null,null,null,null,null,null,null,null,null,null,"北海道","北海道","札幌",{"$f":"VLOOKUP($R6,$A$5:$N$30,S$53,FALSE)","v":1.553719008264463},1.3827433628318586,1.2384615384615385,1.0817610062893082,0.98907103825136611,0.95336787564766834,0.97206703910614523,1.0314465408805031,1.1555555555555554,1.3368421052631578,1.4762711864406781,1.5621052631578947,0]
["札幌",1.553719008264463,1.3827433628318586,1.2384615384615385,1.0817610062893082,0.98907103825136611,0.95336787564766834,0.97206703910614523,1.0314465408805031,1.1555555555555554,1.3368421052631578,1.4762711864406781,1.5621052631578947,0,null,"東北","青森県","秋田",1.2118644067796611,1.2021276595744681,1.1610169491525422,1.0576923076923077,0.97740112994350292,0.93854748603351967,0.95266272189349133,1.0117647058823529,1.1203007518796992,1.2745098039215688,1.3344827586206898,1.2678571428571428,0]
["根室",null,null,null,null,null,null,null,null,null,null,null,null,null,null,"東北","岩手県","盛岡",1.5329512893982806,1.3599999999999999,1.2014925373134329,1.0569620253164556,0.97252747252747251,0.94767441860465129,0.95625000000000004,1.0127388535031847,1.097560975609756,1.2857142857142858,1.4455882352941176,1.5270758122743684,0]
["室蘭",null,null,null,null,null,null,null,null,null,null,null,null,null,null,"東北","宮城県","仙台",1.5503875968992247,1.349514563106796,1.1851851851851851,1.05,0.96666666666666656,0.94078947368421062,0.95070422535211274,1,1.0877192982456141,1.2450980392156863,1.4394904458598727,1.5805022156573116,0]
["秋田",1.2118644067796611,1.2021276595744681,1.1610169491525422,1.0576923076923077,0.97740112994350292,0.93854748603351967,0.95266272189349133,1.0117647058823529,1.1203007518796992,1.2745098039215688,1.3344827586206898,1.2678571428571428,0,null,"東北","秋田県","秋田",1.2118644067796611,1.2021276595744681,1.1610169491525422,1.0576923076923077,0.97740112994350292,0.93854748603351967,0.95266272189349133,1.0117647058823529,1.1203007518796992,1.2745098039215688,1.3344827586206898,1.2678571428571428,0]
["盛岡",1.5329512893982806,1.3599999999999999,1.2014925373134329,1.0569620253164556,0.97252747252747251,0.94767441860465129,0.95625000000000004,1.0127388535031847,1.097560975609756,1.2857142857142858,1.4455882352941176,1.5270758122743684,0,null,"東北","山形県","盛岡",1.5329512893982806,1.3599999999999999,1.2014925373134329,1.0569620253164556,0.97252747252747251,0.94767441860465129,0.95625000000000004,1.0127388535031847,1.097560975609756,1.2857142857142858,1.4455882352941176,1.5270758122743684,0]
["仙台",1.5503875968992247,1.349514563106796,1.1851851851851851,1.05,0.96666666666666656,0.94078947368421062,0.95070422535211274,1,1.0877192982456141,1.2450980392156863,1.4394904458598727,1.5805022156573116,0,null,"東北","福島県","福島",1.5203145478374835,1.3333333333333333,1.181159420289855,1.0432098765432098,0.96685082872928174,0.93710691823899372,0.94771241830065356,0.99350649350649356,1.0689655172413794,1.23,1.4080834419817472,1.5361890694239293,0]
["福島",1.5203145478374835,1.3333333333333333,1.181159420289855,1.0432098765432098,0.96685082872928174,0.93710691823899372,0.94771241830065356,0.99350649350649356,1.0689655172413794,1.23,1.4080834419817472,1.5361890694239293,0,null,"関東","茨城県","宇都宮",1.6094420600858368,1.3508771929824561,1.1714285714285713,1.0326797385620916,0.95348837209302317,0.93793103448275861,0.94202898550724634,0.9865771812080536,1.0701754385964912,1.233009708737864,1.4516129032258065,1.6296296296296295,0]
["宇都宮",1.6094420600858368,1.3508771929824561,1.1714285714285713,1.0326797385620916,0.95348837209302317,0.93793103448275861,0.94202898550724634,0.9865771812080536,1.0701754385964912,1.233009708737864,1.4516129032258065,1.6296296296296295,0,null,"関東","栃木県","宇都宮",1.6094420600858368,1.3508771929824561,1.1714285714285713,1.0326797385620916,0.95348837209302317,0.93793103448275861,0.94202898550724634,0.9865771812080536,1.0701754385964912,1.233009708737864,1.4516129032258065,1.6296296296296295,0]
["桐生",1.5789473684210527,1.3504273504273505,1.1691176470588236,1.0326797385620916,0.95348837209302317,0.9375,0.94405594405594406,0.99358974358974361,1.0619469026548671,1.2115384615384615,1.4446952595936797,1.6090584028605481,0,null,"関東","群馬県","桐生",1.5789473684210527,1.3504273504273505,1.1691176470588236,1.0326797385620916,0.95348837209302317,0.9375,0.94405594405594406,0.99358974358974361,1.0619469026548671,1.2115384615384615,1.4446952595936797,1.6090584028605481,0]
["東京",1.5277777777777777,1.3009708737864076,1.1550387596899225,1.0206896551724138,0.95180722891566261,0.93150684931506844,0.94405594405594406,0.99346405228758161,1.0608695652173912,1.2072434607645877,1.3947696139476962,1.5465268676277852,0,null,"関東","埼玉県","東京",1.5277777777777777,1.3009708737864076,1.1550387596899225,1.0206896551724138,0.95180722891566261,0.93150684931506844,0.94405594405594406,0.99346405228758161,1.0608695652173912,1.2072434607645877,1.3947696139476962,1.5465268676277852,0]
["松本",1.5675675675675675,1.3388429752066116,1.178082191780822,1.0406976744186045,0.95431472081218283,0.9277777777777777,0.9382022471910112,1,1.0888888888888888,1.2410714285714286,1.4709110867178925,1.597051597051597,0,null,"関東","千葉県","東京",1.5277777777777777,1.3009708737864076,1.1550387596899225,1.0206896551724138,0.95180722891566261,0.93150684931506844,0.94405594405594406,0.99346405228758161,1.0608695652173912,1.2072434607645877,1.3947696139476962,1.5465268676277852,0]
["静岡",1.5517241379310347,1.3275862068965518,1.1532846715328469,1.0263157894736843,0.94827586206896564,0.92105263157894746,0.9358974358974359,0.98235294117647054,1.0740740740740742,1.2201834862385321,1.4423076923076923,1.6,0,null,"関東","東京都","東京",1.5277777777777777,1.3009708737864076,1.1550387596899225,1.0206896551724138,0.95180722891566261,0.93150684931506844,0.94405594405594406,0.99346405228758161,1.0608695652173912,1.2072434607645877,1.3947696139476962,1.5465268676277852,0]
["名古屋",1.5185601799775028,1.3214285714285716,1.1608391608391608,1.0253164556962024,0.9550561797752809,0.930379746835443,0.93710691823899372,0.98816568047337283,1.078740157480315,1.2410714285714286,1.4269911504424782,1.5703517587939699,0,null,"関東","神奈川県","東京",1.5277777777777777,1.3009708737864076,1.1550387596899225,1.0206896551724138,0.95180722891566261,0.93150684931506844,0.94405594405594406,0.99346405228758161,1.0608695652173912,1.2072434607645877,1.3947696139476962,1.5465268676277852,0]
["新潟",1.2361111111111112,1.2074263764404609,1.1379310344827587,1.0448717948717949,0.96685082872928174,0.93063583815028905,0.94252873563218387,1.0056818181818181,1.094488188976378,1.2359550561797754,1.3149350649350648,1.2889908256880733,0,null,"北陸","新潟県","新潟",1.2361111111111112,1.2074263764404609,1.1379310344827587,1.0448717948717949,0.96685082872928174,0.93063583815028905,0.94252873563218387,1.0056818181818181,1.094488188976378,1.2359550561797754,1.3149350649350648,1.2889908256880733,0]
["富山",1.270979020979021,1.2157330154946364,1.1379310344827587,1.0326797385620916,0.96045197740112997,0.9320987654320988,0.94186046511627908,0.99418604651162801,1.08,1.2277227722772277,1.3362573099415205,1.3293650793650793,0,null,"北陸","富山県","富山",1.270979020979021,1.2157330154946364,1.1379310344827587,1.0326797385620916,0.96045197740112997,0.9320987654320988,0.94186046511627908,0.99418604651162801,1.08,1.2277227722772277,1.3362573099415205,1.3293650793650793,0]
["大阪",1.4415584415584415,1.2777191129883843,1.1349206349206351,1.025974025974026,0.94535519125683065,0.92168674698795172,0.92817679558011046,0.9883720930232559,1.0763358778625953,1.2293577981651376,1.3825983313468413,1.5091678420310295,0,null,"北陸","石川県","富山",{"$f":"VLOOKUP($R22,$A$5:$N$30,S$53,FALSE)","v":1.270979020979021},1.2157330154946364,1.1379310344827587,1.0326797385620916,0.96045197740112997,0.9320987654320988,0.94186046511627908,0.99418604651162801,1.08,1.2277227722772277,1.3362573099415205,1.3293650793650793,0]
["広島",1.4494518879415346,1.2941176470588236,1.1492537313432836,1.0235294117647058,0.94871794871794868,0.91256830601092886,0.93048128342245984,0.98445595854922274,1.0785714285714285,1.2479338842975207,1.4002205071664828,1.5123859191655802,0,null,"北陸","福井県","富山",1.270979020979021,1.2157330154946364,1.1379310344827587,1.0326797385620916,0.96045197740112997,0.9320987654320988,0.94186046511627908,0.99418604651162801,1.08,1.2277227722772277,1.3362573099415205,1.3293650793650793,0]
["米子",1.2611570247933885,1.2144420131291027,1.1322314049586777,1.0316455696202531,0.94764397905759168,0.92441860465116288,0.93296089385474867,0.98888888888888893,1.0808823529411764,1.2252252252252251,1.3227513227513228,1.3461538461538463,0,null,"山梨県","山梨県","東京",1.5277777777777777,1.3009708737864076,1.1550387596899225,1.0206896551724138,0.95180722891566261,0.93150684931506844,0.94405594405594406,0.99346405228758161,1.0608695652173912,1.2072434607645877,1.3947696139476962,1.5465268676277852,0]
["高松",1.4492753623188408,1.2980769230769231,1.1470588235294117,1.0246913580246915,0.94623655913978499,0.92,0.921875,0.98924731182795689,1.079136690647482,1.2307692307692308,1.3882618510158016,1.5079365079365081,0,null,"長野県","長野県","松本",1.5675675675675675,1.3388429752066116,1.178082191780822,1.0406976744186045,0.95431472081218283,0.9277777777777777,0.9382022471910112,1,1.0888888888888888,1.2410714285714286,1.4709110867178925,1.597051597051597,0]
["高知",1.5000000000000002,1.3057851239669422,1.1448275862068966,1.0188679245283019,0.94767441860465129,0.92356687898089174,0.92485549132947975,0.97740112994350292,1.0638297872340425,1.225806451612903,1.41,1.5577342047930285,0,null,"東海","岐阜県","松本",1.5675675675675675,1.3388429752066116,1.178082191780822,1.0406976744186045,0.95431472081218283,0.9277777777777777,0.9382022471910112,1,1.0888888888888888,1.2410714285714286,1.4709110867178925,1.597051597051597,0]
["福岡",1.3001485884101038,1.2168141592920354,1.1181102362204725,1.0192307692307694,0.94152046783625731,0.92073170731707321,0.92814371257485029,0.98265895953757221,1.0719424460431655,1.2213114754098362,1.3364595545134819,1.3633587786259542,0,null,"静岡県","静岡県","静岡",1.5517241379310347,1.3275862068965518,1.1532846715328469,1.0263157894736843,0.94827586206896564,0.92105263157894746,0.9358974358974359,0.98235294117647054,1.0740740740740742,1.2201834862385321,1.4423076923076923,1.6,0]
["熊本",1.3693467336683418,1.2475247524752475,1.1287878787878789,1.012820512820513,0.94285714285714284,0.9155844155844155,0.9152542372881356,0.97282608695652173,1.0723684210526316,1.2362204724409449,1.3679745493107105,1.4471968709256844,0,null,"東海","愛知県","名古屋",1.5185601799775028,1.3214285714285716,1.1608391608391608,1.0253164556962024,0.9550561797752809,0.930379746835443,0.93710691823899372,0.98816568047337283,1.078740157480315,1.2410714285714286,1.4269911504424782,1.5703517587939699,0]
["鹿児島",1.3777267508610791,1.2307692307692308,1.1076923076923078,1,0.93788819875776386,0.91724137931034488,0.9152542372881356,0.96666666666666656,1.06,1.2170542635658914,1.3428280773143437,1.437125748502994,0,null,"東海","三重県","名古屋",1.5185601799775028,1.3214285714285716,1.1608391608391608,1.0253164556962024,0.9550561797752809,0.930379746835443,0.93710691823899372,0.98816568047337283,1.078740157480315,1.2410714285714286,1.4269911504424782,1.5703517587939699,0]
["那覇",1.2209302325581395,1.1233701103309928,1.0601503759398496,0.97452229299363069,0.90909090909090906,0.87777777777777777,0.86729857819905209,0.93264248704663211,1.0397727272727273,1.1489361702127658,1.2307692307692308,1.2685714285714285,0,null,"近畿","滋賀県","大阪",1.4415584415584415,1.2777191129883843,1.1349206349206351,1.025974025974026,0.94535519125683065,0.92168674698795172,0.92817679558011046,0.9883720930232559,1.0763358778625953,1.2293577981651376,1.3825983313468413,1.5091678420310295,0]
["「ソーラーシステム標準気象データ及び給水温度、ソーラーシステム振興協会、2003年」より作成",null,null,null,null,null,null,null,null,null,null,null,null,null,null,"近畿","京都府","大阪",1.4415584415584415,1.2777191129883843,1.1349206349206351,1.025974025974026,0.94535519125683065,0.92168674698795172,0.92817679558011046,0.9883720930232559,1.0763358778625953,1.2293577981651376,1.3825983313468413,1.5091678420310295,0]
[null,null,null,null,null,null,null,null,null,null,null,null,null,null,null,"近畿","大阪府","大阪",1.4415584415584415,1.2777191129883843,1.1349206349206351,1.025974025974026,0.94535519125683065,0.92168674698795172,0.92817679558011046,0.9883720930232559,1.0763358778625953,1.2293577981651376,1.3825983313468413,1.5091678420310295,0]
[null,null,null,null,null,null,null,null,null,null,null,null,null,null,null,"近畿","兵庫県","大阪",1.4415584415584415,1.2777191129883843,1.1349206349206351,1.025974025974026,0.94535519125683065,0.92168674698795172,0.92817679558011046,0.9883720930232559,1.0763358778625953,1.2293577981651376,1.3825983313468413,1.5091678420310295,0]
[null,null,null,null,null,null,null,null,null,null,null,null,null,null,null,"近畿","奈良県","大阪",1.4415584415584415,1.2777191129883843,1.1349206349206351,1.025974025974026,0.94535519125683065,0.92168674698795172,0.92817679558011046,0.9883720930232559,1.0763358778625953,1.2293577981651376,1.3825983313468413,1.5091678420310295,0]
[null,null,null,null,null,null,null,null,null,null,null,null,null,null,null,"近畿","和歌山県","大阪",1.4415584415584415,1.2777191129883843,1.1349206349206351,1.025974025974026,0.94535519125683065,0.92168674698795172,0.92817679558011046,0.9883720930232559,1.0763358778625953,1.2293577981651376,1.3825983313468413,1.5091678420310295,0]
[null,null,null,null,null,null,null,null,null,null,null,null,null,null,null,"中国","鳥取県","米子",1.2611570247933885,1.2144420131291027,1.1322314049586777,1.0316455696202531,0.94764397905759168,0.92441860465116288,0.93296089385474867,0.98888888888888893,1.0808823529411764,1.2252252252252251,1.3227513227513228,1.3461538461538463,0]
[null,null,null,null,null,null,null,null,null,null,null,null,null,null,null,"中国","島根県","米子",1.2611570247933885,1.2144420131291027,1.1322314049586777,1.0316455696202531,0.94764397905759168,0.92441860465116288,0.93296089385474867,0.98888888888888893,1.0808823529411764,1.2252252252252251,1.3227513227513228,1.3461538461538463,0]
[null,null,null,null,null,null,null,null,null,null,null,null,null,null,null,"中国","岡山県","広島",{"$f":"VLOOKUP($R38,$A$5:$N$30,S$53,FALSE)","v":1.4494518879415346},1.2941176470588236,1.1492537313432836,1.0235294117647058,0.94871794871794868,0.91256830601092886,0.93048128342245984,0.98445595854922274,1.0785714285714285,1.2479338842975207,1.4002205071664828,1.5123859191655802,0]
[null,null,null,null,null,null,null,null,null,null,null,null,null,null,null,"中国","広島県","広島",1.4494518879415346,1.2941176470588236,1.1492537313432836,1.0235294117647058,0.94871794871794868,0.91256830601092886,0.93048128342245984,0.98445595854922274,1.0785714285714285,1.2479338842975207,1.4002205071664828,1.5123859191655802,0]
[null,null,null,null,null,null,null,null,null,null,null,null,null,null,null,"中国","山口県","広島",1.4494518879415346,1.2941176470588236,1.1492537313432836,1.0235294117647058,0.94871794871794868,0.91256830601092886,0.93048128342245984,0.98445595854922274,1.0785714285714285,1.2479338842975207,1.4002205071664828,1.5123859191655802,0]
[null,null,null,null,null,null,null,null,null,null,null,null,null,null,null,"四国","徳島県","高知",1.5000000000000002,1.3057851239669422,1.1448275862068966,1.0188679245283019,0.94767441860465129,0.92356687898089174,0.92485549132947975,0.97740112994350292,1.0638297872340425,1.225806451612903,1.41,1.5577342047930285,0]
[null,null,null,null,null,null,null,null,null,null,null,null,null,null,null,"四国","香川県","高松",1.4492753623188408,1.2980769230769231,1.1470588235294117,1.0246913580246915,0.94623655913978499,0.92,0.921875,0.98924731182795689,1.079136690647482,1.2307692307692308,1.3882618510158016,1.5079365079365081,0]
[null,null,null,null,null,null,null,null,null,null,null,null,null,null,null,"四国","愛媛県","高松",1.4492753623188408,1.2980769230769231,1.1470588235294117,1.0246913580246915,0.94623655913978499,0.92,0.921875,0.98924731182795689,1.079136690647482,1.2307692307692308,1.3882618510158016,1.5079365079365081,0]
[null,null,null,null,null,null,null,null,null,null,null,null,null,null,null,"四国","高知県","高知",1.5000000000000002,1.3057851239669422,1.1448275862068966,1.0188679245283019,0.94767441860465129,0.92356687898089174,0.92485549132947975,0.97740112994350292,1.0638297872340425,1.225806451612903,1.41,1.5577342047930285,0]
[null,null,null,null,null,null,null,null,null,null,null,null,null,null,null,"九州","福岡県","福岡",1.3001485884101038,1.2168141592920354,1.1181102362204725,1.0192307692307694,0.94152046783625731,0.92073170731707321,0.92814371257485029,0.98265895953757221,1.0719424460431655,1.2213114754098362,1.3364595545134819,1.3633587786259542,0]
[null,null,null,null,null,null,null,null,null,null,null,null,null,null,null,"九州","佐賀県","福岡",1.3001485884101038,1.2168141592920354,1.1181102362204725,1.0192307692307694,0.94152046783625731,0.92073170731707321,0.92814371257485029,0.98265895953757221,1.0719424460431655,1.2213114754098362,1.3364595545134819,1.3633587786259542,0]
[null,null,null,null,null,null,null,null,null,null,null,null,null,null,null,"九州","長崎県","福岡",1.3001485884101038,1.2168141592920354,1.1181102362204725,1.0192307692307694,0.94152046783625731,0.92073170731707321,0.92814371257485029,0.98265895953757221,1.0719424460431655,1.2213114754098362,1.3364595545134819,1.3633587786259542,0]
[null,null,null,null,null,null,null,null,null,null,null,null,null,null,null,"九州","熊本県","熊本",1.3693467336683418,1.2475247524752475,1.1287878787878789,1.012820512820513,0.94285714285714284,0.9155844155844155,0.9152542372881356,0.97282608695652173,1.0723684210526316,1.2362204724409449,1.3679745493107105,1.4471968709256844,0]
[null,null,null,null,null,null,null,null,null,null,null,null,null,null,null,"九州","大分県","熊本",1.3693467336683418,1.2475247524752475,1.1287878787878789,1.012820512820513,0.94285714285714284,0.9155844155844155,0.9152542372881356,0.97282608695652173,1.0723684210526316,1.2362204724409449,1.3679745493107105,1.4471968709256844,0]
[null,null,null,null,null,null,null,null,null,null,null,null,null,null,null,"九州","宮崎県","熊本",1.3693467336683418,1.2475247524752475,1.1287878787878789,1.012820512820513,0.94285714285714284,0.9155844155844155,0.9152542372881356,0.97282608695652173,1.0723684210526316,1.2362204724409449,1.3679745493107105,1.4471968709256844,0]
[null,null,null,null,null,null,null,null,null,null,null,null,null,null,null,"九州","鹿児島県","鹿児島",1.3777267508610791,1.2307692307692308,1.1076923076923078,1,0.93788819875776386,0.91724137931034488,0.9152542372881356,0.96666666666666656,1.06,1.2170542635658914,1.3428280773143437,1.437125748502994,0]
[null,null,null,null,null,null,null,null,null,null,null,null,null,null,null,"沖縄","沖縄県","那覇",1.2209302325581395,1.1233701103309928,1.0601503759398496,0.97452229299363069,0.90909090909090906,0.87777777777777777,0.86729857819905209,0.93264248704663211,1.0397727272727273,1.1489361702127658,1.2307692307692308,1.2685714285714285,0]
[null,null,null,null,null,null,null,null,null,null,null,null,null,null,null,null,null,"読み込み列→",2,3,4,5,6,7,8,9,10,11,12,13,14]

{"sheet":"太陽光_全日集熱効率_関数","index":57,"n_rows":15,"n_cols":9,"rows_kept":15,"cut":false,"hidden":true,"merged":[]}
[null,"■全日集熱効率の関数作成"]
[null,"冬","冬","春夏秋","春夏秋"]
[null,"温度差/日射量","全日集熱効率","温度差/日射量","全日集熱効率"]
[null,"⊿Td/JT","ηcd","⊿Td/JT","ηcd"]
[null,0,0.82,0,0.82]
[null,5.0000000000000001E-4,0.76,5.0000000000000001E-4,0.74]
[null,1E-3,0.7,1E-3,0.68]
[null,1.5E-3,0.64500000000000002,1.5E-3,0.62]
[null,2E-3,0.59,2E-3,0.56999999999999995]
[null,2.5000000000000001E-3,0.54,2.5000000000000001E-3,0.51]
[null,3.0000000000000001E-3,0.5,3.0000000000000001E-3,0.46]
[null,3.5000000000000001E-3,0.45,3.5000000000000001E-3,0.41]
[null,4.0000000000000001E-3,0.41,4.0000000000000001E-3,0.36,null,null,"冬","春夏秋"]
[null,4.4999999999999997E-3,0.37,4.4999999999999997E-3,0.32,null,"a",-99.918999999999997,-109.7]
[null,null,null,null,null,null,"b",0.80310000000000004,0.79579999999999995]

{"sheet":"太陽熱_晴天日日数","index":58,"n_rows":53,"n_cols":31,"rows_kept":53,"cut":false,"hidden":true,"merged":[]}
["■月別の晴天日日数",null,null,null,null,null,null,null,null,null,null,null,null,null,null,"■月別の晴天日日数（地域選択）"]
[null,null,null,null,null,null,null,null,null,null,null,null,null,null,null,null,"都道府県","代表地点・代替地点","1月","2月","3月","4月","5月","6月","7月","8月","9月","10月","11月","12月"]
[null,null,null,null,null,null,null,null,null,null,null,null,null,null,null,null,{"$f":"入力シート!C7","v":0},{"$f":"VLOOKUP($Q$3,$Q$5:$AE$52,2,FALSE)","v":{"$error":"#N/A"}},{"$f":"VLOOKUP($Q$3,$Q$5:$AE$52,3,FALSE)","v":{"$error":"#N/A"}},{"$f":"VLOOKUP($Q$3,$Q$5:$AE$52,4,FALSE)","v":{"$error":"#N/A"}},{"$f":"VLOOKUP($Q$3,$Q$5:$AE$52,5,FALSE)","v":{"$error":"#N/A"}},{"$f":"VLOOKUP($Q$3,$Q$5:$AE$52,6,FALSE)","v":{"$error":"#N/A"}},{"$f":"VLOOKUP($Q$3,$Q$5:$AE$52,7,FALSE)","v":{"$error":"#N/A"}},{"$f":"VLOOKUP($Q$3,$Q$5:$AE$52,8,FALSE)","v":{"$error":"#N/A"}},{"$f":"VLOOKUP($Q$3,$Q$5:$AE$52,9,FALSE)","v":{"$error":"#N/A"}},{"$f":"VLOOKUP($Q$3,$Q$5:$AE$52,10,FALSE)","v":{"$error":"#N/A"}},{"$f":"VLOOKUP($Q$3,$Q$5:$AE$52,11,FALSE)","v":{"$error":"#N/A"}},{"$f":"VLOOKUP($Q$3,$Q$5:$AE$52,12,FALSE)","v":{"$error":"#N/A"}},{"$f":"VLOOKUP($Q$3,$Q$5:$AE$52,13,FALSE)","v":{"$error":"#N/A"}},{"$f":"VLOOKUP($Q$3,$Q$5:$AE$52,14,FALSE)","v":{"$error":"#N/A"}}]
[]
["地点","1月","2月","3月","4月","5月","6月","7月","8月","9月","10月","11月","12月","年平均",null,"地域区分","都道府県","代表地点・代替地点","1月","2月","3月","4月","5月","6月","7月","8月","9月","10月","11月","12月","年平均"]
["旭川",null,null,null,null,null,null,null,null,null,null,null,null,null,null,"北海道","北海道","札幌",{"$f":"VLOOKUP($R6,$A$5:$N$30,S$53,FALSE)","v":16},{"$f":"VLOOKUP($R6,$A$5:$N$30,T$53,FALSE)","v":17},21,29,26,22,16,18,26,30,22,14,0]
["札幌",16,17,21,29,26,22,16,18,26,30,22,14,null,null,"東北","青森県","秋田",1,6,21,20,25,12,17,23,23,22,5,0,0]
["根室",null,null,null,null,null,null,null,null,null,null,null,null,null,null,"東北","岩手県","盛岡",27,26,24,22,25,17,6,12,22,28,28,26,0]
["室蘭",null,null,null,null,null,null,null,null,null,null,null,null,null,null,"東北","宮城県","仙台",31,27,29,27,25,13,7,17,20,28,30,31,0]
["秋田",1,6,21,20,25,12,17,23,23,22,5,0,null,null,"東北","秋田県","秋田",1,6,21,20,25,12,17,23,23,22,5,0,0]
["盛岡",27,26,24,22,25,17,6,12,22,28,28,26,null,null,"東北","山形県","盛岡",27,26,24,22,25,17,6,12,22,28,28,26,0]
["仙台",31,27,29,27,25,13,7,17,20,28,30,31,null,null,"東北","福島県","福島",30,28,29,27,28,16,8,18,20,26,29,30,0]
["福島",30,28,29,27,28,16,8,18,20,26,29,30,null,null,"関東","茨城県","宇都宮",31,28,28,27,25,5,4,8,13,26,30,31,0]
["宇都宮",31,28,28,27,25,5,4,8,13,26,30,31,null,null,"関東","栃木県","宇都宮",31,28,28,27,25,5,4,8,13,26,30,31,0]
["桐生",31,28,31,30,31,30,31,31,30,31,30,31,null,null,"関東","群馬県","桐生",31,28,31,30,31,30,31,31,30,31,30,31,0]
["東京",31,28,29,28,24,5,18,22,13,23,30,31,null,null,"関東","埼玉県","東京",31,28,29,28,24,5,18,22,13,23,30,31,0]
["松本",31,28,31,30,31,30,31,31,30,31,30,31,null,null,"関東","千葉県","東京",31,28,29,28,24,5,18,22,13,23,30,31,0]
["静岡",31,27,30,25,19,7,12,25,17,28,30,31,null,null,"関東","東京都","東京",31,28,29,28,24,5,18,22,13,23,30,31,0]
["名古屋",31,28,31,30,29,10,15,25,28,30,30,31,null,null,"関東","神奈川県","東京",31,28,29,28,24,5,18,22,13,23,30,31,0]
["新潟",1,5,17,27,27,20,14,28,22,27,16,2,null,null,"北陸","新潟県","新潟",1,5,17,27,27,20,14,28,22,27,16,2,0]
["富山",4,12,21,27,27,15,15,28,23,26,17,3,null,null,"北陸","富山県","富山",4,12,21,27,27,15,15,28,23,26,17,3,0]
["大阪",31,28,29,30,28,10,17,31,25,29,30,31,null,null,"北陸","石川県","富山",{"$f":"VLOOKUP($R22,$A$5:$N$30,S$53,FALSE)","v":4},12,21,27,27,15,15,28,23,26,17,3,0]
["広島",30,28,30,30,28,13,15,30,27,30,29,30,null,null,"北陸","福井県","富山",4,12,21,27,27,15,15,28,23,26,17,3,0]
["米子",31,28,31,30,31,30,31,31,30,31,30,31,null,null,"山梨県","山梨県","東京",31,28,29,28,24,5,18,22,13,23,30,31,0]
["高松",30,28,31,30,27,11,21,31,26,30,29,31,null,null,"長野県","長野県","松本",31,28,31,30,31,30,31,31,30,31,30,31,0]
["高知",31,28,31,30,26,8,16,31,25,30,30,31,null,null,"東海","岐阜県","松本",31,28,31,30,31,30,31,31,30,31,30,31,0]
["福岡",22,26,28,29,29,7,21,30,27,30,29,23,null,null,"静岡県","静岡県","静岡",31,27,30,25,19,7,12,25,17,28,30,31,0]
["熊本",31,28,30,30,29,5,17,30,27,30,30,30,null,null,"東海","愛知県","名古屋",31,28,31,30,29,10,15,25,28,30,30,31,0]
["鹿児島",29,28,29,29,24,4,21,30,26,31,30,30,null,null,"東海","三重県","名古屋",31,28,31,30,29,10,15,25,28,30,30,31,0]
["那覇",16,18,24,15,16,10,29,26,30,27,25,20,null,null,"近畿","滋賀県","大阪",31,28,29,30,28,10,17,31,25,29,30,31,0]
[null,null,null,null,null,null,null,null,null,null,null,null,null,null,null,"近畿","京都府","大阪",31,28,29,30,28,10,17,31,25,29,30,31,0]
[null,null,null,null,null,null,null,null,null,null,null,null,null,null,null,"近畿","大阪府","大阪",31,28,29,30,28,10,17,31,25,29,30,31,0]
[null,null,null,null,null,null,null,null,null,null,null,null,null,null,null,"近畿","兵庫県","大阪",31,28,29,30,28,10,17,31,25,29,30,31,0]
[null,null,null,null,null,null,null,null,null,null,null,null,null,null,null,"近畿","奈良県","大阪",31,28,29,30,28,10,17,31,25,29,30,31,0]
[null,null,null,null,null,null,null,null,null,null,null,null,null,null,null,"近畿","和歌山県","大阪",31,28,29,30,28,10,17,31,25,29,30,31,0]
[null,null,null,null,null,null,null,null,null,null,null,null,null,null,null,"中国","鳥取県","米子",31,28,31,30,31,30,31,31,30,31,30,31,0]
[null,null,null,null,null,null,null,null,null,null,null,null,null,null,null,"中国","島根県","米子",31,28,31,30,31,30,31,31,30,31,30,31,0]
[null,null,null,null,null,null,null,null,null,null,null,null,null,null,null,"中国","岡山県","広島",{"$f":"VLOOKUP($R38,$A$5:$N$30,S$53,FALSE)","v":30},28,30,30,28,13,15,30,27,30,29,30,0]
[null,null,null,null,null,null,null,null,null,null,null,null,null,null,null,"中国","広島県","広島",30,28,30,30,28,13,15,30,27,30,29,30,0]
[null,null,null,null,null,null,null,null,null,null,null,null,null,null,null,"中国","山口県","広島",30,28,30,30,28,13,15,30,27,30,29,30,0]
[null,null,null,null,null,null,null,null,null,null,null,null,null,null,null,"四国","徳島県","高知",31,28,31,30,26,8,16,31,25,30,30,31,0]
[null,null,null,null,null,null,null,null,null,null,null,null,null,null,null,"四国","香川県","高松",30,28,31,30,27,11,21,31,26,30,29,31,0]
[null,null,null,null,null,null,null,null,null,null,null,null,null,null,null,"四国","愛媛県","高松",30,28,31,30,27,11,21,31,26,30,29,31,0]
[null,null,null,null,null,null,null,null,null,null,null,null,null,null,null,"四国","高知県","高知",31,28,31,30,26,8,16,31,25,30,30,31,0]
[null,null,null,null,null,null,null,null,null,null,null,null,null,null,null,"九州","福岡県","福岡",22,26,28,29,29,7,21,30,27,30,29,23,0]
[null,null,null,null,null,null,null,null,null,null,null,null,null,null,null,"九州","佐賀県","福岡",22,26,28,29,29,7,21,30,27,30,29,23,0]
[null,null,null,null,null,null,null,null,null,null,null,null,null,null,null,"九州","長崎県","福岡",22,26,28,29,29,7,21,30,27,30,29,23,0]
[null,null,null,null,null,null,null,null,null,null,null,null,null,null,null,"九州","熊本県","熊本",31,28,30,30,29,5,17,30,27,30,30,30,0]
[null,null,null,null,null,null,null,null,null,null,null,null,null,null,null,"九州","大分県","熊本",31,28,30,30,29,5,17,30,27,30,30,30,0]
[null,null,null,null,null,null,null,null,null,null,null,null,null,null,null,"九州","宮崎県","熊本",31,28,30,30,29,5,17,30,27,30,30,30,0]
[null,null,null,null,null,null,null,null,null,null,null,null,null,null,null,"九州","鹿児島県","鹿児島",29,28,29,29,24,4,21,30,26,31,30,30,0]
[null,null,null,null,null,null,null,null,null,null,null,null,null,null,null,"沖縄","沖縄県","那覇",16,18,24,15,16,10,29,26,30,27,25,20,0]
[null,null,null,null,null,null,null,null,null,null,null,null,null,null,null,null,null,"読み込み列→",2,3,4,5,6,7,8,9,10,11,12,13,14]

{"sheet":"地中熱_RC","index":59,"n_rows":152,"n_cols":47,"rows_kept":152,"cut":false,"hidden":true,"merged":[]}
[null,"■入力情報",null,null,null,null,null,null,"■地中熱利用システムのエネルギー計算"]
[]
[null,"■対象施設情報",null,null,null,null,null,null,"■地中熱利用システム検討",null,null,null,null,"■地中熱利用システム　エネルギー計算・エネルギーコスト検討",null,null,null,null,null,null,null,null,null,null,null,null,null,null,null,null,null,null,null,"■検索用"]
[null,"項目","単位","値","備考",null,null,null,"項目","単位","値","備考",null,"項目","単位","4月","5月","6月","7月","8月","9月","10月","11月","12月","1月","2月","3月","合計","最大","最小","備考",null,null,"項目","単位","4月","5月","6月","7月","8月","9月","10月","11月","12月","1月","2月","3月"]
[null,"地域選択","-",{"$f":"入力シート!C7","v":0},"都道府県を選択してください。",null,null,null,"HP運転時間","h/日",22,null,null,"熱利用用途",null,{"$f":"マッチング!E10","v":""},{"$f":"マッチング!F10","v":""},{"$f":"マッチング!G10","v":""},{"$f":"マッチング!H10","v":""},{"$f":"マッチング!I10","v":""},{"$f":"マッチング!J10","v":""},{"$f":"マッチング!K10","v":""},{"$f":"マッチング!L10","v":""},{"$f":"マッチング!M10","v":""},{"$f":"マッチング!N10","v":""},{"$f":"マッチング!O10","v":""},{"$f":"マッチング!P10","v":""},null,null,null,null,null,null,"日あたりの熱需要量","kWh/日",{"$f":"P11","v":{"$error":"#N/A"}},{"$f":"Q11","v":{"$error":"#N/A"}},{"$error":"#N/A"},{"$error":"#N/A"},{"$error":"#N/A"},{"$error":"#N/A"},{"$error":"#N/A"},{"$error":"#N/A"},{"$error":"#N/A"},{"$error":"#N/A"},{"$error":"#N/A"},{"$error":"#N/A"}]
[null,"熱利用用途","-",{"$f":"入力シート!C8","v":0},"給湯、空調、融雪から選択してください。",null,null,null,"HP容量","kW",{"$f":"IF(D6=\"空調\",地中熱_空調_熱源容量!P6,AC12)","v":{"$error":"#N/A"}},"最大月",null,"熱需要量","MJ/月",{"$f":"マッチング!E115","v":{"$error":"#N/A"}},{"$f":"マッチング!F115","v":{"$error":"#N/A"}},{"$f":"マッチング!G115","v":{"$error":"#N/A"}},{"$f":"マッチング!H115","v":{"$error":"#N/A"}},{"$f":"マッチング!I115","v":{"$error":"#N/A"}},{"$f":"マッチング!J115","v":{"$error":"#N/A"}},{"$f":"マッチング!K115","v":{"$error":"#N/A"}},{"$f":"マッチング!L115","v":{"$error":"#N/A"}},{"$f":"マッチング!M115","v":{"$error":"#N/A"}},{"$f":"マッチング!N115","v":{"$error":"#N/A"}},{"$f":"マッチング!O115","v":{"$error":"#N/A"}},{"$f":"マッチング!P115","v":{"$error":"#N/A"}},{"$f":"SUM(P6:AA6)","v":{"$error":"#N/A"}},{"$f":"MAX(P6:AA6)","v":{"$error":"#N/A"}},{"$f":"MIN(P6:AA6)","v":{"$error":"#N/A"}},null,null,null,"HP容量","kW",{"$f":"P12","v":{"$error":"#N/A"}},{"$f":"Q12","v":{"$error":"#N/A"}},{"$error":"#N/A"},{"$error":"#N/A"},{"$error":"#N/A"},{"$error":"#N/A"},{"$error":"#N/A"},{"$error":"#N/A"},{"$error":"#N/A"},{"$error":"#N/A"},{"$error":"#N/A"},{"$error":"#N/A"}]
[null,"建物用途","-",{"$f":"入力シート!C9","v":0},"給湯、空調利用の場合は建物用途を選択してください。",null,null,null,"COP","-",{"$f":"IF(D6=\"空調\",地中熱_空調_熱源容量!P8,HLOOKUP(K6,AJ6:AU8,2,FALSE))","v":{"$error":"#N/A"}},"最大負荷月",null,null,"kWh/月",{"$f":"P6*1000/3600","v":{"$error":"#N/A"}},{"$error":"#N/A"},{"$error":"#N/A"},{"$error":"#N/A"},{"$error":"#N/A"},{"$error":"#N/A"},{"$error":"#N/A"},{"$error":"#N/A"},{"$error":"#N/A"},{"$error":"#N/A"},{"$error":"#N/A"},{"$error":"#N/A"},{"$f":"SUM(P7:AA7)","v":{"$error":"#N/A"}},{"$f":"MAX(P7:AA7)","v":{"$error":"#N/A"}},{"$f":"MIN(P7:AA7)","v":{"$error":"#N/A"}},null,null,null,"ヒートポンプCOP","-",{"$f":"P16","v":"-"},"-","-","-","-","-","-","-","-","-","-","-"]
[null,"延床面積","m2",{"$f":"入力シート!C10","v":0},"給湯、空調利用の場合は数値を入力してください。",null,null,null,"採熱量","kW",{"$f":"IF(D6=\"空調\",地中熱_空調_熱源容量!P9,AC20)","v":{"$error":"#N/A"}},"最大月",null,"日数","日",{"$f":"熱需要量算定・原単位!D24","v":30},{"$f":"熱需要量算定・原単位!E24","v":31},{"$f":"熱需要量算定・原単位!F24","v":30},{"$f":"熱需要量算定・原単位!G24","v":31},{"$f":"熱需要量算定・原単位!H24","v":31},{"$f":"熱需要量算定・原単位!I24","v":30},{"$f":"熱需要量算定・原単位!J24","v":31},{"$f":"熱需要量算定・原単位!K24","v":30},{"$f":"熱需要量算定・原単位!L24","v":31},{"$f":"熱需要量算定・原単位!M24","v":31},{"$f":"熱需要量算定・原単位!N24","v":28},{"$f":"熱需要量算定・原単位!O24","v":31},{"$f":"SUM(P8:AA8)","v":365},null,null,null,null,null,"熱利用用途","-",{"$f":"P5","v":""},"","","","","","","","","","",""]
[null,"対象面積","m2",{"$f":"入力シート!C11","v":0},"融雪利用の場合は数値を入力して下さい。",null,null,null,"温度差","℃",5,"想定設定値",null,"ヒートポンプ運転時間","h/日",{"$f":"K5","v":22},{"$f":"K5","v":22},{"$f":"K5","v":22},{"$f":"K5","v":22},{"$f":"K5","v":22},{"$f":"K5","v":22},{"$f":"K5","v":22},{"$f":"K5","v":22},{"$f":"K5","v":22},{"$f":"K5","v":22},{"$f":"K5","v":22},{"$f":"K5","v":22}]
[null,"燃料種別の選択","-",{"$f":"入力シート!C16","v":0},null,null,null,null,"冷温水流量","L/min",{"$f":"K6/K9/$D$22/$D$23*1000*60","v":{"$error":"#N/A"}},null,null,"日あたりの熱需要量","MJ/日",{"$f":"P6/P8","v":{"$error":"#N/A"}},{"$f":"Q6/Q8","v":{"$error":"#N/A"}},{"$error":"#N/A"},{"$error":"#N/A"},{"$error":"#N/A"},{"$error":"#N/A"},{"$error":"#N/A"},{"$error":"#N/A"},{"$error":"#N/A"},{"$error":"#N/A"},{"$error":"#N/A"},{"$error":"#N/A"},{"$f":"SUM(P10:AA10)","v":{"$error":"#N/A"}},{"$f":"MAX(P10:AA10)","v":{"$error":"#N/A"}},{"$f":"MIN(P10:AA10)","v":{"$error":"#N/A"}}]
[null,null,null,null,null,null,null,null,"冷温水揚程（想定）","m",15,"想定設定値",null,null,"kWh/日",{"$f":"P10*1000/3600","v":{"$error":"#N/A"}},{"$error":"#N/A"},{"$error":"#N/A"},{"$error":"#N/A"},{"$error":"#N/A"},{"$error":"#N/A"},{"$error":"#N/A"},{"$error":"#N/A"},{"$error":"#N/A"},{"$error":"#N/A"},{"$error":"#N/A"},{"$error":"#N/A"},{"$f":"SUM(P11:AA11)","v":{"$error":"#N/A"}},{"$f":"MAX(P11:AA11)","v":{"$error":"#N/A"}},{"$f":"MIN(P11:AA11)","v":{"$error":"#N/A"}}]
[null,null,null,null,null,null,null,null,"冷温水ポンプ効率","%",{"$f":"IF(K10<80,ポンプ効率近似式!$D$14,-1.403*LN(K10/1000)^2+6.9719*LN(K10/1000)+53.781)","v":{"$error":"#N/A"}},"ポンプ効率近似式より",null,"HP容量","kW",{"$f":"IF(P5=\"融雪\",0,P11/P9)","v":{"$error":"#N/A"}},{"$f":"IF(Q5=\"融雪\",0,Q11/Q9)","v":{"$error":"#N/A"}},{"$error":"#N/A"},{"$error":"#N/A"},{"$error":"#N/A"},{"$error":"#N/A"},{"$error":"#N/A"},{"$error":"#N/A"},{"$error":"#N/A"},{"$error":"#N/A"},{"$error":"#N/A"},{"$error":"#N/A"},null,{"$f":"MAX(P12:AA12)","v":{"$error":"#N/A"}},{"$f":"MIN(P12:AA12)","v":{"$error":"#N/A"}}]
[null,null,null,null,null,null,null,null,"冷温水ポンプ消費電力","kW",{"$f":"$D$23*$D$25*K10/1000/60*K11/10/K12","v":{"$error":"#N/A"}},"ポンプ関数より",null,"気温","℃",{"$f":"気温!F3","v":{"$error":"#N/A"}},{"$f":"気温!G3","v":{"$error":"#N/A"}},{"$f":"気温!H3","v":{"$error":"#N/A"}},{"$f":"気温!I3","v":{"$error":"#N/A"}},{"$f":"気温!J3","v":{"$error":"#N/A"}},{"$f":"気温!K3","v":{"$error":"#N/A"}},{"$f":"気温!L3","v":{"$error":"#N/A"}},{"$f":"気温!M3","v":{"$error":"#N/A"}},{"$f":"気温!N3","v":{"$error":"#N/A"}},{"$f":"気温!C3","v":{"$error":"#N/A"}},{"$f":"気温!D3","v":{"$error":"#N/A"}},{"$f":"気温!E3","v":{"$error":"#N/A"}},null,null,null,"気象庁データより"]
[null,null,null,null,null,null,null,null,"熱源水流量","L/min",{"$f":"K8/K9/$D$22/$D$23*1000*60","v":{"$error":"#N/A"}},null,null,"地中温度","℃",{"$f":"気温!O3","v":{"$error":"#N/A"}},{"$f":"P14","v":{"$error":"#N/A"}},{"$f":"Q14","v":{"$error":"#N/A"}},{"$error":"#N/A"},{"$error":"#N/A"},{"$error":"#N/A"},{"$error":"#N/A"},{"$error":"#N/A"},{"$error":"#N/A"},{"$error":"#N/A"},{"$error":"#N/A"},{"$error":"#N/A"},null,null,null,"年間平均気温で一定とする。"]
[null,null,null,null,null,null,null,null,"熱源水揚程（想定）","m",15,"想定設定値",null,"熱源水入口温度想定","℃",{"$f":"IF(P5=\"冷房\",P14+5,P14-5)","v":{"$error":"#N/A"}},{"$f":"IF(Q5=\"冷房\",Q14+5,Q14-5)","v":{"$error":"#N/A"}},{"$error":"#N/A"},{"$error":"#N/A"},{"$error":"#N/A"},{"$error":"#N/A"},{"$error":"#N/A"},{"$error":"#N/A"},{"$error":"#N/A"},{"$error":"#N/A"},{"$error":"#N/A"},{"$error":"#N/A"},null,null,null,"アプローチ温度5℃とする。"]
[null,null,null,null,null,null,null,null,"熱源水ポンプ効率","%",{"$f":"IF(K14<80,ポンプ効率近似式!$D$14,-1.403*LN(K14/1000)^2+6.9719*LN(K14/1000)+53.781)","v":{"$error":"#N/A"}},"ポンプ効率近似式より",null,"ヒートポンプCOP","-",{"$f":"IF(P5=\"冷房\",HP性能曲線!$E$9*P15+HP性能曲線!$F$9,IF(P5=\"暖房\",HP性能曲線!$E$10*P15+HP性能曲線!$F$10,IF(P5=\"給湯\",HP性能曲線!$E$11*P15+HP性能曲線!$F$11,IF(P5=\"融雪\",1,\"-\"))))","v":"-"},{"$f":"IF(Q5=\"冷房\",HP性能曲線!$E$9*Q15+HP性能曲線!$F$9,IF(Q5=\"暖房\",HP性能曲線!$E$10*Q15+HP性能曲線!$F$10,IF(Q5=\"給湯\",HP性能曲線!$E$11*Q15+HP性能曲線!$F$11,IF(Q5=\"融雪\",1,\"-\"))))","v":"-"},{"$f":"IF(R5=\"冷房\",HP性能曲線!$E$9*R15+HP性能曲線!$F$9,IF(R5=\"暖房\",HP性能曲線!$E$10*R15+HP性能曲線!$F$10,IF(R5=\"給湯\",HP性能曲線!$E$11*R15+HP性能曲線!$F$11,IF(R5=\"融雪\",1,\"-\"))))","v":"-"},{"$f":"IF(S5=\"冷房\",HP性能曲線!$E$9*S15+HP性能曲線!$F$9,IF(S5=\"暖房\",HP性能曲線!$E$10*S15+HP性能曲線!$F$10,IF(S5=\"給湯\",HP性能曲線!$E$11*S15+HP性能曲線!$F$11,IF(S5=\"融雪\",1,\"-\"))))","v":"-"},{"$f":"IF(T5=\"冷房\",HP性能曲線!$E$9*T15+HP性能曲線!$F$9,IF(T5=\"暖房\",HP性能曲線!$E$10*T15+HP性能曲線!$F$10,IF(T5=\"給湯\",HP性能曲線!$E$11*T15+HP性能曲線!$F$11,IF(T5=\"融雪\",1,\"-\"))))","v":"-"},{"$f":"IF(U5=\"冷房\",HP性能曲線!$E$9*U15+HP性能曲線!$F$9,IF(U5=\"暖房\",HP性能曲線!$E$10*U15+HP性能曲線!$F$10,IF(U5=\"給湯\",HP性能曲線!$E$11*U15+HP性能曲線!$F$11,IF(U5=\"融雪\",1,\"-\"))))","v":"-"},{"$f":"IF(V5=\"冷房\",HP性能曲線!$E$9*V15+HP性能曲線!$F$9,IF(V5=\"暖房\",HP性能曲線!$E$10*V15+HP性能曲線!$F$10,IF(V5=\"給湯\",HP性能曲線!$E$11*V15+HP性能曲線!$F$11,IF(V5=\"融雪\",1,\"-\"))))","v":"-"},{"$f":"IF(W5=\"冷房\",HP性能曲線!$E$9*W15+HP性能曲線!$F$9,IF(W5=\"暖房\",HP性能曲線!$E$10*W15+HP性能曲線!$F$10,IF(W5=\"給湯\",HP性能曲線!$E$11*W15+HP性能曲線!$F$11,IF(W5=\"融雪\",1,\"-\"))))","v":"-"},{"$f":"IF(X5=\"冷房\",HP性能曲線!$E$9*X15+HP性能曲線!$F$9,IF(X5=\"暖房\",HP性能曲線!$E$10*X15+HP性能曲線!$F$10,IF(X5=\"給湯\",HP性能曲線!$E$11*X15+HP性能曲線!$F$11,IF(X5=\"融雪\",1,\"-\"))))","v":"-"},{"$f":"IF(Y5=\"冷房\",HP性能曲線!$E$9*Y15+HP性能曲線!$F$9,IF(Y5=\"暖房\",HP性能曲線!$E$10*Y15+HP性能曲線!$F$10,IF(Y5=\"給湯\",HP性能曲線!$E$11*Y15+HP性能曲線!$F$11,IF(Y5=\"融雪\",1,\"-\"))))","v":"-"},{"$f":"IF(Z5=\"冷房\",HP性能曲線!$E$9*Z15+HP性能曲線!$F$9,IF(Z5=\"暖房\",HP性能曲線!$E$10*Z15+HP性能曲線!$F$10,IF(Z5=\"給湯\",HP性能曲線!$E$11*Z15+HP性能曲線!$F$11,IF(Z5=\"融雪\",1,\"-\"))))","v":"-"},{"$f":"IF(AA5=\"冷房\",HP性能曲線!$E$9*AA15+HP性能曲線!$F$9,IF(AA5=\"暖房\",HP性能曲線!$E$10*AA15+HP性能曲線!$F$10,IF(AA5=\"給湯\",HP性能曲線!$E$11*AA15+HP性能曲線!$F$11,IF(AA5=\"融雪\",1,\"-\"))))","v":"-"}]
[null,null,null,null,null,null,null,null,"熱源水ポンプ消費電力","kW",{"$f":"$D$23*$D$25*K14/1000/60*K15/10/K16","v":{"$error":"#N/A"}},"ポンプ関数より",null,"ヒートポンプ消費電力量","kWh/月",{"$f":"IF(P5=\"融雪\",0,P7/P16)","v":{"$error":"#N/A"}},{"$f":"IF(Q5=\"融雪\",0,Q7/Q16)","v":{"$error":"#N/A"}},{"$error":"#N/A"},{"$error":"#N/A"},{"$error":"#N/A"},{"$error":"#N/A"},{"$error":"#N/A"},{"$f":"IF(W5=\"融雪\",0,W7/W16)","v":{"$error":"#N/A"}},{"$error":"#N/A"},{"$error":"#N/A"},{"$error":"#N/A"},{"$error":"#N/A"},{"$f":"SUM(P17:AA17)","v":{"$error":"#N/A"}},{"$f":"MAX(P17:AA17)","v":{"$error":"#N/A"}},{"$f":"MIN(P17:AA17)","v":{"$error":"#N/A"}}]
[null,null,null,null,null,null,null,null,null,null,null,null,null,"ヒートポンプ消費電力","kW",{"$f":"IF(P5=\"融雪\",0,P12/P16)","v":{"$error":"#N/A"}},{"$error":"#N/A"},{"$error":"#N/A"},{"$error":"#N/A"},{"$error":"#N/A"},{"$error":"#N/A"},{"$error":"#N/A"},{"$error":"#N/A"},{"$error":"#N/A"},{"$error":"#N/A"},{"$error":"#N/A"},{"$error":"#N/A"},null,{"$f":"MAX(P18:AA18)","v":{"$error":"#N/A"}},{"$f":"MIN(P18:AA18)","v":{"$error":"#N/A"}}]
[null,null,null,null,null,null,null,null,"熱交換器単位長さ当りの交換熱量","W/m",60,"※",null,"採熱量（熱交換量）","kWh/月",{"$f":"IF(P5=\"冷房\",P7+P17,P7-P17)","v":{"$error":"#N/A"}},{"$f":"IF(Q5=\"冷房\",Q7+Q17,Q7-Q17)","v":{"$error":"#N/A"}},{"$error":"#N/A"},{"$error":"#N/A"},{"$error":"#N/A"},{"$error":"#N/A"},{"$error":"#N/A"},{"$f":"IF(W5=\"冷房\",W7+W17,W7-W17)","v":{"$error":"#N/A"}},{"$error":"#N/A"},{"$error":"#N/A"},{"$error":"#N/A"},{"$error":"#N/A"},{"$f":"SUM(P19:AA19)","v":{"$error":"#N/A"}},{"$f":"MAX(P19:AA19)","v":{"$error":"#N/A"}},{"$f":"MIN(P19:AA19)","v":{"$error":"#N/A"}}]
[null,"■係数",null,null,null,null,null,null,"必要熱交換器長さ","m",{"$f":"K8*1000/K19","v":{"$error":"#N/A"}},null,null,"採熱量（熱交換量）","kW",{"$f":"P19/P9/P8","v":{"$error":"#N/A"}},{"$f":"Q19/Q9/Q8","v":{"$error":"#N/A"}},{"$error":"#N/A"},{"$error":"#N/A"},{"$error":"#N/A"},{"$error":"#N/A"},{"$error":"#N/A"},{"$error":"#N/A"},{"$error":"#N/A"},{"$error":"#N/A"},{"$error":"#N/A"},{"$error":"#N/A"},null,{"$f":"MAX(P20:AA20)","v":{"$error":"#N/A"}},{"$f":"MIN(P20:AA20)","v":{"$error":"#N/A"}}]
[null,"項目","値","単位","備考",null,null,null,null,null,null,null,null,"冷温水ポンプ消費電力量","kWh/月",{"$f":"IF(P6=0,0,$K$13*P9*P8)","v":{"$error":"#N/A"}},{"$f":"IF(Q6=0,0,$K$13*Q9*Q8)","v":{"$error":"#N/A"}},{"$error":"#N/A"},{"$error":"#N/A"},{"$error":"#N/A"},{"$error":"#N/A"},{"$error":"#N/A"},{"$error":"#N/A"},{"$error":"#N/A"},{"$error":"#N/A"},{"$error":"#N/A"},{"$error":"#N/A"},{"$f":"SUM(P21:AA21)","v":{"$error":"#N/A"}}]
[null,"水の比熱","kJ/kgK",{"$f":"係数・物性!D4","v":4.1790000000000003},"係数・物性より",null,null,null,null,null,null,null,null,"熱源水ポンプ消費電力量","kWh/月",{"$f":"IF(P6=0,0,$K$17*P9*P8)","v":{"$error":"#N/A"}},{"$error":"#N/A"},{"$error":"#N/A"},{"$error":"#N/A"},{"$error":"#N/A"},{"$error":"#N/A"},{"$error":"#N/A"},{"$error":"#N/A"},{"$error":"#N/A"},{"$error":"#N/A"},{"$error":"#N/A"},{"$error":"#N/A"},{"$f":"SUM(P22:AA22)","v":{"$error":"#N/A"}}]
[null,"水の密度","kg/m3",{"$f":"係数・物性!D5","v":996.62},"係数・物性より",null,null,null,null,null,null,null,null,"消費電力合計","kWh/月",{"$f":"P17+P21+P22","v":{"$error":"#N/A"}},{"$error":"#N/A"},{"$error":"#N/A"},{"$error":"#N/A"},{"$error":"#N/A"},{"$error":"#N/A"},{"$error":"#N/A"},{"$error":"#N/A"},{"$error":"#N/A"},{"$error":"#N/A"},{"$error":"#N/A"},{"$error":"#N/A"},{"$f":"SUM(P23:AA23)","v":{"$error":"#N/A"}}]
[null,"容積比熱","MJ/m3K",{"$f":"係数・物性!D6","v":4.1648749800000004},"係数・物性より",null,null,null,"※官庁施設における地中熱利用システム導入ガイドライン（案）、国土交通省大臣官房官庁英全部設備・環境課、平成25年10月"]
[null,"重力加速度","m/s2",{"$f":"係数・物性!D7","v":9.8059999999999992},"係数・物性より",null,null,null,null,null,null,null,null,"熱源機消費電力量","kWh/月",{"$f":"P17","v":{"$error":"#N/A"}},{"$f":"Q17","v":{"$error":"#N/A"}},{"$error":"#N/A"},{"$error":"#N/A"},{"$error":"#N/A"},{"$error":"#N/A"},{"$error":"#N/A"},{"$error":"#N/A"},{"$error":"#N/A"},{"$error":"#N/A"},{"$error":"#N/A"},{"$error":"#N/A"},{"$f":"SUM(P25:AA25)","v":{"$error":"#N/A"}}]
[null,null,null,null,null,null,null,null,null,null,null,null,null,"補機類消費電力量","kWh/月",{"$f":"P21+P22","v":{"$error":"#N/A"}},{"$f":"Q21+Q22","v":{"$error":"#N/A"}},{"$error":"#N/A"},{"$error":"#N/A"},{"$error":"#N/A"},{"$error":"#N/A"},{"$error":"#N/A"},{"$error":"#N/A"},{"$error":"#N/A"},{"$error":"#N/A"},{"$error":"#N/A"},{"$error":"#N/A"},{"$f":"SUM(P26:AA26)","v":{"$error":"#N/A"}}]
[]
[]
[null,null,null,null,null,null,null,null,"■エネルギーコスト、CO2排出量、一次エネルギー消費量計算（エネルギー消費量を入力）"]
[null,null,null,null,null,null,null,null,null,null,null,null,null,"□エネルギー消費量"]
[null,null,null,null,null,null,null,null,null,"設定セル",null,null,null,"項目","単位","4月","5月","6月","7月","8月","9月","10月","11月","12月","1月","2月","3月","合計","最大","最小","備考"]
[null,null,null,null,null,null,null,null,null,"変更設定していいセル（計算式が入力されている）",null,null,null,"電気","kWh/月",{"$f":"P23","v":{"$error":"#N/A"}},{"$error":"#N/A"},{"$error":"#N/A"},{"$error":"#N/A"},{"$error":"#N/A"},{"$error":"#N/A"},{"$error":"#N/A"},{"$error":"#N/A"},{"$error":"#N/A"},{"$error":"#N/A"},{"$error":"#N/A"},{"$error":"#N/A"},{"$f":"SUM(P32:AA32)","v":{"$error":"#N/A"}},{"$f":"MAX(P32:AA32)","v":{"$error":"#N/A"}},{"$f":"MIN(P32:AA32)","v":{"$error":"#N/A"}}]
[null,null,null,null,null,null,null,null,null,"あまり変更しなくていい設定セル",null,null,null,"都市ガス（13A）","m3/月",null,null,null,null,null,null,null,null,null,null,null,null,0,0,0]
[null,null,null,null,null,null,null,null,null,"デフォ値・係数",null,null,null,"灯油","L/月",null,null,null,null,null,null,null,null,null,null,null,null,0,0,0]
[null,null,null,null,null,null,null,null,null,"計算式・項目確認セル",null,null,null,"重油","L/月",null,null,null,null,null,null,null,null,null,null,null,null,0,0,0]
[null,null,null,null,null,null,null,null,null,null,null,null,null,"液化石油ガス（LPG）","kg/月",null,null,null,null,null,null,null,null,null,null,null,null,0,0,0]
[null,null,null,null,null,null,null,null,null,null,null,null,null,"他人から供給された熱","MJ/月",null,null,null,null,null,null,null,null,null,null,null,null,0,0,0]
[]
[]
[null,null,null,null,null,null,null,null,"□エネルギーコスト単価(フラットレート)",null,null,null,null,"□エネルギーコスト検討"]
[null,null,null,null,null,null,null,null,"項目","単位","値","備考",null,"項目","単位","4月","5月","6月","7月","8月","9月","10月","11月","12月","1月","2月","3月","合計","最大","最小","備考"]
[null,null,null,null,null,null,null,null,"電気","円/kWh",{"$f":"E単価!H5","v":14},null,null,"電気","千円/月",{"$f":"P32*$K42/1000","v":{"$error":"#N/A"}},{"$f":"Q32*$K42/1000","v":{"$error":"#N/A"}},{"$error":"#N/A"},{"$error":"#N/A"},{"$error":"#N/A"},{"$error":"#N/A"},{"$error":"#N/A"},{"$error":"#N/A"},{"$error":"#N/A"},{"$error":"#N/A"},{"$error":"#N/A"},{"$error":"#N/A"},{"$f":"SUM(P42:AA42)","v":{"$error":"#N/A"}},{"$f":"MAX(P42:AA42)","v":{"$error":"#N/A"}},{"$f":"MIN(P42:AA42)","v":{"$error":"#N/A"}}]
[null,null,null,null,null,null,null,null,"都市ガス（13A）","円/m3",{"$f":"E単価!H6","v":114.64285714285714},null,null,"都市ガス（13A）","千円/月",{"$f":"P33*$K43/1000","v":0},0,0,0,0,0,0,0,0,0,0,0,0,0,0]
[null,null,null,null,null,null,null,null,"灯油","円/L",{"$f":"E単価!H7","v":107.88888888888889},null,null,"灯油","千円/月",0,0,0,0,0,0,0,0,0,0,0,0,0,0,0]
[null,null,null,null,null,null,null,null,"重油","円/L",{"$f":"E単価!H8","v":76.099999999999994},null,null,"重油","千円/月",0,0,0,0,0,0,0,0,0,0,0,0,0,0,0]
[null,null,null,null,null,null,null,null,"液化石油ガス（LPG）","円/kg",{"$f":"E単価!H9","v":159.40476190476193},null,null,"液化石油ガス（LPG）","千円/月",0,0,0,0,0,0,0,0,0,0,0,0,0,0,0]
[null,null,null,null,null,null,null,null,"他人から供給された熱","円/GJ",{"$f":"E単価!H10","v":6611.9047619047615},null,null,"他人から供給された熱","千円/月",0,0,0,0,0,0,0,0,0,0,0,0,0,0,0]
[null,null,null,null,null,null,null,null,null,null,null,null,null,"エネルギーコスト合計","千円/月",{"$f":"SUM(P42:P47)","v":{"$error":"#N/A"}},{"$f":"SUM(Q42:Q47)","v":{"$error":"#N/A"}},{"$error":"#N/A"},{"$error":"#N/A"},{"$error":"#N/A"},{"$error":"#N/A"},{"$error":"#N/A"},{"$error":"#N/A"},{"$error":"#N/A"},{"$error":"#N/A"},{"$error":"#N/A"},{"$error":"#N/A"},{"$f":"SUM(AB42:AB47)","v":{"$error":"#N/A"}},{"$f":"SUM(AC42:AC47)","v":{"$error":"#N/A"}},{"$f":"SUM(AD42:AD47)","v":{"$error":"#N/A"}}]
[]
[null,null,null,null,null,null,null,null,"□CO2換算係数",null,null,null,null,"□CO2排出量"]
[null,null,null,null,null,null,null,null,"項目","単位","値","備考",null,"項目","単位","4月","5月","6月","7月","8月","9月","10月","11月","12月","1月","2月","3月","合計","最大","最小","備考"]
[null,null,null,null,null,null,null,null,"電気","tCO2/kWh",{"$f":"CO2換算係数!B3","v":4.8799999999999999E-4},null,null,"電気","t-CO2/月",{"$f":"P32*$K52","v":{"$error":"#N/A"}},{"$f":"Q32*$K52","v":{"$error":"#N/A"}},{"$error":"#N/A"},{"$error":"#N/A"},{"$error":"#N/A"},{"$error":"#N/A"},{"$error":"#N/A"},{"$error":"#N/A"},{"$error":"#N/A"},{"$error":"#N/A"},{"$error":"#N/A"},{"$f":"AA32*$K52","v":{"$error":"#N/A"}},{"$f":"SUM(P52:AA52)","v":{"$error":"#N/A"}},{"$f":"MAX(P52:AA52)","v":{"$error":"#N/A"}},{"$f":"MIN(P52:AA52)","v":{"$error":"#N/A"}}]
[null,null,null,null,null,null,null,null,"都市ガス（13A）","tCO2/km3",{"$f":"CO2換算係数!B4","v":2.23},null,null,"都市ガス（13A）","t-CO2/月",{"$f":"P33/1000*$K53","v":0},{"$f":"Q33/1000*$K53","v":0},0,0,0,0,0,0,0,0,0,0,0,0,0]
[null,null,null,null,null,null,null,null,"灯油","tCO2/kL",{"$f":"CO2換算係数!B5","v":2.4900000000000002},null,null,"灯油","t-CO2/月",{"$f":"P34/1000*$K54","v":0},0,0,0,0,0,0,0,0,0,0,0,0,0,0]
[null,null,null,null,null,null,null,null,"重油","tCO2/kL",{"$f":"CO2換算係数!B6","v":2.71},null,null,"重油","t-CO2/月",0,0,0,0,0,0,0,0,0,0,0,0,0,0,0]
[null,null,null,null,null,null,null,null,"液化石油ガス（LPG）","tCO2/t",{"$f":"CO2換算係数!B7","v":3},null,null,"液化石油ガス（LPG）","t-CO2/月",0,0,0,0,0,0,0,0,0,0,0,0,0,0,0]
[null,null,null,null,null,null,null,null,"他人から供給された熱","tCO2/GJ",{"$f":"CO2換算係数!B8","v":5.7000000000000002E-2},null,null,"他人から供給された熱","t-CO2/月",0,0,0,0,0,0,0,0,0,0,0,0,0,0,0]
[null,null,null,null,null,null,null,null,null,null,null,null,null,"CO2排出量合計","t-CO2/月",{"$f":"SUM(P52:P57)","v":{"$error":"#N/A"}},{"$f":"SUM(Q52:Q57)","v":{"$error":"#N/A"}},{"$error":"#N/A"},{"$error":"#N/A"},{"$error":"#N/A"},{"$error":"#N/A"},{"$error":"#N/A"},{"$error":"#N/A"},{"$error":"#N/A"},{"$error":"#N/A"},{"$error":"#N/A"},{"$error":"#N/A"},{"$f":"SUM(AB52:AB57)","v":{"$error":"#N/A"}},{"$error":"#N/A"},{"$error":"#N/A"}]
[]
[null,null,null,null,null,null,null,null,"□一次エネルギー換算係数",null,null,null,null,"□一次エネルギー消費量"]
[null,null,null,null,null,null,null,null,"項目","単位","値","備考",null,"項目","単位","4月","5月","6月","7月","8月","9月","10月","11月","12月","1月","2月","3月","合計","最大","最小","備考"]
[null,null,null,null,null,null,null,null,"電気","MJ/kWh",{"$f":"一次E換算!B3","v":9.76},null,null,"電気","MJ/月",{"$f":"P32*$K62","v":{"$error":"#N/A"}},{"$error":"#N/A"},{"$error":"#N/A"},{"$error":"#N/A"},{"$error":"#N/A"},{"$error":"#N/A"},{"$error":"#N/A"},{"$error":"#N/A"},{"$error":"#N/A"},{"$error":"#N/A"},{"$error":"#N/A"},{"$error":"#N/A"},{"$f":"SUM(P62:AA62)","v":{"$error":"#N/A"}},{"$f":"MAX(P62:AA62)","v":{"$error":"#N/A"}},{"$f":"MIN(P62:AA62)","v":{"$error":"#N/A"}}]
[null,null,null,null,null,null,null,null,"都市ガス（13A）","MJ/m3",{"$f":"一次E換算!B4","v":45},null,null,"都市ガス（13A）","MJ/月",0,0,0,0,0,0,0,0,0,0,0,0,0,0,0]
[null,null,null,null,null,null,null,null,"灯油","MJ/L",{"$f":"一次E換算!B5","v":37},null,null,"灯油","MJ/月",0,0,0,0,0,0,0,0,0,0,0,0,0,0,0]
[null,null,null,null,null,null,null,null,"重油","MJ/L",{"$f":"一次E換算!B6","v":41},null,null,"重油","MJ/月",0,0,0,0,0,0,0,0,0,0,0,0,0,0,0]
[null,null,null,null,null,null,null,null,"液化石油ガス（LPG）","MJ/kg",{"$f":"一次E換算!B7","v":50},null,null,"液化石油ガス（LPG）","MJ/月",0,0,0,0,0,0,0,0,0,0,0,0,0,0,0]
[null,null,null,null,null,null,null,null,"他人から供給された熱","MJ/MJ",{"$f":"一次E換算!B8","v":1.36},null,null,"他人から供給された熱","MJ/月",0,0,0,0,0,0,0,0,0,0,0,0,0,0,0]
[null,null,null,null,null,null,null,null,null,null,null,null,null,"一次エネルギー消費量合計","MJ/月",{"$f":"SUM(P62:P67)","v":{"$error":"#N/A"}},{"$error":"#N/A"},{"$error":"#N/A"},{"$error":"#N/A"},{"$error":"#N/A"},{"$error":"#N/A"},{"$error":"#N/A"},{"$error":"#N/A"},{"$error":"#N/A"},{"$error":"#N/A"},{"$error":"#N/A"},{"$error":"#N/A"},{"$error":"#N/A"},{"$error":"#N/A"},{"$error":"#N/A"}]
[]
[]
[null,null,null,null,null,null,null,null,"■熱源機エネルギーコスト、CO2排出量、一次エネルギー消費量計算（エネルギー消費量を入力）"]
[null,null,null,null,null,null,null,null,null,null,null,null,null,"□エネルギー消費量"]
[null,null,null,null,null,null,null,null,null,"設定セル",null,null,null,"項目","単位","4月","5月","6月","7月","8月","9月","10月","11月","12月","1月","2月","3月","合計","最大","最小","備考"]
[null,null,null,null,null,null,null,null,null,"変更設定していいセル（計算式が入力されている）",null,null,null,"電気","kWh/月",{"$f":"P25","v":{"$error":"#N/A"}},{"$f":"Q25","v":{"$error":"#N/A"}},{"$error":"#N/A"},{"$error":"#N/A"},{"$error":"#N/A"},{"$error":"#N/A"},{"$error":"#N/A"},{"$error":"#N/A"},{"$error":"#N/A"},{"$error":"#N/A"},{"$error":"#N/A"},{"$error":"#N/A"},{"$f":"SUM(P74:AA74)","v":{"$error":"#N/A"}},{"$f":"MAX(P74:AA74)","v":{"$error":"#N/A"}},{"$f":"MIN(P74:AA74)","v":{"$error":"#N/A"}}]
[null,null,null,null,null,null,null,null,null,"あまり変更しなくていい設定セル",null,null,null,"都市ガス（13A）","m3/月",null,null,null,null,null,null,null,null,null,null,null,null,0,0,0]
[null,null,null,null,null,null,null,null,null,"デフォ値・係数",null,null,null,"灯油","L/月",null,null,null,null,null,null,null,null,null,null,null,null,0,0,0]
[null,null,null,null,null,null,null,null,null,"計算式・項目確認セル",null,null,null,"重油","L/月",null,null,null,null,null,null,null,null,null,null,null,null,0,0,0]
[null,null,null,null,null,null,null,null,null,null,null,null,null,"液化石油ガス（LPG）","kg/月",null,null,null,null,null,null,null,null,null,null,null,null,0,0,0]
[null,null,null,null,null,null,null,null,null,null,null,null,null,"他人から供給された熱","MJ/月",null,null,null,null,null,null,null,null,null,null,null,null,0,0,0]
[]
[]
[null,null,null,null,null,null,null,null,"□エネルギーコスト単価(フラットレート)",null,null,null,null,"□エネルギーコスト検討"]
[null,null,null,null,null,null,null,null,"項目","単位","値","備考",null,"項目","単位","4月","5月","6月","7月","8月","9月","10月","11月","12月","1月","2月","3月","合計","最大","最小","備考"]
[null,null,null,null,null,null,null,null,"電気","円/kWh",{"$f":"K42","v":14},null,null,"電気","千円/月",{"$f":"P74*$K84/1000","v":{"$error":"#N/A"}},{"$error":"#N/A"},{"$error":"#N/A"},{"$error":"#N/A"},{"$error":"#N/A"},{"$error":"#N/A"},{"$error":"#N/A"},{"$error":"#N/A"},{"$error":"#N/A"},{"$error":"#N/A"},{"$error":"#N/A"},{"$error":"#N/A"},{"$f":"SUM(P84:AA84)","v":{"$error":"#N/A"}},{"$f":"MAX(P84:AA84)","v":{"$error":"#N/A"}},{"$f":"MIN(P84:AA84)","v":{"$error":"#N/A"}}]
[null,null,null,null,null,null,null,null,"都市ガス（13A）","円/m3",{"$f":"K43","v":114.64285714285714},null,null,"都市ガス（13A）","千円/月",{"$f":"P75*$K85/1000","v":0},0,0,0,0,0,0,0,0,0,0,0,0,0,0]
[null,null,null,null,null,null,null,null,"灯油","円/L",107.88888888888889,null,null,"灯油","千円/月",{"$f":"P76*$K86/1000","v":0},0,0,0,0,0,0,0,0,0,0,0,0,0,0]
[null,null,null,null,null,null,null,null,"重油","円/L",76.099999999999994,null,null,"重油","千円/月",{"$f":"P77*$K87/1000","v":0},0,0,0,0,0,0,0,0,0,0,0,0,0,0]
[null,null,null,null,null,null,null,null,"液化石油ガス（LPG）","円/kg",159.40476190476193,null,null,"液化石油ガス（LPG）","千円/月",{"$f":"P78*$K88/1000","v":0},0,0,0,0,0,0,0,0,0,0,0,0,0,0]
[null,null,null,null,null,null,null,null,"他人から供給された熱","円/GJ",6611.9047619047615,null,null,"他人から供給された熱","千円/月",{"$f":"P79*$K89/1000","v":0},0,0,0,0,0,0,0,0,0,0,0,0,0,0]
[null,null,null,null,null,null,null,null,null,null,null,null,null,"エネルギーコスト合計","千円/月",{"$f":"SUM(P84:P89)","v":{"$error":"#N/A"}},{"$f":"SUM(Q84:Q89)","v":{"$error":"#N/A"}},{"$error":"#N/A"},{"$error":"#N/A"},{"$error":"#N/A"},{"$error":"#N/A"},{"$error":"#N/A"},{"$error":"#N/A"},{"$error":"#N/A"},{"$error":"#N/A"},{"$error":"#N/A"},{"$error":"#N/A"},{"$f":"SUM(AB84:AB89)","v":{"$error":"#N/A"}},{"$f":"SUM(AC84:AC89)","v":{"$error":"#N/A"}},{"$f":"SUM(AD84:AD89)","v":{"$error":"#N/A"}}]
[]
[null,null,null,null,null,null,null,null,"□CO2換算係数",null,null,null,null,"□CO2排出量"]
[null,null,null,null,null,null,null,null,"項目","単位","値","備考",null,"項目","単位","4月","5月","6月","7月","8月","9月","10月","11月","12月","1月","2月","3月","合計","最大","最小","備考"]
[null,null,null,null,null,null,null,null,"電気","tCO2/kWh",{"$f":"K52","v":4.8799999999999999E-4},null,null,"電気","t-CO2/月",{"$f":"P74*$K94","v":{"$error":"#N/A"}},{"$error":"#N/A"},{"$error":"#N/A"},{"$error":"#N/A"},{"$error":"#N/A"},{"$error":"#N/A"},{"$error":"#N/A"},{"$error":"#N/A"},{"$error":"#N/A"},{"$error":"#N/A"},{"$error":"#N/A"},{"$error":"#N/A"},{"$f":"SUM(P94:AA94)","v":{"$error":"#N/A"}},{"$f":"MAX(P94:AA94)","v":{"$error":"#N/A"}},{"$f":"MIN(P94:AA94)","v":{"$error":"#N/A"}}]
[null,null,null,null,null,null,null,null,"都市ガス（13A）","tCO2/km3",{"$f":"K53","v":2.23},null,null,"都市ガス（13A）","t-CO2/月",{"$f":"P75/1000*$K95","v":0},0,0,0,0,0,0,0,0,0,0,0,0,0,0]
[null,null,null,null,null,null,null,null,"灯油","tCO2/kL",2.4900000000000002,null,null,"灯油","t-CO2/月",{"$f":"P76/1000*$K96","v":0},0,0,0,0,0,0,0,0,0,0,0,0,0,0]
[null,null,null,null,null,null,null,null,"重油","tCO2/kL",2.71,null,null,"重油","t-CO2/月",{"$f":"P77/1000*$K97","v":0},0,0,0,0,0,0,0,0,0,0,0,0,0,0]
[null,null,null,null,null,null,null,null,"液化石油ガス（LPG）","tCO2/t",3,null,null,"液化石油ガス（LPG）","t-CO2/月",{"$f":"P78/1000*$K98","v":0},0,0,0,0,0,0,0,0,0,0,0,0,0,0]
[null,null,null,null,null,null,null,null,"他人から供給された熱","tCO2/GJ",5.7000000000000002E-2,null,null,"他人から供給された熱","t-CO2/月",{"$f":"P79/1000*$K99","v":0},0,0,0,0,0,0,0,0,0,0,0,0,0,0]
[null,null,null,null,null,null,null,null,null,null,null,null,null,"CO2排出量合計","t-CO2/月",{"$f":"SUM(P94:P99)","v":{"$error":"#N/A"}},{"$f":"SUM(Q94:Q99)","v":{"$error":"#N/A"}},{"$error":"#N/A"},{"$error":"#N/A"},{"$error":"#N/A"},{"$error":"#N/A"},{"$error":"#N/A"},{"$error":"#N/A"},{"$error":"#N/A"},{"$error":"#N/A"},{"$error":"#N/A"},{"$error":"#N/A"},{"$f":"SUM(AB94:AB99)","v":{"$error":"#N/A"}},{"$f":"SUM(AC94:AC99)","v":{"$error":"#N/A"}},{"$error":"#N/A"}]
[]
[null,null,null,null,null,null,null,null,"□一次エネルギー換算係数",null,null,null,null,"□一次エネルギー消費量"]
[null,null,null,null,null,null,null,null,"項目","単位","値","備考",null,"項目","単位","4月","5月","6月","7月","8月","9月","10月","11月","12月","1月","2月","3月","合計","最大","最小","備考"]
[null,null,null,null,null,null,null,null,"電気","MJ/kWh",{"$f":"K62","v":9.76},null,null,"電気","MJ/月",{"$f":"P74*$K104","v":{"$error":"#N/A"}},{"$error":"#N/A"},{"$error":"#N/A"},{"$error":"#N/A"},{"$error":"#N/A"},{"$error":"#N/A"},{"$error":"#N/A"},{"$error":"#N/A"},{"$error":"#N/A"},{"$error":"#N/A"},{"$error":"#N/A"},{"$error":"#N/A"},{"$f":"SUM(P104:AA104)","v":{"$error":"#N/A"}},{"$f":"MAX(P104:AA104)","v":{"$error":"#N/A"}},{"$f":"MIN(P104:AA104)","v":{"$error":"#N/A"}}]
[null,null,null,null,null,null,null,null,"都市ガス（13A）","MJ/m3",{"$f":"K63","v":45},null,null,"都市ガス（13A）","MJ/月",{"$f":"P75*$K105","v":0},0,0,0,0,0,0,0,0,0,0,0,0,0,0]
[null,null,null,null,null,null,null,null,"灯油","MJ/L",37,null,null,"灯油","MJ/月",{"$f":"P76*$K106","v":0},0,0,0,0,0,0,0,0,0,0,0,0,0,0]
[null,null,null,null,null,null,null,null,"重油","MJ/L",41,null,null,"重油","MJ/月",{"$f":"P77*$K107","v":0},0,0,0,0,0,0,0,0,0,0,0,0,0,0]
[null,null,null,null,null,null,null,null,"液化石油ガス（LPG）","MJ/kg",50,null,null,"液化石油ガス（LPG）","MJ/月",{"$f":"P78*$K108","v":0},0,0,0,0,0,0,0,0,0,0,0,0,0,0]
[null,null,null,null,null,null,null,null,"他人から供給された熱","MJ/MJ",1.36,null,null,"他人から供給された熱","MJ/月",{"$f":"P79*$K109","v":0},0,0,0,0,0,0,0,0,0,0,0,0,0,0]
[null,null,null,null,null,null,null,null,null,null,null,null,null,"一次エネルギー消費量合計","MJ/月",{"$f":"SUM(P104:P109)","v":{"$error":"#N/A"}},{"$error":"#N/A"},{"$error":"#N/A"},{"$error":"#N/A"},{"$error":"#N/A"},{"$error":"#N/A"},{"$error":"#N/A"},{"$error":"#N/A"},{"$error":"#N/A"},{"$error":"#N/A"},{"$error":"#N/A"},{"$f":"SUM(AA104:AA109)","v":{"$error":"#N/A"}},{"$error":"#N/A"},{"$error":"#N/A"},{"$error":"#N/A"}]
[]
[]
[null,null,null,null,null,null,null,null,"■補機類エネルギーコスト、CO2排出量、一次エネルギー消費量計算（エネルギー消費量を入力）"]
[null,null,null,null,null,null,null,null,null,null,null,null,null,"□エネルギー消費量"]
[null,null,null,null,null,null,null,null,null,"設定セル",null,null,null,"項目","単位","4月","5月","6月","7月","8月","9月","10月","11月","12月","1月","2月","3月","合計","最大","最小","備考"]
[null,null,null,null,null,null,null,null,null,"変更設定していいセル（計算式が入力されている）",null,null,null,"電気","kWh/月",{"$f":"P26","v":{"$error":"#N/A"}},{"$f":"Q26","v":{"$error":"#N/A"}},{"$error":"#N/A"},{"$error":"#N/A"},{"$error":"#N/A"},{"$error":"#N/A"},{"$error":"#N/A"},{"$error":"#N/A"},{"$error":"#N/A"},{"$error":"#N/A"},{"$error":"#N/A"},{"$error":"#N/A"},{"$f":"SUM(P116:AA116)","v":{"$error":"#N/A"}},{"$f":"MAX(P116:AA116)","v":{"$error":"#N/A"}},{"$f":"MIN(P116:AA116)","v":{"$error":"#N/A"}}]
[null,null,null,null,null,null,null,null,null,"あまり変更しなくていい設定セル",null,null,null,"都市ガス（13A）","m3/月",null,null,null,null,null,null,null,null,null,null,null,null,0,0,0]
[null,null,null,null,null,null,null,null,null,"デフォ値・係数",null,null,null,"灯油","L/月",null,null,null,null,null,null,null,null,null,null,null,null,0,0,0]
[null,null,null,null,null,null,null,null,null,"計算式・項目確認セル",null,null,null,"重油","L/月",null,null,null,null,null,null,null,null,null,null,null,null,0,0,0]
[null,null,null,null,null,null,null,null,null,null,null,null,null,"液化石油ガス（LPG）","kg/月",null,null,null,null,null,null,null,null,null,null,null,null,0,0,0]
[null,null,null,null,null,null,null,null,null,null,null,null,null,"他人から供給された熱","MJ/月",null,null,null,null,null,null,null,null,null,null,null,null,0,0,0]
[]
[]
[null,null,null,null,null,null,null,null,"□エネルギーコスト単価(フラットレート)",null,null,null,null,"□エネルギーコスト検討"]
[null,null,null,null,null,null,null,null,"項目","単位","値","備考",null,"項目","単位","4月","5月","6月","7月","8月","9月","10月","11月","12月","1月","2月","3月","合計","最大","最小","備考"]
[null,null,null,null,null,null,null,null,"電気","円/kWh",{"$f":"K84","v":14},null,null,"電気","千円/月",{"$f":"P116*$K126/1000","v":{"$error":"#N/A"}},{"$error":"#N/A"},{"$error":"#N/A"},{"$error":"#N/A"},{"$error":"#N/A"},{"$error":"#N/A"},{"$error":"#N/A"},{"$error":"#N/A"},{"$error":"#N/A"},{"$error":"#N/A"},{"$error":"#N/A"},{"$error":"#N/A"},{"$f":"SUM(P126:AA126)","v":{"$error":"#N/A"}},{"$f":"MAX(P126:AA126)","v":{"$error":"#N/A"}},{"$f":"MIN(P126:AA126)","v":{"$error":"#N/A"}}]
[null,null,null,null,null,null,null,null,"都市ガス（13A）","円/m3",{"$f":"K85","v":114.64285714285714},null,null,"都市ガス（13A）","千円/月",{"$f":"P117*$K127/1000","v":0},0,0,0,0,0,0,0,0,0,0,0,0,0,0]
[null,null,null,null,null,null,null,null,"灯油","円/L",107.88888888888889,null,null,"灯油","千円/月",{"$f":"P118*$K128/1000","v":0},0,0,0,0,0,0,0,0,0,0,0,0,0,0]
[null,null,null,null,null,null,null,null,"重油","円/L",76.099999999999994,null,null,"重油","千円/月",{"$f":"P119*$K129/1000","v":0},0,0,0,0,0,0,0,0,0,0,0,0,0,0]
[null,null,null,null,null,null,null,null,"液化石油ガス（LPG）","円/kg",159.40476190476193,null,null,"液化石油ガス（LPG）","千円/月",{"$f":"P120*$K130/1000","v":0},0,0,0,0,0,0,0,0,0,0,0,0,0,0]
[null,null,null,null,null,null,null,null,"他人から供給された熱","円/GJ",6611.9047619047615,null,null,"他人から供給された熱","千円/月",{"$f":"P121*$K131/1000","v":0},0,0,0,0,0,0,0,0,0,0,0,0,0,0]
[null,null,null,null,null,null,null,null,null,null,null,null,null,"エネルギーコスト合計","千円/月",{"$f":"SUM(P126:P131)","v":{"$error":"#N/A"}},{"$f":"SUM(Q126:Q131)","v":{"$error":"#N/A"}},{"$error":"#N/A"},{"$error":"#N/A"},{"$error":"#N/A"},{"$error":"#N/A"},{"$error":"#N/A"},{"$error":"#N/A"},{"$error":"#N/A"},{"$error":"#N/A"},{"$error":"#N/A"},{"$f":"SUM(AA126:AA131)","v":{"$error":"#N/A"}},{"$f":"SUM(AB126:AB131)","v":{"$error":"#N/A"}},{"$f":"SUM(AC126:AC131)","v":{"$error":"#N/A"}},{"$f":"SUM(AD126:AD131)","v":{"$error":"#N/A"}}]
[]
[null,null,null,null,null,null,null,null,"□CO2換算係数",null,null,null,null,"□CO2排出量"]
[null,null,null,null,null,null,null,null,"項目","単位","値","備考",null,"項目","単位","4月","5月","6月","7月","8月","9月","10月","11月","12月","1月","2月","3月","合計","最大","最小","備考"]
[null,null,null,null,null,null,null,null,"電気","tCO2/kWh",{"$f":"K94","v":4.8799999999999999E-4},null,null,"電気","t-CO2/月",{"$f":"P116*$K136","v":{"$error":"#N/A"}},{"$error":"#N/A"},{"$error":"#N/A"},{"$error":"#N/A"},{"$error":"#N/A"},{"$error":"#N/A"},{"$error":"#N/A"},{"$error":"#N/A"},{"$error":"#N/A"},{"$error":"#N/A"},{"$error":"#N/A"},{"$error":"#N/A"},{"$f":"SUM(P136:AA136)","v":{"$error":"#N/A"}},{"$f":"MAX(P136:AA136)","v":{"$error":"#N/A"}},{"$f":"MIN(P136:AA136)","v":{"$error":"#N/A"}}]
[null,null,null,null,null,null,null,null,"都市ガス（13A）","tCO2/km3",{"$f":"K95","v":2.23},null,null,"都市ガス（13A）","t-CO2/月",{"$f":"P117/1000*$K137","v":0},0,0,0,0,0,0,0,0,0,0,0,0,0,0]
[null,null,null,null,null,null,null,null,"灯油","tCO2/kL",2.4900000000000002,null,null,"灯油","t-CO2/月",{"$f":"P118/1000*$K138","v":0},0,0,0,0,0,0,0,0,0,0,0,0,0,0]
[null,null,null,null,null,null,null,null,"重油","tCO2/kL",2.71,null,null,"重油","t-CO2/月",{"$f":"P119/1000*$K139","v":0},0,0,0,0,0,0,0,0,0,0,0,0,0,0]
[null,null,null,null,null,null,null,null,"液化石油ガス（LPG）","tCO2/t",3,null,null,"液化石油ガス（LPG）","t-CO2/月",{"$f":"P120/1000*$K140","v":0},0,0,0,0,0,0,0,0,0,0,0,0,0,0]
[null,null,null,null,null,null,null,null,"他人から供給された熱","tCO2/GJ",5.7000000000000002E-2,null,null,"他人から供給された熱","t-CO2/月",{"$f":"P121/1000*$K141","v":0},0,0,0,0,0,0,0,0,0,0,0,0,0,0]
[null,null,null,null,null,null,null,null,null,null,null,null,null,"CO2排出量合計","t-CO2/月",{"$f":"SUM(P136:P141)","v":{"$error":"#N/A"}},{"$f":"SUM(Q136:Q141)","v":{"$error":"#N/A"}},{"$error":"#N/A"},{"$error":"#N/A"},{"$error":"#N/A"},{"$error":"#N/A"},{"$error":"#N/A"},{"$error":"#N/A"},{"$error":"#N/A"},{"$error":"#N/A"},{"$error":"#N/A"},{"$f":"SUM(AA136:AA141)","v":{"$error":"#N/A"}},{"$f":"SUM(AB136:AB141)","v":{"$error":"#N/A"}},{"$f":"SUM(AC136:AC141)","v":{"$error":"#N/A"}},{"$error":"#N/A"}]
[]
[null,null,null,null,null,null,null,null,"□一次エネルギー換算係数",null,null,null,null,"□一次エネルギー消費量"]
[null,null,null,null,null,null,null,null,"項目","単位","値","備考",null,"項目","単位","4月","5月","6月","7月","8月","9月","10月","11月","12月","1月","2月","3月","合計","最大","最小","備考"]
[null,null,null,null,null,null,null,null,"電気","MJ/kWh",{"$f":"K104","v":9.76},null,null,"電気","MJ/月",{"$f":"P116*$K146","v":{"$error":"#N/A"}},{"$error":"#N/A"},{"$error":"#N/A"},{"$error":"#N/A"},{"$error":"#N/A"},{"$error":"#N/A"},{"$error":"#N/A"},{"$error":"#N/A"},{"$error":"#N/A"},{"$error":"#N/A"},{"$error":"#N/A"},{"$error":"#N/A"},{"$f":"SUM(P146:AA146)","v":{"$error":"#N/A"}},{"$f":"MAX(P146:AA146)","v":{"$error":"#N/A"}},{"$f":"MIN(P146:AA146)","v":{"$error":"#N/A"}}]
[null,null,null,null,null,null,null,null,"都市ガス（13A）","MJ/m3",{"$f":"K105","v":45},null,null,"都市ガス（13A）","MJ/月",{"$f":"P117*$K147","v":0},0,0,0,0,0,0,0,0,0,0,0,0,0,0]
[null,null,null,null,null,null,null,null,"灯油","MJ/L",37,null,null,"灯油","MJ/月",{"$f":"P118*$K148","v":0},0,0,0,0,0,0,0,0,0,0,0,0,0,0]
[null,null,null,null,null,null,null,null,"重油","MJ/L",41,null,null,"重油","MJ/月",{"$f":"P119*$K149","v":0},0,0,0,0,0,0,0,0,0,0,0,0,0,0]
[null,null,null,null,null,null,null,null,"液化石油ガス（LPG）","MJ/kg",50,null,null,"液化石油ガス（LPG）","MJ/月",{"$f":"P120*$K150","v":0},0,0,0,0,0,0,0,0,0,0,0,0,0,0]
[null,null,null,null,null,null,null,null,"他人から供給された熱","MJ/MJ",1.36,null,null,"他人から供給された熱","MJ/月",{"$f":"P121*$K151","v":0},0,0,0,0,0,0,0,0,0,0,0,0,0,0]
[null,null,null,null,null,null,null,null,null,null,null,null,null,"一次エネルギー消費量合計","MJ/月",{"$f":"SUM(P146:P151)","v":{"$error":"#N/A"}},{"$error":"#N/A"},{"$error":"#N/A"},{"$error":"#N/A"},{"$error":"#N/A"},{"$error":"#N/A"},{"$error":"#N/A"},{"$error":"#N/A"},{"$error":"#N/A"},{"$error":"#N/A"},{"$error":"#N/A"},{"$f":"SUM(AA146:AA151)","v":{"$error":"#N/A"}},{"$error":"#N/A"},{"$error":"#N/A"},{"$error":"#N/A"}]

{"sheet":"地中熱_蓄熱槽容量","index":60,"n_rows":22,"n_cols":10,"rows_kept":22,"cut":false,"hidden":true,"merged":[]}
[]
[null,"■蓄熱槽容量関数",null,null,null,"■入力情報"]
[null,"給湯(冬期)","建物用途"," 傾きa",null,"項目","値"]
[null,null,"集合住宅",{"$f":"蓄熱槽容量関数!D25","v":0.17019999999999999},null,"熱利用用途",{"$f":"入力シート!C8","v":0}]
[null,null,"業務施設",{"$f":"+蓄熱槽容量関数!D28","v":0.1915},null,"建物用途",{"$f":"入力シート!C9","v":0}]
[null,null,"商業施設",{"$f":"+蓄熱槽容量関数!D31","v":0.20169999999999999}]
[null,null,"宿泊施設",{"$f":"+蓄熱槽容量関数!D34","v":9.4700000000000006E-2},null,"■熱利用用途別の蓄熱槽容量算定（建物用途により傾きaを変更。）"]
[null,null,"医療施設",{"$f":"+蓄熱槽容量関数!D37","v":0.15770000000000001},null,"熱利用用途","HP容量最大値[kW]"," 傾きa","蓄熱槽容量[m3]","熱利用用途"]
[null,null,null,null,null,"給湯",{"$f":"SUMPRODUCT(MAX((地中熱_RC!$P$5:$AA$5=F9)*(地中熱_RC!$P$12:$AA$12)))","v":{"$error":"#N/A"}},{"$f":"VLOOKUP($G$5,C3:D8,2,FALSE)","v":{"$error":"#N/A"}},{"$f":"G9*H9","v":{"$error":"#N/A"}},"給湯"]
[null,"冷房(夏期)","建物用途"," 傾きa",null,"冷房",{"$f":"SUMPRODUCT(MAX((地中熱_RC!$P$5:$AA$5=F10)*(地中熱_RC!$P$12:$AA$12)))","v":{"$error":"#N/A"}},{"$f":"VLOOKUP($G$5,C10:D15,2,FALSE)","v":{"$error":"#N/A"}},{"$f":"G10*H10","v":{"$error":"#N/A"}},"冷房"]
[null,null,"集合住宅",{"$f":"+蓄熱槽容量関数!D26","v":1.5810999999999999},null,"暖房",{"$f":"SUMPRODUCT(MAX((地中熱_RC!$P$5:$AA$5=F11)*(地中熱_RC!$P$12:$AA$12)))","v":{"$error":"#N/A"}},{"$f":"VLOOKUP($G$5,C17:D22,2,FALSE)","v":{"$error":"#N/A"}},{"$error":"#N/A"},"暖房"]
[null,null,"業務施設",{"$f":"+蓄熱槽容量関数!D29","v":1.8240000000000001}]
[null,null,"商業施設",{"$f":"+蓄熱槽容量関数!D32","v":2.2355999999999998},null,"■蓄熱槽容量"]
[null,null,"宿泊施設",{"$f":"+蓄熱槽容量関数!D35","v":1.2020999999999999},null,null,"値","単位","備考"]
[null,null,"医療施設",{"$f":"+蓄熱槽容量関数!D38","v":0.98750000000000004},null,"蓄熱槽容",{"$f":"IF(AND(G4<>\"給湯\",G20=0),0,MAX(I9:I11))","v":0},"m3"]
[null,null,null,null,null,"熱利用用途",{"$f":"IF(G4=\"融雪\",G4,VLOOKUP(MAX(I9:I11),I8:J11,2,FALSE))","v":{"$error":"#N/A"}},"-"]
[null,"暖房(冬期)","建物用途"," 傾きa",null,"熱利用用途のうち最大値を取る。（空調のとき、暖房側か冷房側のどちらが大きいかで変わるため。）"]
[null,null,"集合住宅",{"$f":"+蓄熱槽容量関数!D27","v":0.71030000000000004}]
[null,null,"業務施設",{"$f":"+蓄熱槽容量関数!D30","v":2.3961999999999999},null,"■蓄熱空調のON/OFF"]
[null,null,"商業施設",{"$f":"+蓄熱槽容量関数!D33","v":2.2355999999999998},null,"蓄熱空調",0,"1:ON,0:OFF"]
[null,null,"宿泊施設",{"$f":"+蓄熱槽容量関数!D36","v":0.83109999999999995},null,"※空調システムでは蓄熱槽を基本的には設けない想定。空調の水蓄熱では総容量が大きくなる。"]
[null,null,"医療施設",{"$f":"+蓄熱槽容量関数!D39","v":1.0277000000000001}]

{"sheet":"地中熱_空調_熱源容量","index":61,"n_rows":37,"n_cols":18,"rows_kept":37,"cut":false,"hidden":true,"merged":[]}
["■時刻別負荷"]
["■時刻負荷パタン設定",null,null,null,null,null,null,null,"■時刻別負荷",null,null,null,null,null,"■最大負荷　既存設備　熱源容量設定"]
["項目","値","単位","備考",null,null,null,null,null,{"$f":"VLOOKUP(B4&K3,E17:F32,2,FALSE)","v":{"$error":"#N/A"}},"冷房",{"$f":"VLOOKUP(B4&M3,E17:F32,2,FALSE)","v":{"$error":"#N/A"}},"暖房",null,"項目","値","単位","備考・冷房暖房区別VLOOKUP用"]
["建物用途",{"$f":"入力シート!C9","v":0},"-",null,null,null,null,null,"時刻","-","kW","-","kW",null,"冷房",{"$f":"MAX(K5:K28)","v":{"$error":"#N/A"}},"kW","冷房"]
["一日の熱需要量",{"$f":"MAX(地中熱_空調_熱源容量!B13:D13)","v":{"$error":"#N/A"}},"kWh/日",null,null,null,null,null,1,{"$f":"VLOOKUP(I5,熱需要量算定・原単位!$AJ$9:$BL$32,MATCH($J$3,熱需要量算定・原単位!$AK$5:$BL$5,0)+1,FALSE)","v":{"$error":"#N/A"}},{"$f":"$C$13*J5/100","v":{"$error":"#N/A"}},{"$f":"VLOOKUP(I5,熱需要量算定・原単位!$AJ$9:$BL$32,MATCH($L$3,熱需要量算定・原単位!$AK$5:$BL$5,0)+1,FALSE)","v":{"$error":"#N/A"}},{"$f":"$D$13*L5/100","v":{"$error":"#N/A"}},null,"暖房",{"$f":"MAX(M5:M28)","v":{"$error":"#N/A"}},"kW","暖房"]
[null,null,null,null,null,null,null,null,2,{"$f":"VLOOKUP(I6,熱需要量算定・原単位!$AJ$9:$BL$32,MATCH($J$3,熱需要量算定・原単位!$AK$5:$BL$5,0)+1,FALSE)","v":{"$error":"#N/A"}},{"$f":"$C$13*J6/100","v":{"$error":"#N/A"}},{"$f":"VLOOKUP(I6,熱需要量算定・原単位!$AJ$9:$BL$32,MATCH($L$3,熱需要量算定・原単位!$AK$5:$BL$5,0)+1,FALSE)","v":{"$error":"#N/A"}},{"$f":"$D$13*L6/100","v":{"$error":"#N/A"}},null,"最大負荷",{"$f":"MAX(P4:P5)","v":{"$error":"#N/A"}},"kW","最大熱源容量"]
[null,null,null,null,null,null,null,null,3,{"$f":"VLOOKUP(I7,熱需要量算定・原単位!$AJ$9:$BL$32,MATCH($J$3,熱需要量算定・原単位!$AK$5:$BL$5,0)+1,FALSE)","v":{"$error":"#N/A"}},{"$error":"#N/A"},{"$f":"VLOOKUP(I7,熱需要量算定・原単位!$AJ$9:$BL$32,MATCH($L$3,熱需要量算定・原単位!$AK$5:$BL$5,0)+1,FALSE)","v":{"$error":"#N/A"}},{"$error":"#N/A"},null,"最大負荷時用途",{"$f":"VLOOKUP(P6,P4:R5,3,FALSE)","v":{"$error":"#N/A"}},"-"]
[null,null,null,null,null,null,null,null,4,{"$f":"VLOOKUP(I8,熱需要量算定・原単位!$AJ$9:$BL$32,MATCH($J$3,熱需要量算定・原単位!$AK$5:$BL$5,0)+1,FALSE)","v":{"$error":"#N/A"}},{"$error":"#N/A"},{"$f":"VLOOKUP(I8,熱需要量算定・原単位!$AJ$9:$BL$32,MATCH($L$3,熱需要量算定・原単位!$AK$5:$BL$5,0)+1,FALSE)","v":{"$error":"#N/A"}},{"$error":"#N/A"},null,"最大負荷時COP",{"$f":"HLOOKUP(P7,B12:D14,3,FALSE)","v":{"$error":"#N/A"}},"-"]
[null,null,null,null,null,null,null,null,5,{"$f":"VLOOKUP(I9,熱需要量算定・原単位!$AJ$9:$BL$32,MATCH($J$3,熱需要量算定・原単位!$AK$5:$BL$5,0)+1,FALSE)","v":{"$error":"#N/A"}},{"$error":"#N/A"},{"$f":"VLOOKUP(I9,熱需要量算定・原単位!$AJ$9:$BL$32,MATCH($L$3,熱需要量算定・原単位!$AK$5:$BL$5,0)+1,FALSE)","v":{"$error":"#N/A"}},{"$error":"#N/A"},null,"最大負荷時最熱量",{"$f":"IF(P7=\"冷房\",P6+P6/P8,P6-P6/P8)","v":{"$error":"#N/A"}},"kW"]
["■時刻別負荷パタン熱利用用途の決定用",null,null,null,null,null,null,null,6,{"$f":"VLOOKUP(I10,熱需要量算定・原単位!$AJ$9:$BL$32,MATCH($J$3,熱需要量算定・原単位!$AK$5:$BL$5,0)+1,FALSE)","v":{"$error":"#N/A"}},{"$error":"#N/A"},{"$f":"VLOOKUP(I10,熱需要量算定・原単位!$AJ$9:$BL$32,MATCH($L$3,熱需要量算定・原単位!$AK$5:$BL$5,0)+1,FALSE)","v":{"$error":"#N/A"}},{"$error":"#N/A"}]
[null,null,null,null,null,null,null,null,7,{"$f":"VLOOKUP(I11,熱需要量算定・原単位!$AJ$9:$BL$32,MATCH($J$3,熱需要量算定・原単位!$AK$5:$BL$5,0)+1,FALSE)","v":{"$error":"#N/A"}},{"$error":"#N/A"},{"$f":"VLOOKUP(I11,熱需要量算定・原単位!$AJ$9:$BL$32,MATCH($L$3,熱需要量算定・原単位!$AK$5:$BL$5,0)+1,FALSE)","v":{"$error":"#N/A"}},{"$error":"#N/A"}]
["熱利用用途","給湯","冷房","暖房",null,null,null,null,8,{"$f":"VLOOKUP(I12,熱需要量算定・原単位!$AJ$9:$BL$32,MATCH($J$3,熱需要量算定・原単位!$AK$5:$BL$5,0)+1,FALSE)","v":{"$error":"#N/A"}},{"$error":"#N/A"},{"$f":"VLOOKUP(I12,熱需要量算定・原単位!$AJ$9:$BL$32,MATCH($L$3,熱需要量算定・原単位!$AK$5:$BL$5,0)+1,FALSE)","v":{"$error":"#N/A"}},{"$error":"#N/A"}]
["日あたりの熱需要量",{"$f":"SUMPRODUCT(MAX((地中熱_RC!$P$5:$AA$5=B12)*(地中熱_RC!$P$11:$AA$11)))","v":{"$error":"#N/A"}},{"$f":"SUMPRODUCT(MAX((地中熱_RC!$P$5:$AA$5=C12)*(地中熱_RC!$P$11:$AA$11)))","v":{"$error":"#N/A"}},{"$f":"SUMPRODUCT(MAX((地中熱_RC!$P$5:$AA$5=D12)*(地中熱_RC!$P$11:$AA$11)))","v":{"$error":"#N/A"}},null,null,null,null,9,{"$f":"VLOOKUP(I13,熱需要量算定・原単位!$AJ$9:$BL$32,MATCH($J$3,熱需要量算定・原単位!$AK$5:$BL$5,0)+1,FALSE)","v":{"$error":"#N/A"}},{"$error":"#N/A"},{"$f":"VLOOKUP(I13,熱需要量算定・原単位!$AJ$9:$BL$32,MATCH($L$3,熱需要量算定・原単位!$AK$5:$BL$5,0)+1,FALSE)","v":{"$error":"#N/A"}},{"$error":"#N/A"}]
["COP",{"$f":"HLOOKUP(B13,地中熱_RC!$AJ$5:$AU$8,3,FALSE)","v":{"$error":"#N/A"}},{"$f":"HLOOKUP(C13,地中熱_RC!$AJ$5:$AU$8,3,FALSE)","v":{"$error":"#N/A"}},{"$f":"HLOOKUP(D13,地中熱_RC!$AJ$5:$AU$8,3,FALSE)","v":{"$error":"#N/A"}},null,null,null,null,10,{"$f":"VLOOKUP(I14,熱需要量算定・原単位!$AJ$9:$BL$32,MATCH($J$3,熱需要量算定・原単位!$AK$5:$BL$5,0)+1,FALSE)","v":{"$error":"#N/A"}},{"$error":"#N/A"},{"$f":"VLOOKUP(I14,熱需要量算定・原単位!$AJ$9:$BL$32,MATCH($L$3,熱需要量算定・原単位!$AK$5:$BL$5,0)+1,FALSE)","v":{"$error":"#N/A"}},{"$error":"#N/A"}]
[null,null,null,null,null,null,null,null,11,{"$f":"VLOOKUP(I15,熱需要量算定・原単位!$AJ$9:$BL$32,MATCH($J$3,熱需要量算定・原単位!$AK$5:$BL$5,0)+1,FALSE)","v":{"$error":"#N/A"}},{"$error":"#N/A"},{"$f":"VLOOKUP(I15,熱需要量算定・原単位!$AJ$9:$BL$32,MATCH($L$3,熱需要量算定・原単位!$AK$5:$BL$5,0)+1,FALSE)","v":{"$error":"#N/A"}},{"$error":"#N/A"}]
["■時刻別負荷変動比率　検索key設定",null,null,null,null,null,null,null,12,{"$f":"VLOOKUP(I16,熱需要量算定・原単位!$AJ$9:$BL$32,MATCH($J$3,熱需要量算定・原単位!$AK$5:$BL$5,0)+1,FALSE)","v":{"$error":"#N/A"}},{"$error":"#N/A"},{"$f":"VLOOKUP(I16,熱需要量算定・原単位!$AJ$9:$BL$32,MATCH($L$3,熱需要量算定・原単位!$AK$5:$BL$5,0)+1,FALSE)","v":{"$error":"#N/A"}},{"$error":"#N/A"}]
["No","建物用途","熱利用用途","季節","VLOOKUP","検索key","運転時間",null,13,{"$f":"VLOOKUP(I17,熱需要量算定・原単位!$AJ$9:$BL$32,MATCH($J$3,熱需要量算定・原単位!$AK$5:$BL$5,0)+1,FALSE)","v":{"$error":"#N/A"}},{"$error":"#N/A"},{"$f":"VLOOKUP(I17,熱需要量算定・原単位!$AJ$9:$BL$32,MATCH($L$3,熱需要量算定・原単位!$AK$5:$BL$5,0)+1,FALSE)","v":{"$error":"#N/A"}},{"$error":"#N/A"}]
[1,"集合住宅","給湯","冬期",{"$f":"B18&C18","v":"集合住宅給湯"},{"$f":"B18&C18&D18","v":"集合住宅給湯冬期"},{"$f":"HLOOKUP(F18,熱需要量算定・原単位!$AJ$5:$BL$34,30,FALSE)","v":22},null,14,{"$f":"VLOOKUP(I18,熱需要量算定・原単位!$AJ$9:$BL$32,MATCH($J$3,熱需要量算定・原単位!$AK$5:$BL$5,0)+1,FALSE)","v":{"$error":"#N/A"}},{"$error":"#N/A"},{"$f":"VLOOKUP(I18,熱需要量算定・原単位!$AJ$9:$BL$32,MATCH($L$3,熱需要量算定・原単位!$AK$5:$BL$5,0)+1,FALSE)","v":{"$error":"#N/A"}},{"$error":"#N/A"}]
[2,"集合住宅","冷房","夏期",{"$f":"B19&C19","v":"集合住宅冷房"},{"$f":"B19&C19&D19","v":"集合住宅冷房夏期"},{"$f":"HLOOKUP(F19,熱需要量算定・原単位!$AJ$5:$BL$34,30,FALSE)","v":24},null,15,{"$f":"VLOOKUP(I19,熱需要量算定・原単位!$AJ$9:$BL$32,MATCH($J$3,熱需要量算定・原単位!$AK$5:$BL$5,0)+1,FALSE)","v":{"$error":"#N/A"}},{"$error":"#N/A"},{"$f":"VLOOKUP(I19,熱需要量算定・原単位!$AJ$9:$BL$32,MATCH($L$3,熱需要量算定・原単位!$AK$5:$BL$5,0)+1,FALSE)","v":{"$error":"#N/A"}},{"$error":"#N/A"}]
[3,"集合住宅","暖房","冬期","集合住宅暖房","集合住宅暖房冬期",{"$f":"HLOOKUP(F20,熱需要量算定・原単位!$AJ$5:$BL$34,30,FALSE)","v":24},null,16,{"$f":"VLOOKUP(I20,熱需要量算定・原単位!$AJ$9:$BL$32,MATCH($J$3,熱需要量算定・原単位!$AK$5:$BL$5,0)+1,FALSE)","v":{"$error":"#N/A"}},{"$error":"#N/A"},{"$f":"VLOOKUP(I20,熱需要量算定・原単位!$AJ$9:$BL$32,MATCH($L$3,熱需要量算定・原単位!$AK$5:$BL$5,0)+1,FALSE)","v":{"$error":"#N/A"}},{"$error":"#N/A"}]
[4,"業務施設","給湯","冬期","業務施設給湯","業務施設給湯冬期",{"$f":"HLOOKUP(F21,熱需要量算定・原単位!$AJ$5:$BL$34,30,FALSE)","v":14},null,17,{"$f":"VLOOKUP(I21,熱需要量算定・原単位!$AJ$9:$BL$32,MATCH($J$3,熱需要量算定・原単位!$AK$5:$BL$5,0)+1,FALSE)","v":{"$error":"#N/A"}},{"$error":"#N/A"},{"$f":"VLOOKUP(I21,熱需要量算定・原単位!$AJ$9:$BL$32,MATCH($L$3,熱需要量算定・原単位!$AK$5:$BL$5,0)+1,FALSE)","v":{"$error":"#N/A"}},{"$error":"#N/A"}]
[5,"業務施設","冷房","夏期","業務施設冷房","業務施設冷房夏期",{"$f":"HLOOKUP(F22,熱需要量算定・原単位!$AJ$5:$BL$34,30,FALSE)","v":14},null,18,{"$f":"VLOOKUP(I22,熱需要量算定・原単位!$AJ$9:$BL$32,MATCH($J$3,熱需要量算定・原単位!$AK$5:$BL$5,0)+1,FALSE)","v":{"$error":"#N/A"}},{"$error":"#N/A"},{"$f":"VLOOKUP(I22,熱需要量算定・原単位!$AJ$9:$BL$32,MATCH($L$3,熱需要量算定・原単位!$AK$5:$BL$5,0)+1,FALSE)","v":{"$error":"#N/A"}},{"$error":"#N/A"}]
[6,"業務施設","暖房","冬期","業務施設暖房","業務施設暖房冬期",{"$f":"HLOOKUP(F23,熱需要量算定・原単位!$AJ$5:$BL$34,30,FALSE)","v":11},null,19,{"$f":"VLOOKUP(I23,熱需要量算定・原単位!$AJ$9:$BL$32,MATCH($J$3,熱需要量算定・原単位!$AK$5:$BL$5,0)+1,FALSE)","v":{"$error":"#N/A"}},{"$error":"#N/A"},{"$f":"VLOOKUP(I23,熱需要量算定・原単位!$AJ$9:$BL$32,MATCH($L$3,熱需要量算定・原単位!$AK$5:$BL$5,0)+1,FALSE)","v":{"$error":"#N/A"}},{"$error":"#N/A"}]
[7,"商業施設","給湯","-","商業施設給湯","商業施設給湯-",{"$f":"HLOOKUP(F24,熱需要量算定・原単位!$AJ$5:$BL$34,30,FALSE)","v":12},null,20,{"$f":"VLOOKUP(I24,熱需要量算定・原単位!$AJ$9:$BL$32,MATCH($J$3,熱需要量算定・原単位!$AK$5:$BL$5,0)+1,FALSE)","v":{"$error":"#N/A"}},{"$error":"#N/A"},{"$f":"VLOOKUP(I24,熱需要量算定・原単位!$AJ$9:$BL$32,MATCH($L$3,熱需要量算定・原単位!$AK$5:$BL$5,0)+1,FALSE)","v":{"$error":"#N/A"}},{"$error":"#N/A"}]
[8,"商業施設","冷房","-","商業施設冷房","商業施設冷房-",{"$f":"HLOOKUP(F25,熱需要量算定・原単位!$AJ$5:$BL$34,30,FALSE)","v":11},null,21,{"$f":"VLOOKUP(I25,熱需要量算定・原単位!$AJ$9:$BL$32,MATCH($J$3,熱需要量算定・原単位!$AK$5:$BL$5,0)+1,FALSE)","v":{"$error":"#N/A"}},{"$error":"#N/A"},{"$f":"VLOOKUP(I25,熱需要量算定・原単位!$AJ$9:$BL$32,MATCH($L$3,熱需要量算定・原単位!$AK$5:$BL$5,0)+1,FALSE)","v":{"$error":"#N/A"}},{"$error":"#N/A"}]
[9,"商業施設","暖房","-","商業施設暖房","商業施設暖房-",{"$f":"HLOOKUP(F26,熱需要量算定・原単位!$AJ$5:$BL$34,30,FALSE)","v":11},null,22,{"$f":"VLOOKUP(I26,熱需要量算定・原単位!$AJ$9:$BL$32,MATCH($J$3,熱需要量算定・原単位!$AK$5:$BL$5,0)+1,FALSE)","v":{"$error":"#N/A"}},{"$error":"#N/A"},{"$f":"VLOOKUP(I26,熱需要量算定・原単位!$AJ$9:$BL$32,MATCH($L$3,熱需要量算定・原単位!$AK$5:$BL$5,0)+1,FALSE)","v":{"$error":"#N/A"}},{"$error":"#N/A"}]
[10,"宿泊施設","給湯","-","宿泊施設給湯","宿泊施設給湯-",{"$f":"HLOOKUP(F27,熱需要量算定・原単位!$AJ$5:$BL$34,30,FALSE)","v":24},null,23,{"$f":"VLOOKUP(I27,熱需要量算定・原単位!$AJ$9:$BL$32,MATCH($J$3,熱需要量算定・原単位!$AK$5:$BL$5,0)+1,FALSE)","v":{"$error":"#N/A"}},{"$error":"#N/A"},{"$f":"VLOOKUP(I27,熱需要量算定・原単位!$AJ$9:$BL$32,MATCH($L$3,熱需要量算定・原単位!$AK$5:$BL$5,0)+1,FALSE)","v":{"$error":"#N/A"}},{"$error":"#N/A"}]
[11,"宿泊施設","冷房","夏期","宿泊施設冷房","宿泊施設冷房夏期",{"$f":"HLOOKUP(F28,熱需要量算定・原単位!$AJ$5:$BL$34,30,FALSE)","v":24},null,24,{"$f":"VLOOKUP(I28,熱需要量算定・原単位!$AJ$9:$BL$32,MATCH($J$3,熱需要量算定・原単位!$AK$5:$BL$5,0)+1,FALSE)","v":{"$error":"#N/A"}},{"$error":"#N/A"},{"$f":"VLOOKUP(I28,熱需要量算定・原単位!$AJ$9:$BL$32,MATCH($L$3,熱需要量算定・原単位!$AK$5:$BL$5,0)+1,FALSE)","v":{"$error":"#N/A"}},{"$error":"#N/A"}]
[12,"宿泊施設","暖房","冬期","宿泊施設暖房","宿泊施設暖房冬期",{"$f":"HLOOKUP(F29,熱需要量算定・原単位!$AJ$5:$BL$34,30,FALSE)","v":23},null,"合計",null,{"$f":"SUM(K5:K28)","v":{"$error":"#N/A"}},null,{"$f":"SUM(M5:M28)","v":{"$error":"#N/A"}}]
[13,"医療施設","給湯","冬期","医療施設給湯","医療施設給湯冬期",{"$f":"HLOOKUP(F30,熱需要量算定・原単位!$AJ$5:$BL$34,30,FALSE)","v":24}]
[14,"医療施設","冷房","夏期","医療施設冷房","医療施設冷房夏期",{"$f":"HLOOKUP(F31,熱需要量算定・原単位!$AJ$5:$BL$34,30,FALSE)","v":24}]
[15,"医療施設","暖房","冬期","医療施設暖房","医療施設暖房冬期",{"$f":"HLOOKUP(F32,熱需要量算定・原単位!$AJ$5:$BL$34,30,FALSE)","v":24}]
[]
[]
["■運転時間の設定（熱負荷に合わせた運転の場合）"]
["熱利用用途","給湯","冷房","暖房"]
["運転時間",{"$f":"VLOOKUP($B$4&B36,$E$17:$G$32,3,FALSE)","v":{"$error":"#N/A"}},{"$f":"VLOOKUP($B$4&C36,$E$17:$G$32,3,FALSE)","v":{"$error":"#N/A"}},{"$f":"VLOOKUP($B$4&D36,$E$17:$G$32,3,FALSE)","v":{"$error":"#N/A"}}]

{"sheet":"地中熱_IC","index":62,"n_rows":30,"n_cols":22,"rows_kept":30,"cut":false,"hidden":true,"merged":[[27,1,27,2],[28,1,28,2],[29,1,29,2],[4,1,16,1],[17,1,19,1],[20,1,23,1],[24,1,24,2],[25,1,25,2],[26,1,26,2]]}
[null,"■イニシャルコスト算出"]
[]
[null,"地中熱利用システム"]
[null,null,"名称","摘要","単価[千円]","数量","単位","金額[千円]","備考","memo",null,null,null,null,"価格関数代入値","単位",null,null,"■地中熱交換器　単価"]
[null,"機械工事","水熱源HP",null,{"$f":"IF(O5=0,0,価格関数!$E$23*O5+価格関数!$F$23)","v":{"$error":"#N/A"}},1,"台",{"$f":"F5*E5","v":{"$error":"#N/A"}},null,"価格関数",null,null,null,"ヒートポンプ能力",{"$f":"地中熱_RC!$K$6","v":{"$error":"#N/A"}},"kW",null,null,"・設定"]
[null,null,"貯湯タンク",null,{"$f":"IF(O6=0,0,価格関数!$E$20*O6*1000+価格関数!$F$20)","v":0},1,"台",0,null,"価格関数",null,null,null,"蓄熱槽容量",{"$f":"地中熱_蓄熱槽容量!G15","v":0},"m3",null,null,"項目","値","単位"]
[null,null,"地中熱交換器",null,{"$f":"IF(O7=0,0,T7)","v":{"$error":"#N/A"}},{"$f":"地中熱_RC!K20","v":{"$error":"#N/A"}},"m",{"$f":"F7*E7","v":{"$error":"#N/A"}},null,"ボアホール型　単長さ当り採熱量60W/mより必要長さを算定",null,null,null,"熱交換器長さ",{"$f":"地中熱_RC!K20","v":{"$error":"#N/A"}},"m3",null,null,"熱交換器設置単価",{"$f":"T24","v":20},"千円/m"]
[null,null,"冷温水ポンプ",null,{"$f":"IF(O8=0,0,価格関数!$E$21*O8+価格関数!$F$21)","v":{"$error":"#N/A"}},1,"台",{"$f":"F8*E8","v":{"$error":"#N/A"}},null,"価格関数",null,null,null,"ポンプ出力",{"$f":"地中熱_RC!K13","v":{"$error":"#N/A"}},"kW"]
[null,null,"熱源水ポンプ",null,{"$f":"IF(O9=0,0,価格関数!$E$21*O9+価格関数!$F$21)","v":{"$error":"#N/A"}},1,"台",{"$f":"F9*E9","v":{"$error":"#N/A"}},null,"価格関数",null,null,null,"ポンプ出力",{"$f":"地中熱_RC!K17","v":{"$error":"#N/A"}},"kW",null,null,"空衛学会便覧"]
[null,null,null,null,null,null,null,null,null,null,null,null,null,null,null,null,null,null,"項目","値","単位"]
[null,null,null,null,null,null,null,null,null,null,null,null,null,null,null,null,null,null,"概要","100m1本ほ熱交換器設置費用60万円"]
[null,null,null,null,null,null,null,null,null,null,null,null,null,null,null,null,null,null,"熱交換器設置単価",6,"千円/m","古い？？"]
[]
[null,null,"自動制御",null,null,1,"式",{"$f":"INT(SUM(H5:H13)*I14)","v":{"$error":"#N/A"}},0.2,"概算　事例等より設定",null,null,null,null,null,null,null,null,"過去の検討①",null,"概算見積"]
[null,null,"その他配管","概算（付属品込）",null,1,"式",{"$f":"INT(SUM(H5:H14)*I15)","v":{"$error":"#N/A"}},0.1,"配管費=機器類×5~10%と設定",null,null,null,null,null,null,null,null,"項目","値","単位"]
[null,null,null,null,null,null,null,null,null,null,null,null,null,null,null,null,null,null,"チューブ",0.378,"千円/m"]
[null,null,"小計",null,null,null,null,{"$f":"SUM(H5:H16)","v":{"$error":"#N/A"}},null,null,null,null,null,null,null,null,null,null,"掘削",15,"千円/m"]
[null,"電気工事","概算","概算",null,null,null,{"$f":"INT(H17*I18)","v":{"$error":"#N/A"}},0.3,null,null,null,null,null,null,null,null,null,"熱交換器設置単価",{"$f":"T16+T17","v":15.378},"千円/m"]
[]
[null,null,"小計",null,null,null,null,{"$f":"SUM(H18:H19)","v":{"$error":"#N/A"}},null,null,null,null,null,null,null,null,null,null,"過去の検討②",null,"概算見積"]
[null,"土工事","土工事","井戸掘削費",null,{"$f":"地中熱_RC!K20","v":{"$error":"#N/A"}},"m",{"$f":"IF(O5=0,0,E21*F21)","v":{"$error":"#N/A"}},null,"概算　熱交換器に含む",null,null,null,null,null,null,null,null,"項目","値","単位"]
[null,null,null,null,null,null,null,null,null,null,null,null,null,null,null,null,null,null,"熱交換器設置単価",2000000,"円/100m"]
[null,null,null,null,null,null,null,null,null,null,null,null,null,null,null,null,null,null,"熱交換器設置単価",{"$f":"T22/100","v":20000},"円/m"]
[null,null,"小計",null,null,null,null,{"$f":"SUM(H21:H23)","v":{"$error":"#N/A"}},null,null,null,null,null,null,null,null,null,null,"熱交換器設置単価",{"$f":"T23/1000","v":20},"千円/m"]
[null,"直接工事費",null,null,null,null,null,{"$f":"H24+H20+H17","v":{"$error":"#N/A"}}]
[null,"間接工事費",null,null,null,1,"式",{"$f":"INT(H25*0.3)","v":{"$error":"#N/A"}},"直接工事費×30%"]
[null,"工事原価",null,null,null,1,"式",{"$f":"H25+H26","v":{"$error":"#N/A"}}]
[null,"消費税",null,null,null,1,"式"]
[]
[null,"合計",null,null,null,null,null,{"$f":"H27+H28","v":{"$error":"#N/A"}}]

{"sheet":"バイオマス熱ポテンシャル","index":63,"n_rows":25,"n_cols":33,"rows_kept":25,"cut":false,"hidden":true,"merged":[]}
[]
[null,"■バイオマス熱ポテンシャルの算定"]
[null,"・バイオマス設定内容",null,null,null,null,"・バイオマス熱ポテンシャル、利用可能熱量",null,null,null,null,null,null,null,null,null,null,null,null,null,null,null,null,null,null,"■バイオマス熱システム　計算結果"]
[null,"項目","単位","値","備考",null,"項目","単位","4月","5月","6月","7月","8月","9月","10月","11月","12月","1月","2月","3月","合計","最大","最小","備考",null,"熱利用用途","ランニングコスト","熱源機","補機類","イニシャルコスト","CO2排出量","熱源機","補機類"]
[null,"バイオマス燃料種別","-",{"$f":"入力シート!C88","v":"木質チップ"},null,null,"月日数",null,{"$f":"熱需要量算定・原単位!D24","v":30},{"$f":"熱需要量算定・原単位!E24","v":31},{"$f":"熱需要量算定・原単位!F24","v":30},{"$f":"熱需要量算定・原単位!G24","v":31},{"$f":"熱需要量算定・原単位!H24","v":31},{"$f":"熱需要量算定・原単位!I24","v":30},{"$f":"熱需要量算定・原単位!J24","v":31},{"$f":"熱需要量算定・原単位!K24","v":30},{"$f":"熱需要量算定・原単位!L24","v":31},{"$f":"熱需要量算定・原単位!M24","v":31},{"$f":"熱需要量算定・原単位!N24","v":28},{"$f":"熱需要量算定・原単位!O24","v":31},{"$f":"SUM(I5:T5)","v":365},{"$f":"MAX(I5:T5)","v":31},{"$f":"MIN(I5:T5)","v":28},null,null,null,"千円/年","千円/年","千円/年","千円","t-CO2/年","千円/年","千円/年"]
[null,"燃料発熱量・価格の入力","-",{"$f":"入力シート!C87","v":"無し"},null,null,"燃料熱量","MJ/月",{"$f":"$D$10*I5/$U$5","v":127472.30136986301},{"$f":"$D$10*J5/$U$5","v":131721.37808219178},127472.30136986301,131721.37808219178,131721.37808219178,127472.30136986301,131721.37808219178,127472.30136986301,131721.37808219178,131721.37808219178,118974.14794520548,131721.37808219178,{"$f":"SUM(I6:T6)","v":1550913},{"$f":"MAX(I6:T6)","v":131721.37808219178},{"$f":"MIN(I6:T6)","v":118974.14794520548},"月割する。",null,"給湯",{"$f":"バイオマス熱_給湯_RC!AB50","v":{"$error":"#N/A"}},{"$f":"バイオマス熱_給湯_RC!AB94","v":{"$error":"#N/A"}},{"$f":"バイオマス熱_給湯_RC!AB138","v":{"$error":"#N/A"}},{"$f":"バイオマス熱_給湯_IC!H30","v":{"$error":"#N/A"}},{"$f":"バイオマス熱_給湯_RC!AB60","v":{"$error":"#N/A"}},{"$f":"バイオマス熱_給湯_RC!AB104","v":0},{"$f":"バイオマス熱_給湯_RC!AB148","v":{"$error":"#N/A"}}]
[null,"バイオマス燃料発熱量","MJ/kg",{"$f":"IF(D6=\"有り\",入力シート!C89,VLOOKUP(D5,バイオマス燃料情報!B4:H11,2,FALSE))","v":10.33942},null,null,null,"kWh/月",{"$f":"I6/3.6","v":35408.972602739726},{"$f":"J6/3.6","v":36589.271689497713},35408.972602739726,36589.271689497713,36589.271689497713,35408.972602739726,36589.271689497713,35408.972602739726,36589.271689497713,36589.271689497713,33048.374429223746,36589.271689497713,{"$f":"SUM(I7:T7)","v":430809.16666666663},{"$f":"MAX(I7:T7)","v":36589.271689497713},{"$f":"MIN(I7:T7)","v":33048.374429223746},null,null,"空調",{"$f":"バイオマス熱_空調_RC!AB50","v":{"$error":"#N/A"}},{"$f":"バイオマス熱_空調_RC!AB94","v":{"$error":"#N/A"}},{"$f":"バイオマス熱_空調_RC!AB138","v":{"$error":"#N/A"}},{"$f":"バイオマス熱_空調_IC!H30","v":{"$error":"#N/A"}},{"$f":"バイオマス熱_空調_RC!AB60","v":{"$error":"#N/A"}},{"$f":"バイオマス熱_空調_RC!AB104","v":0},{"$f":"バイオマス熱_空調_RC!AB148","v":{"$error":"#N/A"}}]
[null,"バイオマス燃料燃料価格","円/kg",{"$f":"IF(D6=\"有り\",入力シート!C90,VLOOKUP(D5,バイオマス燃料情報!B4:H11,4,FALSE))","v":10},null,null,"熱利用用途","-",{"$f":"IF($D$19=\"給湯\",\"給湯\",IF($D$19=\"空調\",熱需要量算定・原単位!D39,IF($D$19=\"融雪\",\"融雪\",\"\")))","v":""},{"$f":"IF($D$19=\"給湯\",\"給湯\",IF($D$19=\"空調\",熱需要量算定・原単位!E39,IF($D$19=\"融雪\",\"融雪\",\"\")))","v":""},{"$f":"IF($D$19=\"給湯\",\"給湯\",IF($D$19=\"空調\",熱需要量算定・原単位!F39,IF($D$19=\"融雪\",\"融雪\",\"\")))","v":""},{"$f":"IF($D$19=\"給湯\",\"給湯\",IF($D$19=\"空調\",熱需要量算定・原単位!G39,IF($D$19=\"融雪\",\"融雪\",\"\")))","v":""},{"$f":"IF($D$19=\"給湯\",\"給湯\",IF($D$19=\"空調\",熱需要量算定・原単位!H39,IF($D$19=\"融雪\",\"融雪\",\"\")))","v":""},{"$f":"IF($D$19=\"給湯\",\"給湯\",IF($D$19=\"空調\",熱需要量算定・原単位!I39,IF($D$19=\"融雪\",\"融雪\",\"\")))","v":""},{"$f":"IF($D$19=\"給湯\",\"給湯\",IF($D$19=\"空調\",熱需要量算定・原単位!J39,IF($D$19=\"融雪\",\"融雪\",\"\")))","v":""},{"$f":"IF($D$19=\"給湯\",\"給湯\",IF($D$19=\"空調\",熱需要量算定・原単位!K39,IF($D$19=\"融雪\",\"融雪\",\"\")))","v":""},{"$f":"IF($D$19=\"給湯\",\"給湯\",IF($D$19=\"空調\",熱需要量算定・原単位!L39,IF($D$19=\"融雪\",\"融雪\",\"\")))","v":""},{"$f":"IF($D$19=\"給湯\",\"給湯\",IF($D$19=\"空調\",熱需要量算定・原単位!M39,IF($D$19=\"融雪\",\"融雪\",\"\")))","v":""},{"$f":"IF($D$19=\"給湯\",\"給湯\",IF($D$19=\"空調\",熱需要量算定・原単位!N39,IF($D$19=\"融雪\",\"融雪\",\"\")))","v":""},{"$f":"IF($D$19=\"給湯\",\"給湯\",IF($D$19=\"空調\",熱需要量算定・原単位!O39,IF($D$19=\"融雪\",\"融雪\",\"\")))","v":""},null,null,null,null,null,"融雪",{"$f":"バイオマス熱_融雪_RC!AB50","v":{"$error":"#N/A"}},{"$f":"バイオマス熱_融雪_RC!AB94","v":{"$error":"#N/A"}},{"$f":"バイオマス熱_融雪_RC!AB138","v":{"$error":"#N/A"}},{"$f":"バイオマス熱_融雪_IC!H30","v":{"$error":"#N/A"}},{"$f":"バイオマス熱_融雪_RC!AB60","v":{"$error":"#N/A"}},{"$f":"バイオマス熱_融雪_RC!AB104","v":0},{"$f":"バイオマス熱_融雪_RC!AB148","v":{"$error":"#N/A"}}]
[null,"バイオマス燃料供給量","t/年",{"$f":"入力シート!C91","v":150},null,null,"（参考）月別熱需要量","MJ/月",{"$f":"IF($D$19=\"給湯\",熱需要量算定・原単位!D46,IF($D$19=\"空調\",熱需要量算定・原単位!D40,IF($D$19=\"融雪\",融雪熱需要量算定!AG6,\"\")))","v":""},{"$f":"IF($D$19=\"給湯\",熱需要量算定・原単位!E46,IF($D$19=\"空調\",熱需要量算定・原単位!E40,IF($D$19=\"融雪\",融雪熱需要量算定!AH6,\"\")))","v":""},{"$f":"IF($D$19=\"給湯\",熱需要量算定・原単位!F46,IF($D$19=\"空調\",熱需要量算定・原単位!F40,IF($D$19=\"融雪\",融雪熱需要量算定!AI6,\"\")))","v":""},{"$f":"IF($D$19=\"給湯\",熱需要量算定・原単位!G46,IF($D$19=\"空調\",熱需要量算定・原単位!G40,IF($D$19=\"融雪\",融雪熱需要量算定!AJ6,\"\")))","v":""},{"$f":"IF($D$19=\"給湯\",熱需要量算定・原単位!H46,IF($D$19=\"空調\",熱需要量算定・原単位!H40,IF($D$19=\"融雪\",融雪熱需要量算定!AK6,\"\")))","v":""},{"$f":"IF($D$19=\"給湯\",熱需要量算定・原単位!I46,IF($D$19=\"空調\",熱需要量算定・原単位!I40,IF($D$19=\"融雪\",融雪熱需要量算定!AL6,\"\")))","v":""},{"$f":"IF($D$19=\"給湯\",熱需要量算定・原単位!J46,IF($D$19=\"空調\",熱需要量算定・原単位!J40,IF($D$19=\"融雪\",融雪熱需要量算定!AM6,\"\")))","v":""},{"$f":"IF($D$19=\"給湯\",熱需要量算定・原単位!K46,IF($D$19=\"空調\",熱需要量算定・原単位!K40,IF($D$19=\"融雪\",融雪熱需要量算定!AN6,\"\")))","v":""},{"$f":"IF($D$19=\"給湯\",熱需要量算定・原単位!L46,IF($D$19=\"空調\",熱需要量算定・原単位!L40,IF($D$19=\"融雪\",融雪熱需要量算定!AO6,\"\")))","v":""},{"$f":"IF($D$19=\"給湯\",熱需要量算定・原単位!M46,IF($D$19=\"空調\",熱需要量算定・原単位!M40,IF($D$19=\"融雪\",融雪熱需要量算定!AP6,\"\")))","v":""},{"$f":"IF($D$19=\"給湯\",熱需要量算定・原単位!N46,IF($D$19=\"空調\",熱需要量算定・原単位!N40,IF($D$19=\"融雪\",融雪熱需要量算定!AQ6,\"\")))","v":""},{"$f":"IF($D$19=\"給湯\",熱需要量算定・原単位!O46,IF($D$19=\"空調\",熱需要量算定・原単位!O40,IF($D$19=\"融雪\",融雪熱需要量算定!AR6,\"\")))","v":""},{"$f":"SUM(I9:T9)","v":0},{"$f":"MAX(I9:T9)","v":0},{"$f":"MIN(I9:T9)","v":0},null,null,"計算結果",{"$f":"VLOOKUP($D$19,$Z$6:$AG$8,2,FALSE)","v":{"$error":"#N/A"}},{"$f":"VLOOKUP($D$19,$Z$6:$AG$8,3,FALSE)","v":{"$error":"#N/A"}},{"$f":"VLOOKUP($D$19,$Z$6:$AG$8,4,FALSE)","v":{"$error":"#N/A"}},{"$f":"VLOOKUP($D$19,$Z$6:$AG$8,5,FALSE)","v":{"$error":"#N/A"}},{"$f":"VLOOKUP($D$19,$Z$6:$AG$8,6,FALSE)","v":{"$error":"#N/A"}},{"$f":"VLOOKUP($D$19,$Z$6:$AG$8,7,FALSE)","v":{"$error":"#N/A"}},{"$f":"VLOOKUP($D$19,$Z$6:$AG$8,8,FALSE)","v":{"$error":"#N/A"}}]
[null,"年間燃料熱量","MJ/年",{"$f":"D7*D9*1000","v":1550913},"年間平均的に供給されるものとして試算する。",null,null,"kWh/月",{"$f":"IF($D$19=\"給湯\",熱需要量算定・原単位!D47,IF($D$19=\"空調\",熱需要量算定・原単位!D41,IF($D$19=\"融雪\",融雪熱需要量算定!AG7,\"\")))","v":""},{"$f":"IF($D$19=\"給湯\",熱需要量算定・原単位!E47,IF($D$19=\"空調\",熱需要量算定・原単位!E41,IF($D$19=\"融雪\",融雪熱需要量算定!AH7,\"\")))","v":""},{"$f":"IF($D$19=\"給湯\",熱需要量算定・原単位!F47,IF($D$19=\"空調\",熱需要量算定・原単位!F41,IF($D$19=\"融雪\",融雪熱需要量算定!AI7,\"\")))","v":""},{"$f":"IF($D$19=\"給湯\",熱需要量算定・原単位!G47,IF($D$19=\"空調\",熱需要量算定・原単位!G41,IF($D$19=\"融雪\",融雪熱需要量算定!AJ7,\"\")))","v":""},{"$f":"IF($D$19=\"給湯\",熱需要量算定・原単位!H47,IF($D$19=\"空調\",熱需要量算定・原単位!H41,IF($D$19=\"融雪\",融雪熱需要量算定!AK7,\"\")))","v":""},{"$f":"IF($D$19=\"給湯\",熱需要量算定・原単位!I47,IF($D$19=\"空調\",熱需要量算定・原単位!I41,IF($D$19=\"融雪\",融雪熱需要量算定!AL7,\"\")))","v":""},{"$f":"IF($D$19=\"給湯\",熱需要量算定・原単位!J47,IF($D$19=\"空調\",熱需要量算定・原単位!J41,IF($D$19=\"融雪\",融雪熱需要量算定!AM7,\"\")))","v":""},{"$f":"IF($D$19=\"給湯\",熱需要量算定・原単位!K47,IF($D$19=\"空調\",熱需要量算定・原単位!K41,IF($D$19=\"融雪\",融雪熱需要量算定!AN7,\"\")))","v":""},{"$f":"IF($D$19=\"給湯\",熱需要量算定・原単位!L47,IF($D$19=\"空調\",熱需要量算定・原単位!L41,IF($D$19=\"融雪\",融雪熱需要量算定!AO7,\"\")))","v":""},{"$f":"IF($D$19=\"給湯\",熱需要量算定・原単位!M47,IF($D$19=\"空調\",熱需要量算定・原単位!M41,IF($D$19=\"融雪\",融雪熱需要量算定!AP7,\"\")))","v":""},{"$f":"IF($D$19=\"給湯\",熱需要量算定・原単位!N47,IF($D$19=\"空調\",熱需要量算定・原単位!N41,IF($D$19=\"融雪\",融雪熱需要量算定!AQ7,\"\")))","v":""},{"$f":"IF($D$19=\"給湯\",熱需要量算定・原単位!O47,IF($D$19=\"空調\",熱需要量算定・原単位!O41,IF($D$19=\"融雪\",融雪熱需要量算定!AR7,\"\")))","v":""},{"$f":"SUM(I10:T10)","v":0},{"$f":"MAX(I10:T10)","v":0},{"$f":"MIN(I10:T10)","v":0}]
[null,null,null,null,null,null,"機器効率","給湯",0.9,0.9,0.9,0.9,0.9,0.9,0.9,0.9,0.9,0.9,0.9,0.9]
[null,null,null,null,null,null,"機器効率","冷房",1.2,1.2,1.2,1.2,1.2,1.2,1.2,1.2,1.2,1.2,1.2,1.2]
[null,"・熱需要量",null,null,null,null,"機器効率","暖房",0.9,0.9,0.9,0.9,0.9,0.9,0.9,0.9,0.9,0.9,0.9,0.9]
[null,"項目","単位","値","備考",null,"機器効率","融雪",0.9,0.9,0.9,0.9,0.9,0.9,0.9,0.9,0.9,0.9,0.9,0.9]
[null,"給湯","MJ/年",{"$f":"熱需要量算定・原単位!P46","v":{"$error":"#N/A"}},"熱需要量算定・原単位より",null,"機器効率","-",{"$f":"IF(I8=\"給湯\",I11,IF(I8=\"冷房\",I12,IF(I8=\"暖房\",I13,IF(I8=\"融雪\",I14,1))))","v":1},1,1,1,1,1,1,1,1,1,1,1]
[null,"冷房","MJ/年",{"$f":"SUMIF(熱需要量算定・原単位!D39:O39,B16,熱需要量算定・原単位!D40:O40)","v":{"$error":"#N/A"}},"熱需要量算定・原単位より",null,"バイオマス熱利用可能熱量","給湯",{"$f":"I$6/I11","v":141635.89041095891},{"$f":"J$6/J11","v":146357.08675799085},141635.89041095891,146357.08675799085,146357.08675799085,141635.89041095891,146357.08675799085,141635.89041095891,146357.08675799085,146357.08675799085,132193.49771689498,146357.08675799085,{"$f":"SUM(I16:T16)","v":1723236.6666666665},{"$f":"MAX(I16:T16)","v":146357.08675799085},{"$f":"MIN(I16:T16)","v":132193.49771689498}]
[null,"暖房","MJ/年",{"$f":"SUMIF(熱需要量算定・原単位!D39:O39,B17,熱需要量算定・原単位!D40:O40)","v":{"$error":"#N/A"}},"熱需要量算定・原単位より",null,null,"冷房",{"$f":"I$6/I12","v":106226.91780821918},109767.81506849315,106226.91780821918,109767.81506849315,109767.81506849315,106226.91780821918,109767.81506849315,106226.91780821918,109767.81506849315,109767.81506849315,99145.123287671231,109767.81506849315,1292427.5,109767.81506849315,99145.123287671231]
[null,"融雪","MJ/年",{"$f":"融雪熱需要量算定!AS6","v":{"$error":"#N/A"}},"融雪熱需要量算定より",null,null,"暖房",141635.89041095891,146357.08675799085,141635.89041095891,146357.08675799085,146357.08675799085,141635.89041095891,146357.08675799085,141635.89041095891,146357.08675799085,146357.08675799085,132193.49771689498,146357.08675799085,1723236.6666666665,146357.08675799085,132193.49771689498]
[null,"熱利用用途",null,{"$f":"入力シート!C8","v":0},null,null,null,"融雪",{"$f":"I$6/I14","v":141635.89041095891},{"$f":"J$6/J14","v":146357.08675799085},141635.89041095891,146357.08675799085,146357.08675799085,141635.89041095891,146357.08675799085,141635.89041095891,146357.08675799085,146357.08675799085,132193.49771689498,146357.08675799085,1723236.6666666665,146357.08675799085,132193.49771689498]
[null,null,null,null,null,null,"バイオマス熱利用可能熱量","MJ/月",{"$f":"IF(I8=\"給湯\",I16,IF(I8=\"冷房\",I17,IF(I8=\"暖房\",I18,IF(I8=\"融雪\",I19,1))))","v":1},{"$f":"IF(J8=\"給湯\",J16,IF(J8=\"冷房\",J17,IF(J8=\"暖房\",J18,IF(J8=\"融雪\",J19,1))))","v":1},1,1,1,1,1,1,1,1,1,1,12,1,1]
[null,"■係数",null,null,null,null,null,"kWh/月",{"$f":"I20/3.6","v":0.27777777777777779},{"$f":"J20/3.6","v":0.27777777777777779},0.27777777777777779,0.27777777777777779,0.27777777777777779,0.27777777777777779,0.27777777777777779,0.27777777777777779,0.27777777777777779,0.27777777777777779,0.27777777777777779,0.27777777777777779,3.3333333333333326,0.27777777777777779,0.27777777777777779]
[null,"項目","値","単位","備考"]
[null,{"$f":"係数・物性!B4","v":"水の比熱"},{"$f":"係数・物性!C4","v":"kJ/kgK"},{"$f":"係数・物性!D4","v":4.1790000000000003}]
[null,{"$f":"係数・物性!B5","v":"水の密度"},{"$f":"係数・物性!C5","v":"kg/m3"},{"$f":"係数・物性!D5","v":996.62}]
[null,{"$f":"係数・物性!B6","v":"容積比熱"},{"$f":"係数・物性!C6","v":"MJ/m3K"},{"$f":"係数・物性!D6","v":4.1648749800000004}]

{"sheet":"バイオマス熱_給湯_RC","index":64,"n_rows":158,"n_cols":31,"rows_kept":158,"cut":false,"hidden":true,"merged":[]}
[null,"■入力情報",null,null,null,null,null,null,"■給湯　バイオマス熱システムのエネルギー計算"]
[]
[null,"■対象施設情報",null,null,null,null,null,null,"■給湯　バイオマス熱システム検討",null,null,null,null,"■給湯　バイオマス熱システム　エネルギー計算・エネルギーコスト検討"]
[null,"項目","単位","値","備考",null,null,null,"項目","単位","値","備考",null,"項目","単位","4月","5月","6月","7月","8月","9月","10月","11月","12月","1月","2月","3月","合計","最大","最小","備考"]
[null,"地域選択","-",{"$f":"入力シート!C7","v":0},"都道府県を選択してください。",null,null,null,"暖房効率","-",0.9,null,null,"熱利用用途",null,{"$f":"マッチング!E10","v":""},{"$f":"マッチング!F10","v":""},{"$f":"マッチング!G10","v":""},{"$f":"マッチング!H10","v":""},{"$f":"マッチング!I10","v":""},{"$f":"マッチング!J10","v":""},{"$f":"マッチング!K10","v":""},{"$f":"マッチング!L10","v":""},{"$f":"マッチング!M10","v":""},{"$f":"マッチング!N10","v":""},{"$f":"マッチング!O10","v":""},{"$f":"マッチング!P10","v":""}]
[null,"熱利用用途","-",{"$f":"入力シート!C8","v":0},"給湯、空調、融雪から選択してください。",null,null,null,"熱源容量(最大負荷月)","kW",{"$f":"バイオマス熱_給湯_熱源容量!P4","v":{"$error":"#N/A"}},"熱源容量シートより",null,"熱需要量","MJ/月",{"$f":"マッチング!E115","v":{"$error":"#N/A"}},{"$f":"マッチング!F115","v":{"$error":"#N/A"}},{"$f":"マッチング!G115","v":{"$error":"#N/A"}},{"$f":"マッチング!H115","v":{"$error":"#N/A"}},{"$f":"マッチング!I115","v":{"$error":"#N/A"}},{"$f":"マッチング!J115","v":{"$error":"#N/A"}},{"$f":"マッチング!K115","v":{"$error":"#N/A"}},{"$f":"マッチング!L115","v":{"$error":"#N/A"}},{"$f":"マッチング!M115","v":{"$error":"#N/A"}},{"$f":"マッチング!N115","v":{"$error":"#N/A"}},{"$f":"マッチング!O115","v":{"$error":"#N/A"}},{"$f":"マッチング!P115","v":{"$error":"#N/A"}},{"$f":"SUM(P6:AA6)","v":{"$error":"#N/A"}},{"$f":"MAX(P6:AA6)","v":{"$error":"#N/A"}},{"$f":"MIN(P6:AA6)","v":{"$error":"#N/A"}}]
[null,"建物用途","-",{"$f":"入力シート!C9","v":0},"給湯、空調利用の場合は建物用途を選択してください。",null,null,null,"温度差","℃",5,"想定設定値",null,null,"kWh/月",{"$f":"P6*1000/3600","v":{"$error":"#N/A"}},{"$f":"Q6*1000/3600","v":{"$error":"#N/A"}},{"$error":"#N/A"},{"$error":"#N/A"},{"$error":"#N/A"},{"$error":"#N/A"},{"$error":"#N/A"},{"$error":"#N/A"},{"$error":"#N/A"},{"$error":"#N/A"},{"$error":"#N/A"},{"$error":"#N/A"},{"$f":"SUM(P7:AA7)","v":{"$error":"#N/A"}},{"$f":"MAX(P7:AA7)","v":{"$error":"#N/A"}},{"$f":"MIN(P7:AA7)","v":{"$error":"#N/A"}}]
[null,"延床面積","m2",{"$f":"入力シート!C10","v":0},"給湯、空調利用の場合は数値を入力してください。",null,null,null,"冷温水流量","L/min",{"$f":"K6/K7/$D$24/$D$25*1000*60","v":{"$error":"#N/A"}},null,null,"日数","日",{"$f":"熱需要量算定・原単位!D24","v":30},{"$f":"熱需要量算定・原単位!E24","v":31},{"$f":"熱需要量算定・原単位!F24","v":30},{"$f":"熱需要量算定・原単位!G24","v":31},{"$f":"熱需要量算定・原単位!H24","v":31},{"$f":"熱需要量算定・原単位!I24","v":30},{"$f":"熱需要量算定・原単位!J24","v":31},{"$f":"熱需要量算定・原単位!K24","v":30},{"$f":"熱需要量算定・原単位!L24","v":31},{"$f":"熱需要量算定・原単位!M24","v":31},{"$f":"熱需要量算定・原単位!N24","v":28},{"$f":"熱需要量算定・原単位!O24","v":31},{"$f":"SUM(P8:AA8)","v":365}]
[null,"対象面積","m2",{"$f":"入力シート!C11","v":0},"融雪利用の場合は数値を入力して下さい。",null,null,null,"冷温水揚程（想定）","m",15,"想定設定値",null,"運転時間","h/日",{"$f":"HLOOKUP(P5,バイオマス熱_給湯_熱源容量!$B$36:$D$37,2,FALSE)","v":{"$error":"#N/A"}},{"$f":"HLOOKUP(Q5,バイオマス熱_給湯_熱源容量!$B$36:$D$37,2,FALSE)","v":{"$error":"#N/A"}},{"$f":"HLOOKUP(R5,バイオマス熱_給湯_熱源容量!$B$36:$D$37,2,FALSE)","v":{"$error":"#N/A"}},{"$f":"HLOOKUP(S5,バイオマス熱_給湯_熱源容量!$B$36:$D$37,2,FALSE)","v":{"$error":"#N/A"}},{"$f":"HLOOKUP(T5,バイオマス熱_給湯_熱源容量!$B$36:$D$37,2,FALSE)","v":{"$error":"#N/A"}},{"$f":"HLOOKUP(U5,バイオマス熱_給湯_熱源容量!$B$36:$D$37,2,FALSE)","v":{"$error":"#N/A"}},{"$f":"HLOOKUP(V5,バイオマス熱_給湯_熱源容量!$B$36:$D$37,2,FALSE)","v":{"$error":"#N/A"}},{"$f":"HLOOKUP(W5,バイオマス熱_給湯_熱源容量!$B$36:$D$37,2,FALSE)","v":{"$error":"#N/A"}},{"$f":"HLOOKUP(X5,バイオマス熱_給湯_熱源容量!$B$36:$D$37,2,FALSE)","v":{"$error":"#N/A"}},{"$f":"HLOOKUP(Y5,バイオマス熱_給湯_熱源容量!$B$36:$D$37,2,FALSE)","v":{"$error":"#N/A"}},{"$f":"HLOOKUP(Z5,バイオマス熱_給湯_熱源容量!$B$36:$D$37,2,FALSE)","v":{"$error":"#N/A"}},{"$f":"HLOOKUP(AA5,バイオマス熱_給湯_熱源容量!$B$36:$D$37,2,FALSE)","v":{"$error":"#N/A"}}]
[null,"燃料種別の選択","-","-",null,null,null,null,"冷温水ポンプ効率","%",{"$f":"IF(K8<80,ポンプ効率近似式!$D$14,-1.403*LN(K8/1000)^2+6.9719*LN(K8/1000)+53.781)","v":{"$error":"#N/A"}},"ポンプ効率近似式より",null,"日あたりの熱需要量","MJ/日",{"$f":"P6/P8","v":{"$error":"#N/A"}},{"$f":"Q6/Q8","v":{"$error":"#N/A"}},{"$error":"#N/A"},{"$error":"#N/A"},{"$error":"#N/A"},{"$error":"#N/A"},{"$error":"#N/A"},{"$error":"#N/A"},{"$error":"#N/A"},{"$error":"#N/A"},{"$error":"#N/A"},{"$error":"#N/A"},{"$f":"SUM(P10:AA10)","v":{"$error":"#N/A"}},{"$f":"MAX(P10:AA10)","v":{"$error":"#N/A"}},{"$f":"MIN(P10:AA10)","v":{"$error":"#N/A"}}]
[null,"選択燃料の発熱量",null,null,null,null,null,null,"冷温水ポンプ消費電力","kW",{"$f":"$D$25*$D$27*K8/1000/60*K9/10/K10","v":{"$error":"#N/A"}},"ポンプ関数より",null,null,"kWh/日",{"$f":"P10*1000/3600","v":{"$error":"#N/A"}},{"$f":"Q10*1000/3600","v":{"$error":"#N/A"}},{"$error":"#N/A"},{"$error":"#N/A"},{"$error":"#N/A"},{"$error":"#N/A"},{"$error":"#N/A"},{"$error":"#N/A"},{"$error":"#N/A"},{"$error":"#N/A"},{"$error":"#N/A"},{"$error":"#N/A"},{"$f":"SUM(P11:AA11)","v":{"$error":"#N/A"}},{"$f":"MAX(P11:AA11)","v":{"$error":"#N/A"}},{"$f":"MIN(P11:AA11)","v":{"$error":"#N/A"}}]
[null,null,null,null,null,null,null,null,null,null,null,null,null,"熱源機効率","-",{"$f":"$K$5","v":0.9},{"$f":"$K$5","v":0.9},0.9,0.9,0.9,0.9,0.9,0.9,0.9,0.9,0.9,0.9]
[null,"■バイオマス設定内容",null,null,null,null,null,null,null,null,null,null,null,"熱源機　バイオマス燃料　必要発熱量","MJ/月",{"$f":"P6/P12","v":{"$error":"#N/A"}},{"$f":"Q6/Q12","v":{"$error":"#N/A"}},{"$error":"#N/A"},{"$error":"#N/A"},{"$error":"#N/A"},{"$error":"#N/A"},{"$error":"#N/A"},{"$error":"#N/A"},{"$error":"#N/A"},{"$error":"#N/A"},{"$error":"#N/A"},{"$error":"#N/A"},{"$f":"SUM(P13:AA13)","v":{"$error":"#N/A"}},{"$f":"MAX(P13:AA13)","v":{"$error":"#N/A"}},{"$f":"MIN(P13:AA13)","v":{"$error":"#N/A"}}]
[null,"項目","単位","値","備考",null,null,null,null,null,null,null,null,null,"kWh/月",{"$f":"P7/P12","v":{"$error":"#N/A"}},{"$f":"Q7/Q12","v":{"$error":"#N/A"}},{"$error":"#N/A"},{"$error":"#N/A"},{"$error":"#N/A"},{"$error":"#N/A"},{"$error":"#N/A"},{"$error":"#N/A"},{"$error":"#N/A"},{"$error":"#N/A"},{"$error":"#N/A"},{"$error":"#N/A"},{"$error":"#N/A"},{"$f":"MAX(P14:AA14)","v":{"$error":"#N/A"}},{"$f":"MIN(P14:AA14)","v":{"$error":"#N/A"}}]
[null,"バイオマス燃料種別","-",{"$f":"入力シート!C88","v":"木質チップ"},null,null,null,null,null,null,null,null,null,"熱源機　バイオマス燃料　消費量","kg/月",{"$f":"P13/$D$17","v":{"$error":"#N/A"}},{"$f":"Q13/$D$17","v":{"$error":"#N/A"}},{"$error":"#N/A"},{"$error":"#N/A"},{"$error":"#N/A"},{"$error":"#N/A"},{"$error":"#N/A"},{"$error":"#N/A"},{"$error":"#N/A"},{"$error":"#N/A"},{"$error":"#N/A"},{"$error":"#N/A"},{"$error":"#N/A"},{"$f":"MAX(P15:AA15)","v":{"$error":"#N/A"}},{"$f":"MIN(P15:AA15)","v":{"$error":"#N/A"}}]
[null,"燃料発熱量・価格の入力","-",{"$f":"入力シート!C87","v":"無し"},null,null,null,null,null,null,null,null,null,"冷温水ポンプ消費電力量","kWh/月",{"$f":"IF(P6=0,0,$K$11*P9*P8)","v":{"$error":"#N/A"}},{"$error":"#N/A"},{"$error":"#N/A"},{"$error":"#N/A"},{"$error":"#N/A"},{"$error":"#N/A"},{"$error":"#N/A"},{"$error":"#N/A"},{"$error":"#N/A"},{"$error":"#N/A"},{"$error":"#N/A"},{"$error":"#N/A"},{"$error":"#N/A"}]
[null,"バイオマス燃料発熱量","MJ/kg",{"$f":"IF(D16=\"有り\",入力シート!C89,VLOOKUP(D15,バイオマス燃料情報!B4:H11,2,FALSE))","v":10.33942},null,null,null,null,null,null,null,null,null,"消費電力合計","kWh/月",{"$f":"P16","v":{"$error":"#N/A"}},{"$error":"#N/A"},{"$error":"#N/A"},{"$error":"#N/A"},{"$error":"#N/A"},{"$error":"#N/A"},{"$error":"#N/A"},{"$error":"#N/A"},{"$error":"#N/A"},{"$error":"#N/A"},{"$error":"#N/A"},{"$error":"#N/A"},{"$error":"#N/A"}]
[null,"バイオマス燃料燃料価格","円/kg",{"$f":"IF(D16=\"有り\",入力シート!C90,VLOOKUP(D15,バイオマス燃料情報!B4:H11,4,FALSE))","v":10},null,null,null,null,null,null,null,null,null,"灰発生量","kg/月",{"$f":"P15*2%","v":{"$error":"#N/A"}},{"$f":"Q15*2%","v":{"$error":"#N/A"}},{"$error":"#N/A"},{"$error":"#N/A"},{"$error":"#N/A"},{"$error":"#N/A"},{"$error":"#N/A"},{"$error":"#N/A"},{"$error":"#N/A"},{"$error":"#N/A"},{"$error":"#N/A"},{"$error":"#N/A"},{"$error":"#N/A"},{"$f":"MAX(P18:AA18)","v":{"$error":"#N/A"}},{"$f":"MIN(P18:AA18)","v":{"$error":"#N/A"}},"燃料消費量の2%と仮定する。"]
[null,"バイオマス燃料供給量","t/年",{"$f":"入力シート!C91","v":150}]
[null,"年間燃料熱量","MJ/年",{"$f":"D17*D19*1000","v":1550913}]
[]
[null,"■係数"]
[null,"項目","値","単位","備考"]
[null,"水の比熱","kJ/kgK",{"$f":"係数・物性!D4","v":4.1790000000000003},"係数・物性より"]
[null,"水の密度","kg/m3",{"$f":"係数・物性!D5","v":996.62},"係数・物性より"]
[null,"容積比熱","MJ/m3K",{"$f":"係数・物性!D6","v":4.1648749800000004},"係数・物性より"]
[null,"重力加速度","m/s2",{"$f":"係数・物性!D7","v":9.8059999999999992},"係数・物性より"]
[]
[null,null,null,null,null,null,null,null,"■エネルギーコスト、CO2排出量、一次エネルギー消費量計算（エネルギー消費量を入力）"]
[null,null,null,null,null,null,null,null,null,null,null,null,null,"□エネルギー消費量"]
[null,null,null,null,null,null,null,null,null,"設定セル",null,null,null,"項目","単位","4月","5月","6月","7月","8月","9月","10月","11月","12月","1月","2月","3月","合計","最大","最小","備考"]
[null,null,null,null,null,null,null,null,null,"変更設定していいセル（計算式が入力されている）",null,null,null,"電気","kWh/月",{"$f":"P17","v":{"$error":"#N/A"}},{"$error":"#N/A"},{"$error":"#N/A"},{"$error":"#N/A"},{"$error":"#N/A"},{"$error":"#N/A"},{"$error":"#N/A"},{"$error":"#N/A"},{"$error":"#N/A"},{"$error":"#N/A"},{"$error":"#N/A"},{"$error":"#N/A"},{"$f":"SUM(P32:AA32)","v":{"$error":"#N/A"}},{"$f":"MAX(P32:AA32)","v":{"$error":"#N/A"}},{"$f":"MIN(P32:AA32)","v":{"$error":"#N/A"}}]
[null,null,null,null,null,null,null,null,null,"あまり変更しなくていい設定セル",null,null,null,"都市ガス（13A）","m3/月",{"$f":"IF($D$10=$N33,P$15,0)","v":0},0,0,0,0,0,0,0,0,0,0,0,0,0,0]
[null,null,null,null,null,null,null,null,null,"デフォ値・係数",null,null,null,"灯油","L/月",0,0,0,0,0,0,0,0,0,0,0,0,0,0,0]
[null,null,null,null,null,null,null,null,null,"計算式・項目確認セル",null,null,null,"重油","L/月",0,0,0,0,0,0,0,0,0,0,0,0,0,0,0]
[null,null,null,null,null,null,null,null,null,null,null,null,null,"液化石油ガス（LPG）","kg/月",0,0,0,0,0,0,0,0,0,0,0,0,0,0,0]
[null,null,null,null,null,null,null,null,null,null,null,null,null,"他人から供給された熱","MJ/月",0,0,0,0,0,0,0,0,0,0,0,0,0,0,0]
[null,null,null,null,null,null,null,null,null,null,null,null,null,"バイオマス燃料","kg/月",{"$f":"P15","v":{"$error":"#N/A"}},{"$f":"Q15","v":{"$error":"#N/A"}},{"$error":"#N/A"},{"$error":"#N/A"},{"$error":"#N/A"},{"$error":"#N/A"},{"$error":"#N/A"},{"$error":"#N/A"},{"$error":"#N/A"},{"$error":"#N/A"},{"$error":"#N/A"},{"$error":"#N/A"},{"$f":"SUM(P38:AA38)","v":{"$error":"#N/A"}},{"$error":"#N/A"},{"$error":"#N/A"}]
[]
[null,null,null,null,null,null,null,null,"□エネルギーコスト単価(フラットレート)",null,null,null,null,"□エネルギーコスト検討"]
[null,null,null,null,null,null,null,null,"項目","単位","値","備考",null,"項目","単位","4月","5月","6月","7月","8月","9月","10月","11月","12月","1月","2月","3月","合計","最大","最小","備考"]
[null,null,null,null,null,null,null,null,"電気","円/kWh",{"$f":"E単価!H5","v":14},null,null,"電気","千円/月",{"$f":"P32*$K42/1000","v":{"$error":"#N/A"}},{"$error":"#N/A"},{"$error":"#N/A"},{"$error":"#N/A"},{"$error":"#N/A"},{"$error":"#N/A"},{"$error":"#N/A"},{"$error":"#N/A"},{"$error":"#N/A"},{"$error":"#N/A"},{"$error":"#N/A"},{"$error":"#N/A"},{"$f":"SUM(P42:AA42)","v":{"$error":"#N/A"}},{"$f":"MAX(P42:AA42)","v":{"$error":"#N/A"}},{"$f":"MIN(P42:AA42)","v":{"$error":"#N/A"}}]
[null,null,null,null,null,null,null,null,"都市ガス（13A）","円/m3",{"$f":"E単価!H6","v":114.64285714285714},null,null,"都市ガス（13A）","千円/月",0,0,0,0,0,0,0,0,0,0,0,0,0,0,0]
[null,null,null,null,null,null,null,null,"灯油","円/L",{"$f":"E単価!H7","v":107.88888888888889},null,null,"灯油","千円/月",0,0,0,0,0,0,0,0,0,0,0,0,0,0,0]
[null,null,null,null,null,null,null,null,"重油","円/L",{"$f":"E単価!H8","v":76.099999999999994},null,null,"重油","千円/月",0,0,0,0,0,0,0,0,0,0,0,0,0,0,0]
[null,null,null,null,null,null,null,null,"液化石油ガス（LPG）","円/kg",{"$f":"E単価!H9","v":159.40476190476193},null,null,"液化石油ガス（LPG）","千円/月",0,0,0,0,0,0,0,0,0,0,0,0,0,0,0]
[null,null,null,null,null,null,null,null,"他人から供給された熱","円/GJ",{"$f":"E単価!H10","v":6611.9047619047615},null,null,"他人から供給された熱","千円/月",0,0,0,0,0,0,0,0,0,0,0,0,0,0,0]
[null,null,null,null,null,null,null,null,null,null,null,null,null,"バイオマス燃料","千円/月",{"$f":"P38*$D$18/1000","v":{"$error":"#N/A"}},{"$f":"Q38*$D$18/1000","v":{"$error":"#N/A"}},{"$error":"#N/A"},{"$error":"#N/A"},{"$error":"#N/A"},{"$error":"#N/A"},{"$error":"#N/A"},{"$error":"#N/A"},{"$error":"#N/A"},{"$error":"#N/A"},{"$error":"#N/A"},{"$error":"#N/A"},{"$error":"#N/A"},{"$error":"#N/A"},{"$error":"#N/A"}]
[null,null,null,null,null,null,null,null,null,null,null,null,null,"バイオマス灰処理費用","千円/月",{"$f":"P18/1000*10","v":{"$error":"#N/A"}},{"$f":"Q18/1000*10","v":{"$error":"#N/A"}},{"$error":"#N/A"},{"$error":"#N/A"},{"$error":"#N/A"},{"$error":"#N/A"},{"$error":"#N/A"},{"$error":"#N/A"},{"$error":"#N/A"},{"$error":"#N/A"},{"$error":"#N/A"},{"$error":"#N/A"},{"$f":"SUM(P49:AA49)","v":{"$error":"#N/A"}},{"$error":"#N/A"},{"$error":"#N/A"},"灰処理単価：10千円/t（※1より）"]
[null,null,null,null,null,null,null,null,null,null,null,null,null,"エネルギーコスト合計","千円/月",{"$f":"SUM(P42:P49)","v":{"$error":"#N/A"}},{"$f":"SUM(Q42:Q49)","v":{"$error":"#N/A"}},{"$error":"#N/A"},{"$error":"#N/A"},{"$error":"#N/A"},{"$error":"#N/A"},{"$error":"#N/A"},{"$error":"#N/A"},{"$error":"#N/A"},{"$error":"#N/A"},{"$error":"#N/A"},{"$error":"#N/A"},{"$f":"SUM(AB42:AB49)","v":{"$error":"#N/A"}},{"$f":"SUM(AC42:AC47)","v":{"$error":"#N/A"}},{"$error":"#N/A"}]
[]
[null,null,null,null,null,null,null,null,"□CO2換算係数",null,null,null,null,"□CO2排出量"]
[null,null,null,null,null,null,null,null,"項目","単位","値","備考",null,"項目","単位","4月","5月","6月","7月","8月","9月","10月","11月","12月","1月","2月","3月","合計","最大","最小","備考"]
[null,null,null,null,null,null,null,null,"電気","tCO2/kWh",{"$f":"CO2換算係数!B3","v":4.8799999999999999E-4},null,null,"電気","t-CO2/月",{"$f":"P32*$K54","v":{"$error":"#N/A"}},{"$f":"Q32*$K54","v":{"$error":"#N/A"}},{"$error":"#N/A"},{"$error":"#N/A"},{"$error":"#N/A"},{"$error":"#N/A"},{"$error":"#N/A"},{"$error":"#N/A"},{"$error":"#N/A"},{"$error":"#N/A"},{"$error":"#N/A"},{"$f":"AA32*$K54","v":{"$error":"#N/A"}},{"$f":"SUM(P54:AA54)","v":{"$error":"#N/A"}},{"$f":"MAX(P54:AA54)","v":{"$error":"#N/A"}},{"$f":"MIN(P54:AA54)","v":{"$error":"#N/A"}}]
[null,null,null,null,null,null,null,null,"都市ガス（13A）","tCO2/km3",{"$f":"CO2換算係数!B4","v":2.23},null,null,"都市ガス（13A）","t-CO2/月",{"$f":"P33/1000*$K55","v":0},0,0,0,0,0,0,0,0,0,0,0,0,0,0]
[null,null,null,null,null,null,null,null,"灯油","tCO2/kL",{"$f":"CO2換算係数!B5","v":2.4900000000000002},null,null,"灯油","t-CO2/月",0,0,0,0,0,0,0,0,0,0,0,0,0,0,0]
[null,null,null,null,null,null,null,null,"重油","tCO2/kL",{"$f":"CO2換算係数!B6","v":2.71},null,null,"重油","t-CO2/月",0,0,0,0,0,0,0,0,0,0,0,0,0,0,0]
[null,null,null,null,null,null,null,null,"液化石油ガス（LPG）","tCO2/t",{"$f":"CO2換算係数!B7","v":3},null,null,"液化石油ガス（LPG）","t-CO2/月",0,0,0,0,0,0,0,0,0,0,0,0,0,0,0]
[null,null,null,null,null,null,null,null,"他人から供給された熱","tCO2/GJ",{"$f":"CO2換算係数!B8","v":5.7000000000000002E-2},null,null,"他人から供給された熱","t-CO2/月",0,0,0,0,0,0,0,0,0,0,0,0,0,0,0]
[null,null,null,null,null,null,null,null,null,null,null,null,null,"CO2排出量合計","t-CO2/月",{"$f":"SUM(P54:P59)","v":{"$error":"#N/A"}},{"$f":"SUM(Q54:Q59)","v":{"$error":"#N/A"}},{"$error":"#N/A"},{"$error":"#N/A"},{"$error":"#N/A"},{"$error":"#N/A"},{"$error":"#N/A"},{"$error":"#N/A"},{"$error":"#N/A"},{"$error":"#N/A"},{"$error":"#N/A"},{"$error":"#N/A"},{"$f":"SUM(AB54:AB59)","v":{"$error":"#N/A"}},{"$error":"#N/A"},{"$error":"#N/A"}]
[]
[null,null,null,null,null,null,null,null,"□一次エネルギー換算係数",null,null,null,null,"□一次エネルギー消費量"]
[null,null,null,null,null,null,null,null,"項目","単位","値","備考",null,"項目","単位","4月","5月","6月","7月","8月","9月","10月","11月","12月","1月","2月","3月","合計","最大","最小","備考"]
[null,null,null,null,null,null,null,null,"電気","MJ/kWh",{"$f":"一次E換算!B3","v":9.76},null,null,"電気","MJ/月",{"$f":"P32*$K64","v":{"$error":"#N/A"}},{"$error":"#N/A"},{"$error":"#N/A"},{"$error":"#N/A"},{"$error":"#N/A"},{"$error":"#N/A"},{"$error":"#N/A"},{"$error":"#N/A"},{"$error":"#N/A"},{"$error":"#N/A"},{"$error":"#N/A"},{"$error":"#N/A"},{"$f":"SUM(P64:AA64)","v":{"$error":"#N/A"}},{"$f":"MAX(P64:AA64)","v":{"$error":"#N/A"}},{"$f":"MIN(P64:AA64)","v":{"$error":"#N/A"}}]
[null,null,null,null,null,null,null,null,"都市ガス（13A）","MJ/m3",{"$f":"一次E換算!B4","v":45},null,null,"都市ガス（13A）","MJ/月",0,0,0,0,0,0,0,0,0,0,0,0,0,0,0]
[null,null,null,null,null,null,null,null,"灯油","MJ/L",{"$f":"一次E換算!B5","v":37},null,null,"灯油","MJ/月",0,0,0,0,0,0,0,0,0,0,0,0,0,0,0]
[null,null,null,null,null,null,null,null,"重油","MJ/L",{"$f":"一次E換算!B6","v":41},null,null,"重油","MJ/月",0,0,0,0,0,0,0,0,0,0,0,0,0,0,0]
[null,null,null,null,null,null,null,null,"液化石油ガス（LPG）","MJ/kg",{"$f":"一次E換算!B7","v":50},null,null,"液化石油ガス（LPG）","MJ/月",0,0,0,0,0,0,0,0,0,0,0,0,0,0,0]
[null,null,null,null,null,null,null,null,"他人から供給された熱","MJ/MJ",{"$f":"一次E換算!B8","v":1.36},null,null,"他人から供給された熱","MJ/月",0,0,0,0,0,0,0,0,0,0,0,0,0,0,0]
[null,null,null,null,null,null,null,null,null,null,null,null,null,"一次エネルギー消費量合計","MJ/月",{"$f":"SUM(P64:P69)","v":{"$error":"#N/A"}},{"$error":"#N/A"},{"$error":"#N/A"},{"$error":"#N/A"},{"$error":"#N/A"},{"$error":"#N/A"},{"$error":"#N/A"},{"$error":"#N/A"},{"$error":"#N/A"},{"$error":"#N/A"},{"$error":"#N/A"},{"$error":"#N/A"},{"$f":"SUM(AB64:AB69)","v":{"$error":"#N/A"}},{"$error":"#N/A"},{"$error":"#N/A"}]
[]
[]
[null,null,null,null,null,null,null,null,"■熱源機エネルギーコスト、CO2排出量、一次エネルギー消費量計算（エネルギー消費量を入力）"]
[null,null,null,null,null,null,null,null,null,null,null,null,null,"□エネルギー消費量"]
[null,null,null,null,null,null,null,null,null,"設定セル",null,null,null,"項目","単位","4月","5月","6月","7月","8月","9月","10月","11月","12月","1月","2月","3月","合計","最大","最小","備考"]
[null,null,null,null,null,null,null,null,null,"変更設定していいセル（計算式が入力されている）",null,null,null,"電気","kWh/月",null,null,null,null,null,null,null,null,null,null,null,null,{"$f":"SUM(P76:AA76)","v":0},{"$f":"MAX(P76:AA76)","v":0},{"$f":"MIN(P76:AA76)","v":0}]
[null,null,null,null,null,null,null,null,null,"あまり変更しなくていい設定セル",null,null,null,"都市ガス（13A）","m3/月",null,null,null,null,null,null,null,null,null,null,null,null,0,0,0]
[null,null,null,null,null,null,null,null,null,"デフォ値・係数",null,null,null,"灯油","L/月",null,null,null,null,null,null,null,null,null,null,null,null,0,0,0]
[null,null,null,null,null,null,null,null,null,"計算式・項目確認セル",null,null,null,"重油","L/月",null,null,null,null,null,null,null,null,null,null,null,null,0,0,0]
[null,null,null,null,null,null,null,null,null,null,null,null,null,"液化石油ガス（LPG）","kg/月",null,null,null,null,null,null,null,null,null,null,null,null,0,0,0]
[null,null,null,null,null,null,null,null,null,null,null,null,null,"他人から供給された熱","MJ/月",null,null,null,null,null,null,null,null,null,null,null,null,0,0,0]
[null,null,null,null,null,null,null,null,null,null,null,null,null,"バイオマス燃料","kg/月",{"$f":"P15","v":{"$error":"#N/A"}},{"$f":"Q15","v":{"$error":"#N/A"}},{"$error":"#N/A"},{"$error":"#N/A"},{"$error":"#N/A"},{"$error":"#N/A"},{"$error":"#N/A"},{"$error":"#N/A"},{"$error":"#N/A"},{"$error":"#N/A"},{"$error":"#N/A"},{"$error":"#N/A"},{"$f":"SUM(P82:AA82)","v":{"$error":"#N/A"}},{"$error":"#N/A"},{"$error":"#N/A"}]
[]
[null,null,null,null,null,null,null,null,"□エネルギーコスト単価(フラットレート)",null,null,null,null,"□エネルギーコスト検討"]
[null,null,null,null,null,null,null,null,"項目","単位","値","備考",null,"項目","単位","4月","5月","6月","7月","8月","9月","10月","11月","12月","1月","2月","3月","合計","最大","最小","備考"]
[null,null,null,null,null,null,null,null,"電気","円/kWh",{"$f":"K42","v":14},null,null,"電気","千円/月",{"$f":"P76*$K86/1000","v":0},0,0,0,0,0,0,0,0,0,0,0,{"$f":"SUM(P86:AA86)","v":0},{"$f":"MAX(P86:AA86)","v":0},{"$f":"MIN(P86:AA86)","v":0}]
[null,null,null,null,null,null,null,null,"都市ガス（13A）","円/m3",{"$f":"K43","v":114.64285714285714},null,null,"都市ガス（13A）","千円/月",{"$f":"P77*$K87/1000","v":0},0,0,0,0,0,0,0,0,0,0,0,0,0,0]
[null,null,null,null,null,null,null,null,"灯油","円/L",107.88888888888889,null,null,"灯油","千円/月",{"$f":"P78*$K88/1000","v":0},0,0,0,0,0,0,0,0,0,0,0,0,0,0]
[null,null,null,null,null,null,null,null,"重油","円/L",76.099999999999994,null,null,"重油","千円/月",{"$f":"P79*$K89/1000","v":0},0,0,0,0,0,0,0,0,0,0,0,0,0,0]
[null,null,null,null,null,null,null,null,"液化石油ガス（LPG）","円/kg",159.40476190476193,null,null,"液化石油ガス（LPG）","千円/月",{"$f":"P80*$K90/1000","v":0},0,0,0,0,0,0,0,0,0,0,0,0,0,0]
[null,null,null,null,null,null,null,null,"他人から供給された熱","円/GJ",6611.9047619047615,null,null,"他人から供給された熱","千円/月",{"$f":"P81*$K91/1000","v":0},0,0,0,0,0,0,0,0,0,0,0,0,0,0]
[null,null,null,null,null,null,null,null,null,null,null,null,null,"バイオマス燃料","千円/月",{"$f":"P82*$D$18/1000","v":{"$error":"#N/A"}},{"$f":"Q82*$D$18/1000","v":{"$error":"#N/A"}},{"$error":"#N/A"},{"$error":"#N/A"},{"$error":"#N/A"},{"$error":"#N/A"},{"$error":"#N/A"},{"$error":"#N/A"},{"$error":"#N/A"},{"$error":"#N/A"},{"$error":"#N/A"},{"$error":"#N/A"},{"$error":"#N/A"},{"$error":"#N/A"},{"$error":"#N/A"}]
[null,null,null,null,null,null,null,null,null,null,null,null,null,"バイオマス灰処理費用","千円/月",{"$f":"P18/1000*10","v":{"$error":"#N/A"}},{"$f":"Q18/1000*10","v":{"$error":"#N/A"}},{"$error":"#N/A"},{"$error":"#N/A"},{"$error":"#N/A"},{"$error":"#N/A"},{"$error":"#N/A"},{"$error":"#N/A"},{"$error":"#N/A"},{"$error":"#N/A"},{"$error":"#N/A"},{"$error":"#N/A"},{"$error":"#N/A"},{"$error":"#N/A"},{"$error":"#N/A"},"灰処理単価：10千円/t（※1より）"]
[null,null,null,null,null,null,null,null,null,null,null,null,null,"エネルギーコスト合計","千円/月",{"$f":"SUM(P86:P93)","v":{"$error":"#N/A"}},{"$f":"SUM(Q86:Q93)","v":{"$error":"#N/A"}},{"$error":"#N/A"},{"$error":"#N/A"},{"$error":"#N/A"},{"$error":"#N/A"},{"$error":"#N/A"},{"$error":"#N/A"},{"$error":"#N/A"},{"$error":"#N/A"},{"$error":"#N/A"},{"$error":"#N/A"},{"$f":"SUM(AB86:AB93)","v":{"$error":"#N/A"}},{"$f":"SUM(AC86:AC91)","v":0},0]
[]
[null,null,null,null,null,null,null,null,"□CO2換算係数",null,null,null,null,"□CO2排出量"]
[null,null,null,null,null,null,null,null,"項目","単位","値","備考",null,"項目","単位","4月","5月","6月","7月","8月","9月","10月","11月","12月","1月","2月","3月","合計","最大","最小","備考"]
[null,null,null,null,null,null,null,null,"電気","tCO2/kWh",{"$f":"K54","v":4.8799999999999999E-4},null,null,"電気","t-CO2/月",{"$f":"P76*$K98","v":0},{"$f":"Q76*$K98","v":0},0,0,0,0,0,0,0,0,0,{"$f":"AA76*$K98","v":0},{"$f":"SUM(P98:AA98)","v":0},{"$f":"MAX(P98:AA98)","v":0},{"$f":"MIN(P98:AA98)","v":0}]
[null,null,null,null,null,null,null,null,"都市ガス（13A）","tCO2/km3",{"$f":"K55","v":2.23},null,null,"都市ガス（13A）","t-CO2/月",{"$f":"P77/1000*$K99","v":0},0,0,0,0,0,0,0,0,0,0,0,0,0,0]
[null,null,null,null,null,null,null,null,"灯油","tCO2/kL",{"$f":"K56","v":2.4900000000000002},null,null,"灯油","t-CO2/月",{"$f":"P78/1000*$K100","v":0},0,0,0,0,0,0,0,0,0,0,0,0,0,0]
[null,null,null,null,null,null,null,null,"重油","tCO2/kL",2.71,null,null,"重油","t-CO2/月",{"$f":"P79/1000*$K101","v":0},0,0,0,0,0,0,0,0,0,0,0,0,0,0]
[null,null,null,null,null,null,null,null,"液化石油ガス（LPG）","tCO2/t",3,null,null,"液化石油ガス（LPG）","t-CO2/月",{"$f":"P80/1000*$K102","v":0},0,0,0,0,0,0,0,0,0,0,0,0,0,0]
[null,null,null,null,null,null,null,null,"他人から供給された熱","tCO2/GJ",5.7000000000000002E-2,null,null,"他人から供給された熱","t-CO2/月",{"$f":"P81/1000*$K103","v":0},0,0,0,0,0,0,0,0,0,0,0,0,0,0]
[null,null,null,null,null,null,null,null,null,null,null,null,null,"CO2排出量合計","t-CO2/月",{"$f":"SUM(P98:P103)","v":0},{"$f":"SUM(Q98:Q103)","v":0},0,0,0,0,0,0,0,0,0,0,{"$f":"SUM(AB98:AB103)","v":0},{"$f":"SUM(AC98:AC103)","v":0},0]
[]
[null,null,null,null,null,null,null,null,"□一次エネルギー換算係数",null,null,null,null,"□一次エネルギー消費量"]
[null,null,null,null,null,null,null,null,"項目","単位","値","備考",null,"項目","単位","4月","5月","6月","7月","8月","9月","10月","11月","12月","1月","2月","3月","合計","最大","最小","備考"]
[null,null,null,null,null,null,null,null,"電気","MJ/kWh",{"$f":"K64","v":9.76},null,null,"電気","MJ/月",{"$f":"P76*$K108","v":0},0,0,0,0,0,0,0,0,0,0,0,{"$f":"SUM(P108:AA108)","v":0},{"$f":"MAX(P108:AA108)","v":0},{"$f":"MIN(P108:AA108)","v":0}]
[null,null,null,null,null,null,null,null,"都市ガス（13A）","MJ/m3",{"$f":"K65","v":45},null,null,"都市ガス（13A）","MJ/月",{"$f":"P77*$K109","v":0},0,0,0,0,0,0,0,0,0,0,0,0,0,0]
[null,null,null,null,null,null,null,null,"灯油","MJ/L",{"$f":"K66","v":37},null,null,"灯油","MJ/月",{"$f":"P78*$K110","v":0},0,0,0,0,0,0,0,0,0,0,0,0,0,0]
[null,null,null,null,null,null,null,null,"重油","MJ/L",41,null,null,"重油","MJ/月",{"$f":"P79*$K111","v":0},0,0,0,0,0,0,0,0,0,0,0,0,0,0]
[null,null,null,null,null,null,null,null,"液化石油ガス（LPG）","MJ/kg",50,null,null,"液化石油ガス（LPG）","MJ/月",{"$f":"P80*$K112","v":0},0,0,0,0,0,0,0,0,0,0,0,0,0,0]
[null,null,null,null,null,null,null,null,"他人から供給された熱","MJ/MJ",1.36,null,null,"他人から供給された熱","MJ/月",{"$f":"P81*$K113","v":0},0,0,0,0,0,0,0,0,0,0,0,0,0,0]
[null,null,null,null,null,null,null,null,null,null,null,null,null,"一次エネルギー消費量合計","MJ/月",{"$f":"SUM(P108:P113)","v":0},0,0,0,0,0,0,0,0,0,0,0,{"$f":"SUM(AB108:AB113)","v":0},0,0]
[]
[]
[null,null,null,null,null,null,null,null,"■補機類エネルギーコスト、CO2排出量、一次エネルギー消費量計算（エネルギー消費量を入力）"]
[null,null,null,null,null,null,null,null,null,null,null,null,null,"□エネルギー消費量"]
[null,null,null,null,null,null,null,null,null,"設定セル",null,null,null,"項目","単位","4月","5月","6月","7月","8月","9月","10月","11月","12月","1月","2月","3月","合計","最大","最小","備考"]
[null,null,null,null,null,null,null,null,null,"変更設定していいセル（計算式が入力されている）",null,null,null,"電気","kWh/月",{"$f":"P17","v":{"$error":"#N/A"}},{"$f":"Q17","v":{"$error":"#N/A"}},{"$error":"#N/A"},{"$error":"#N/A"},{"$error":"#N/A"},{"$error":"#N/A"},{"$error":"#N/A"},{"$error":"#N/A"},{"$error":"#N/A"},{"$error":"#N/A"},{"$error":"#N/A"},{"$error":"#N/A"},{"$f":"SUM(P120:AA120)","v":{"$error":"#N/A"}},{"$f":"MAX(P120:AA120)","v":{"$error":"#N/A"}},{"$f":"MIN(P120:AA120)","v":{"$error":"#N/A"}}]
[null,null,null,null,null,null,null,null,null,"あまり変更しなくていい設定セル",null,null,null,"都市ガス（13A）","m3/月",null,null,null,null,null,null,null,null,null,null,null,null,0,0,0]
[null,null,null,null,null,null,null,null,null,"デフォ値・係数",null,null,null,"灯油","L/月",null,null,null,null,null,null,null,null,null,null,null,null,0,0,0]
[null,null,null,null,null,null,null,null,null,"計算式・項目確認セル",null,null,null,"重油","L/月",null,null,null,null,null,null,null,null,null,null,null,null,0,0,0]
[null,null,null,null,null,null,null,null,null,null,null,null,null,"液化石油ガス（LPG）","kg/月",null,null,null,null,null,null,null,null,null,null,null,null,0,0,0]
[null,null,null,null,null,null,null,null,null,null,null,null,null,"他人から供給された熱","MJ/月",null,null,null,null,null,null,null,null,null,null,null,null,0,0,0]
[null,null,null,null,null,null,null,null,null,null,null,null,null,"バイオマス燃料","kg/月",null,null,null,null,null,null,null,null,null,null,null,null,{"$f":"SUM(P126:AA126)","v":0},0,0]
[]
[null,null,null,null,null,null,null,null,"□エネルギーコスト単価(フラットレート)",null,null,null,null,"□エネルギーコスト検討"]
[null,null,null,null,null,null,null,null,"項目","単位","値","備考",null,"項目","単位","4月","5月","6月","7月","8月","9月","10月","11月","12月","1月","2月","3月","合計","最大","最小","備考"]
[null,null,null,null,null,null,null,null,"電気","円/kWh",{"$f":"K86","v":14},null,null,"電気","千円/月",{"$f":"P120*$K130/1000","v":{"$error":"#N/A"}},{"$f":"Q120*$K130/1000","v":{"$error":"#N/A"}},{"$error":"#N/A"},{"$error":"#N/A"},{"$error":"#N/A"},{"$error":"#N/A"},{"$error":"#N/A"},{"$error":"#N/A"},{"$error":"#N/A"},{"$error":"#N/A"},{"$error":"#N/A"},{"$error":"#N/A"},{"$f":"SUM(P130:AA130)","v":{"$error":"#N/A"}},{"$f":"MAX(P130:AA130)","v":{"$error":"#N/A"}},{"$f":"MIN(P130:AA130)","v":{"$error":"#N/A"}}]
[null,null,null,null,null,null,null,null,"都市ガス（13A）","円/m3",{"$f":"K87","v":114.64285714285714},null,null,"都市ガス（13A）","千円/月",{"$f":"P121*$K131/1000","v":0},{"$f":"Q121*$K131/1000","v":0},0,0,0,0,0,0,0,0,0,0,0,0,0]
[null,null,null,null,null,null,null,null,"灯油","円/L",107.88888888888889,null,null,"灯油","千円/月",{"$f":"P122*$K132/1000","v":0},{"$f":"Q122*$K132/1000","v":0},0,0,0,0,0,0,0,0,0,0,0,0,0]
[null,null,null,null,null,null,null,null,"重油","円/L",76.099999999999994,null,null,"重油","千円/月",{"$f":"P123*$K133/1000","v":0},0,0,0,0,0,0,0,0,0,0,0,0,0,0]
[null,null,null,null,null,null,null,null,"液化石油ガス（LPG）","円/kg",159.40476190476193,null,null,"液化石油ガス（LPG）","千円/月",{"$f":"P124*$K134/1000","v":0},0,0,0,0,0,0,0,0,0,0,0,0,0,0]
[null,null,null,null,null,null,null,null,"他人から供給された熱","円/GJ",6611.9047619047615,null,null,"他人から供給された熱","千円/月",{"$f":"P125*$K135/1000","v":0},0,0,0,0,0,0,0,0,0,0,0,0,0,0]
[null,null,null,null,null,null,null,null,null,null,null,null,null,"バイオマス燃料","千円/月",{"$f":"P126*$D$18/1000","v":0},{"$f":"Q126*$D$18/1000","v":0},0,0,0,0,0,0,0,0,0,0,0,0,0]
[null,null,null,null,null,null,null,null,null,null,null,null,null,"バイオマス灰処理費用","千円/月",{"$f":"P106/1000*10","v":0},0,0,0,0,0,0,0,0,0,0,0,0,0,0,"灰処理単価：10千円/t（※1より）"]
[null,null,null,null,null,null,null,null,null,null,null,null,null,"エネルギーコスト合計","千円/月",{"$f":"SUM(P130:P137)","v":{"$error":"#N/A"}},{"$f":"SUM(Q130:Q137)","v":{"$error":"#N/A"}},{"$error":"#N/A"},{"$error":"#N/A"},{"$error":"#N/A"},{"$error":"#N/A"},{"$error":"#N/A"},{"$error":"#N/A"},{"$error":"#N/A"},{"$error":"#N/A"},{"$error":"#N/A"},{"$error":"#N/A"},{"$f":"SUM(AB130:AB137)","v":{"$error":"#N/A"}},{"$f":"SUM(AC130:AC135)","v":{"$error":"#N/A"}},{"$error":"#N/A"}]
[]
[null,null,null,null,null,null,null,null,"□CO2換算係数",null,null,null,null,"□CO2排出量"]
[null,null,null,null,null,null,null,null,"項目","単位","値","備考",null,"項目","単位","4月","5月","6月","7月","8月","9月","10月","11月","12月","1月","2月","3月","合計","最大","最小","備考"]
[null,null,null,null,null,null,null,null,"電気","tCO2/kWh",{"$f":"K98","v":4.8799999999999999E-4},null,null,"電気","t-CO2/月",{"$f":"P120*$K142","v":{"$error":"#N/A"}},{"$f":"Q120*$K142","v":{"$error":"#N/A"}},{"$error":"#N/A"},{"$error":"#N/A"},{"$error":"#N/A"},{"$error":"#N/A"},{"$error":"#N/A"},{"$error":"#N/A"},{"$error":"#N/A"},{"$error":"#N/A"},{"$error":"#N/A"},{"$f":"AA120*$K142","v":{"$error":"#N/A"}},{"$f":"SUM(P142:AA142)","v":{"$error":"#N/A"}},{"$f":"MAX(P142:AA142)","v":{"$error":"#N/A"}},{"$f":"MIN(P142:AA142)","v":{"$error":"#N/A"}}]
[null,null,null,null,null,null,null,null,"都市ガス（13A）","tCO2/km3",{"$f":"K99","v":2.23},null,null,"都市ガス（13A）","t-CO2/月",{"$f":"P121/1000*$K143","v":0},{"$f":"Q121/1000*$K143","v":0},0,0,0,0,0,0,0,0,0,0,0,0,0]
[null,null,null,null,null,null,null,null,"灯油","tCO2/kL",{"$f":"K100","v":2.4900000000000002},null,null,"灯油","t-CO2/月",{"$f":"P122/1000*$K144","v":0},0,0,0,0,0,0,0,0,0,0,0,0,0,0]
[null,null,null,null,null,null,null,null,"重油","tCO2/kL",2.71,null,null,"重油","t-CO2/月",{"$f":"P123/1000*$K145","v":0},0,0,0,0,0,0,0,0,0,0,0,0,0,0]
[null,null,null,null,null,null,null,null,"液化石油ガス（LPG）","tCO2/t",3,null,null,"液化石油ガス（LPG）","t-CO2/月",{"$f":"P124/1000*$K146","v":0},0,0,0,0,0,0,0,0,0,0,0,0,0,0]
[null,null,null,null,null,null,null,null,"他人から供給された熱","tCO2/GJ",5.7000000000000002E-2,null,null,"他人から供給された熱","t-CO2/月",{"$f":"P125/1000*$K147","v":0},0,0,0,0,0,0,0,0,0,0,0,0,0,0]
[null,null,null,null,null,null,null,null,null,null,null,null,null,"CO2排出量合計","t-CO2/月",{"$f":"SUM(P142:P147)","v":{"$error":"#N/A"}},{"$f":"SUM(Q142:Q147)","v":{"$error":"#N/A"}},{"$error":"#N/A"},{"$error":"#N/A"},{"$error":"#N/A"},{"$error":"#N/A"},{"$error":"#N/A"},{"$error":"#N/A"},{"$error":"#N/A"},{"$error":"#N/A"},{"$error":"#N/A"},{"$error":"#N/A"},{"$f":"SUM(AB142:AB147)","v":{"$error":"#N/A"}},{"$f":"SUM(AC142:AC147)","v":{"$error":"#N/A"}},{"$error":"#N/A"}]
[]
[null,null,null,null,null,null,null,null,"□一次エネルギー換算係数",null,null,null,null,"□一次エネルギー消費量"]
[null,null,null,null,null,null,null,null,"項目","単位","値","備考",null,"項目","単位","4月","5月","6月","7月","8月","9月","10月","11月","12月","1月","2月","3月","合計","最大","最小","備考"]
[null,null,null,null,null,null,null,null,"電気","MJ/kWh",{"$f":"K108","v":9.76},null,null,"電気","MJ/月",{"$f":"P120*$K152","v":{"$error":"#N/A"}},{"$error":"#N/A"},{"$error":"#N/A"},{"$error":"#N/A"},{"$error":"#N/A"},{"$error":"#N/A"},{"$error":"#N/A"},{"$error":"#N/A"},{"$error":"#N/A"},{"$error":"#N/A"},{"$error":"#N/A"},{"$error":"#N/A"},{"$f":"SUM(P152:AA152)","v":{"$error":"#N/A"}},{"$f":"MAX(P152:AA152)","v":{"$error":"#N/A"}},{"$f":"MIN(P152:AA152)","v":{"$error":"#N/A"}}]
[null,null,null,null,null,null,null,null,"都市ガス（13A）","MJ/m3",{"$f":"K109","v":45},null,null,"都市ガス（13A）","MJ/月",{"$f":"P121*$K153","v":0},0,0,0,0,0,0,0,0,0,0,0,0,0,0]
[null,null,null,null,null,null,null,null,"灯油","MJ/L",{"$f":"K110","v":37},null,null,"灯油","MJ/月",{"$f":"P122*$K154","v":0},0,0,0,0,0,0,0,0,0,0,0,0,0,0]
[null,null,null,null,null,null,null,null,"重油","MJ/L",41,null,null,"重油","MJ/月",{"$f":"P123*$K155","v":0},0,0,0,0,0,0,0,0,0,0,0,0,0,0]
[null,null,null,null,null,null,null,null,"液化石油ガス（LPG）","MJ/kg",50,null,null,"液化石油ガス（LPG）","MJ/月",{"$f":"P124*$K156","v":0},0,0,0,0,0,0,0,0,0,0,0,0,0,0]
[null,null,null,null,null,null,null,null,"他人から供給された熱","MJ/MJ",1.36,null,null,"他人から供給された熱","MJ/月",{"$f":"P125*$K157","v":0},0,0,0,0,0,0,0,0,0,0,0,0,0,0]
[null,null,null,null,null,null,null,null,null,null,null,null,null,"一次エネルギー消費量合計","MJ/月",{"$f":"SUM(P152:P157)","v":{"$error":"#N/A"}},{"$error":"#N/A"},{"$error":"#N/A"},{"$error":"#N/A"},{"$error":"#N/A"},{"$error":"#N/A"},{"$error":"#N/A"},{"$error":"#N/A"},{"$error":"#N/A"},{"$error":"#N/A"},{"$error":"#N/A"},{"$error":"#N/A"},{"$f":"SUM(AB152:AB157)","v":{"$error":"#N/A"}},{"$error":"#N/A"},{"$error":"#N/A"}]

{"sheet":"バイオマス熱_給湯_熱源容量","index":65,"n_rows":37,"n_cols":18,"rows_kept":37,"cut":false,"hidden":true,"merged":[]}
["■時刻別負荷"]
["■時刻負荷パタン設定",null,null,null,null,null,null,null,"■時刻別負荷",null,null,null,null,null,"■最大負荷　既存設備　熱源容量設定"]
["項目","値","単位","備考",null,null,null,null,null,{"$f":"VLOOKUP(B4&K3,E17:F32,2,FALSE)","v":{"$error":"#N/A"}},"給湯",null,null,null,"項目","値","単位","備考"]
["建物用途",{"$f":"入力シート!C9","v":0},"-",null,null,null,null,null,"時刻","-","kW",null,null,null,"最大負荷",{"$f":"MAX(K5:K28)","v":{"$error":"#N/A"}},"kW","熱源容量"]
["一日の熱需要量",{"$f":"MAX(バイオマス熱_給湯_熱源容量!B13:D13)","v":{"$error":"#N/A"}},"kWh/日",null,null,null,null,null,1,{"$f":"VLOOKUP(I5,熱需要量算定・原単位!$AJ$9:$BL$32,MATCH($J$3,熱需要量算定・原単位!$AK$5:$BL$5,0)+1,FALSE)","v":{"$error":"#N/A"}},{"$f":"$B$13*J5/100","v":{"$error":"#N/A"}}]
[null,null,null,null,null,null,null,null,2,{"$f":"VLOOKUP(I6,熱需要量算定・原単位!$AJ$9:$BL$32,MATCH($J$3,熱需要量算定・原単位!$AK$5:$BL$5,0)+1,FALSE)","v":{"$error":"#N/A"}},{"$f":"$B$13*J6/100","v":{"$error":"#N/A"}}]
[null,null,null,null,null,null,null,null,3,{"$f":"VLOOKUP(I7,熱需要量算定・原単位!$AJ$9:$BL$32,MATCH($J$3,熱需要量算定・原単位!$AK$5:$BL$5,0)+1,FALSE)","v":{"$error":"#N/A"}},{"$error":"#N/A"}]
[null,null,null,null,null,null,null,null,4,{"$f":"VLOOKUP(I8,熱需要量算定・原単位!$AJ$9:$BL$32,MATCH($J$3,熱需要量算定・原単位!$AK$5:$BL$5,0)+1,FALSE)","v":{"$error":"#N/A"}},{"$error":"#N/A"}]
[null,null,null,null,null,null,null,null,5,{"$f":"VLOOKUP(I9,熱需要量算定・原単位!$AJ$9:$BL$32,MATCH($J$3,熱需要量算定・原単位!$AK$5:$BL$5,0)+1,FALSE)","v":{"$error":"#N/A"}},{"$error":"#N/A"}]
[null,null,null,null,null,null,null,null,6,{"$f":"VLOOKUP(I10,熱需要量算定・原単位!$AJ$9:$BL$32,MATCH($J$3,熱需要量算定・原単位!$AK$5:$BL$5,0)+1,FALSE)","v":{"$error":"#N/A"}},{"$error":"#N/A"}]
[null,null,null,null,null,null,null,null,7,{"$f":"VLOOKUP(I11,熱需要量算定・原単位!$AJ$9:$BL$32,MATCH($J$3,熱需要量算定・原単位!$AK$5:$BL$5,0)+1,FALSE)","v":{"$error":"#N/A"}},{"$error":"#N/A"}]
["■時刻別負荷パタン熱利用用途の決定用",null,null,null,null,null,null,null,8,{"$f":"VLOOKUP(I12,熱需要量算定・原単位!$AJ$9:$BL$32,MATCH($J$3,熱需要量算定・原単位!$AK$5:$BL$5,0)+1,FALSE)","v":{"$error":"#N/A"}},{"$error":"#N/A"}]
["日あたりの熱需要量",{"$f":"SUMPRODUCT(MAX((バイオマス熱_給湯_RC!$P$5:$AA$5=B14)*(バイオマス熱_給湯_RC!$P$11:$AA$11)))","v":{"$error":"#N/A"}},{"$f":"SUMPRODUCT(MAX((バイオマス熱_給湯_RC!$P$5:$AA$5=C14)*(バイオマス熱_給湯_RC!$P$11:$AA$11)))","v":{"$error":"#N/A"}},{"$f":"SUMPRODUCT(MAX((バイオマス熱_給湯_RC!$P$5:$AA$5=D14)*(バイオマス熱_給湯_RC!$P$11:$AA$11)))","v":{"$error":"#N/A"}},null,null,null,null,9,{"$f":"VLOOKUP(I13,熱需要量算定・原単位!$AJ$9:$BL$32,MATCH($J$3,熱需要量算定・原単位!$AK$5:$BL$5,0)+1,FALSE)","v":{"$error":"#N/A"}},{"$error":"#N/A"}]
["熱利用用途","給湯","冷房","暖房",null,null,null,null,10,{"$f":"VLOOKUP(I14,熱需要量算定・原単位!$AJ$9:$BL$32,MATCH($J$3,熱需要量算定・原単位!$AK$5:$BL$5,0)+1,FALSE)","v":{"$error":"#N/A"}},{"$error":"#N/A"}]
[null,null,null,null,null,null,null,null,11,{"$f":"VLOOKUP(I15,熱需要量算定・原単位!$AJ$9:$BL$32,MATCH($J$3,熱需要量算定・原単位!$AK$5:$BL$5,0)+1,FALSE)","v":{"$error":"#N/A"}},{"$error":"#N/A"}]
["■時刻別負荷変動比率　検索key設定",null,null,null,null,null,null,null,12,{"$f":"VLOOKUP(I16,熱需要量算定・原単位!$AJ$9:$BL$32,MATCH($J$3,熱需要量算定・原単位!$AK$5:$BL$5,0)+1,FALSE)","v":{"$error":"#N/A"}},{"$error":"#N/A"}]
["No","建物用途","熱利用用途","季節","VLOOKUP","検索key","運転時間",null,13,{"$f":"VLOOKUP(I17,熱需要量算定・原単位!$AJ$9:$BL$32,MATCH($J$3,熱需要量算定・原単位!$AK$5:$BL$5,0)+1,FALSE)","v":{"$error":"#N/A"}},{"$error":"#N/A"}]
[1,"集合住宅","給湯","冬期",{"$f":"B18&C18","v":"集合住宅給湯"},{"$f":"B18&C18&D18","v":"集合住宅給湯冬期"},{"$f":"HLOOKUP(F18,熱需要量算定・原単位!$AJ$5:$BL$34,30,FALSE)","v":22},null,14,{"$f":"VLOOKUP(I18,熱需要量算定・原単位!$AJ$9:$BL$32,MATCH($J$3,熱需要量算定・原単位!$AK$5:$BL$5,0)+1,FALSE)","v":{"$error":"#N/A"}},{"$error":"#N/A"}]
[2,"集合住宅","冷房","夏期",{"$f":"B19&C19","v":"集合住宅冷房"},{"$f":"B19&C19&D19","v":"集合住宅冷房夏期"},{"$f":"HLOOKUP(F19,熱需要量算定・原単位!$AJ$5:$BL$34,30,FALSE)","v":24},null,15,{"$f":"VLOOKUP(I19,熱需要量算定・原単位!$AJ$9:$BL$32,MATCH($J$3,熱需要量算定・原単位!$AK$5:$BL$5,0)+1,FALSE)","v":{"$error":"#N/A"}},{"$error":"#N/A"}]
[3,"集合住宅","暖房","冬期","集合住宅暖房","集合住宅暖房冬期",{"$f":"HLOOKUP(F20,熱需要量算定・原単位!$AJ$5:$BL$34,30,FALSE)","v":24},null,16,{"$f":"VLOOKUP(I20,熱需要量算定・原単位!$AJ$9:$BL$32,MATCH($J$3,熱需要量算定・原単位!$AK$5:$BL$5,0)+1,FALSE)","v":{"$error":"#N/A"}},{"$error":"#N/A"}]
[4,"業務施設","給湯","冬期","業務施設給湯","業務施設給湯冬期",{"$f":"HLOOKUP(F21,熱需要量算定・原単位!$AJ$5:$BL$34,30,FALSE)","v":14},null,17,{"$f":"VLOOKUP(I21,熱需要量算定・原単位!$AJ$9:$BL$32,MATCH($J$3,熱需要量算定・原単位!$AK$5:$BL$5,0)+1,FALSE)","v":{"$error":"#N/A"}},{"$error":"#N/A"}]
[5,"業務施設","冷房","夏期","業務施設冷房","業務施設冷房夏期",{"$f":"HLOOKUP(F22,熱需要量算定・原単位!$AJ$5:$BL$34,30,FALSE)","v":14},null,18,{"$f":"VLOOKUP(I22,熱需要量算定・原単位!$AJ$9:$BL$32,MATCH($J$3,熱需要量算定・原単位!$AK$5:$BL$5,0)+1,FALSE)","v":{"$error":"#N/A"}},{"$error":"#N/A"}]
[6,"業務施設","暖房","冬期","業務施設暖房","業務施設暖房冬期",{"$f":"HLOOKUP(F23,熱需要量算定・原単位!$AJ$5:$BL$34,30,FALSE)","v":11},null,19,{"$f":"VLOOKUP(I23,熱需要量算定・原単位!$AJ$9:$BL$32,MATCH($J$3,熱需要量算定・原単位!$AK$5:$BL$5,0)+1,FALSE)","v":{"$error":"#N/A"}},{"$error":"#N/A"}]
[7,"商業施設","給湯","-","商業施設給湯","商業施設給湯-",{"$f":"HLOOKUP(F24,熱需要量算定・原単位!$AJ$5:$BL$34,30,FALSE)","v":12},null,20,{"$f":"VLOOKUP(I24,熱需要量算定・原単位!$AJ$9:$BL$32,MATCH($J$3,熱需要量算定・原単位!$AK$5:$BL$5,0)+1,FALSE)","v":{"$error":"#N/A"}},{"$error":"#N/A"}]
[8,"商業施設","冷房","-","商業施設冷房","商業施設冷房-",{"$f":"HLOOKUP(F25,熱需要量算定・原単位!$AJ$5:$BL$34,30,FALSE)","v":11},null,21,{"$f":"VLOOKUP(I25,熱需要量算定・原単位!$AJ$9:$BL$32,MATCH($J$3,熱需要量算定・原単位!$AK$5:$BL$5,0)+1,FALSE)","v":{"$error":"#N/A"}},{"$error":"#N/A"}]
[9,"商業施設","暖房","-","商業施設暖房","商業施設暖房-",{"$f":"HLOOKUP(F26,熱需要量算定・原単位!$AJ$5:$BL$34,30,FALSE)","v":11},null,22,{"$f":"VLOOKUP(I26,熱需要量算定・原単位!$AJ$9:$BL$32,MATCH($J$3,熱需要量算定・原単位!$AK$5:$BL$5,0)+1,FALSE)","v":{"$error":"#N/A"}},{"$error":"#N/A"}]
[10,"宿泊施設","給湯","-","宿泊施設給湯","宿泊施設給湯-",{"$f":"HLOOKUP(F27,熱需要量算定・原単位!$AJ$5:$BL$34,30,FALSE)","v":24},null,23,{"$f":"VLOOKUP(I27,熱需要量算定・原単位!$AJ$9:$BL$32,MATCH($J$3,熱需要量算定・原単位!$AK$5:$BL$5,0)+1,FALSE)","v":{"$error":"#N/A"}},{"$error":"#N/A"}]
[11,"宿泊施設","冷房","夏期","宿泊施設冷房","宿泊施設冷房夏期",{"$f":"HLOOKUP(F28,熱需要量算定・原単位!$AJ$5:$BL$34,30,FALSE)","v":24},null,24,{"$f":"VLOOKUP(I28,熱需要量算定・原単位!$AJ$9:$BL$32,MATCH($J$3,熱需要量算定・原単位!$AK$5:$BL$5,0)+1,FALSE)","v":{"$error":"#N/A"}},{"$error":"#N/A"}]
[12,"宿泊施設","暖房","冬期","宿泊施設暖房","宿泊施設暖房冬期",{"$f":"HLOOKUP(F29,熱需要量算定・原単位!$AJ$5:$BL$34,30,FALSE)","v":23},null,"合計",null,{"$f":"SUM(K5:K28)","v":{"$error":"#N/A"}}]
[13,"医療施設","給湯","冬期","医療施設給湯","医療施設給湯冬期",{"$f":"HLOOKUP(F30,熱需要量算定・原単位!$AJ$5:$BL$34,30,FALSE)","v":24}]
[14,"医療施設","冷房","夏期","医療施設冷房","医療施設冷房夏期",{"$f":"HLOOKUP(F31,熱需要量算定・原単位!$AJ$5:$BL$34,30,FALSE)","v":24}]
[15,"医療施設","暖房","冬期","医療施設暖房","医療施設暖房冬期",{"$f":"HLOOKUP(F32,熱需要量算定・原単位!$AJ$5:$BL$34,30,FALSE)","v":24}]
[]
[]
["■運転時間の設定（熱負荷に合わせた運転の場合）"]
["熱利用用途","給湯","冷房","暖房"]
["運転時間",{"$f":"VLOOKUP($B$4&B36,$E$17:$G$32,3,FALSE)","v":{"$error":"#N/A"}},{"$f":"VLOOKUP($B$4&C36,$E$17:$G$32,3,FALSE)","v":{"$error":"#N/A"}},{"$f":"VLOOKUP($B$4&D36,$E$17:$G$32,3,FALSE)","v":{"$error":"#N/A"}}]

{"sheet":"バイオマス熱_給湯_IC","index":66,"n_rows":30,"n_cols":16,"rows_kept":30,"cut":false,"hidden":true,"merged":[[27,1,27,2],[28,1,28,2],[29,1,29,2],[4,1,16,1],[17,1,19,1],[20,1,23,1],[24,1,24,2],[25,1,25,2],[26,1,26,2]]}
[null,"■イニシャルコスト算出"]
[]
[null,"バイオマス熱システム_給湯"]
[null,null,"名称","摘要","単価[千円]","数量","単位","金額[千円]","備考","memo",null,null,null,null,"価格関数代入値","単位"]
[null,"機械工事","バイオマスボイラ",null,{"$f":"IF(O5=0,0,価格関数!E14*O5+価格関数!F14)","v":{"$error":"#N/A"}},1,"台",{"$f":"F5*E5","v":{"$error":"#N/A"}},null,"価格関数",null,null,null,"熱源容量",{"$f":"バイオマス熱_給湯_熱源容量!P4","v":{"$error":"#N/A"}},"kW"]
[null,null,"冷温水ポンプ",null,{"$f":"IF(O6=0,0,価格関数!$E$21*O6+価格関数!$F$21)","v":{"$error":"#N/A"}},1,"台",{"$f":"F6*E6","v":{"$error":"#N/A"}},null,"価格関数",null,null,null,"ポンプ出力",{"$f":"バイオマス熱_給湯_RC!K11","v":{"$error":"#N/A"}},"kW"]
[]
[]
[]
[]
[]
[]
[]
[null,null,"自動制御",null,null,1,"式",{"$f":"INT(SUM(H5:H13)*I14)","v":{"$error":"#N/A"}},0.2,"概算　事例等より設定"]
[null,null,"その他配管","概算（付属品込）",null,1,"式",{"$f":"INT(SUM(H5:H14)*I15)","v":{"$error":"#N/A"}},0.1,"配管費=機器類×5~10%と設定"]
[]
[null,null,"小計",null,null,null,null,{"$f":"SUM(H5:H16)","v":{"$error":"#N/A"}}]
[null,"電気工事","概算","概算",null,null,null,{"$f":"INT(H17*I18)","v":{"$error":"#N/A"}},0.3]
[]
[null,null,"小計",null,null,null,null,{"$f":"SUM(H18:H19)","v":{"$error":"#N/A"}}]
[null,"土工事"]
[]
[]
[null,null,"小計",null,null,null,null,{"$f":"SUM(H21:H23)","v":0}]
[null,"直接工事費",null,null,null,null,null,{"$f":"H24+H20+H17","v":{"$error":"#N/A"}}]
[null,"間接工事費",null,null,null,1,"式",{"$f":"INT(H25*0.3)","v":{"$error":"#N/A"}},"直接工事費×30%"]
[null,"工事原価",null,null,null,1,"式",{"$f":"H25+H26","v":{"$error":"#N/A"}}]
[null,"消費税",null,null,null,1,"式"]
[]
[null,"合計",null,null,null,null,null,{"$f":"H27+H28","v":{"$error":"#N/A"}}]

{"sheet":"バイオマス熱_空調_RC","index":67,"n_rows":158,"n_cols":31,"rows_kept":158,"cut":false,"hidden":true,"merged":[]}
[null,"■入力情報",null,null,null,null,null,null,"■空調　バイオマス熱システムのエネルギー計算"]
[]
[null,"■対象施設情報",null,null,null,null,null,null,"■空調　バイオマス熱システム検討",null,null,null,null,"■空調　バイオマス熱システム　エネルギー計算・エネルギーコスト検討"]
[null,"項目","単位","値","備考",null,null,null,"項目","単位","値","備考",null,"項目","単位","4月","5月","6月","7月","8月","9月","10月","11月","12月","1月","2月","3月","合計","最大","最小","備考"]
[null,"地域選択","-",{"$f":"入力シート!C7","v":0},"都道府県を選択してください。",null,null,null,"暖房効率","-",0.9,null,null,"熱利用用途",null,{"$f":"マッチング!E10","v":""},{"$f":"マッチング!F10","v":""},{"$f":"マッチング!G10","v":""},{"$f":"マッチング!H10","v":""},{"$f":"マッチング!I10","v":""},{"$f":"マッチング!J10","v":""},{"$f":"マッチング!K10","v":""},{"$f":"マッチング!L10","v":""},{"$f":"マッチング!M10","v":""},{"$f":"マッチング!N10","v":""},{"$f":"マッチング!O10","v":""},{"$f":"マッチング!P10","v":""}]
[null,"熱利用用途","-",{"$f":"入力シート!C8","v":0},"給湯、空調、融雪から選択してください。",null,null,null,"冷房効率","-",1.2,null,null,"熱需要量","MJ/月",{"$f":"マッチング!E115","v":{"$error":"#N/A"}},{"$f":"マッチング!F115","v":{"$error":"#N/A"}},{"$f":"マッチング!G115","v":{"$error":"#N/A"}},{"$f":"マッチング!H115","v":{"$error":"#N/A"}},{"$f":"マッチング!I115","v":{"$error":"#N/A"}},{"$f":"マッチング!J115","v":{"$error":"#N/A"}},{"$f":"マッチング!K115","v":{"$error":"#N/A"}},{"$f":"マッチング!L115","v":{"$error":"#N/A"}},{"$f":"マッチング!M115","v":{"$error":"#N/A"}},{"$f":"マッチング!N115","v":{"$error":"#N/A"}},{"$f":"マッチング!O115","v":{"$error":"#N/A"}},{"$f":"マッチング!P115","v":{"$error":"#N/A"}},{"$f":"SUM(P6:AA6)","v":{"$error":"#N/A"}},{"$f":"MAX(P6:AA6)","v":{"$error":"#N/A"}},{"$f":"MIN(P6:AA6)","v":{"$error":"#N/A"}}]
[null,"建物用途","-",{"$f":"入力シート!C9","v":0},"給湯、空調利用の場合は建物用途を選択してください。",null,null,null,"熱源容量(最大負荷月)","kW",{"$f":"バイオマス熱_空調_熱源容量!P6","v":{"$error":"#N/A"}},"熱源容量シートより",null,null,"kWh/月",{"$f":"P6*1000/3600","v":{"$error":"#N/A"}},{"$f":"Q6*1000/3600","v":{"$error":"#N/A"}},{"$error":"#N/A"},{"$error":"#N/A"},{"$error":"#N/A"},{"$error":"#N/A"},{"$error":"#N/A"},{"$error":"#N/A"},{"$error":"#N/A"},{"$error":"#N/A"},{"$error":"#N/A"},{"$error":"#N/A"},{"$f":"SUM(P7:AA7)","v":{"$error":"#N/A"}},{"$f":"MAX(P7:AA7)","v":{"$error":"#N/A"}},{"$f":"MIN(P7:AA7)","v":{"$error":"#N/A"}}]
[null,"延床面積","m2",{"$f":"入力シート!C10","v":0},"給湯、空調利用の場合は数値を入力してください。",null,null,null,"温度差","℃",5,"想定設定値",null,"日数","日",{"$f":"熱需要量算定・原単位!D24","v":30},{"$f":"熱需要量算定・原単位!E24","v":31},{"$f":"熱需要量算定・原単位!F24","v":30},{"$f":"熱需要量算定・原単位!G24","v":31},{"$f":"熱需要量算定・原単位!H24","v":31},{"$f":"熱需要量算定・原単位!I24","v":30},{"$f":"熱需要量算定・原単位!J24","v":31},{"$f":"熱需要量算定・原単位!K24","v":30},{"$f":"熱需要量算定・原単位!L24","v":31},{"$f":"熱需要量算定・原単位!M24","v":31},{"$f":"熱需要量算定・原単位!N24","v":28},{"$f":"熱需要量算定・原単位!O24","v":31},{"$f":"SUM(P8:AA8)","v":365}]
[null,"対象面積","m2",{"$f":"入力シート!C11","v":0},"融雪利用の場合は数値を入力して下さい。",null,null,null,"冷温水流量","L/min",{"$f":"K7/K8/$D$24/$D$25*1000*60","v":{"$error":"#N/A"}},null,null,"運転時間","h/日",{"$f":"HLOOKUP(P5,バイオマス熱_空調_熱源容量!$B$36:$D$37,2,FALSE)","v":{"$error":"#N/A"}},{"$f":"HLOOKUP(Q5,バイオマス熱_空調_熱源容量!$B$36:$D$37,2,FALSE)","v":{"$error":"#N/A"}},{"$f":"HLOOKUP(R5,バイオマス熱_空調_熱源容量!$B$36:$D$37,2,FALSE)","v":{"$error":"#N/A"}},{"$f":"HLOOKUP(S5,バイオマス熱_空調_熱源容量!$B$36:$D$37,2,FALSE)","v":{"$error":"#N/A"}},{"$f":"HLOOKUP(T5,バイオマス熱_空調_熱源容量!$B$36:$D$37,2,FALSE)","v":{"$error":"#N/A"}},{"$f":"HLOOKUP(U5,バイオマス熱_空調_熱源容量!$B$36:$D$37,2,FALSE)","v":{"$error":"#N/A"}},{"$f":"HLOOKUP(V5,バイオマス熱_空調_熱源容量!$B$36:$D$37,2,FALSE)","v":{"$error":"#N/A"}},{"$f":"HLOOKUP(W5,バイオマス熱_空調_熱源容量!$B$36:$D$37,2,FALSE)","v":{"$error":"#N/A"}},{"$f":"HLOOKUP(X5,バイオマス熱_空調_熱源容量!$B$36:$D$37,2,FALSE)","v":{"$error":"#N/A"}},{"$f":"HLOOKUP(Y5,バイオマス熱_空調_熱源容量!$B$36:$D$37,2,FALSE)","v":{"$error":"#N/A"}},{"$f":"HLOOKUP(Z5,バイオマス熱_空調_熱源容量!$B$36:$D$37,2,FALSE)","v":{"$error":"#N/A"}},{"$f":"HLOOKUP(AA5,バイオマス熱_空調_熱源容量!$B$36:$D$37,2,FALSE)","v":{"$error":"#N/A"}}]
[null,"燃料種別の選択","-","-",null,null,null,null,"冷温水揚程（想定）","m",15,"想定設定値",null,"日あたりの熱需要量","MJ/日",{"$f":"P6/P8","v":{"$error":"#N/A"}},{"$f":"Q6/Q8","v":{"$error":"#N/A"}},{"$error":"#N/A"},{"$error":"#N/A"},{"$error":"#N/A"},{"$error":"#N/A"},{"$error":"#N/A"},{"$error":"#N/A"},{"$error":"#N/A"},{"$error":"#N/A"},{"$error":"#N/A"},{"$error":"#N/A"},{"$f":"SUM(P10:AA10)","v":{"$error":"#N/A"}},{"$f":"MAX(P10:AA10)","v":{"$error":"#N/A"}},{"$f":"MIN(P10:AA10)","v":{"$error":"#N/A"}}]
[null,"選択燃料の発熱量",null,null,null,null,null,null,"冷温水ポンプ効率","%",{"$f":"IF(K9<80,ポンプ効率近似式!$D$14,-1.403*LN(K9/1000)^2+6.9719*LN(K9/1000)+53.781)","v":{"$error":"#N/A"}},"ポンプ効率近似式より",null,null,"kWh/日",{"$f":"P10*1000/3600","v":{"$error":"#N/A"}},{"$error":"#N/A"},{"$error":"#N/A"},{"$error":"#N/A"},{"$error":"#N/A"},{"$error":"#N/A"},{"$error":"#N/A"},{"$error":"#N/A"},{"$error":"#N/A"},{"$error":"#N/A"},{"$error":"#N/A"},{"$error":"#N/A"},{"$f":"SUM(P11:AA11)","v":{"$error":"#N/A"}},{"$f":"MAX(P11:AA11)","v":{"$error":"#N/A"}},{"$f":"MIN(P11:AA11)","v":{"$error":"#N/A"}}]
[null,null,null,null,null,null,null,null,"冷温水ポンプ消費電力","kW",{"$f":"$D$25*$D$27*K9/1000/60*K10/10/K11","v":{"$error":"#N/A"}},"ポンプ関数より",null,"熱源機効率","-",{"$f":"IF(P5=\"暖房\",$K$5,$K$6)","v":1.2},{"$f":"IF(Q5=\"暖房\",$K$5,$K$6)","v":1.2},1.2,1.2,1.2,1.2,1.2,1.2,1.2,1.2,1.2,1.2]
[null,"■バイオマス設定内容",null,null,null,null,null,null,null,null,null,null,null,"熱源機　バイオマス燃料　必要発熱量","MJ/月",{"$f":"P6/P12","v":{"$error":"#N/A"}},{"$f":"Q6/Q12","v":{"$error":"#N/A"}},{"$error":"#N/A"},{"$error":"#N/A"},{"$error":"#N/A"},{"$error":"#N/A"},{"$error":"#N/A"},{"$error":"#N/A"},{"$error":"#N/A"},{"$error":"#N/A"},{"$error":"#N/A"},{"$error":"#N/A"},{"$f":"SUM(P13:AA13)","v":{"$error":"#N/A"}},{"$f":"MAX(P13:AA13)","v":{"$error":"#N/A"}},{"$f":"MIN(P13:AA13)","v":{"$error":"#N/A"}}]
[null,"項目","単位","値","備考",null,null,null,"熱源容量(冷房最大負荷)","kW",{"$f":"MAX(バイオマス熱_空調_熱源容量!K5:K28)","v":{"$error":"#N/A"}},"熱源容量シートより",null,null,"kWh/月",{"$f":"P7/P12","v":{"$error":"#N/A"}},{"$error":"#N/A"},{"$error":"#N/A"},{"$error":"#N/A"},{"$error":"#N/A"},{"$error":"#N/A"},{"$error":"#N/A"},{"$error":"#N/A"},{"$error":"#N/A"},{"$error":"#N/A"},{"$error":"#N/A"},{"$error":"#N/A"},{"$f":"SUM(P14:AA14)","v":{"$error":"#N/A"}},{"$f":"MAX(P14:AA14)","v":{"$error":"#N/A"}},{"$f":"MIN(P14:AA14)","v":{"$error":"#N/A"}}]
[null,"バイオマス燃料種別","-",{"$f":"入力シート!C88","v":"木質チップ"},null,null,null,null,"冷却水流量","L/min",{"$f":"K14/K8/$D$24/$D$25*1000*60","v":{"$error":"#N/A"}},null,null,"熱源機　バイオマス燃料　消費量","kg/月",{"$f":"P13/$D$17","v":{"$error":"#N/A"}},{"$f":"Q13/$D$17","v":{"$error":"#N/A"}},{"$error":"#N/A"},{"$error":"#N/A"},{"$error":"#N/A"},{"$error":"#N/A"},{"$error":"#N/A"},{"$error":"#N/A"},{"$error":"#N/A"},{"$error":"#N/A"},{"$error":"#N/A"},{"$error":"#N/A"},{"$f":"SUM(P15:AA15)","v":{"$error":"#N/A"}},{"$f":"MAX(P15:AA15)","v":{"$error":"#N/A"}},{"$f":"MIN(P15:AA15)","v":{"$error":"#N/A"}}]
[null,"燃料発熱量・価格の入力","-",{"$f":"入力シート!C87","v":"無し"},null,null,null,null,"冷却水揚程（想定）","m",15,"想定設定値",null,"冷温水ポンプ消費電力量","kWh/月",{"$f":"IF(P6=0,0,$K$12*P9*P8)","v":{"$error":"#N/A"}},{"$f":"IF(Q6=0,0,$K$12*Q9*Q8)","v":{"$error":"#N/A"}},{"$error":"#N/A"},{"$error":"#N/A"},{"$error":"#N/A"},{"$error":"#N/A"},{"$error":"#N/A"},{"$error":"#N/A"},{"$error":"#N/A"},{"$error":"#N/A"},{"$error":"#N/A"},{"$error":"#N/A"},{"$f":"SUM(P16:AA16)","v":{"$error":"#N/A"}}]
[null,"バイオマス燃料発熱量","MJ/kg",{"$f":"IF(D16=\"有り\",入力シート!C89,VLOOKUP(D15,バイオマス燃料情報!B4:H11,2,FALSE))","v":10.33942},null,null,null,null,"冷却水ポンプ効率","%",{"$f":"IF(K15<80,ポンプ効率近似式!$D$14,-1.403*LN(K15/1000)^2+6.9719*LN(K15/1000)+53.781)","v":{"$error":"#N/A"}},"ポンプ効率近似式より",null,"冷却水ポンプ消費電力量","kWh/月",{"$f":"IF(P5=\"冷房\",IF(P6=0,0,$K$18*P9*P8),0)","v":0},{"$f":"IF(Q5=\"冷房\",IF(Q6=0,0,$K$18*Q9*Q8),0)","v":0},0,0,0,0,0,0,0,0,0,0,{"$f":"SUM(P17:AA17)","v":0}]
[null,"バイオマス燃料燃料価格","円/kg",{"$f":"IF(D16=\"有り\",入力シート!C90,VLOOKUP(D15,バイオマス燃料情報!B4:H11,4,FALSE))","v":10},null,null,null,null,"冷却水ポンプ消費電力","kW",{"$f":"$D$25*$D$27*K15/1000/60*K16/10/K17","v":{"$error":"#N/A"}},"ポンプ関数より",null,"冷却塔消費電力量","kWh/月",{"$f":"IF(P5=\"冷房\",IF(P6=0,0,$K$19*P9*P8),0)","v":0},{"$f":"IF(Q5=\"冷房\",IF(Q6=0,0,$K$19*Q9*Q8),0)","v":0},0,0,0,0,0,0,0,0,0,0,{"$f":"SUM(P18:AA18)","v":0}]
[null,"バイオマス燃料供給量","t/年",{"$f":"入力シート!C91","v":150},null,null,null,null,"冷却塔消費電力","kW",{"$f":"冷却塔消費電力関数!$H$17*K15+冷却塔消費電力関数!$I$17","v":{"$error":"#N/A"}},"冷却塔消費電力関数より",null,"消費電力合計","kWh/月",{"$f":"P16+P17+P18","v":{"$error":"#N/A"}},{"$f":"Q16+Q17+Q18","v":{"$error":"#N/A"}},{"$error":"#N/A"},{"$error":"#N/A"},{"$error":"#N/A"},{"$error":"#N/A"},{"$error":"#N/A"},{"$error":"#N/A"},{"$error":"#N/A"},{"$error":"#N/A"},{"$error":"#N/A"},{"$error":"#N/A"},{"$f":"SUM(P19:AA19)","v":{"$error":"#N/A"}}]
[null,"年間燃料熱量","MJ/年",{"$f":"D17*D19*1000","v":1550913}]
[null,null,null,null,null,null,null,null,null,null,null,null,null,"灰発生量","kg/月",{"$f":"P15*2%","v":{"$error":"#N/A"}},{"$error":"#N/A"},{"$error":"#N/A"},{"$error":"#N/A"},{"$error":"#N/A"},{"$error":"#N/A"},{"$error":"#N/A"},{"$error":"#N/A"},{"$error":"#N/A"},{"$error":"#N/A"},{"$error":"#N/A"},{"$error":"#N/A"},{"$f":"SUM(P21:AA21)","v":{"$error":"#N/A"}},{"$f":"MAX(P21:AA21)","v":{"$error":"#N/A"}},{"$f":"MIN(P21:AA21)","v":{"$error":"#N/A"}},"燃料消費量の2%と仮定する。"]
[null,"■係数"]
[null,"項目","値","単位","備考"]
[null,"水の比熱","kJ/kgK",{"$f":"係数・物性!D4","v":4.1790000000000003},"係数・物性より"]
[null,"水の密度","kg/m3",{"$f":"係数・物性!D5","v":996.62},"係数・物性より"]
[null,"容積比熱","MJ/m3K",{"$f":"係数・物性!D6","v":4.1648749800000004},"係数・物性より"]
[null,"重力加速度","m/s2",{"$f":"係数・物性!D7","v":9.8059999999999992},"係数・物性より"]
[]
[null,null,null,null,null,null,null,null,"■エネルギーコスト、CO2排出量、一次エネルギー消費量計算（エネルギー消費量を入力）"]
[null,null,null,null,null,null,null,null,null,null,null,null,null,"□エネルギー消費量"]
[null,null,null,null,null,null,null,null,null,"設定セル",null,null,null,"項目","単位","4月","5月","6月","7月","8月","9月","10月","11月","12月","1月","2月","3月","合計","最大","最小","備考"]
[null,null,null,null,null,null,null,null,null,"変更設定していいセル（計算式が入力されている）",null,null,null,"電気","kWh/月",{"$f":"P19","v":{"$error":"#N/A"}},{"$f":"Q19","v":{"$error":"#N/A"}},{"$error":"#N/A"},{"$error":"#N/A"},{"$error":"#N/A"},{"$error":"#N/A"},{"$error":"#N/A"},{"$error":"#N/A"},{"$error":"#N/A"},{"$error":"#N/A"},{"$error":"#N/A"},{"$error":"#N/A"},{"$f":"SUM(P32:AA32)","v":{"$error":"#N/A"}},{"$f":"MAX(P32:AA32)","v":{"$error":"#N/A"}},{"$f":"MIN(P32:AA32)","v":{"$error":"#N/A"}}]
[null,null,null,null,null,null,null,null,null,"あまり変更しなくていい設定セル",null,null,null,"都市ガス（13A）","m3/月",{"$f":"IF($D$10=$N33,P$15,0)","v":0},0,0,0,0,0,0,0,0,0,0,0,0,0,0]
[null,null,null,null,null,null,null,null,null,"デフォ値・係数",null,null,null,"灯油","L/月",0,0,0,0,0,0,0,0,0,0,0,0,0,0,0]
[null,null,null,null,null,null,null,null,null,"計算式・項目確認セル",null,null,null,"重油","L/月",0,0,0,0,0,0,0,0,0,0,0,0,0,0,0]
[null,null,null,null,null,null,null,null,null,null,null,null,null,"液化石油ガス（LPG）","kg/月",0,0,0,0,0,0,0,0,0,0,0,0,0,0,0]
[null,null,null,null,null,null,null,null,null,null,null,null,null,"他人から供給された熱","MJ/月",0,0,0,0,0,0,0,0,0,0,0,0,0,0,0]
[null,null,null,null,null,null,null,null,null,null,null,null,null,"バイオマス燃料","kg/月",{"$f":"P15","v":{"$error":"#N/A"}},{"$f":"Q15","v":{"$error":"#N/A"}},{"$error":"#N/A"},{"$error":"#N/A"},{"$error":"#N/A"},{"$error":"#N/A"},{"$error":"#N/A"},{"$error":"#N/A"},{"$error":"#N/A"},{"$error":"#N/A"},{"$error":"#N/A"},{"$error":"#N/A"},{"$f":"SUM(P38:AA38)","v":{"$error":"#N/A"}},{"$f":"MAX(P38:AA38)","v":{"$error":"#N/A"}},{"$f":"MIN(P38:AA38)","v":{"$error":"#N/A"}}]
[]
[null,null,null,null,null,null,null,null,"□エネルギーコスト単価(フラットレート)",null,null,null,null,"□エネルギーコスト検討"]
[null,null,null,null,null,null,null,null,"項目","単位","値","備考",null,"項目","単位","4月","5月","6月","7月","8月","9月","10月","11月","12月","1月","2月","3月","合計","最大","最小","備考"]
[null,null,null,null,null,null,null,null,"電気","円/kWh",{"$f":"E単価!H5","v":14},null,null,"電気","千円/月",{"$f":"P32*$K42/1000","v":{"$error":"#N/A"}},{"$error":"#N/A"},{"$error":"#N/A"},{"$error":"#N/A"},{"$error":"#N/A"},{"$error":"#N/A"},{"$error":"#N/A"},{"$error":"#N/A"},{"$error":"#N/A"},{"$error":"#N/A"},{"$error":"#N/A"},{"$error":"#N/A"},{"$f":"SUM(P42:AA42)","v":{"$error":"#N/A"}},{"$f":"MAX(P42:AA42)","v":{"$error":"#N/A"}},{"$f":"MIN(P42:AA42)","v":{"$error":"#N/A"}}]
[null,null,null,null,null,null,null,null,"都市ガス（13A）","円/m3",{"$f":"E単価!H6","v":114.64285714285714},null,null,"都市ガス（13A）","千円/月",0,0,0,0,0,0,0,0,0,0,0,0,0,0,0]
[null,null,null,null,null,null,null,null,"灯油","円/L",{"$f":"E単価!H7","v":107.88888888888889},null,null,"灯油","千円/月",0,0,0,0,0,0,0,0,0,0,0,0,0,0,0]
[null,null,null,null,null,null,null,null,"重油","円/L",{"$f":"E単価!H8","v":76.099999999999994},null,null,"重油","千円/月",0,0,0,0,0,0,0,0,0,0,0,0,0,0,0]
[null,null,null,null,null,null,null,null,"液化石油ガス（LPG）","円/kg",{"$f":"E単価!H9","v":159.40476190476193},null,null,"液化石油ガス（LPG）","千円/月",0,0,0,0,0,0,0,0,0,0,0,0,0,0,0]
[null,null,null,null,null,null,null,null,"他人から供給された熱","円/GJ",{"$f":"E単価!H10","v":6611.9047619047615},null,null,"他人から供給された熱","千円/月",0,0,0,0,0,0,0,0,0,0,0,0,0,0,0]
[null,null,null,null,null,null,null,null,null,null,null,null,null,"バイオマス燃料","千円/月",{"$f":"P38*$D$18/1000","v":{"$error":"#N/A"}},{"$f":"Q38*$D$18/1000","v":{"$error":"#N/A"}},{"$error":"#N/A"},{"$error":"#N/A"},{"$error":"#N/A"},{"$error":"#N/A"},{"$error":"#N/A"},{"$error":"#N/A"},{"$error":"#N/A"},{"$error":"#N/A"},{"$error":"#N/A"},{"$error":"#N/A"},{"$f":"SUM(P48:AA48)","v":{"$error":"#N/A"}},{"$error":"#N/A"},{"$error":"#N/A"}]
[null,null,null,null,null,null,null,null,null,null,null,null,null,"バイオマス灰処理費用","千円/月",{"$f":"P21/1000*10","v":{"$error":"#N/A"}},{"$f":"Q21/1000*10","v":{"$error":"#N/A"}},{"$error":"#N/A"},{"$error":"#N/A"},{"$error":"#N/A"},{"$error":"#N/A"},{"$error":"#N/A"},{"$error":"#N/A"},{"$error":"#N/A"},{"$error":"#N/A"},{"$error":"#N/A"},{"$error":"#N/A"},{"$f":"SUM(P49:AA49)","v":{"$error":"#N/A"}},{"$f":"MAX(P49:AA49)","v":{"$error":"#N/A"}},{"$f":"MIN(P49:AA49)","v":{"$error":"#N/A"}},"灰処理単価：10千円/t（※1より）"]
[null,null,null,null,null,null,null,null,null,null,null,null,null,"エネルギーコスト合計","千円/月",{"$f":"SUM(P42:P49)","v":{"$error":"#N/A"}},{"$f":"SUM(Q42:Q49)","v":{"$error":"#N/A"}},{"$error":"#N/A"},{"$error":"#N/A"},{"$error":"#N/A"},{"$error":"#N/A"},{"$error":"#N/A"},{"$error":"#N/A"},{"$error":"#N/A"},{"$error":"#N/A"},{"$error":"#N/A"},{"$error":"#N/A"},{"$f":"SUM(AB42:AB49)","v":{"$error":"#N/A"}},{"$f":"SUM(AC42:AC47)","v":{"$error":"#N/A"}},{"$error":"#N/A"}]
[]
[null,null,null,null,null,null,null,null,"□CO2換算係数",null,null,null,null,"□CO2排出量"]
[null,null,null,null,null,null,null,null,"項目","単位","値","備考",null,"項目","単位","4月","5月","6月","7月","8月","9月","10月","11月","12月","1月","2月","3月","合計","最大","最小","備考"]
[null,null,null,null,null,null,null,null,"電気","tCO2/kWh",{"$f":"CO2換算係数!B3","v":4.8799999999999999E-4},null,null,"電気","t-CO2/月",{"$f":"P32*$K54","v":{"$error":"#N/A"}},{"$f":"Q32*$K54","v":{"$error":"#N/A"}},{"$error":"#N/A"},{"$error":"#N/A"},{"$error":"#N/A"},{"$error":"#N/A"},{"$error":"#N/A"},{"$error":"#N/A"},{"$error":"#N/A"},{"$error":"#N/A"},{"$error":"#N/A"},{"$f":"AA32*$K54","v":{"$error":"#N/A"}},{"$f":"SUM(P54:AA54)","v":{"$error":"#N/A"}},{"$f":"MAX(P54:AA54)","v":{"$error":"#N/A"}},{"$f":"MIN(P54:AA54)","v":{"$error":"#N/A"}}]
[null,null,null,null,null,null,null,null,"都市ガス（13A）","tCO2/km3",{"$f":"CO2換算係数!B4","v":2.23},null,null,"都市ガス（13A）","t-CO2/月",{"$f":"P33/1000*$K55","v":0},0,0,0,0,0,0,0,0,0,0,0,0,0,0]
[null,null,null,null,null,null,null,null,"灯油","tCO2/kL",{"$f":"CO2換算係数!B5","v":2.4900000000000002},null,null,"灯油","t-CO2/月",{"$f":"P34/1000*$K56","v":0},0,0,0,0,0,0,0,0,0,0,0,0,0,0]
[null,null,null,null,null,null,null,null,"重油","tCO2/kL",{"$f":"CO2換算係数!B6","v":2.71},null,null,"重油","t-CO2/月",{"$f":"P35/1000*$K57","v":0},0,0,0,0,0,0,0,0,0,0,0,0,0,0]
[null,null,null,null,null,null,null,null,"液化石油ガス（LPG）","tCO2/t",{"$f":"CO2換算係数!B7","v":3},null,null,"液化石油ガス（LPG）","t-CO2/月",{"$f":"P36/1000*$K58","v":0},0,0,0,0,0,0,0,0,0,0,0,0,0,0]
[null,null,null,null,null,null,null,null,"他人から供給された熱","tCO2/GJ",{"$f":"CO2換算係数!B8","v":5.7000000000000002E-2},null,null,"他人から供給された熱","t-CO2/月",{"$f":"P37/1000*$K59","v":0},0,0,0,0,0,0,0,0,0,0,0,0,0,0]
[null,null,null,null,null,null,null,null,null,null,null,null,null,"CO2排出量合計","t-CO2/月",{"$f":"SUM(P54:P59)","v":{"$error":"#N/A"}},{"$f":"SUM(Q54:Q59)","v":{"$error":"#N/A"}},{"$error":"#N/A"},{"$error":"#N/A"},{"$error":"#N/A"},{"$error":"#N/A"},{"$error":"#N/A"},{"$error":"#N/A"},{"$error":"#N/A"},{"$error":"#N/A"},{"$error":"#N/A"},{"$error":"#N/A"},{"$f":"SUM(AB54:AB59)","v":{"$error":"#N/A"}},{"$error":"#N/A"},{"$error":"#N/A"}]
[]
[null,null,null,null,null,null,null,null,"□一次エネルギー換算係数",null,null,null,null,"□一次エネルギー消費量"]
[null,null,null,null,null,null,null,null,"項目","単位","値","備考",null,"項目","単位","4月","5月","6月","7月","8月","9月","10月","11月","12月","1月","2月","3月","合計","最大","最小","備考"]
[null,null,null,null,null,null,null,null,"電気","MJ/kWh",{"$f":"一次E換算!B3","v":9.76},null,null,"電気","MJ/月",{"$f":"P32*$K64","v":{"$error":"#N/A"}},{"$error":"#N/A"},{"$error":"#N/A"},{"$error":"#N/A"},{"$error":"#N/A"},{"$error":"#N/A"},{"$error":"#N/A"},{"$error":"#N/A"},{"$error":"#N/A"},{"$error":"#N/A"},{"$error":"#N/A"},{"$error":"#N/A"},{"$f":"SUM(P64:AA64)","v":{"$error":"#N/A"}},{"$f":"MAX(P64:AA64)","v":{"$error":"#N/A"}},{"$f":"MIN(P64:AA64)","v":{"$error":"#N/A"}}]
[null,null,null,null,null,null,null,null,"都市ガス（13A）","MJ/m3",{"$f":"一次E換算!B4","v":45},null,null,"都市ガス（13A）","MJ/月",{"$f":"P33*$K65","v":0},0,0,0,0,0,0,0,0,0,0,0,0,0,0]
[null,null,null,null,null,null,null,null,"灯油","MJ/L",{"$f":"一次E換算!B5","v":37},null,null,"灯油","MJ/月",{"$f":"P34*$K66","v":0},0,0,0,0,0,0,0,0,0,0,0,0,0,0]
[null,null,null,null,null,null,null,null,"重油","MJ/L",{"$f":"一次E換算!B6","v":41},null,null,"重油","MJ/月",{"$f":"P35*$K67","v":0},0,0,0,0,0,0,0,0,0,0,0,0,0,0]
[null,null,null,null,null,null,null,null,"液化石油ガス（LPG）","MJ/kg",{"$f":"一次E換算!B7","v":50},null,null,"液化石油ガス（LPG）","MJ/月",{"$f":"P36*$K68","v":0},0,0,0,0,0,0,0,0,0,0,0,0,0,0]
[null,null,null,null,null,null,null,null,"他人から供給された熱","MJ/MJ",{"$f":"一次E換算!B8","v":1.36},null,null,"他人から供給された熱","MJ/月",{"$f":"P37*$K69","v":0},0,0,0,0,0,0,0,0,0,0,0,0,0,0]
[null,null,null,null,null,null,null,null,null,null,null,null,null,"一次エネルギー消費量合計","MJ/月",{"$f":"SUM(P64:P69)","v":{"$error":"#N/A"}},{"$error":"#N/A"},{"$error":"#N/A"},{"$error":"#N/A"},{"$error":"#N/A"},{"$error":"#N/A"},{"$error":"#N/A"},{"$error":"#N/A"},{"$error":"#N/A"},{"$error":"#N/A"},{"$error":"#N/A"},{"$error":"#N/A"},{"$error":"#N/A"},{"$error":"#N/A"},{"$error":"#N/A"}]
[]
[]
[null,null,null,null,null,null,null,null,"■熱源機エネルギーコスト、CO2排出量、一次エネルギー消費量計算（エネルギー消費量を入力）"]
[null,null,null,null,null,null,null,null,null,null,null,null,null,"□エネルギー消費量"]
[null,null,null,null,null,null,null,null,null,"設定セル",null,null,null,"項目","単位","4月","5月","6月","7月","8月","9月","10月","11月","12月","1月","2月","3月","合計","最大","最小","備考"]
[null,null,null,null,null,null,null,null,null,"変更設定していいセル（計算式が入力されている）",null,null,null,"電気","kWh/月",null,null,null,null,null,null,null,null,null,null,null,null,{"$f":"SUM(P76:AA76)","v":0},{"$f":"MAX(P76:AA76)","v":0},{"$f":"MIN(P76:AA76)","v":0}]
[null,null,null,null,null,null,null,null,null,"あまり変更しなくていい設定セル",null,null,null,"都市ガス（13A）","m3/月",null,null,null,null,null,null,null,null,null,null,null,null,0,0,0]
[null,null,null,null,null,null,null,null,null,"デフォ値・係数",null,null,null,"灯油","L/月",null,null,null,null,null,null,null,null,null,null,null,null,0,0,0]
[null,null,null,null,null,null,null,null,null,"計算式・項目確認セル",null,null,null,"重油","L/月",null,null,null,null,null,null,null,null,null,null,null,null,0,0,0]
[null,null,null,null,null,null,null,null,null,null,null,null,null,"液化石油ガス（LPG）","kg/月",null,null,null,null,null,null,null,null,null,null,null,null,0,0,0]
[null,null,null,null,null,null,null,null,null,null,null,null,null,"他人から供給された熱","MJ/月",null,null,null,null,null,null,null,null,null,null,null,null,0,0,0]
[null,null,null,null,null,null,null,null,null,null,null,null,null,"バイオマス燃料","kg/月",{"$f":"P15","v":{"$error":"#N/A"}},{"$f":"Q15","v":{"$error":"#N/A"}},{"$error":"#N/A"},{"$error":"#N/A"},{"$error":"#N/A"},{"$error":"#N/A"},{"$error":"#N/A"},{"$error":"#N/A"},{"$error":"#N/A"},{"$error":"#N/A"},{"$error":"#N/A"},{"$error":"#N/A"},{"$f":"SUM(P82:AA82)","v":{"$error":"#N/A"}},{"$error":"#N/A"},{"$error":"#N/A"}]
[]
[null,null,null,null,null,null,null,null,"□エネルギーコスト単価(フラットレート)",null,null,null,null,"□エネルギーコスト検討"]
[null,null,null,null,null,null,null,null,"項目","単位","値","備考",null,"項目","単位","4月","5月","6月","7月","8月","9月","10月","11月","12月","1月","2月","3月","合計","最大","最小","備考"]
[null,null,null,null,null,null,null,null,"電気","円/kWh",{"$f":"K42","v":14},null,null,"電気","千円/月",{"$f":"P76*$K86/1000","v":0},0,0,0,0,0,0,0,0,0,0,0,{"$f":"SUM(P86:AA86)","v":0},{"$f":"MAX(P86:AA86)","v":0},{"$f":"MIN(P86:AA86)","v":0}]
[null,null,null,null,null,null,null,null,"都市ガス（13A）","円/m3",{"$f":"K43","v":114.64285714285714},null,null,"都市ガス（13A）","千円/月",0,0,0,0,0,0,0,0,0,0,0,0,0,0,0]
[null,null,null,null,null,null,null,null,"灯油","円/L",107.88888888888889,null,null,"灯油","千円/月",0,0,0,0,0,0,0,0,0,0,0,0,0,0,0]
[null,null,null,null,null,null,null,null,"重油","円/L",76.099999999999994,null,null,"重油","千円/月",0,0,0,0,0,0,0,0,0,0,0,0,0,0,0]
[null,null,null,null,null,null,null,null,"液化石油ガス（LPG）","円/kg",159.40476190476193,null,null,"液化石油ガス（LPG）","千円/月",0,0,0,0,0,0,0,0,0,0,0,0,0,0,0]
[null,null,null,null,null,null,null,null,"他人から供給された熱","円/GJ",6611.9047619047615,null,null,"他人から供給された熱","千円/月",0,0,0,0,0,0,0,0,0,0,0,0,0,0,0]
[null,null,null,null,null,null,null,null,null,null,null,null,null,"バイオマス燃料","千円/月",{"$f":"P82*$D$18/1000","v":{"$error":"#N/A"}},{"$f":"Q82*$D$18/1000","v":{"$error":"#N/A"}},{"$error":"#N/A"},{"$error":"#N/A"},{"$error":"#N/A"},{"$error":"#N/A"},{"$error":"#N/A"},{"$error":"#N/A"},{"$error":"#N/A"},{"$error":"#N/A"},{"$error":"#N/A"},{"$error":"#N/A"},{"$error":"#N/A"},{"$error":"#N/A"},{"$error":"#N/A"}]
[null,null,null,null,null,null,null,null,null,null,null,null,null,"バイオマス灰処理費用","千円/月",{"$f":"P21/1000*10","v":{"$error":"#N/A"}},{"$f":"Q21/1000*10","v":{"$error":"#N/A"}},{"$error":"#N/A"},{"$error":"#N/A"},{"$error":"#N/A"},{"$error":"#N/A"},{"$error":"#N/A"},{"$error":"#N/A"},{"$error":"#N/A"},{"$error":"#N/A"},{"$error":"#N/A"},{"$error":"#N/A"},{"$f":"SUM(P93:AA93)","v":{"$error":"#N/A"}},{"$error":"#N/A"},{"$error":"#N/A"},"灰処理単価：10千円/t（※1より）"]
[null,null,null,null,null,null,null,null,null,null,null,null,null,"エネルギーコスト合計","千円/月",{"$f":"SUM(P86:P93)","v":{"$error":"#N/A"}},{"$f":"SUM(Q86:Q93)","v":{"$error":"#N/A"}},{"$error":"#N/A"},{"$error":"#N/A"},{"$error":"#N/A"},{"$error":"#N/A"},{"$error":"#N/A"},{"$error":"#N/A"},{"$error":"#N/A"},{"$error":"#N/A"},{"$error":"#N/A"},{"$error":"#N/A"},{"$f":"SUM(AB86:AB93)","v":{"$error":"#N/A"}},{"$f":"SUM(AC86:AC91)","v":0},0]
[]
[null,null,null,null,null,null,null,null,"□CO2換算係数",null,null,null,null,"□CO2排出量"]
[null,null,null,null,null,null,null,null,"項目","単位","値","備考",null,"項目","単位","4月","5月","6月","7月","8月","9月","10月","11月","12月","1月","2月","3月","合計","最大","最小","備考"]
[null,null,null,null,null,null,null,null,"電気","tCO2/kWh",{"$f":"K54","v":4.8799999999999999E-4},null,null,"電気","t-CO2/月",{"$f":"P76*$K98","v":0},{"$f":"Q76*$K98","v":0},0,0,0,0,0,0,0,0,0,{"$f":"AA76*$K98","v":0},{"$f":"SUM(P98:AA98)","v":0},{"$f":"MAX(P98:AA98)","v":0},{"$f":"MIN(P98:AA98)","v":0}]
[null,null,null,null,null,null,null,null,"都市ガス（13A）","tCO2/km3",{"$f":"K55","v":2.23},null,null,"都市ガス（13A）","t-CO2/月",{"$f":"P77/1000*$K99","v":0},0,0,0,0,0,0,0,0,0,0,0,0,0,0]
[null,null,null,null,null,null,null,null,"灯油","tCO2/kL",{"$f":"K56","v":2.4900000000000002},null,null,"灯油","t-CO2/月",0,0,0,0,0,0,0,0,0,0,0,0,0,0,0]
[null,null,null,null,null,null,null,null,"重油","tCO2/kL",2.71,null,null,"重油","t-CO2/月",0,0,0,0,0,0,0,0,0,0,0,0,0,0,0]
[null,null,null,null,null,null,null,null,"液化石油ガス（LPG）","tCO2/t",3,null,null,"液化石油ガス（LPG）","t-CO2/月",0,0,0,0,0,0,0,0,0,0,0,0,0,0,0]
[null,null,null,null,null,null,null,null,"他人から供給された熱","tCO2/GJ",5.7000000000000002E-2,null,null,"他人から供給された熱","t-CO2/月",0,0,0,0,0,0,0,0,0,0,0,0,0,0,0]
[null,null,null,null,null,null,null,null,null,null,null,null,null,"CO2排出量合計","t-CO2/月",{"$f":"SUM(P98:P103)","v":0},{"$f":"SUM(Q98:Q103)","v":0},0,0,0,0,0,0,0,0,0,0,{"$f":"SUM(AB98:AB103)","v":0},{"$f":"SUM(AC98:AC103)","v":0},0]
[]
[null,null,null,null,null,null,null,null,"□一次エネルギー換算係数",null,null,null,null,"□一次エネルギー消費量"]
[null,null,null,null,null,null,null,null,"項目","単位","値","備考",null,"項目","単位","4月","5月","6月","7月","8月","9月","10月","11月","12月","1月","2月","3月","合計","最大","最小","備考"]
[null,null,null,null,null,null,null,null,"電気","MJ/kWh",{"$f":"K64","v":9.76},null,null,"電気","MJ/月",{"$f":"P76*$K108","v":0},0,0,0,0,0,0,0,0,0,0,0,{"$f":"SUM(P108:AA108)","v":0},{"$f":"MAX(P108:AA108)","v":0},{"$f":"MIN(P108:AA108)","v":0}]
[null,null,null,null,null,null,null,null,"都市ガス（13A）","MJ/m3",{"$f":"K65","v":45},null,null,"都市ガス（13A）","MJ/月",0,0,0,0,0,0,0,0,0,0,0,0,0,0,0]
[null,null,null,null,null,null,null,null,"灯油","MJ/L",{"$f":"K66","v":37},null,null,"灯油","MJ/月",0,0,0,0,0,0,0,0,0,0,0,0,0,0,0]
[null,null,null,null,null,null,null,null,"重油","MJ/L",41,null,null,"重油","MJ/月",0,0,0,0,0,0,0,0,0,0,0,0,0,0,0]
[null,null,null,null,null,null,null,null,"液化石油ガス（LPG）","MJ/kg",50,null,null,"液化石油ガス（LPG）","MJ/月",0,0,0,0,0,0,0,0,0,0,0,0,0,0,0]
[null,null,null,null,null,null,null,null,"他人から供給された熱","MJ/MJ",1.36,null,null,"他人から供給された熱","MJ/月",0,0,0,0,0,0,0,0,0,0,0,0,0,0,0]
[null,null,null,null,null,null,null,null,null,null,null,null,null,"一次エネルギー消費量合計","MJ/月",{"$f":"SUM(P108:P113)","v":0},0,0,0,0,0,0,0,0,0,0,0,{"$f":"SUM(AB108:AB113)","v":0},0,0]
[]
[]
[null,null,null,null,null,null,null,null,"■補機類エネルギーコスト、CO2排出量、一次エネルギー消費量計算（エネルギー消費量を入力）"]
[null,null,null,null,null,null,null,null,null,null,null,null,null,"□エネルギー消費量"]
[null,null,null,null,null,null,null,null,null,"設定セル",null,null,null,"項目","単位","4月","5月","6月","7月","8月","9月","10月","11月","12月","1月","2月","3月","合計","最大","最小","備考"]
[null,null,null,null,null,null,null,null,null,"変更設定していいセル（計算式が入力されている）",null,null,null,"電気","kWh/月",{"$f":"P19","v":{"$error":"#N/A"}},{"$f":"Q19","v":{"$error":"#N/A"}},{"$error":"#N/A"},{"$error":"#N/A"},{"$error":"#N/A"},{"$error":"#N/A"},{"$error":"#N/A"},{"$error":"#N/A"},{"$error":"#N/A"},{"$error":"#N/A"},{"$error":"#N/A"},{"$error":"#N/A"},{"$f":"SUM(P120:AA120)","v":{"$error":"#N/A"}},{"$f":"MAX(P120:AA120)","v":{"$error":"#N/A"}},{"$f":"MIN(P120:AA120)","v":{"$error":"#N/A"}}]
[null,null,null,null,null,null,null,null,null,"あまり変更しなくていい設定セル",null,null,null,"都市ガス（13A）","m3/月",null,null,null,null,null,null,null,null,null,null,null,null,0,0,0]
[null,null,null,null,null,null,null,null,null,"デフォ値・係数",null,null,null,"灯油","L/月",null,null,null,null,null,null,null,null,null,null,null,null,0,0,0]
[null,null,null,null,null,null,null,null,null,"計算式・項目確認セル",null,null,null,"重油","L/月",null,null,null,null,null,null,null,null,null,null,null,null,0,0,0]
[null,null,null,null,null,null,null,null,null,null,null,null,null,"液化石油ガス（LPG）","kg/月",null,null,null,null,null,null,null,null,null,null,null,null,0,0,0]
[null,null,null,null,null,null,null,null,null,null,null,null,null,"他人から供給された熱","MJ/月",null,null,null,null,null,null,null,null,null,null,null,null,0,0,0]
[null,null,null,null,null,null,null,null,null,null,null,null,null,"バイオマス燃料","kg/月",null,null,null,null,null,null,null,null,null,null,null,null,{"$f":"SUM(P126:AA126)","v":0},0,0]
[]
[null,null,null,null,null,null,null,null,"□エネルギーコスト単価(フラットレート)",null,null,null,null,"□エネルギーコスト検討"]
[null,null,null,null,null,null,null,null,"項目","単位","値","備考",null,"項目","単位","4月","5月","6月","7月","8月","9月","10月","11月","12月","1月","2月","3月","合計","最大","最小","備考"]
[null,null,null,null,null,null,null,null,"電気","円/kWh",{"$f":"K86","v":14},null,null,"電気","千円/月",{"$f":"P120*$K130/1000","v":{"$error":"#N/A"}},{"$f":"Q120*$K130/1000","v":{"$error":"#N/A"}},{"$error":"#N/A"},{"$error":"#N/A"},{"$error":"#N/A"},{"$error":"#N/A"},{"$error":"#N/A"},{"$error":"#N/A"},{"$error":"#N/A"},{"$error":"#N/A"},{"$error":"#N/A"},{"$error":"#N/A"},{"$f":"SUM(P130:AA130)","v":{"$error":"#N/A"}},{"$f":"MAX(P130:AA130)","v":{"$error":"#N/A"}},{"$f":"MIN(P130:AA130)","v":{"$error":"#N/A"}}]
[null,null,null,null,null,null,null,null,"都市ガス（13A）","円/m3",{"$f":"K87","v":114.64285714285714},null,null,"都市ガス（13A）","千円/月",{"$f":"P121*$K131/1000","v":0},0,0,0,0,0,0,0,0,0,0,0,0,0,0]
[null,null,null,null,null,null,null,null,"灯油","円/L",107.88888888888889,null,null,"灯油","千円/月",{"$f":"P122*$K132/1000","v":0},0,0,0,0,0,0,0,0,0,0,0,0,0,0]
[null,null,null,null,null,null,null,null,"重油","円/L",76.099999999999994,null,null,"重油","千円/月",{"$f":"P123*$K133/1000","v":0},0,0,0,0,0,0,0,0,0,0,0,0,0,0]
[null,null,null,null,null,null,null,null,"液化石油ガス（LPG）","円/kg",159.40476190476193,null,null,"液化石油ガス（LPG）","千円/月",0,0,0,0,0,0,0,0,0,0,0,0,0,0,0]
[null,null,null,null,null,null,null,null,"他人から供給された熱","円/GJ",6611.9047619047615,null,null,"他人から供給された熱","千円/月",0,0,0,0,0,0,0,0,0,0,0,0,0,0,0]
[null,null,null,null,null,null,null,null,null,null,null,null,null,"バイオマス燃料","千円/月",{"$f":"P126*$D$18/1000","v":0},{"$f":"Q126*$D$18/1000","v":0},0,0,0,0,0,0,0,0,0,0,0,0,0]
[null,null,null,null,null,null,null,null,null,null,null,null,null,"バイオマス灰処理費用","千円/月",{"$f":"P106/1000*10","v":0},0,0,0,0,0,0,0,0,0,0,0,0,0,0,"灰処理単価：10千円/t（※1より）"]
[null,null,null,null,null,null,null,null,null,null,null,null,null,"エネルギーコスト合計","千円/月",{"$f":"SUM(P130:P137)","v":{"$error":"#N/A"}},{"$f":"SUM(Q130:Q137)","v":{"$error":"#N/A"}},{"$error":"#N/A"},{"$error":"#N/A"},{"$error":"#N/A"},{"$error":"#N/A"},{"$error":"#N/A"},{"$error":"#N/A"},{"$error":"#N/A"},{"$error":"#N/A"},{"$error":"#N/A"},{"$error":"#N/A"},{"$f":"SUM(AB130:AB137)","v":{"$error":"#N/A"}},{"$f":"SUM(AC130:AC135)","v":{"$error":"#N/A"}},{"$error":"#N/A"}]
[]
[null,null,null,null,null,null,null,null,"□CO2換算係数",null,null,null,null,"□CO2排出量"]
[null,null,null,null,null,null,null,null,"項目","単位","値","備考",null,"項目","単位","4月","5月","6月","7月","8月","9月","10月","11月","12月","1月","2月","3月","合計","最大","最小","備考"]
[null,null,null,null,null,null,null,null,"電気","tCO2/kWh",{"$f":"K98","v":4.8799999999999999E-4},null,null,"電気","t-CO2/月",{"$f":"P120*$K142","v":{"$error":"#N/A"}},{"$f":"Q120*$K142","v":{"$error":"#N/A"}},{"$error":"#N/A"},{"$error":"#N/A"},{"$error":"#N/A"},{"$error":"#N/A"},{"$error":"#N/A"},{"$error":"#N/A"},{"$error":"#N/A"},{"$error":"#N/A"},{"$error":"#N/A"},{"$f":"AA120*$K142","v":{"$error":"#N/A"}},{"$f":"SUM(P142:AA142)","v":{"$error":"#N/A"}},{"$f":"MAX(P142:AA142)","v":{"$error":"#N/A"}},{"$f":"MIN(P142:AA142)","v":{"$error":"#N/A"}}]
[null,null,null,null,null,null,null,null,"都市ガス（13A）","tCO2/km3",{"$f":"K99","v":2.23},null,null,"都市ガス（13A）","t-CO2/月",{"$f":"P121/1000*$K143","v":0},{"$f":"Q121/1000*$K143","v":0},0,0,0,0,0,0,0,0,0,0,0,0,0]
[null,null,null,null,null,null,null,null,"灯油","tCO2/kL",{"$f":"K100","v":2.4900000000000002},null,null,"灯油","t-CO2/月",{"$f":"P122/1000*$K144","v":0},0,0,0,0,0,0,0,0,0,0,0,0,0,0]
[null,null,null,null,null,null,null,null,"重油","tCO2/kL",2.71,null,null,"重油","t-CO2/月",0,0,0,0,0,0,0,0,0,0,0,0,0,0,0]
[null,null,null,null,null,null,null,null,"液化石油ガス（LPG）","tCO2/t",3,null,null,"液化石油ガス（LPG）","t-CO2/月",0,0,0,0,0,0,0,0,0,0,0,0,0,0,0]
[null,null,null,null,null,null,null,null,"他人から供給された熱","tCO2/GJ",5.7000000000000002E-2,null,null,"他人から供給された熱","t-CO2/月",0,0,0,0,0,0,0,0,0,0,0,0,0,0,0]
[null,null,null,null,null,null,null,null,null,null,null,null,null,"CO2排出量合計","t-CO2/月",{"$f":"SUM(P142:P147)","v":{"$error":"#N/A"}},{"$f":"SUM(Q142:Q147)","v":{"$error":"#N/A"}},{"$error":"#N/A"},{"$error":"#N/A"},{"$error":"#N/A"},{"$error":"#N/A"},{"$error":"#N/A"},{"$error":"#N/A"},{"$error":"#N/A"},{"$error":"#N/A"},{"$error":"#N/A"},{"$error":"#N/A"},{"$f":"SUM(AB142:AB147)","v":{"$error":"#N/A"}},{"$f":"SUM(AC142:AC147)","v":{"$error":"#N/A"}},{"$error":"#N/A"}]
[]
[null,null,null,null,null,null,null,null,"□一次エネルギー換算係数",null,null,null,null,"□一次エネルギー消費量"]
[null,null,null,null,null,null,null,null,"項目","単位","値","備考",null,"項目","単位","4月","5月","6月","7月","8月","9月","10月","11月","12月","1月","2月","3月","合計","最大","最小","備考"]
[null,null,null,null,null,null,null,null,"電気","MJ/kWh",{"$f":"K108","v":9.76},null,null,"電気","MJ/月",{"$f":"P120*$K152","v":{"$error":"#N/A"}},{"$error":"#N/A"},{"$error":"#N/A"},{"$error":"#N/A"},{"$error":"#N/A"},{"$error":"#N/A"},{"$error":"#N/A"},{"$error":"#N/A"},{"$error":"#N/A"},{"$error":"#N/A"},{"$error":"#N/A"},{"$error":"#N/A"},{"$f":"SUM(P152:AA152)","v":{"$error":"#N/A"}},{"$f":"MAX(P152:AA152)","v":{"$error":"#N/A"}},{"$f":"MIN(P152:AA152)","v":{"$error":"#N/A"}}]
[null,null,null,null,null,null,null,null,"都市ガス（13A）","MJ/m3",{"$f":"K109","v":45},null,null,"都市ガス（13A）","MJ/月",0,0,0,0,0,0,0,0,0,0,0,0,0,0,0]
[null,null,null,null,null,null,null,null,"灯油","MJ/L",{"$f":"K110","v":37},null,null,"灯油","MJ/月",0,0,0,0,0,0,0,0,0,0,0,0,0,0,0]
[null,null,null,null,null,null,null,null,"重油","MJ/L",41,null,null,"重油","MJ/月",0,0,0,0,0,0,0,0,0,0,0,0,0,0,0]
[null,null,null,null,null,null,null,null,"液化石油ガス（LPG）","MJ/kg",50,null,null,"液化石油ガス（LPG）","MJ/月",0,0,0,0,0,0,0,0,0,0,0,0,0,0,0]
[null,null,null,null,null,null,null,null,"他人から供給された熱","MJ/MJ",1.36,null,null,"他人から供給された熱","MJ/月",0,0,0,0,0,0,0,0,0,0,0,0,0,0,0]
[null,null,null,null,null,null,null,null,null,null,null,null,null,"一次エネルギー消費量合計","MJ/月",{"$f":"SUM(P152:P157)","v":{"$error":"#N/A"}},{"$error":"#N/A"},{"$error":"#N/A"},{"$error":"#N/A"},{"$error":"#N/A"},{"$error":"#N/A"},{"$error":"#N/A"},{"$error":"#N/A"},{"$error":"#N/A"},{"$error":"#N/A"},{"$error":"#N/A"},{"$error":"#N/A"},{"$f":"SUM(AB152:AB157)","v":{"$error":"#N/A"}},{"$error":"#N/A"},{"$error":"#N/A"}]

{"sheet":"バイオマス熱_空調_熱源容量","index":68,"n_rows":37,"n_cols":18,"rows_kept":37,"cut":false,"hidden":true,"merged":[]}
["■時刻別負荷"]
["■時刻負荷パタン設定",null,null,null,null,null,null,null,"■時刻別負荷",null,null,null,null,null,"■最大負荷　既存設備　熱源容量設定"]
["項目","値","単位","備考",null,null,null,null,null,{"$f":"VLOOKUP(B4&K3,E17:F32,2,FALSE)","v":{"$error":"#N/A"}},"冷房",{"$f":"VLOOKUP(B4&M3,E17:F32,2,FALSE)","v":{"$error":"#N/A"}},"暖房",null,"項目","値","単位","備考・冷房暖房区別VLOOKUP用"]
["建物用途",{"$f":"入力シート!C9","v":0},"-",null,null,null,null,null,"時刻","-","kW","-","kW",null,"冷房",{"$f":"MAX(K5:K28)","v":{"$error":"#N/A"}},"kW","冷房"]
["一日の熱需要量",{"$f":"MAX(バイオマス熱_空調_熱源容量!B13:D13)","v":{"$error":"#N/A"}},"kWh/日",null,null,null,null,null,1,{"$f":"VLOOKUP(I5,熱需要量算定・原単位!$AJ$9:$BL$32,MATCH($J$3,熱需要量算定・原単位!$AK$5:$BL$5,0)+1,FALSE)","v":{"$error":"#N/A"}},{"$f":"$C$13*J5/100","v":{"$error":"#N/A"}},{"$f":"VLOOKUP(I5,熱需要量算定・原単位!$AJ$9:$BL$32,MATCH($L$3,熱需要量算定・原単位!$AK$5:$BL$5,0)+1,FALSE)","v":{"$error":"#N/A"}},{"$f":"$D$13*L5/100","v":{"$error":"#N/A"}},null,"暖房",{"$f":"MAX(M5:M28)","v":{"$error":"#N/A"}},"kW","暖房"]
[null,null,null,null,null,null,null,null,2,{"$f":"VLOOKUP(I6,熱需要量算定・原単位!$AJ$9:$BL$32,MATCH($J$3,熱需要量算定・原単位!$AK$5:$BL$5,0)+1,FALSE)","v":{"$error":"#N/A"}},{"$f":"$C$13*J6/100","v":{"$error":"#N/A"}},{"$f":"VLOOKUP(I6,熱需要量算定・原単位!$AJ$9:$BL$32,MATCH($L$3,熱需要量算定・原単位!$AK$5:$BL$5,0)+1,FALSE)","v":{"$error":"#N/A"}},{"$f":"$D$13*L6/100","v":{"$error":"#N/A"}},null,"最大負荷",{"$f":"MAX(P4:P5)","v":{"$error":"#N/A"}},"kW","熱源容量"]
[null,null,null,null,null,null,null,null,3,{"$f":"VLOOKUP(I7,熱需要量算定・原単位!$AJ$9:$BL$32,MATCH($J$3,熱需要量算定・原単位!$AK$5:$BL$5,0)+1,FALSE)","v":{"$error":"#N/A"}},{"$error":"#N/A"},{"$f":"VLOOKUP(I7,熱需要量算定・原単位!$AJ$9:$BL$32,MATCH($L$3,熱需要量算定・原単位!$AK$5:$BL$5,0)+1,FALSE)","v":{"$error":"#N/A"}},{"$error":"#N/A"}]
[null,null,null,null,null,null,null,null,4,{"$f":"VLOOKUP(I8,熱需要量算定・原単位!$AJ$9:$BL$32,MATCH($J$3,熱需要量算定・原単位!$AK$5:$BL$5,0)+1,FALSE)","v":{"$error":"#N/A"}},{"$error":"#N/A"},{"$f":"VLOOKUP(I8,熱需要量算定・原単位!$AJ$9:$BL$32,MATCH($L$3,熱需要量算定・原単位!$AK$5:$BL$5,0)+1,FALSE)","v":{"$error":"#N/A"}},{"$error":"#N/A"}]
[null,null,null,null,null,null,null,null,5,{"$f":"VLOOKUP(I9,熱需要量算定・原単位!$AJ$9:$BL$32,MATCH($J$3,熱需要量算定・原単位!$AK$5:$BL$5,0)+1,FALSE)","v":{"$error":"#N/A"}},{"$error":"#N/A"},{"$f":"VLOOKUP(I9,熱需要量算定・原単位!$AJ$9:$BL$32,MATCH($L$3,熱需要量算定・原単位!$AK$5:$BL$5,0)+1,FALSE)","v":{"$error":"#N/A"}},{"$error":"#N/A"}]
[null,null,null,null,null,null,null,null,6,{"$f":"VLOOKUP(I10,熱需要量算定・原単位!$AJ$9:$BL$32,MATCH($J$3,熱需要量算定・原単位!$AK$5:$BL$5,0)+1,FALSE)","v":{"$error":"#N/A"}},{"$error":"#N/A"},{"$f":"VLOOKUP(I10,熱需要量算定・原単位!$AJ$9:$BL$32,MATCH($L$3,熱需要量算定・原単位!$AK$5:$BL$5,0)+1,FALSE)","v":{"$error":"#N/A"}},{"$error":"#N/A"}]
[null,null,null,null,null,null,null,null,7,{"$f":"VLOOKUP(I11,熱需要量算定・原単位!$AJ$9:$BL$32,MATCH($J$3,熱需要量算定・原単位!$AK$5:$BL$5,0)+1,FALSE)","v":{"$error":"#N/A"}},{"$error":"#N/A"},{"$f":"VLOOKUP(I11,熱需要量算定・原単位!$AJ$9:$BL$32,MATCH($L$3,熱需要量算定・原単位!$AK$5:$BL$5,0)+1,FALSE)","v":{"$error":"#N/A"}},{"$error":"#N/A"}]
["■時刻別負荷パタン熱利用用途の決定用",null,null,null,null,null,null,null,8,{"$f":"VLOOKUP(I12,熱需要量算定・原単位!$AJ$9:$BL$32,MATCH($J$3,熱需要量算定・原単位!$AK$5:$BL$5,0)+1,FALSE)","v":{"$error":"#N/A"}},{"$error":"#N/A"},{"$f":"VLOOKUP(I12,熱需要量算定・原単位!$AJ$9:$BL$32,MATCH($L$3,熱需要量算定・原単位!$AK$5:$BL$5,0)+1,FALSE)","v":{"$error":"#N/A"}},{"$error":"#N/A"}]
["日あたりの熱需要量",{"$f":"SUMPRODUCT(MAX((バイオマス熱_空調_RC!$P$5:$AA$5=B14)*(バイオマス熱_空調_RC!$P$11:$AA$11)))","v":{"$error":"#N/A"}},{"$f":"SUMPRODUCT(MAX((バイオマス熱_空調_RC!$P$5:$AA$5=C14)*(バイオマス熱_空調_RC!$P$11:$AA$11)))","v":{"$error":"#N/A"}},{"$f":"SUMPRODUCT(MAX((バイオマス熱_空調_RC!$P$5:$AA$5=D14)*(バイオマス熱_空調_RC!$P$11:$AA$11)))","v":{"$error":"#N/A"}},null,null,null,null,9,{"$f":"VLOOKUP(I13,熱需要量算定・原単位!$AJ$9:$BL$32,MATCH($J$3,熱需要量算定・原単位!$AK$5:$BL$5,0)+1,FALSE)","v":{"$error":"#N/A"}},{"$error":"#N/A"},{"$f":"VLOOKUP(I13,熱需要量算定・原単位!$AJ$9:$BL$32,MATCH($L$3,熱需要量算定・原単位!$AK$5:$BL$5,0)+1,FALSE)","v":{"$error":"#N/A"}},{"$error":"#N/A"}]
["熱利用用途","給湯","冷房","暖房",null,null,null,null,10,{"$f":"VLOOKUP(I14,熱需要量算定・原単位!$AJ$9:$BL$32,MATCH($J$3,熱需要量算定・原単位!$AK$5:$BL$5,0)+1,FALSE)","v":{"$error":"#N/A"}},{"$error":"#N/A"},{"$f":"VLOOKUP(I14,熱需要量算定・原単位!$AJ$9:$BL$32,MATCH($L$3,熱需要量算定・原単位!$AK$5:$BL$5,0)+1,FALSE)","v":{"$error":"#N/A"}},{"$error":"#N/A"}]
[null,null,null,null,null,null,null,null,11,{"$f":"VLOOKUP(I15,熱需要量算定・原単位!$AJ$9:$BL$32,MATCH($J$3,熱需要量算定・原単位!$AK$5:$BL$5,0)+1,FALSE)","v":{"$error":"#N/A"}},{"$error":"#N/A"},{"$f":"VLOOKUP(I15,熱需要量算定・原単位!$AJ$9:$BL$32,MATCH($L$3,熱需要量算定・原単位!$AK$5:$BL$5,0)+1,FALSE)","v":{"$error":"#N/A"}},{"$error":"#N/A"}]
["■時刻別負荷変動比率　検索key設定",null,null,null,null,null,null,null,12,{"$f":"VLOOKUP(I16,熱需要量算定・原単位!$AJ$9:$BL$32,MATCH($J$3,熱需要量算定・原単位!$AK$5:$BL$5,0)+1,FALSE)","v":{"$error":"#N/A"}},{"$error":"#N/A"},{"$f":"VLOOKUP(I16,熱需要量算定・原単位!$AJ$9:$BL$32,MATCH($L$3,熱需要量算定・原単位!$AK$5:$BL$5,0)+1,FALSE)","v":{"$error":"#N/A"}},{"$error":"#N/A"}]
["No","建物用途","熱利用用途","季節","VLOOKUP","検索key","運転時間",null,13,{"$f":"VLOOKUP(I17,熱需要量算定・原単位!$AJ$9:$BL$32,MATCH($J$3,熱需要量算定・原単位!$AK$5:$BL$5,0)+1,FALSE)","v":{"$error":"#N/A"}},{"$error":"#N/A"},{"$f":"VLOOKUP(I17,熱需要量算定・原単位!$AJ$9:$BL$32,MATCH($L$3,熱需要量算定・原単位!$AK$5:$BL$5,0)+1,FALSE)","v":{"$error":"#N/A"}},{"$error":"#N/A"}]
[1,"集合住宅","給湯","冬期",{"$f":"B18&C18","v":"集合住宅給湯"},{"$f":"B18&C18&D18","v":"集合住宅給湯冬期"},{"$f":"HLOOKUP(F18,熱需要量算定・原単位!$AJ$5:$BL$34,30,FALSE)","v":22},null,14,{"$f":"VLOOKUP(I18,熱需要量算定・原単位!$AJ$9:$BL$32,MATCH($J$3,熱需要量算定・原単位!$AK$5:$BL$5,0)+1,FALSE)","v":{"$error":"#N/A"}},{"$error":"#N/A"},{"$f":"VLOOKUP(I18,熱需要量算定・原単位!$AJ$9:$BL$32,MATCH($L$3,熱需要量算定・原単位!$AK$5:$BL$5,0)+1,FALSE)","v":{"$error":"#N/A"}},{"$error":"#N/A"}]
[2,"集合住宅","冷房","夏期",{"$f":"B19&C19","v":"集合住宅冷房"},{"$f":"B19&C19&D19","v":"集合住宅冷房夏期"},{"$f":"HLOOKUP(F19,熱需要量算定・原単位!$AJ$5:$BL$34,30,FALSE)","v":24},null,15,{"$f":"VLOOKUP(I19,熱需要量算定・原単位!$AJ$9:$BL$32,MATCH($J$3,熱需要量算定・原単位!$AK$5:$BL$5,0)+1,FALSE)","v":{"$error":"#N/A"}},{"$error":"#N/A"},{"$f":"VLOOKUP(I19,熱需要量算定・原単位!$AJ$9:$BL$32,MATCH($L$3,熱需要量算定・原単位!$AK$5:$BL$5,0)+1,FALSE)","v":{"$error":"#N/A"}},{"$error":"#N/A"}]
[3,"集合住宅","暖房","冬期","集合住宅暖房","集合住宅暖房冬期",{"$f":"HLOOKUP(F20,熱需要量算定・原単位!$AJ$5:$BL$34,30,FALSE)","v":24},null,16,{"$f":"VLOOKUP(I20,熱需要量算定・原単位!$AJ$9:$BL$32,MATCH($J$3,熱需要量算定・原単位!$AK$5:$BL$5,0)+1,FALSE)","v":{"$error":"#N/A"}},{"$error":"#N/A"},{"$f":"VLOOKUP(I20,熱需要量算定・原単位!$AJ$9:$BL$32,MATCH($L$3,熱需要量算定・原単位!$AK$5:$BL$5,0)+1,FALSE)","v":{"$error":"#N/A"}},{"$error":"#N/A"}]
[4,"業務施設","給湯","冬期","業務施設給湯","業務施設給湯冬期",{"$f":"HLOOKUP(F21,熱需要量算定・原単位!$AJ$5:$BL$34,30,FALSE)","v":14},null,17,{"$f":"VLOOKUP(I21,熱需要量算定・原単位!$AJ$9:$BL$32,MATCH($J$3,熱需要量算定・原単位!$AK$5:$BL$5,0)+1,FALSE)","v":{"$error":"#N/A"}},{"$error":"#N/A"},{"$f":"VLOOKUP(I21,熱需要量算定・原単位!$AJ$9:$BL$32,MATCH($L$3,熱需要量算定・原単位!$AK$5:$BL$5,0)+1,FALSE)","v":{"$error":"#N/A"}},{"$error":"#N/A"}]
[5,"業務施設","冷房","夏期","業務施設冷房","業務施設冷房夏期",{"$f":"HLOOKUP(F22,熱需要量算定・原単位!$AJ$5:$BL$34,30,FALSE)","v":14},null,18,{"$f":"VLOOKUP(I22,熱需要量算定・原単位!$AJ$9:$BL$32,MATCH($J$3,熱需要量算定・原単位!$AK$5:$BL$5,0)+1,FALSE)","v":{"$error":"#N/A"}},{"$error":"#N/A"},{"$f":"VLOOKUP(I22,熱需要量算定・原単位!$AJ$9:$BL$32,MATCH($L$3,熱需要量算定・原単位!$AK$5:$BL$5,0)+1,FALSE)","v":{"$error":"#N/A"}},{"$error":"#N/A"}]
[6,"業務施設","暖房","冬期","業務施設暖房","業務施設暖房冬期",{"$f":"HLOOKUP(F23,熱需要量算定・原単位!$AJ$5:$BL$34,30,FALSE)","v":11},null,19,{"$f":"VLOOKUP(I23,熱需要量算定・原単位!$AJ$9:$BL$32,MATCH($J$3,熱需要量算定・原単位!$AK$5:$BL$5,0)+1,FALSE)","v":{"$error":"#N/A"}},{"$error":"#N/A"},{"$f":"VLOOKUP(I23,熱需要量算定・原単位!$AJ$9:$BL$32,MATCH($L$3,熱需要量算定・原単位!$AK$5:$BL$5,0)+1,FALSE)","v":{"$error":"#N/A"}},{"$error":"#N/A"}]
[7,"商業施設","給湯","-","商業施設給湯","商業施設給湯-",{"$f":"HLOOKUP(F24,熱需要量算定・原単位!$AJ$5:$BL$34,30,FALSE)","v":12},null,20,{"$f":"VLOOKUP(I24,熱需要量算定・原単位!$AJ$9:$BL$32,MATCH($J$3,熱需要量算定・原単位!$AK$5:$BL$5,0)+1,FALSE)","v":{"$error":"#N/A"}},{"$error":"#N/A"},{"$f":"VLOOKUP(I24,熱需要量算定・原単位!$AJ$9:$BL$32,MATCH($L$3,熱需要量算定・原単位!$AK$5:$BL$5,0)+1,FALSE)","v":{"$error":"#N/A"}},{"$error":"#N/A"}]
[8,"商業施設","冷房","-","商業施設冷房","商業施設冷房-",{"$f":"HLOOKUP(F25,熱需要量算定・原単位!$AJ$5:$BL$34,30,FALSE)","v":11},null,21,{"$f":"VLOOKUP(I25,熱需要量算定・原単位!$AJ$9:$BL$32,MATCH($J$3,熱需要量算定・原単位!$AK$5:$BL$5,0)+1,FALSE)","v":{"$error":"#N/A"}},{"$error":"#N/A"},{"$f":"VLOOKUP(I25,熱需要量算定・原単位!$AJ$9:$BL$32,MATCH($L$3,熱需要量算定・原単位!$AK$5:$BL$5,0)+1,FALSE)","v":{"$error":"#N/A"}},{"$error":"#N/A"}]
[9,"商業施設","暖房","-","商業施設暖房","商業施設暖房-",{"$f":"HLOOKUP(F26,熱需要量算定・原単位!$AJ$5:$BL$34,30,FALSE)","v":11},null,22,{"$f":"VLOOKUP(I26,熱需要量算定・原単位!$AJ$9:$BL$32,MATCH($J$3,熱需要量算定・原単位!$AK$5:$BL$5,0)+1,FALSE)","v":{"$error":"#N/A"}},{"$error":"#N/A"},{"$f":"VLOOKUP(I26,熱需要量算定・原単位!$AJ$9:$BL$32,MATCH($L$3,熱需要量算定・原単位!$AK$5:$BL$5,0)+1,FALSE)","v":{"$error":"#N/A"}},{"$error":"#N/A"}]
[10,"宿泊施設","給湯","-","宿泊施設給湯","宿泊施設給湯-",{"$f":"HLOOKUP(F27,熱需要量算定・原単位!$AJ$5:$BL$34,30,FALSE)","v":24},null,23,{"$f":"VLOOKUP(I27,熱需要量算定・原単位!$AJ$9:$BL$32,MATCH($J$3,熱需要量算定・原単位!$AK$5:$BL$5,0)+1,FALSE)","v":{"$error":"#N/A"}},{"$error":"#N/A"},{"$f":"VLOOKUP(I27,熱需要量算定・原単位!$AJ$9:$BL$32,MATCH($L$3,熱需要量算定・原単位!$AK$5:$BL$5,0)+1,FALSE)","v":{"$error":"#N/A"}},{"$error":"#N/A"}]
[11,"宿泊施設","冷房","夏期","宿泊施設冷房","宿泊施設冷房夏期",{"$f":"HLOOKUP(F28,熱需要量算定・原単位!$AJ$5:$BL$34,30,FALSE)","v":24},null,24,{"$f":"VLOOKUP(I28,熱需要量算定・原単位!$AJ$9:$BL$32,MATCH($J$3,熱需要量算定・原単位!$AK$5:$BL$5,0)+1,FALSE)","v":{"$error":"#N/A"}},{"$error":"#N/A"},{"$f":"VLOOKUP(I28,熱需要量算定・原単位!$AJ$9:$BL$32,MATCH($L$3,熱需要量算定・原単位!$AK$5:$BL$5,0)+1,FALSE)","v":{"$error":"#N/A"}},{"$error":"#N/A"}]
[12,"宿泊施設","暖房","冬期","宿泊施設暖房","宿泊施設暖房冬期",{"$f":"HLOOKUP(F29,熱需要量算定・原単位!$AJ$5:$BL$34,30,FALSE)","v":23},null,"合計",null,{"$f":"SUM(K5:K28)","v":{"$error":"#N/A"}},null,{"$f":"SUM(M5:M28)","v":{"$error":"#N/A"}}]
[13,"医療施設","給湯","冬期","医療施設給湯","医療施設給湯冬期",{"$f":"HLOOKUP(F30,熱需要量算定・原単位!$AJ$5:$BL$34,30,FALSE)","v":24}]
[14,"医療施設","冷房","夏期","医療施設冷房","医療施設冷房夏期",{"$f":"HLOOKUP(F31,熱需要量算定・原単位!$AJ$5:$BL$34,30,FALSE)","v":24}]
[15,"医療施設","暖房","冬期","医療施設暖房","医療施設暖房冬期",{"$f":"HLOOKUP(F32,熱需要量算定・原単位!$AJ$5:$BL$34,30,FALSE)","v":24}]
[]
[]
["■運転時間の設定（熱負荷に合わせた運転の場合）"]
["熱利用用途","給湯","冷房","暖房"]
["運転時間",{"$f":"VLOOKUP($B$4&B36,$E$17:$G$32,3,FALSE)","v":{"$error":"#N/A"}},{"$f":"VLOOKUP($B$4&C36,$E$17:$G$32,3,FALSE)","v":{"$error":"#N/A"}},{"$f":"VLOOKUP($B$4&D36,$E$17:$G$32,3,FALSE)","v":{"$error":"#N/A"}}]

{"sheet":"バイオマス熱_空調_IC","index":69,"n_rows":30,"n_cols":16,"rows_kept":30,"cut":false,"hidden":true,"merged":[[27,1,27,2],[28,1,28,2],[29,1,29,2],[4,1,16,1],[17,1,19,1],[20,1,23,1],[24,1,24,2],[25,1,25,2],[26,1,26,2]]}
[null,"■イニシャルコスト算出"]
[]
[null,"バイオマス熱システム_空調"]
[null,null,"名称","摘要","単価[千円]","数量","単位","金額[千円]","備考","memo",null,null,null,null,"価格関数代入値","単位"]
[null,"機械工事","バイオマスボイラ",null,{"$f":"IF(O5=0,0,価格関数!E14*O5+価格関数!F14)","v":{"$error":"#N/A"}},1,"台",{"$f":"F5*E5","v":{"$error":"#N/A"}},null,"価格関数",null,null,null,"熱源容量",{"$f":"バイオマス熱_空調_熱源容量!P5","v":{"$error":"#N/A"}},"kW"]
[null,null,"吸収式冷凍機",null,{"$f":"IF(O6=0,0,価格関数!E17*O6+価格関数!F17)","v":{"$error":"#N/A"}},1,"台",{"$f":"F6*E6","v":{"$error":"#N/A"}},null,"価格関数",null,null,null,"熱源容量",{"$f":"バイオマス熱_空調_熱源容量!P4","v":{"$error":"#N/A"}},"kW"]
[null,null,"冷温水ポンプ",null,{"$f":"IF(O7=0,0,価格関数!$E$21*O7+価格関数!$F$21)","v":{"$error":"#N/A"}},1,"台",{"$f":"F7*E7","v":{"$error":"#N/A"}},null,"価格関数",null,null,null,"ポンプ出力",{"$f":"バイオマス熱_空調_RC!K12","v":{"$error":"#N/A"}},"kW"]
[null,null,"冷却水ポンプ",null,{"$f":"IF(O8=0,0,価格関数!$E$21*O8+価格関数!$F$21)","v":{"$error":"#N/A"}},1,"台",{"$f":"F8*E8","v":{"$error":"#N/A"}},null,"価格関数",null,null,null,"ポンプ出力",{"$f":"バイオマス熱_空調_RC!K18","v":{"$error":"#N/A"}},"kW"]
[null,null,"冷却塔",null,{"$f":"IF(O9=0,0,価格関数!$E$19*バイオマス熱_空調_IC!O9+価格関数!$F$19)","v":{"$error":"#N/A"}},1,"台",{"$f":"F9*E9","v":{"$error":"#N/A"}},null,"価格関数",null,null,null,"冷却水流量",{"$f":"バイオマス熱_空調_RC!K15","v":{"$error":"#N/A"}},"L/min"]
[]
[]
[]
[]
[null,null,"自動制御",null,null,1,"式",{"$f":"INT(SUM(H5:H13)*I14)","v":{"$error":"#N/A"}},0.2,"概算　事例等より設定"]
[null,null,"その他配管","概算（付属品込）",null,1,"式",{"$f":"INT(SUM(H5:H14)*I15)","v":{"$error":"#N/A"}},0.1,"配管費=機器類×5~10%と設定"]
[]
[null,null,"小計",null,null,null,null,{"$f":"SUM(H5:H16)","v":{"$error":"#N/A"}}]
[null,"電気工事","概算","概算",null,null,null,{"$f":"INT(H17*I18)","v":{"$error":"#N/A"}},0.3]
[]
[null,null,"小計",null,null,null,null,{"$f":"SUM(H18:H19)","v":{"$error":"#N/A"}}]
[null,"土工事"]
[]
[]
[null,null,"小計",null,null,null,null,{"$f":"SUM(H21:H23)","v":0}]
[null,"直接工事費",null,null,null,null,null,{"$f":"H24+H20+H17","v":{"$error":"#N/A"}}]
[null,"間接工事費",null,null,null,1,"式",{"$f":"INT(H25*0.3)","v":{"$error":"#N/A"}},"直接工事費×30%"]
[null,"工事原価",null,null,null,1,"式",{"$f":"H25+H26","v":{"$error":"#N/A"}}]
[null,"消費税",null,null,null,1,"式"]
[]
[null,"合計",null,null,null,null,null,{"$f":"H27+H28","v":{"$error":"#N/A"}}]

{"sheet":"バイオマス熱_融雪_RC","index":70,"n_rows":158,"n_cols":31,"rows_kept":158,"cut":false,"hidden":true,"merged":[]}
[null,"■入力情報",null,null,null,null,null,null,"■給湯　バイオマス熱システムのエネルギー計算"]
[]
[null,"■対象施設情報",null,null,null,null,null,null,"■給湯　バイオマス熱システム検討",null,null,null,null,"■給湯　バイオマス熱システム　エネルギー計算・エネルギーコスト検討"]
[null,"項目","単位","値","備考",null,null,null,"項目","単位","値","備考",null,"項目","単位","4月","5月","6月","7月","8月","9月","10月","11月","12月","1月","2月","3月","合計","最大","最小","備考"]
[null,"地域選択","-",{"$f":"入力シート!C7","v":0},"都道府県を選択してください。",null,null,null,"運転時間","h/日",24,null,null,"熱利用用途",null,{"$f":"マッチング!E10","v":""},{"$f":"マッチング!F10","v":""},{"$f":"マッチング!G10","v":""},{"$f":"マッチング!H10","v":""},{"$f":"マッチング!I10","v":""},{"$f":"マッチング!J10","v":""},{"$f":"マッチング!K10","v":""},{"$f":"マッチング!L10","v":""},{"$f":"マッチング!M10","v":""},{"$f":"マッチング!N10","v":""},{"$f":"マッチング!O10","v":""},{"$f":"マッチング!P10","v":""}]
[null,"熱利用用途","-",{"$f":"入力シート!C8","v":0},"給湯、空調、融雪から選択してください。",null,null,null,"暖房効率","-",0.9,null,null,"熱需要量","MJ/月",{"$f":"マッチング!E115","v":{"$error":"#N/A"}},{"$f":"マッチング!F115","v":{"$error":"#N/A"}},{"$f":"マッチング!G115","v":{"$error":"#N/A"}},{"$f":"マッチング!H115","v":{"$error":"#N/A"}},{"$f":"マッチング!I115","v":{"$error":"#N/A"}},{"$f":"マッチング!J115","v":{"$error":"#N/A"}},{"$f":"マッチング!K115","v":{"$error":"#N/A"}},{"$f":"マッチング!L115","v":{"$error":"#N/A"}},{"$f":"マッチング!M115","v":{"$error":"#N/A"}},{"$f":"マッチング!N115","v":{"$error":"#N/A"}},{"$f":"マッチング!O115","v":{"$error":"#N/A"}},{"$f":"マッチング!P115","v":{"$error":"#N/A"}},{"$f":"SUM(P6:AA6)","v":{"$error":"#N/A"}},{"$f":"MAX(P6:AA6)","v":{"$error":"#N/A"}},{"$f":"MIN(P6:AA6)","v":{"$error":"#N/A"}}]
[null,"建物用途","-",{"$f":"入力シート!C9","v":0},"給湯、空調利用の場合は建物用途を選択してください。",null,null,null,"熱源容量(最大負荷月)","kW",{"$f":"AC12","v":{"$error":"#N/A"}},"熱源容量シートより",null,null,"kWh/月",{"$f":"P6*1000/3600","v":{"$error":"#N/A"}},{"$f":"Q6*1000/3600","v":{"$error":"#N/A"}},{"$error":"#N/A"},{"$error":"#N/A"},{"$error":"#N/A"},{"$error":"#N/A"},{"$error":"#N/A"},{"$error":"#N/A"},{"$error":"#N/A"},{"$error":"#N/A"},{"$error":"#N/A"},{"$error":"#N/A"},{"$f":"SUM(P7:AA7)","v":{"$error":"#N/A"}},{"$f":"MAX(P7:AA7)","v":{"$error":"#N/A"}},{"$f":"MIN(P7:AA7)","v":{"$error":"#N/A"}}]
[null,"延床面積","m2",{"$f":"入力シート!C10","v":0},"給湯、空調利用の場合は数値を入力してください。",null,null,null,"温度差","℃",5,"想定設定値",null,"日数","日",{"$f":"熱需要量算定・原単位!D24","v":30},{"$f":"熱需要量算定・原単位!E24","v":31},{"$f":"熱需要量算定・原単位!F24","v":30},{"$f":"熱需要量算定・原単位!G24","v":31},{"$f":"熱需要量算定・原単位!H24","v":31},{"$f":"熱需要量算定・原単位!I24","v":30},{"$f":"熱需要量算定・原単位!J24","v":31},{"$f":"熱需要量算定・原単位!K24","v":30},{"$f":"熱需要量算定・原単位!L24","v":31},{"$f":"熱需要量算定・原単位!M24","v":31},{"$f":"熱需要量算定・原単位!N24","v":28},{"$f":"熱需要量算定・原単位!O24","v":31},{"$f":"SUM(P8:AA8)","v":365}]
[null,"対象面積","m2",{"$f":"入力シート!C11","v":0},"融雪利用の場合は数値を入力して下さい。",null,null,null,"冷温水流量","L/min",{"$f":"K7/K8/$D$24/$D$25*1000*60","v":{"$error":"#N/A"}},null,null,"運転時間","h/日",{"$f":"$K$5","v":24},{"$f":"$K$5","v":24},24,24,24,24,24,24,24,24,24,24]
[null,"燃料種別の選択","-","-",null,null,null,null,"冷温水揚程（想定）","m",15,"想定設定値",null,"日あたりの熱需要量","MJ/日",{"$f":"P6/P8","v":{"$error":"#N/A"}},{"$f":"Q6/Q8","v":{"$error":"#N/A"}},{"$error":"#N/A"},{"$error":"#N/A"},{"$error":"#N/A"},{"$error":"#N/A"},{"$error":"#N/A"},{"$error":"#N/A"},{"$error":"#N/A"},{"$error":"#N/A"},{"$error":"#N/A"},{"$error":"#N/A"},{"$f":"SUM(P10:AA10)","v":{"$error":"#N/A"}},{"$f":"MAX(P10:AA10)","v":{"$error":"#N/A"}},{"$f":"MIN(P10:AA10)","v":{"$error":"#N/A"}}]
[null,"選択燃料の発熱量",null,null,null,null,null,null,"冷温水ポンプ効率","%",{"$f":"IF(K9<80,ポンプ効率近似式!$D$14,-1.403*LN(K9/1000)^2+6.9719*LN(K9/1000)+53.781)","v":{"$error":"#N/A"}},"ポンプ効率近似式より",null,null,"kWh/日",{"$f":"P10*1000/3600","v":{"$error":"#N/A"}},{"$f":"Q10*1000/3600","v":{"$error":"#N/A"}},{"$error":"#N/A"},{"$error":"#N/A"},{"$error":"#N/A"},{"$error":"#N/A"},{"$error":"#N/A"},{"$error":"#N/A"},{"$error":"#N/A"},{"$error":"#N/A"},{"$error":"#N/A"},{"$error":"#N/A"},{"$f":"SUM(P11:AA11)","v":{"$error":"#N/A"}},{"$f":"MAX(P11:AA11)","v":{"$error":"#N/A"}},{"$f":"MIN(P11:AA11)","v":{"$error":"#N/A"}}]
[null,null,null,null,null,null,null,null,"冷温水ポンプ消費電力","kW",{"$f":"$D$25*$D$27*K9/1000/60*K10/10/K11","v":{"$error":"#N/A"}},"ポンプ関数より",null,"熱源容量","kW",{"$f":"P11/P9","v":{"$error":"#N/A"}},{"$f":"Q11/Q9","v":{"$error":"#N/A"}},{"$error":"#N/A"},{"$error":"#N/A"},{"$error":"#N/A"},{"$error":"#N/A"},{"$error":"#N/A"},{"$error":"#N/A"},{"$error":"#N/A"},{"$error":"#N/A"},{"$error":"#N/A"},{"$f":"AA11/AA9","v":{"$error":"#N/A"}},null,{"$f":"MAX(P12:AA12)","v":{"$error":"#N/A"}},{"$f":"MIN(P12:AA12)","v":{"$error":"#N/A"}}]
[null,"■バイオマス設定内容",null,null,null,null,null,null,null,null,null,null,null,"熱源機効率","-",{"$f":"$K$6","v":0.9},0.9,0.9,0.9,0.9,0.9,0.9,0.9,0.9,0.9,0.9,0.9]
[null,"項目","単位","値","備考",null,null,null,null,null,null,null,null,"熱源機　バイオマス燃料　必要発熱量","MJ/月",{"$f":"P6/P13","v":{"$error":"#N/A"}},{"$error":"#N/A"},{"$error":"#N/A"},{"$error":"#N/A"},{"$error":"#N/A"},{"$error":"#N/A"},{"$error":"#N/A"},{"$error":"#N/A"},{"$error":"#N/A"},{"$error":"#N/A"},{"$error":"#N/A"},{"$error":"#N/A"},{"$f":"SUM(P14:AA14)","v":{"$error":"#N/A"}},{"$f":"MAX(P14:AA14)","v":{"$error":"#N/A"}},{"$f":"MIN(P14:AA14)","v":{"$error":"#N/A"}}]
[null,"バイオマス燃料種別","-",{"$f":"入力シート!C88","v":"木質チップ"},null,null,null,null,null,null,null,null,null,null,"kWh/月",{"$f":"P7/P13","v":{"$error":"#N/A"}},{"$error":"#N/A"},{"$error":"#N/A"},{"$error":"#N/A"},{"$error":"#N/A"},{"$error":"#N/A"},{"$error":"#N/A"},{"$error":"#N/A"},{"$error":"#N/A"},{"$error":"#N/A"},{"$error":"#N/A"},{"$error":"#N/A"},{"$error":"#N/A"},{"$f":"MAX(P15:AA15)","v":{"$error":"#N/A"}},{"$f":"MIN(P15:AA15)","v":{"$error":"#N/A"}}]
[null,"燃料発熱量・価格の入力","-",{"$f":"入力シート!C87","v":"無し"},null,null,null,null,null,null,null,null,null,"熱源機　バイオマス燃料　消費量","kg/月",{"$f":"P14/$D$17","v":{"$error":"#N/A"}},{"$f":"Q14/$D$17","v":{"$error":"#N/A"}},{"$error":"#N/A"},{"$error":"#N/A"},{"$error":"#N/A"},{"$error":"#N/A"},{"$error":"#N/A"},{"$error":"#N/A"},{"$error":"#N/A"},{"$error":"#N/A"},{"$error":"#N/A"},{"$error":"#N/A"},{"$error":"#N/A"},{"$f":"MAX(P16:AA16)","v":{"$error":"#N/A"}},{"$f":"MIN(P16:AA16)","v":{"$error":"#N/A"}}]
[null,"バイオマス燃料発熱量","MJ/kg",{"$f":"IF(D16=\"有り\",入力シート!C89,VLOOKUP(D15,バイオマス燃料情報!B4:H11,2,FALSE))","v":10.33942},null,null,null,null,null,null,null,null,null,"冷温水ポンプ消費電力量","kWh/月",{"$f":"IF(P6=0,0,$K$12*P9*P8)","v":{"$error":"#N/A"}},{"$error":"#N/A"},{"$error":"#N/A"},{"$error":"#N/A"},{"$error":"#N/A"},{"$error":"#N/A"},{"$error":"#N/A"},{"$error":"#N/A"},{"$error":"#N/A"},{"$error":"#N/A"},{"$error":"#N/A"},{"$error":"#N/A"},{"$error":"#N/A"}]
[null,"バイオマス燃料燃料価格","円/kg",{"$f":"IF(D16=\"有り\",入力シート!C90,VLOOKUP(D15,バイオマス燃料情報!B4:H11,4,FALSE))","v":10},null,null,null,null,null,null,null,null,null,"消費電力合計","kWh/月",{"$f":"P17","v":{"$error":"#N/A"}},{"$error":"#N/A"},{"$error":"#N/A"},{"$error":"#N/A"},{"$error":"#N/A"},{"$error":"#N/A"},{"$error":"#N/A"},{"$error":"#N/A"},{"$error":"#N/A"},{"$error":"#N/A"},{"$error":"#N/A"},{"$error":"#N/A"},{"$error":"#N/A"}]
[null,"バイオマス燃料供給量","t/年",{"$f":"入力シート!C91","v":150},null,null,null,null,null,null,null,null,null,"灰発生量","kg/月",{"$f":"P16*2%","v":{"$error":"#N/A"}},{"$error":"#N/A"},{"$error":"#N/A"},{"$error":"#N/A"},{"$error":"#N/A"},{"$error":"#N/A"},{"$error":"#N/A"},{"$error":"#N/A"},{"$error":"#N/A"},{"$error":"#N/A"},{"$error":"#N/A"},{"$error":"#N/A"},{"$error":"#N/A"},{"$f":"MAX(P19:AA19)","v":{"$error":"#N/A"}},{"$f":"MIN(P19:AA19)","v":{"$error":"#N/A"}},"燃料消費量の2%と仮定する。"]
[null,"年間燃料熱量","MJ/年",{"$f":"D17*D19*1000","v":1550913}]
[]
[null,"■係数"]
[null,"項目","値","単位","備考"]
[null,"水の比熱","kJ/kgK",{"$f":"係数・物性!D4","v":4.1790000000000003},"係数・物性より"]
[null,"水の密度","kg/m3",{"$f":"係数・物性!D5","v":996.62},"係数・物性より"]
[null,"容積比熱","MJ/m3K",{"$f":"係数・物性!D6","v":4.1648749800000004},"係数・物性より"]
[null,"重力加速度","m/s2",{"$f":"係数・物性!D7","v":9.8059999999999992},"係数・物性より"]
[]
[null,null,null,null,null,null,null,null,"■エネルギーコスト、CO2排出量、一次エネルギー消費量計算（エネルギー消費量を入力）"]
[null,null,null,null,null,null,null,null,null,null,null,null,null,"□エネルギー消費量"]
[null,null,null,null,null,null,null,null,null,"設定セル",null,null,null,"項目","単位","4月","5月","6月","7月","8月","9月","10月","11月","12月","1月","2月","3月","合計","最大","最小","備考"]
[null,null,null,null,null,null,null,null,null,"変更設定していいセル（計算式が入力されている）",null,null,null,"電気","kWh/月",{"$f":"P18","v":{"$error":"#N/A"}},{"$f":"Q18","v":{"$error":"#N/A"}},{"$error":"#N/A"},{"$error":"#N/A"},{"$error":"#N/A"},{"$error":"#N/A"},{"$error":"#N/A"},{"$error":"#N/A"},{"$error":"#N/A"},{"$error":"#N/A"},{"$error":"#N/A"},{"$error":"#N/A"},{"$f":"SUM(P32:AA32)","v":{"$error":"#N/A"}},{"$f":"MAX(P32:AA32)","v":{"$error":"#N/A"}},{"$f":"MIN(P32:AA32)","v":{"$error":"#N/A"}}]
[null,null,null,null,null,null,null,null,null,"あまり変更しなくていい設定セル",null,null,null,"都市ガス（13A）","m3/月",{"$f":"IF($D$10=$N33,P$16,0)","v":0},0,0,0,0,0,0,0,0,0,0,0,0,0,0]
[null,null,null,null,null,null,null,null,null,"デフォ値・係数",null,null,null,"灯油","L/月",0,0,0,0,0,0,0,0,0,0,0,0,0,0,0]
[null,null,null,null,null,null,null,null,null,"計算式・項目確認セル",null,null,null,"重油","L/月",0,0,0,0,0,0,0,0,0,0,0,0,0,0,0]
[null,null,null,null,null,null,null,null,null,null,null,null,null,"液化石油ガス（LPG）","kg/月",0,0,0,0,0,0,0,0,0,0,0,0,0,0,0]
[null,null,null,null,null,null,null,null,null,null,null,null,null,"他人から供給された熱","MJ/月",0,0,0,0,0,0,0,0,0,0,0,0,0,0,0]
[null,null,null,null,null,null,null,null,null,null,null,null,null,"バイオマス燃料","kg/月",{"$f":"P16","v":{"$error":"#N/A"}},{"$f":"Q16","v":{"$error":"#N/A"}},{"$error":"#N/A"},{"$error":"#N/A"},{"$error":"#N/A"},{"$error":"#N/A"},{"$error":"#N/A"},{"$error":"#N/A"},{"$error":"#N/A"},{"$error":"#N/A"},{"$error":"#N/A"},{"$error":"#N/A"},{"$f":"SUM(P38:AA38)","v":{"$error":"#N/A"}},{"$error":"#N/A"},{"$error":"#N/A"}]
[]
[null,null,null,null,null,null,null,null,"□エネルギーコスト単価(フラットレート)",null,null,null,null,"□エネルギーコスト検討"]
[null,null,null,null,null,null,null,null,"項目","単位","値","備考",null,"項目","単位","4月","5月","6月","7月","8月","9月","10月","11月","12月","1月","2月","3月","合計","最大","最小","備考"]
[null,null,null,null,null,null,null,null,"電気","円/kWh",{"$f":"E単価!H5","v":14},null,null,"電気","千円/月",{"$f":"P32*$K42/1000","v":{"$error":"#N/A"}},{"$f":"Q32*$K42/1000","v":{"$error":"#N/A"}},{"$error":"#N/A"},{"$error":"#N/A"},{"$error":"#N/A"},{"$error":"#N/A"},{"$error":"#N/A"},{"$error":"#N/A"},{"$error":"#N/A"},{"$error":"#N/A"},{"$error":"#N/A"},{"$error":"#N/A"},{"$f":"SUM(P42:AA42)","v":{"$error":"#N/A"}},{"$f":"MAX(P42:AA42)","v":{"$error":"#N/A"}},{"$f":"MIN(P42:AA42)","v":{"$error":"#N/A"}}]
[null,null,null,null,null,null,null,null,"都市ガス（13A）","円/m3",{"$f":"E単価!H6","v":114.64285714285714},null,null,"都市ガス（13A）","千円/月",0,0,0,0,0,0,0,0,0,0,0,0,0,0,0]
[null,null,null,null,null,null,null,null,"灯油","円/L",{"$f":"E単価!H7","v":107.88888888888889},null,null,"灯油","千円/月",0,0,0,0,0,0,0,0,0,0,0,0,0,0,0]
[null,null,null,null,null,null,null,null,"重油","円/L",{"$f":"E単価!H8","v":76.099999999999994},null,null,"重油","千円/月",0,0,0,0,0,0,0,0,0,0,0,0,0,0,0]
[null,null,null,null,null,null,null,null,"液化石油ガス（LPG）","円/kg",{"$f":"E単価!H9","v":159.40476190476193},null,null,"液化石油ガス（LPG）","千円/月",0,0,0,0,0,0,0,0,0,0,0,0,0,0,0]
[null,null,null,null,null,null,null,null,"他人から供給された熱","円/GJ",{"$f":"E単価!H10","v":6611.9047619047615},null,null,"他人から供給された熱","千円/月",0,0,0,0,0,0,0,0,0,0,0,0,0,0,0]
[null,null,null,null,null,null,null,null,null,null,null,null,null,"バイオマス燃料","千円/月",{"$f":"P38*$D$18/1000","v":{"$error":"#N/A"}},{"$f":"Q38*$D$18/1000","v":{"$error":"#N/A"}},{"$error":"#N/A"},{"$error":"#N/A"},{"$error":"#N/A"},{"$error":"#N/A"},{"$error":"#N/A"},{"$error":"#N/A"},{"$error":"#N/A"},{"$error":"#N/A"},{"$error":"#N/A"},{"$error":"#N/A"},{"$error":"#N/A"},{"$error":"#N/A"},{"$error":"#N/A"}]
[null,null,null,null,null,null,null,null,null,null,null,null,null,"バイオマス灰処理費用","千円/月",{"$f":"P19/1000*10","v":{"$error":"#N/A"}},{"$f":"Q19/1000*10","v":{"$error":"#N/A"}},{"$error":"#N/A"},{"$error":"#N/A"},{"$error":"#N/A"},{"$error":"#N/A"},{"$error":"#N/A"},{"$error":"#N/A"},{"$error":"#N/A"},{"$error":"#N/A"},{"$error":"#N/A"},{"$error":"#N/A"},{"$f":"SUM(P49:AA49)","v":{"$error":"#N/A"}},{"$error":"#N/A"},{"$error":"#N/A"},"灰処理単価：10千円/t（※1より）"]
[null,null,null,null,null,null,null,null,null,null,null,null,null,"エネルギーコスト合計","千円/月",{"$f":"SUM(P42:P49)","v":{"$error":"#N/A"}},{"$f":"SUM(Q42:Q49)","v":{"$error":"#N/A"}},{"$error":"#N/A"},{"$error":"#N/A"},{"$error":"#N/A"},{"$error":"#N/A"},{"$error":"#N/A"},{"$error":"#N/A"},{"$error":"#N/A"},{"$error":"#N/A"},{"$error":"#N/A"},{"$error":"#N/A"},{"$f":"SUM(AB42:AB49)","v":{"$error":"#N/A"}},{"$f":"SUM(AC42:AC47)","v":{"$error":"#N/A"}},{"$error":"#N/A"}]
[]
[null,null,null,null,null,null,null,null,"□CO2換算係数",null,null,null,null,"□CO2排出量"]
[null,null,null,null,null,null,null,null,"項目","単位","値","備考",null,"項目","単位","4月","5月","6月","7月","8月","9月","10月","11月","12月","1月","2月","3月","合計","最大","最小","備考"]
[null,null,null,null,null,null,null,null,"電気","tCO2/kWh",{"$f":"CO2換算係数!B3","v":4.8799999999999999E-4},null,null,"電気","t-CO2/月",{"$f":"P32*$K54","v":{"$error":"#N/A"}},{"$f":"Q32*$K54","v":{"$error":"#N/A"}},{"$error":"#N/A"},{"$error":"#N/A"},{"$error":"#N/A"},{"$error":"#N/A"},{"$error":"#N/A"},{"$error":"#N/A"},{"$error":"#N/A"},{"$error":"#N/A"},{"$error":"#N/A"},{"$f":"AA32*$K54","v":{"$error":"#N/A"}},{"$f":"SUM(P54:AA54)","v":{"$error":"#N/A"}},{"$f":"MAX(P54:AA54)","v":{"$error":"#N/A"}},{"$f":"MIN(P54:AA54)","v":{"$error":"#N/A"}}]
[null,null,null,null,null,null,null,null,"都市ガス（13A）","tCO2/km3",{"$f":"CO2換算係数!B4","v":2.23},null,null,"都市ガス（13A）","t-CO2/月",{"$f":"P33/1000*$K55","v":0},0,0,0,0,0,0,0,0,0,0,0,0,0,0]
[null,null,null,null,null,null,null,null,"灯油","tCO2/kL",{"$f":"CO2換算係数!B5","v":2.4900000000000002},null,null,"灯油","t-CO2/月",0,0,0,0,0,0,0,0,0,0,0,0,0,0,0]
[null,null,null,null,null,null,null,null,"重油","tCO2/kL",{"$f":"CO2換算係数!B6","v":2.71},null,null,"重油","t-CO2/月",0,0,0,0,0,0,0,0,0,0,0,0,0,0,0]
[null,null,null,null,null,null,null,null,"液化石油ガス（LPG）","tCO2/t",{"$f":"CO2換算係数!B7","v":3},null,null,"液化石油ガス（LPG）","t-CO2/月",0,0,0,0,0,0,0,0,0,0,0,0,0,0,0]
[null,null,null,null,null,null,null,null,"他人から供給された熱","tCO2/GJ",{"$f":"CO2換算係数!B8","v":5.7000000000000002E-2},null,null,"他人から供給された熱","t-CO2/月",0,0,0,0,0,0,0,0,0,0,0,0,0,0,0]
[null,null,null,null,null,null,null,null,null,null,null,null,null,"CO2排出量合計","t-CO2/月",{"$f":"SUM(P54:P59)","v":{"$error":"#N/A"}},{"$f":"SUM(Q54:Q59)","v":{"$error":"#N/A"}},{"$error":"#N/A"},{"$error":"#N/A"},{"$error":"#N/A"},{"$error":"#N/A"},{"$error":"#N/A"},{"$error":"#N/A"},{"$error":"#N/A"},{"$error":"#N/A"},{"$error":"#N/A"},{"$error":"#N/A"},{"$f":"SUM(AB54:AB59)","v":{"$error":"#N/A"}},{"$error":"#N/A"},{"$error":"#N/A"}]
[]
[null,null,null,null,null,null,null,null,"□一次エネルギー換算係数",null,null,null,null,"□一次エネルギー消費量"]
[null,null,null,null,null,null,null,null,"項目","単位","値","備考",null,"項目","単位","4月","5月","6月","7月","8月","9月","10月","11月","12月","1月","2月","3月","合計","最大","最小","備考"]
[null,null,null,null,null,null,null,null,"電気","MJ/kWh",{"$f":"一次E換算!B3","v":9.76},null,null,"電気","MJ/月",{"$f":"P32*$K64","v":{"$error":"#N/A"}},{"$error":"#N/A"},{"$error":"#N/A"},{"$error":"#N/A"},{"$error":"#N/A"},{"$error":"#N/A"},{"$error":"#N/A"},{"$error":"#N/A"},{"$error":"#N/A"},{"$error":"#N/A"},{"$error":"#N/A"},{"$error":"#N/A"},{"$f":"SUM(P64:AA64)","v":{"$error":"#N/A"}},{"$f":"MAX(P64:AA64)","v":{"$error":"#N/A"}},{"$f":"MIN(P64:AA64)","v":{"$error":"#N/A"}}]
[null,null,null,null,null,null,null,null,"都市ガス（13A）","MJ/m3",{"$f":"一次E換算!B4","v":45},null,null,"都市ガス（13A）","MJ/月",0,0,0,0,0,0,0,0,0,0,0,0,0,0,0]
[null,null,null,null,null,null,null,null,"灯油","MJ/L",{"$f":"一次E換算!B5","v":37},null,null,"灯油","MJ/月",0,0,0,0,0,0,0,0,0,0,0,0,0,0,0]
[null,null,null,null,null,null,null,null,"重油","MJ/L",{"$f":"一次E換算!B6","v":41},null,null,"重油","MJ/月",0,0,0,0,0,0,0,0,0,0,0,0,0,0,0]
[null,null,null,null,null,null,null,null,"液化石油ガス（LPG）","MJ/kg",{"$f":"一次E換算!B7","v":50},null,null,"液化石油ガス（LPG）","MJ/月",0,0,0,0,0,0,0,0,0,0,0,0,0,0,0]
[null,null,null,null,null,null,null,null,"他人から供給された熱","MJ/MJ",{"$f":"一次E換算!B8","v":1.36},null,null,"他人から供給された熱","MJ/月",0,0,0,0,0,0,0,0,0,0,0,0,0,0,0]
[null,null,null,null,null,null,null,null,null,null,null,null,null,"一次エネルギー消費量合計","MJ/月",{"$f":"SUM(P64:P69)","v":{"$error":"#N/A"}},{"$error":"#N/A"},{"$error":"#N/A"},{"$error":"#N/A"},{"$error":"#N/A"},{"$error":"#N/A"},{"$error":"#N/A"},{"$error":"#N/A"},{"$error":"#N/A"},{"$error":"#N/A"},{"$error":"#N/A"},{"$error":"#N/A"},{"$error":"#N/A"},{"$error":"#N/A"},{"$error":"#N/A"}]
[]
[]
[null,null,null,null,null,null,null,null,"■熱源機エネルギーコスト、CO2排出量、一次エネルギー消費量計算（エネルギー消費量を入力）"]
[null,null,null,null,null,null,null,null,null,null,null,null,null,"□エネルギー消費量"]
[null,null,null,null,null,null,null,null,null,"設定セル",null,null,null,"項目","単位","4月","5月","6月","7月","8月","9月","10月","11月","12月","1月","2月","3月","合計","最大","最小","備考"]
[null,null,null,null,null,null,null,null,null,"変更設定していいセル（計算式が入力されている）",null,null,null,"電気","kWh/月",null,null,null,null,null,null,null,null,null,null,null,null,{"$f":"SUM(P76:AA76)","v":0},{"$f":"MAX(P76:AA76)","v":0},{"$f":"MIN(P76:AA76)","v":0}]
[null,null,null,null,null,null,null,null,null,"あまり変更しなくていい設定セル",null,null,null,"都市ガス（13A）","m3/月",null,null,null,null,null,null,null,null,null,null,null,null,0,0,0]
[null,null,null,null,null,null,null,null,null,"デフォ値・係数",null,null,null,"灯油","L/月",null,null,null,null,null,null,null,null,null,null,null,null,0,0,0]
[null,null,null,null,null,null,null,null,null,"計算式・項目確認セル",null,null,null,"重油","L/月",null,null,null,null,null,null,null,null,null,null,null,null,0,0,0]
[null,null,null,null,null,null,null,null,null,null,null,null,null,"液化石油ガス（LPG）","kg/月",null,null,null,null,null,null,null,null,null,null,null,null,0,0,0]
[null,null,null,null,null,null,null,null,null,null,null,null,null,"他人から供給された熱","MJ/月",null,null,null,null,null,null,null,null,null,null,null,null,0,0,0]
[null,null,null,null,null,null,null,null,null,null,null,null,null,"バイオマス燃料","kg/月",{"$f":"P16","v":{"$error":"#N/A"}},{"$f":"Q16","v":{"$error":"#N/A"}},{"$error":"#N/A"},{"$error":"#N/A"},{"$error":"#N/A"},{"$error":"#N/A"},{"$error":"#N/A"},{"$error":"#N/A"},{"$error":"#N/A"},{"$error":"#N/A"},{"$error":"#N/A"},{"$error":"#N/A"},{"$f":"SUM(P82:AA82)","v":{"$error":"#N/A"}},{"$error":"#N/A"},{"$error":"#N/A"}]
[]
[null,null,null,null,null,null,null,null,"□エネルギーコスト単価(フラットレート)",null,null,null,null,"□エネルギーコスト検討"]
[null,null,null,null,null,null,null,null,"項目","単位","値","備考",null,"項目","単位","4月","5月","6月","7月","8月","9月","10月","11月","12月","1月","2月","3月","合計","最大","最小","備考"]
[null,null,null,null,null,null,null,null,"電気","円/kWh",{"$f":"K42","v":14},null,null,"電気","千円/月",{"$f":"P76*$K86/1000","v":0},0,0,0,0,0,0,0,0,0,0,0,{"$f":"SUM(P86:AA86)","v":0},{"$f":"MAX(P86:AA86)","v":0},{"$f":"MIN(P86:AA86)","v":0}]
[null,null,null,null,null,null,null,null,"都市ガス（13A）","円/m3",{"$f":"K43","v":114.64285714285714},null,null,"都市ガス（13A）","千円/月",0,0,0,0,0,0,0,0,0,0,0,0,0,0,0]
[null,null,null,null,null,null,null,null,"灯油","円/L",107.88888888888889,null,null,"灯油","千円/月",0,0,0,0,0,0,0,0,0,0,0,0,0,0,0]
[null,null,null,null,null,null,null,null,"重油","円/L",76.099999999999994,null,null,"重油","千円/月",0,0,0,0,0,0,0,0,0,0,0,0,0,0,0]
[null,null,null,null,null,null,null,null,"液化石油ガス（LPG）","円/kg",159.40476190476193,null,null,"液化石油ガス（LPG）","千円/月",0,0,0,0,0,0,0,0,0,0,0,0,0,0,0]
[null,null,null,null,null,null,null,null,"他人から供給された熱","円/GJ",6611.9047619047615,null,null,"他人から供給された熱","千円/月",0,0,0,0,0,0,0,0,0,0,0,0,0,0,0]
[null,null,null,null,null,null,null,null,null,null,null,null,null,"バイオマス燃料","千円/月",{"$f":"P82*$D$18/1000","v":{"$error":"#N/A"}},{"$f":"Q82*$D$18/1000","v":{"$error":"#N/A"}},{"$error":"#N/A"},{"$error":"#N/A"},{"$error":"#N/A"},{"$error":"#N/A"},{"$error":"#N/A"},{"$error":"#N/A"},{"$error":"#N/A"},{"$error":"#N/A"},{"$error":"#N/A"},{"$error":"#N/A"},{"$error":"#N/A"},{"$error":"#N/A"},{"$error":"#N/A"}]
[null,null,null,null,null,null,null,null,null,null,null,null,null,"バイオマス灰処理費用","千円/月",{"$f":"P19/1000*10","v":{"$error":"#N/A"}},{"$f":"Q19/1000*10","v":{"$error":"#N/A"}},{"$error":"#N/A"},{"$error":"#N/A"},{"$error":"#N/A"},{"$error":"#N/A"},{"$error":"#N/A"},{"$error":"#N/A"},{"$error":"#N/A"},{"$error":"#N/A"},{"$error":"#N/A"},{"$error":"#N/A"},{"$error":"#N/A"},{"$error":"#N/A"},{"$error":"#N/A"},"灰処理単価：10千円/t（※1より）"]
[null,null,null,null,null,null,null,null,null,null,null,null,null,"エネルギーコスト合計","千円/月",{"$f":"SUM(P86:P93)","v":{"$error":"#N/A"}},{"$f":"SUM(Q86:Q93)","v":{"$error":"#N/A"}},{"$error":"#N/A"},{"$error":"#N/A"},{"$error":"#N/A"},{"$error":"#N/A"},{"$error":"#N/A"},{"$error":"#N/A"},{"$error":"#N/A"},{"$error":"#N/A"},{"$error":"#N/A"},{"$error":"#N/A"},{"$f":"SUM(AB86:AB93)","v":{"$error":"#N/A"}},{"$f":"SUM(AC86:AC91)","v":0},0]
[]
[null,null,null,null,null,null,null,null,"□CO2換算係数",null,null,null,null,"□CO2排出量"]
[null,null,null,null,null,null,null,null,"項目","単位","値","備考",null,"項目","単位","4月","5月","6月","7月","8月","9月","10月","11月","12月","1月","2月","3月","合計","最大","最小","備考"]
[null,null,null,null,null,null,null,null,"電気","tCO2/kWh",{"$f":"K54","v":4.8799999999999999E-4},null,null,"電気","t-CO2/月",{"$f":"P76*$K98","v":0},{"$f":"Q76*$K98","v":0},0,0,0,0,0,0,0,0,0,{"$f":"AA76*$K98","v":0},{"$f":"SUM(P98:AA98)","v":0},{"$f":"MAX(P98:AA98)","v":0},{"$f":"MIN(P98:AA98)","v":0}]
[null,null,null,null,null,null,null,null,"都市ガス（13A）","tCO2/km3",{"$f":"K55","v":2.23},null,null,"都市ガス（13A）","t-CO2/月",{"$f":"P77/1000*$K99","v":0},0,0,0,0,0,0,0,0,0,0,0,0,0,0]
[null,null,null,null,null,null,null,null,"灯油","tCO2/kL",{"$f":"K56","v":2.4900000000000002},null,null,"灯油","t-CO2/月",0,0,0,0,0,0,0,0,0,0,0,0,0,0,0]
[null,null,null,null,null,null,null,null,"重油","tCO2/kL",2.71,null,null,"重油","t-CO2/月",0,0,0,0,0,0,0,0,0,0,0,0,0,0,0]
[null,null,null,null,null,null,null,null,"液化石油ガス（LPG）","tCO2/t",3,null,null,"液化石油ガス（LPG）","t-CO2/月",0,0,0,0,0,0,0,0,0,0,0,0,0,0,0]
[null,null,null,null,null,null,null,null,"他人から供給された熱","tCO2/GJ",5.7000000000000002E-2,null,null,"他人から供給された熱","t-CO2/月",0,0,0,0,0,0,0,0,0,0,0,0,0,0,0]
[null,null,null,null,null,null,null,null,null,null,null,null,null,"CO2排出量合計","t-CO2/月",{"$f":"SUM(P98:P103)","v":0},{"$f":"SUM(Q98:Q103)","v":0},0,0,0,0,0,0,0,0,0,0,{"$f":"SUM(AB98:AB103)","v":0},{"$f":"SUM(AC98:AC103)","v":0},0]
[]
[null,null,null,null,null,null,null,null,"□一次エネルギー換算係数",null,null,null,null,"□一次エネルギー消費量"]
[null,null,null,null,null,null,null,null,"項目","単位","値","備考",null,"項目","単位","4月","5月","6月","7月","8月","9月","10月","11月","12月","1月","2月","3月","合計","最大","最小","備考"]
[null,null,null,null,null,null,null,null,"電気","MJ/kWh",{"$f":"K64","v":9.76},null,null,"電気","MJ/月",{"$f":"P76*$K108","v":0},0,0,0,0,0,0,0,0,0,0,0,{"$f":"SUM(P108:AA108)","v":0},{"$f":"MAX(P108:AA108)","v":0},{"$f":"MIN(P108:AA108)","v":0}]
[null,null,null,null,null,null,null,null,"都市ガス（13A）","MJ/m3",{"$f":"K65","v":45},null,null,"都市ガス（13A）","MJ/月",0,0,0,0,0,0,0,0,0,0,0,0,0,0,0]
[null,null,null,null,null,null,null,null,"灯油","MJ/L",{"$f":"K66","v":37},null,null,"灯油","MJ/月",0,0,0,0,0,0,0,0,0,0,0,0,0,0,0]
[null,null,null,null,null,null,null,null,"重油","MJ/L",41,null,null,"重油","MJ/月",0,0,0,0,0,0,0,0,0,0,0,0,0,0,0]
[null,null,null,null,null,null,null,null,"液化石油ガス（LPG）","MJ/kg",50,null,null,"液化石油ガス（LPG）","MJ/月",0,0,0,0,0,0,0,0,0,0,0,0,0,0,0]
[null,null,null,null,null,null,null,null,"他人から供給された熱","MJ/MJ",1.36,null,null,"他人から供給された熱","MJ/月",0,0,0,0,0,0,0,0,0,0,0,0,0,0,0]
[null,null,null,null,null,null,null,null,null,null,null,null,null,"一次エネルギー消費量合計","MJ/月",{"$f":"SUM(P108:P113)","v":0},0,0,0,0,0,0,0,0,0,0,0,{"$f":"SUM(AB108:AB113)","v":0},0,0]
[]
[]
[null,null,null,null,null,null,null,null,"■補機類エネルギーコスト、CO2排出量、一次エネルギー消費量計算（エネルギー消費量を入力）"]
[null,null,null,null,null,null,null,null,null,null,null,null,null,"□エネルギー消費量"]
[null,null,null,null,null,null,null,null,null,"設定セル",null,null,null,"項目","単位","4月","5月","6月","7月","8月","9月","10月","11月","12月","1月","2月","3月","合計","最大","最小","備考"]
[null,null,null,null,null,null,null,null,null,"変更設定していいセル（計算式が入力されている）",null,null,null,"電気","kWh/月",{"$f":"P18","v":{"$error":"#N/A"}},{"$f":"Q18","v":{"$error":"#N/A"}},{"$error":"#N/A"},{"$error":"#N/A"},{"$error":"#N/A"},{"$error":"#N/A"},{"$error":"#N/A"},{"$error":"#N/A"},{"$error":"#N/A"},{"$error":"#N/A"},{"$error":"#N/A"},{"$error":"#N/A"},{"$f":"SUM(P120:AA120)","v":{"$error":"#N/A"}},{"$f":"MAX(P120:AA120)","v":{"$error":"#N/A"}},{"$f":"MIN(P120:AA120)","v":{"$error":"#N/A"}}]
[null,null,null,null,null,null,null,null,null,"あまり変更しなくていい設定セル",null,null,null,"都市ガス（13A）","m3/月",null,null,null,null,null,null,null,null,null,null,null,null,0,0,0]
[null,null,null,null,null,null,null,null,null,"デフォ値・係数",null,null,null,"灯油","L/月",null,null,null,null,null,null,null,null,null,null,null,null,0,0,0]
[null,null,null,null,null,null,null,null,null,"計算式・項目確認セル",null,null,null,"重油","L/月",null,null,null,null,null,null,null,null,null,null,null,null,0,0,0]
[null,null,null,null,null,null,null,null,null,null,null,null,null,"液化石油ガス（LPG）","kg/月",null,null,null,null,null,null,null,null,null,null,null,null,0,0,0]
[null,null,null,null,null,null,null,null,null,null,null,null,null,"他人から供給された熱","MJ/月",null,null,null,null,null,null,null,null,null,null,null,null,0,0,0]
[null,null,null,null,null,null,null,null,null,null,null,null,null,"バイオマス燃料","kg/月",null,null,null,null,null,null,null,null,null,null,null,null,{"$f":"SUM(P126:AA126)","v":0},0,0]
[]
[null,null,null,null,null,null,null,null,"□エネルギーコスト単価(フラットレート)",null,null,null,null,"□エネルギーコスト検討"]
[null,null,null,null,null,null,null,null,"項目","単位","値","備考",null,"項目","単位","4月","5月","6月","7月","8月","9月","10月","11月","12月","1月","2月","3月","合計","最大","最小","備考"]
[null,null,null,null,null,null,null,null,"電気","円/kWh",{"$f":"K86","v":14},null,null,"電気","千円/月",{"$f":"P120*$K130/1000","v":{"$error":"#N/A"}},{"$f":"Q120*$K130/1000","v":{"$error":"#N/A"}},{"$error":"#N/A"},{"$error":"#N/A"},{"$error":"#N/A"},{"$error":"#N/A"},{"$error":"#N/A"},{"$error":"#N/A"},{"$error":"#N/A"},{"$error":"#N/A"},{"$error":"#N/A"},{"$error":"#N/A"},{"$f":"SUM(P130:AA130)","v":{"$error":"#N/A"}},{"$f":"MAX(P130:AA130)","v":{"$error":"#N/A"}},{"$f":"MIN(P130:AA130)","v":{"$error":"#N/A"}}]
[null,null,null,null,null,null,null,null,"都市ガス（13A）","円/m3",{"$f":"K87","v":114.64285714285714},null,null,"都市ガス（13A）","千円/月",{"$f":"P121*$K131/1000","v":0},0,0,0,0,0,0,0,0,0,0,0,0,0,0]
[null,null,null,null,null,null,null,null,"灯油","円/L",107.88888888888889,null,null,"灯油","千円/月",{"$f":"P122*$K132/1000","v":0},0,0,0,0,0,0,0,0,0,0,0,0,0,0]
[null,null,null,null,null,null,null,null,"重油","円/L",76.099999999999994,null,null,"重油","千円/月",{"$f":"P123*$K133/1000","v":0},0,0,0,0,0,0,0,0,0,0,0,0,0,0]
[null,null,null,null,null,null,null,null,"液化石油ガス（LPG）","円/kg",159.40476190476193,null,null,"液化石油ガス（LPG）","千円/月",0,0,0,0,0,0,0,0,0,0,0,0,0,0,0]
[null,null,null,null,null,null,null,null,"他人から供給された熱","円/GJ",6611.9047619047615,null,null,"他人から供給された熱","千円/月",0,0,0,0,0,0,0,0,0,0,0,0,0,0,0]
[null,null,null,null,null,null,null,null,null,null,null,null,null,"バイオマス燃料","千円/月",{"$f":"P126*$D$18/1000","v":0},{"$f":"Q126*$D$18/1000","v":0},0,0,0,0,0,0,0,0,0,0,0,0,0]
[null,null,null,null,null,null,null,null,null,null,null,null,null,"バイオマス灰処理費用","千円/月",{"$f":"P106/1000*10","v":0},0,0,0,0,0,0,0,0,0,0,0,0,0,0,"灰処理単価：10千円/t（※1より）"]
[null,null,null,null,null,null,null,null,null,null,null,null,null,"エネルギーコスト合計","千円/月",{"$f":"SUM(P130:P137)","v":{"$error":"#N/A"}},{"$f":"SUM(Q130:Q137)","v":{"$error":"#N/A"}},{"$error":"#N/A"},{"$error":"#N/A"},{"$error":"#N/A"},{"$error":"#N/A"},{"$error":"#N/A"},{"$error":"#N/A"},{"$error":"#N/A"},{"$error":"#N/A"},{"$error":"#N/A"},{"$error":"#N/A"},{"$f":"SUM(AB130:AB137)","v":{"$error":"#N/A"}},{"$f":"SUM(AC130:AC135)","v":{"$error":"#N/A"}},{"$error":"#N/A"}]
[]
[null,null,null,null,null,null,null,null,"□CO2換算係数",null,null,null,null,"□CO2排出量"]
[null,null,null,null,null,null,null,null,"項目","単位","値","備考",null,"項目","単位","4月","5月","6月","7月","8月","9月","10月","11月","12月","1月","2月","3月","合計","最大","最小","備考"]
[null,null,null,null,null,null,null,null,"電気","tCO2/kWh",{"$f":"K98","v":4.8799999999999999E-4},null,null,"電気","t-CO2/月",{"$f":"P120*$K142","v":{"$error":"#N/A"}},{"$f":"Q120*$K142","v":{"$error":"#N/A"}},{"$error":"#N/A"},{"$error":"#N/A"},{"$error":"#N/A"},{"$error":"#N/A"},{"$error":"#N/A"},{"$error":"#N/A"},{"$error":"#N/A"},{"$error":"#N/A"},{"$error":"#N/A"},{"$f":"AA120*$K142","v":{"$error":"#N/A"}},{"$f":"SUM(P142:AA142)","v":{"$error":"#N/A"}},{"$f":"MAX(P142:AA142)","v":{"$error":"#N/A"}},{"$f":"MIN(P142:AA142)","v":{"$error":"#N/A"}}]
[null,null,null,null,null,null,null,null,"都市ガス（13A）","tCO2/km3",{"$f":"K99","v":2.23},null,null,"都市ガス（13A）","t-CO2/月",{"$f":"P121/1000*$K143","v":0},{"$f":"Q121/1000*$K143","v":0},0,0,0,0,0,0,0,0,0,0,0,0,0]
[null,null,null,null,null,null,null,null,"灯油","tCO2/kL",{"$f":"K100","v":2.4900000000000002},null,null,"灯油","t-CO2/月",{"$f":"P122/1000*$K144","v":0},0,0,0,0,0,0,0,0,0,0,0,0,0,0]
[null,null,null,null,null,null,null,null,"重油","tCO2/kL",2.71,null,null,"重油","t-CO2/月",0,0,0,0,0,0,0,0,0,0,0,0,0,0,0]
[null,null,null,null,null,null,null,null,"液化石油ガス（LPG）","tCO2/t",3,null,null,"液化石油ガス（LPG）","t-CO2/月",0,0,0,0,0,0,0,0,0,0,0,0,0,0,0]
[null,null,null,null,null,null,null,null,"他人から供給された熱","tCO2/GJ",5.7000000000000002E-2,null,null,"他人から供給された熱","t-CO2/月",0,0,0,0,0,0,0,0,0,0,0,0,0,0,0]
[null,null,null,null,null,null,null,null,null,null,null,null,null,"CO2排出量合計","t-CO2/月",{"$f":"SUM(P142:P147)","v":{"$error":"#N/A"}},{"$f":"SUM(Q142:Q147)","v":{"$error":"#N/A"}},{"$error":"#N/A"},{"$error":"#N/A"},{"$error":"#N/A"},{"$error":"#N/A"},{"$error":"#N/A"},{"$error":"#N/A"},{"$error":"#N/A"},{"$error":"#N/A"},{"$error":"#N/A"},{"$error":"#N/A"},{"$f":"SUM(AB142:AB147)","v":{"$error":"#N/A"}},{"$f":"SUM(AC142:AC147)","v":{"$error":"#N/A"}},{"$error":"#N/A"}]
[]
[null,null,null,null,null,null,null,null,"□一次エネルギー換算係数",null,null,null,null,"□一次エネルギー消費量"]
[null,null,null,null,null,null,null,null,"項目","単位","値","備考",null,"項目","単位","4月","5月","6月","7月","8月","9月","10月","11月","12月","1月","2月","3月","合計","最大","最小","備考"]
[null,null,null,null,null,null,null,null,"電気","MJ/kWh",{"$f":"K108","v":9.76},null,null,"電気","MJ/月",{"$f":"P120*$K152","v":{"$error":"#N/A"}},{"$error":"#N/A"},{"$error":"#N/A"},{"$error":"#N/A"},{"$error":"#N/A"},{"$error":"#N/A"},{"$error":"#N/A"},{"$error":"#N/A"},{"$error":"#N/A"},{"$error":"#N/A"},{"$error":"#N/A"},{"$error":"#N/A"},{"$f":"SUM(P152:AA152)","v":{"$error":"#N/A"}},{"$f":"MAX(P152:AA152)","v":{"$error":"#N/A"}},{"$f":"MIN(P152:AA152)","v":{"$error":"#N/A"}}]
[null,null,null,null,null,null,null,null,"都市ガス（13A）","MJ/m3",{"$f":"K109","v":45},null,null,"都市ガス（13A）","MJ/月",0,0,0,0,0,0,0,0,0,0,0,0,0,0,0]
[null,null,null,null,null,null,null,null,"灯油","MJ/L",{"$f":"K110","v":37},null,null,"灯油","MJ/月",0,0,0,0,0,0,0,0,0,0,0,0,0,0,0]
[null,null,null,null,null,null,null,null,"重油","MJ/L",41,null,null,"重油","MJ/月",0,0,0,0,0,0,0,0,0,0,0,0,0,0,0]
[null,null,null,null,null,null,null,null,"液化石油ガス（LPG）","MJ/kg",50,null,null,"液化石油ガス（LPG）","MJ/月",0,0,0,0,0,0,0,0,0,0,0,0,0,0,0]
[null,null,null,null,null,null,null,null,"他人から供給された熱","MJ/MJ",1.36,null,null,"他人から供給された熱","MJ/月",0,0,0,0,0,0,0,0,0,0,0,0,0,0,0]
[null,null,null,null,null,null,null,null,null,null,null,null,null,"一次エネルギー消費量合計","MJ/月",{"$f":"SUM(P152:P157)","v":{"$error":"#N/A"}},{"$error":"#N/A"},{"$error":"#N/A"},{"$error":"#N/A"},{"$error":"#N/A"},{"$error":"#N/A"},{"$error":"#N/A"},{"$error":"#N/A"},{"$error":"#N/A"},{"$error":"#N/A"},{"$error":"#N/A"},{"$error":"#N/A"},{"$f":"SUM(AB152:AB157)","v":{"$error":"#N/A"}},{"$error":"#N/A"},{"$error":"#N/A"}]

{"sheet":"バイオマス熱_融雪_IC","index":71,"n_rows":30,"n_cols":16,"rows_kept":30,"cut":false,"hidden":true,"merged":[[27,1,27,2],[28,1,28,2],[29,1,29,2],[4,1,16,1],[17,1,19,1],[20,1,23,1],[24,1,24,2],[25,1,25,2],[26,1,26,2]]}
[null,"■イニシャルコスト算出"]
[]
[null,"バイオマス熱システム_給湯"]
[null,null,"名称","摘要","単価[千円]","数量","単位","金額[千円]","備考","memo",null,null,null,null,"価格関数代入値","単位"]
[null,"機械工事","バイオマスボイラ",null,{"$f":"IF(O5=0,0,価格関数!E14*O5+価格関数!F14)","v":{"$error":"#N/A"}},1,"台",{"$f":"F5*E5","v":{"$error":"#N/A"}},null,"価格関数",null,null,null,"熱源容量",{"$f":"バイオマス熱_融雪_RC!K7","v":{"$error":"#N/A"}},"kW"]
[null,null,"冷温水ポンプ",null,{"$f":"IF(O6=0,0,価格関数!$E$21*O6+価格関数!$F$21)","v":{"$error":"#N/A"}},1,"台",{"$f":"F6*E6","v":{"$error":"#N/A"}},null,"価格関数",null,null,null,"ポンプ出力",{"$f":"バイオマス熱_融雪_RC!K12","v":{"$error":"#N/A"}},"kW"]
[]
[]
[]
[]
[]
[]
[]
[null,null,"自動制御",null,null,1,"式",{"$f":"INT(SUM(H5:H13)*I14)","v":{"$error":"#N/A"}},0.2,"概算　事例等より設定"]
[null,null,"その他配管","概算（付属品込）",null,1,"式",{"$f":"INT(SUM(H5:H14)*I15)","v":{"$error":"#N/A"}},0.1,"配管費=機器類×5~10%と設定"]
[]
[null,null,"小計",null,null,null,null,{"$f":"SUM(H5:H16)","v":{"$error":"#N/A"}}]
[null,"電気工事","概算","概算",null,null,null,{"$f":"INT(H17*I18)","v":{"$error":"#N/A"}},0.3]
[]
[null,null,"小計",null,null,null,null,{"$f":"SUM(H18:H19)","v":{"$error":"#N/A"}}]
[null,"土工事"]
[]
[]
[null,null,"小計",null,null,null,null,{"$f":"SUM(H21:H23)","v":0}]
[null,"直接工事費",null,null,null,null,null,{"$f":"H24+H20+H17","v":{"$error":"#N/A"}}]
[null,"間接工事費",null,null,null,1,"式",{"$f":"INT(H25*0.3)","v":{"$error":"#N/A"}},"直接工事費×30%"]
[null,"工事原価",null,null,null,1,"式",{"$f":"H25+H26","v":{"$error":"#N/A"}}]
[null,"消費税",null,null,null,1,"式"]
[]
[null,"合計",null,null,null,null,null,{"$f":"H27+H28","v":{"$error":"#N/A"}}]

{"sheet":"バイオマス燃料情報","index":72,"n_rows":12,"n_cols":11,"rows_kept":12,"cut":false,"hidden":true,"merged":[[2,2,2,3],[2,4,2,5],[2,6,2,7]]}
[]
["◆バイオマス燃料"]
[null,"燃料種別","発熱量",null,"価格",null,"発熱量当たりの価格",null,"発熱量出典","価格出典","備考"]
[null,"木質チップ",{"$f":"2470*4.186/1000","v":10.33942},"MJ/kg",10,"円/kg",{"$f":"IF(ISERROR(E4/C4),\"-\",(E4/C4))","v":0.96717223983550327},"円/MJ","※1","※1","(水分率50%)"]
[null,"木質ペレット",{"$f":"4200*4.186/1000","v":17.581199999999999},"MJ/kg",36.6,"円/kg",{"$f":"IF(ISERROR(E5/C5),\"-\",(E5/C5))","v":2.0817691625145045},"円/MJ","※1","※1"]
[null,null,null,null,null,null,{"$f":"IF(ISERROR(E6/(C6/4.186/1000)),\"-\",(E6/(C6/4.186/1000)))","v":"-"},"円/MJ"]
[null,null,null,null,null,null,"-","円/MJ"]
[null,null,null,null,null,null,"-","円/MJ"]
[null,null,null,null,null,null,"-","円/MJ"]
[null,null,null,null,null,null,"-","円/MJ"]
[null,null,null,null,null,null,"-","円/MJ"]
["※1：木質バイオマスボイラー導入指針、森のエネルギー研究所、平成24年3月"]

{"sheet":"（参考）バイオマスボイラ効率(不要)","index":73,"n_rows":15,"n_cols":2,"rows_kept":15,"cut":false,"hidden":true,"merged":[]}
["◆ボイラ効率"]
["無圧式の場合"]
["負荷率[-]","ボイラ効率[-]"]
[0.02,0.53]
[0.1,0.63]
[0.2,0.66]
[0.3,0.7]
[0.4,0.72]
[0.5,0.74]
[0.6,0.74]
[0.7,0.75]
[0.8,0.76]
[0.9,0.77]
[1,0.8]
["※メーカーヒアリング（日本サーモエナー）より作成"]

{"sheet":"入力シート_0301","index":74,"n_rows":128,"n_cols":6,"rows_kept":128,"cut":false,"hidden":true,"merged":[[125,4,125,5],[126,4,126,5],[127,4,127,5],[107,4,107,5],[108,4,108,5],[109,4,109,5],[118,4,118,5],[119,4,119,5],[120,4,120,5],[90,4,90,5],[70,4,70,5],[71,4,71,5],[75,4,75,5],[76,4,76,5],[80,4,80,5],[81,4,81,5],[85,4,85,5],[86,4,86,5],[87,4,87,5],[88,4,88,5],[89,4,89,5],[67,4,67,5],[43,4,43,5],[44,4,44,5],[45,4,45,5],[46,4,46,5],[54,4,54,5],[55,4,55,5],[56,4,56,5],[57,4,57,5],[58,4,58,5],[59,4,59,5],[66,4,66,5],[42,4,42,5],[5,4,5,5],[6,4,6,5],[7,4,7,5],[8,4,8,5],[9,4,9,5],[10,4,10,5],[13,4,13,5],[14,4,14,5],[15,4,15,5],[32,4,32,5],[33,4,33,5]]}
[null,"下水熱活用ツール（案）",null,null,null,"ver1.0"]
[null,"入力・選択セル",null,null,null,"."]
[null,"入力不要セル"]
[]
[null,"①対象施設情報"]
[null,"項目","値","単位","備考"]
[null,"地域選択","北海道","-","都道府県を選択してください。"]
[null,"熱利用用途","給湯","-","給湯、空調、融雪から選択してください。"]
[null,"建物用途","宿泊施設","-","給湯、空調利用の場合は建物用途を選択してください。"]
[null,"延床面積",15000,"m2","給湯、空調利用の場合は数値を入力してください。"]
[null,"融雪面積",300,"m2","融雪利用の場合は数値を入力して下さい。"]
[]
[null,"②比較対象システムの設定"]
[null,"項目","値","単位","備考"]
[null,"比較対象システム（熱源設備）","燃料方式","-","選択してください。"]
[null,"燃料種別の選択","都市ガス（13A）","-","選択してください。"]
[]
[]
[]
[]
[]
[null,"③対象施設のエネルギー使用状況"]
[null,"項目","値"]
[null,"現状の電気/燃料使用状況データの有無","無し"]
[null,"項目","料金","単位","使用量","単位"]
[null,"電気",null,"円/年",null,"kWh/年"]
[null,{"$f":"IF(C16=\"\",\"※燃料種別を選択してください。\",C16)","v":"都市ガス（13A）"},null,"円/年",null,{"$f":"VLOOKUP(B27,E単価!$G$6:$M$11,7,FALSE)","v":"m3/年"}]
[]
[]
[]
[]
[null,"④CO2排出係数の設定"]
[null,"項目","値","単位","備考"]
[null,"電気CO2排出係数",4.8799999999999999E-4,"tCO2/kWh",4.8799999999999999E-4]
[]
[]
[]
[]
[]
[]
[null,"⑤下水熱利用の設定"]
[null,"・下水熱量の設定"]
[null,"項目","値","単位","備考"]
[null,"下水熱量の設定方法選択","下水流量と下水温度を入力"]
[null,"熱利用場所の下水流量",1000000,"m3/年","※１"]
[null,"熱利用場所の下水温度",25,"℃","※１"]
[null,"熱利用場所の下水熱ポテンシャル",1000000,"MJ/年","※２"]
[]
[]
[]
[]
[]
[]
[null,"・下水熱利用システムの設定"]
[null,"項目","値","単位","備考"]
[null,"下水熱交換方式の選択","管路外","-","下水熱交換方式を選択してください。"]
[null,"下水取得場所と熱利用場所の距離",100,"m","※３"]
[null,"熱導管単価の入力","無し",null,"※４"]
[null,"掘削単価",null,"千円/m","※４"]
[null,"配管単価",null,"千円/m","※４"]
[]
[]
[]
[]
[]
[null,"⑥複合システムの設定（利用する他の再エネ熱の選択と設定）"]
[null,"項目","値","単位","備考"]
[null,"対象のエネルギー種別","バイオマス熱","-","選択してください。"]
[]
[null,"・空気熱"]
[null,"項目","値","単位","備考"]
[null,"設定項目は有りません。",null,"-"]
[]
[]
[null,"・太陽熱"]
[null,"項目","値","単位","備考"]
[null,"設置面積",500,"m2","太陽熱集熱パネルを設置する面積を入力してください。"]
[]
[]
[null,"・地中熱"]
[null,"項目","値","単位","備考"]
[null,"設定項目は有りません。"]
[]
[]
[null,"・バイオマス熱"]
[null,"項目","値","単位","備考"]
[null,"燃料発熱量・価格の入力","無し","-"]
[null,"バイオマス燃料種別","木質チップ","-","選択してください。"]
[null,"バイオマス燃料発熱量",10,"MJ/kg","ユーザー入力"]
[null,"バイオマス燃料燃料価格",35,"円/kg","ユーザー入力"]
[null,"バイオマス燃料供給量",150,"t/年","ユーザー入力"]
[]
[]
[null,"⑦熱需要量と下水熱利用可能量の確認"]
[null,"・熱需給マッチング結果",{"$f":"マッチング!R32","v":{"$error":"#N/A"}}]
[]
[]
[]
[]
[]
[]
[]
[]
[]
[]
[]
[null,"・下水熱利用で賄う熱需要量の割合設定（熱需要量≦下水熱利用可能量の場合）"]
[null,"項目","値","単位","備考"]
[null,"下水熱利用で賄う熱需要量の割合",50,"％","整数値で0~100の値を入力して下さい。"]
[null,"その他システムで賄う熱需要量の割合",{"$f":"100-C109","v":50},"％"]
[]
[]
[]
[]
[]
[]
[]
[null,"⑧維持管理費の設定"]
[null,"項目","値","単位","備考"]
[null,"維持管理費の考慮","有り"]
[null,"維持管理費の設定(建設費に対する割合)",2,"％","整数値で0~100の値を入力して下さい。デフォルト値2%"]
[]
[]
[]
[null,"⑨補助金利用の設定"]
[null,"項目","値","単位","備考"]
[null,"補助金の利用","有り",null,"補助金利用の有無を選択してください。"]
[null,"補助率","10分の5.5",null,"補助率を選択して下さい。"]

{"sheet":"投資回収年数","index":75,"n_rows":74,"n_cols":51,"rows_kept":74,"cut":false,"hidden":true,"merged":[]}
[]
[]
[]
["■入力情報",null,null,null,null,"■各システムのランニングコスト、イニシャルコスト",null,null,null,"ランニングコスト","ランニングコスト","ランニングコスト","ランニングコスト","イニシャルコスト","CO2排出量","CO2排出量","CO2排出量",null,null,null,"■システム比較",null,null,null,null,null,"■LCC計算用"]
["項目","値","単位","備考",null,"対象判定","項目","項目","システム","合計","熱源機","補機類","維持管理費","イニシャルコスト","合計","熱源機","補機類",null,null,null,"項目","ランニングコスト","イニシャルコスト","イニシャルコスト(補助金有)","CO2排出量",null,"運用年数","比較対象システム","下水熱利用システム（複合システム）","下水熱利用システム（複合システム）（補助金有）"]
["熱利用用途",{"$f":"入力シート!C8","v":0},"-",null,null,null,null,null,null,"千円/年","千円/年","千円/年","千円/年","千円","t-CO2/年","t-CO2/年","t-CO2/年",null,null,null,null,"千円/年","千円","千円","t-CO2/年",null,"年","千円","千円","千円"]
["建物用途",{"$f":"入力シート!C9","v":0},"-",null,null,null,"下水熱利用システム","下水熱","下水熱",{"$f":"K7+L7+M7","v":{"$error":"#N/A"}},{"$f":"下水熱_RC!AB90","v":{"$error":"#N/A"}},{"$f":"下水熱_RC!AB132","v":{"$error":"#N/A"}},{"$f":"IF($B$13=\"有り\",N7*$B$14/100,0)","v":{"$error":"#N/A"}},{"$f":"下水熱_IC!H30","v":{"$error":"#N/A"}},{"$f":"下水熱_RC!AB58","v":{"$error":"#N/A"}},{"$f":"下水熱_RC!AB100","v":{"$error":"#N/A"}},{"$f":"下水熱_RC!AB142","v":{"$error":"#N/A"}},null,null,null,"下水熱利用システム（複合システム）",{"$f":"J7+J8+J9+J10+J11+J12","v":{"$error":"#N/A"}},{"$f":"N7+N8+N9+N10+N11+N12","v":{"$error":"#N/A"}},{"$f":"N7*$H$30+N8+N9*$H$30+N10*$H$30+N11*$H$30+N12","v":{"$error":"#N/A"}},{"$f":"SUM(O7:O12)","v":{"$error":"#N/A"}},null,0,{"$f":"W8","v":0},{"$f":"W7","v":{"$error":"#N/A"}},{"$f":"IF(H28=\"無し\",NA(),X7)","v":{"$error":"#N/A"}}]
["既存設備（熱源設備）",{"$f":"入力シート!C15","v":0},null,null,null,{"$f":"IF($B$10=I8,1,0)","v":0},"複合システム","空気熱","空気熱",{"$f":"IF(F8=1,K8+L8+M8,0)","v":0},{"$f":"IF(F8=1,空気熱源_給湯・空調_RC!AB90,0)","v":0},{"$f":"IF(F8=1,空気熱源_給湯・空調_RC!AB132,0)","v":0},{"$f":"IF($B$13=\"有り\",N8*$B$14/100,0)","v":0},{"$f":"IF(F8=1,空気熱源_給湯・空調_IC!H30,0)","v":0},{"$f":"IF(F8=1,空気熱源_給湯・空調_RC!AB58,0)","v":0},{"$f":"IF(F8=1,空気熱源_給湯・空調_RC!AB100,0)","v":0},{"$f":"IF(F8=1,空気熱源_給湯・空調_RC!AB142,0)","v":0},null,null,null,"比較対象システム",{"$f":"SUM(J19:J24)","v":0},{"$f":"SUM(N19:N24)","v":0},"-",{"$f":"SUM(O19:O24)","v":0},null,1,{"$f":"$AB$7+$AA8*$V$8","v":0},{"$f":"$AC$7+$AA8*$V$7","v":{"$error":"#N/A"}},{"$f":"$AD$7+$AA8*$V$7","v":{"$error":"#N/A"}}]
["燃料種別の選択",{"$f":"入力シート!C16","v":0},null,null,null,{"$f":"IF($B$10=I9,1,0)","v":0},"再エネ利用","太陽熱","太陽熱",{"$f":"IF(F9=1,K9+L9+M9,0)","v":0},0,{"$f":"IF(F9=1,太陽熱_ポテンシャル・RC・IC!W84,0)","v":0},0,{"$f":"IF(F9=1,太陽熱_ポテンシャル・RC・IC!D26,0)","v":0},{"$f":"IF(F9=1,太陽熱_ポテンシャル・RC・IC!W94,0)","v":0},0,{"$f":"IF(F9=1,太陽熱_ポテンシャル・RC・IC!W94,0)","v":0},null,null,null,"削減量",{"$f":"V8-V7","v":{"$error":"#N/A"}},"-","-",{"$f":"Y8-Y7","v":{"$error":"#N/A"}},null,2,{"$f":"$AB$7+$AA9*$V$8","v":0},{"$f":"$AC$7+$AA9*$V$7","v":{"$error":"#N/A"}},{"$f":"$AD$7+$AA9*$V$7","v":{"$error":"#N/A"}}]
["対象のエネルギー種別",{"$f":"入力シート!C68","v":"利用しない"},null,null,null,0,null,"地中熱","地中熱",0,{"$f":"IF(F10=1,地中熱_RC!AB90,0)","v":0},{"$f":"IF(F10=1,地中熱_RC!AB132,0)","v":0},0,{"$f":"IF(F10=1,地中熱_IC!H30,0)","v":0},{"$f":"IF(F10=1,地中熱_RC!AB58,0)","v":0},{"$f":"IF(F10=1,地中熱_RC!AB100,0)","v":0},{"$f":"IF(F10=1,地中熱_RC!AB142,0)","v":0},null,null,null,null,null,null,"空気熱源、既存利用分は補助対象外",null,null,3,0,{"$error":"#N/A"},{"$error":"#N/A"}]
[null,null,null,null,null,0,null,"バイオマス熱","バイオマス熱",{"$f":"IF(F11=1,K11+L11+M11,0)","v":0},{"$f":"IF($F$11=1,バイオマス熱ポテンシャル!AB9,0)","v":0},{"$f":"IF($F$11=1,バイオマス熱ポテンシャル!AC9,0)","v":0},0,{"$f":"IF($F$11=1,バイオマス熱ポテンシャル!AD9,0)","v":0},{"$f":"IF($F$11=1,バイオマス熱ポテンシャル!AE9,0)","v":0},{"$f":"IF($F$11=1,バイオマス熱ポテンシャル!AF9,0)","v":0},{"$f":"IF($F$11=1,バイオマス熱ポテンシャル!AG9,0)","v":0},null,null,null,"■投資回収年数",null,null,null,null,null,4,0,{"$error":"#N/A"},{"$error":"#N/A"}]
["項目","値","単位","備考",null,null,null,{"$f":"VLOOKUP(1,F13:H18,3,FALSE)","v":{"$error":"#N/A"}},"既存利用(熱需要不足分)",{"$f":"VLOOKUP($H$12,$H$13:$Q$18,3,FALSE)","v":{"$error":"#N/A"}},{"$f":"VLOOKUP($H$12,$H$13:$Q$18,4,FALSE)","v":{"$error":"#N/A"}},{"$f":"VLOOKUP($H$12,$H$13:$Q$18,5,FALSE)","v":{"$error":"#N/A"}},{"$f":"VLOOKUP($H$12,$H$13:$Q$18,6,FALSE)","v":{"$error":"#N/A"}},{"$f":"VLOOKUP($H$12,$H$13:$Q$18,7,FALSE)","v":{"$error":"#N/A"}},{"$f":"VLOOKUP($H$12,$H$13:$Q$18,8,FALSE)","v":{"$error":"#N/A"}},{"$f":"VLOOKUP($H$12,$H$13:$Q$18,9,FALSE)","v":{"$error":"#N/A"}},{"$f":"VLOOKUP($H$12,$H$13:$Q$18,10,FALSE)","v":{"$error":"#N/A"}},null,null,null,"項目","単位","値",null,null,null,5,0,{"$error":"#N/A"},{"$error":"#N/A"}]
["維持管理費の考慮",{"$f":"入力シート!C120","v":"有り"},null,null,null,{"$f":"IF(AND($B$6=\"給湯\",$B$8=選択リスト設定!D3),1,0)","v":0},"複合システム","給湯_燃料","ボイラ",{"$f":"IF(F13=1,K13+L13+M13,0)","v":0},{"$f":"IF(F13=1,残り需要_既存_燃料_給湯_RC!AB90,0)","v":0},{"$f":"IF(F13=1,残り需要_既存_燃料_給湯_RC!AB132,0)","v":0},0,{"$f":"IF(F13=1,残り需要_既存_燃料_給湯_IC!H30,0)","v":0},{"$f":"IF(F13=1,残り需要_既存_燃料_給湯_RC!AB58,0)","v":0},{"$f":"IF(F13=1,残り需要_既存_燃料_給湯_RC!AB100,0)","v":0},{"$f":"IF(F13=1,残り需要_既存_燃料_給湯_RC!AB142,0)","v":0},null,null,null,"投資回収年数","年",{"$f":"IFERROR(IF((W7-W8)<0,0,IF((V8-V7)<0,\"回収不能\",(W7-W8)/(V8-V7))),\"-\")","v":"-"},null,null,null,6,0,{"$error":"#N/A"},{"$error":"#N/A"}]
["維持管理費の設定(建設費に対する割合)",{"$f":"入力シート!C121","v":2},"％",null,null,{"$f":"IF(AND($B$6=\"給湯\",$B$8=選択リスト設定!D4),1,0)","v":0},"既存利用","給湯_電気","空冷HP",{"$f":"IF(F14=1,K14+L14+M14,0)","v":0},{"$f":"IF(F14=1,残り需要_既存_空気熱源_給湯・空調_RC!AB90,0)","v":0},{"$f":"IF(F14=1,残り需要_既存_空気熱源_給湯・空調_RC!AB132,0)","v":0},0,{"$f":"IF(F14=1,残り需要_既存_空気熱源_給湯・空調_IC!H30,0)","v":0},{"$f":"IF(F14=1,残り需要_既存_空気熱源_給湯・空調_RC!AB58,0)","v":0},{"$f":"IF(F14=1,残り需要_既存_空気熱源_給湯・空調_RC!AB100,0)","v":0},{"$f":"IF(F14=1,残り需要_既存_空気熱源_給湯・空調_RC!AB142,0)","v":0},null,null,null,"投資回収年数(補助金有)","年",{"$f":"IFERROR(IF((X7-W8)<0,0,IF((V8-V7)<0,\"回収不能\",(X7-W8)/(V8-V7))),\"-\")","v":"-"},null,null,null,7,0,{"$error":"#N/A"},{"$error":"#N/A"}]
[null,null,null,null,null,{"$f":"IF(AND($B$6=\"空調\",$B$8=選択リスト設定!E3),1,0)","v":0},"残り需要","空調_燃料","吸収式",0,{"$f":"IF(F15=1,残り需要_既存_燃料_空調_RC!AB90,0)","v":0},{"$f":"IF(F15=1,残り需要_既存_燃料_空調_RC!AB132,0)","v":0},0,{"$f":"IF(F15=1,残り需要_既存_燃料_空調_IC!H30,0)","v":0},{"$f":"IF(F15=1,残り需要_既存_燃料_空調_RC!AB58,0)","v":0},{"$f":"IF(F15=1,残り需要_既存_燃料_空調_RC!AB100,0)","v":0},{"$f":"IF(F15=1,残り需要_既存_燃料_空調_RC!AB142,0)","v":0},null,null,null,null,null,null,null,null,null,8,0,{"$error":"#N/A"},{"$error":"#N/A"}]
[null,null,null,null,null,{"$f":"IF(AND($B$6=\"空調\",$B$8=選択リスト設定!E4),1,0)","v":0},null,"空調_電気","空冷HP",0,{"$f":"IF(F16=1,残り需要_既存_空気熱源_給湯・空調_RC!AB90,0)","v":0},{"$f":"IF(F16=1,残り需要_既存_空気熱源_給湯・空調_RC!AB132,0)","v":0},0,{"$f":"IF(F16=1,残り需要_既存_空気熱源_給湯・空調_IC!H30,0)","v":0},{"$f":"IF(F16=1,残り需要_既存_空気熱源_給湯・空調_RC!AB58,0)","v":0},{"$f":"IF(F16=1,残り需要_既存_空気熱源_給湯・空調_RC!AB100,0)","v":0},{"$f":"IF(F16=1,残り需要_既存_空気熱源_給湯・空調_RC!AB142,0)","v":0},null,null,null,null,null,null,null,null,null,9,0,{"$error":"#N/A"},{"$error":"#N/A"}]
[null,null,null,null,null,{"$f":"IF(AND($B$6=\"融雪\",$B$8=選択リスト設定!F3),1,0)","v":0},null,"融雪_燃料","ボイラ",0,{"$f":"IF(F17=1,残り需要_既存_燃料_融雪_RC!AB90,0)","v":0},{"$f":"IF(F17=1,残り需要_既存_燃料_融雪_RC!AB132,0)","v":0},0,{"$f":"IF(F17=1,残り需要_既存_燃料_融雪_IC!H30,0)","v":0},{"$f":"IF(F17=1,残り需要_既存_燃料_融雪_RC!AB58,0)","v":0},{"$f":"IF(F17=1,残り需要_既存_燃料_融雪_RC!AB100,0)","v":0},{"$f":"IF(F17=1,残り需要_既存_燃料_融雪_RC!AB142,0)","v":0},null,null,null,null,null,null,null,null,null,10,0,{"$error":"#N/A"},{"$error":"#N/A"}]
[null,null,null,null,null,{"$f":"IF(AND($B$6=\"融雪\",$B$8=選択リスト設定!F4),1,0)","v":0},null,"融雪_電気","空冷HP",{"$f":"IF(F18=1,0,0)","v":0},{"$f":"IF(F18=1,0,0)","v":0},{"$f":"IF(F18=1,0,0)","v":0},0,{"$f":"IF(F18=1,0,0)","v":0},{"$f":"IF(F18=1,0,0)","v":0},{"$f":"IF(F18=1,0,0)","v":0},{"$f":"IF(F18=1,0,0)","v":0},null,null,null,null,null,null,null,null,null,11,0,{"$error":"#N/A"},{"$error":"#N/A"}]
[null,null,null,null,null,{"$f":"IF(AND($B$6=\"給湯\",$B$8=選択リスト設定!D3),1,0)","v":0},"比較対象システム","給湯_燃料","ボイラ",0,{"$f":"IF(F19=1,比較対象_既存_燃料_給湯_RC!AB90,0)","v":0},{"$f":"IF(F19=1,比較対象_既存_燃料_給湯_RC!AB132,0)","v":0},0,{"$f":"IF(F19=1,比較対象_既存_燃料_給湯_IC!H30,0)","v":0},{"$f":"IF(F19=1,比較対象_既存_燃料_給湯_RC!AB58,0)","v":0},{"$f":"IF(F19=1,比較対象_既存_燃料_給湯_RC!AB100,0)","v":0},{"$f":"IF(F19=1,比較対象_既存_燃料_給湯_RC!AB142,0)","v":0},null,null,null,null,null,null,null,null,null,12,0,{"$error":"#N/A"},{"$error":"#N/A"}]
[null,null,null,null,null,{"$f":"IF(AND($B$6=\"給湯\",$B$8=選択リスト設定!D4),1,0)","v":0},null,"給湯_電気","空冷HP",0,{"$f":"IF(F20=1,比較対象_既存_空気熱源_給湯・空調_RC!AB90,0)","v":0},{"$f":"IF(F20=1,比較対象_既存_空気熱源_給湯・空調_RC!AB132,0)","v":0},0,{"$f":"IF(F20=1,比較対象_既存_空気熱源_給湯・空調_IC!H30,0)","v":0},{"$f":"IF(F20=1,比較対象_既存_空気熱源_給湯・空調_RC!AB58,0)","v":0},{"$f":"IF(F20=1,比較対象_既存_空気熱源_給湯・空調_RC!AB100,0)","v":0},{"$f":"IF(F20=1,比較対象_既存_空気熱源_給湯・空調_RC!AB142,0)","v":0},null,null,null,null,null,null,null,null,null,13,0,{"$error":"#N/A"},{"$error":"#N/A"}]
[null,null,null,null,null,{"$f":"IF(AND($B$6=\"空調\",$B$8=選択リスト設定!E3),1,0)","v":0},null,"空調_燃料","吸収式",0,{"$f":"IF(F21=1,比較対象_既存_燃料_空調_RC!AB90,0)","v":0},{"$f":"IF(F21=1,比較対象_既存_燃料_空調_RC!AB132,0)","v":0},0,{"$f":"IF(F21=1,比較対象_既存_燃料_空調_IC!H30,0)","v":0},{"$f":"IF(F21=1,比較対象_既存_燃料_空調_RC!AB58,0)","v":0},{"$f":"IF(F21=1,比較対象_既存_燃料_空調_RC!AB100,0)","v":0},{"$f":"IF(F21=1,比較対象_既存_燃料_空調_RC!AB142,0)","v":0},null,null,null,null,null,null,null,null,null,14,0,{"$error":"#N/A"},{"$error":"#N/A"}]
[null,null,null,null,null,{"$f":"IF(AND($B$6=\"空調\",$B$8=選択リスト設定!E4),1,0)","v":0},null,"空調_電気","空冷HP",0,{"$f":"IF(F22=1,比較対象_既存_空気熱源_給湯・空調_RC!AB90,0)","v":0},{"$f":"IF(F22=1,比較対象_既存_空気熱源_給湯・空調_RC!AB132,0)","v":0},0,{"$f":"IF(F22=1,比較対象_既存_空気熱源_給湯・空調_IC!H30,0)","v":0},{"$f":"IF(F22=1,比較対象_既存_空気熱源_給湯・空調_RC!AB58,0)","v":0},{"$f":"IF(F22=1,比較対象_既存_空気熱源_給湯・空調_RC!AB100,0)","v":0},{"$f":"IF(F22=1,比較対象_既存_空気熱源_給湯・空調_RC!AB142,0)","v":0},null,null,null,null,null,null,null,null,null,15,0,{"$error":"#N/A"},{"$error":"#N/A"}]
[null,null,null,null,null,{"$f":"IF(AND($B$6=\"融雪\",$B$8=選択リスト設定!F3),1,0)","v":0},null,"融雪_燃料","ボイラ",0,{"$f":"IF(F23=1,比較対象_既存_燃料_融雪_RC!AB90,0)","v":0},{"$f":"IF(F23=1,比較対象_既存_燃料_融雪_RC!AB132,0)","v":0},0,{"$f":"IF(F23=1,比較対象_既存_燃料_融雪_IC!H30,0)","v":0},{"$f":"IF(F23=1,比較対象_既存_燃料_融雪_RC!AB58,0)","v":0},{"$f":"IF(F23=1,比較対象_既存_燃料_融雪_RC!AB100,0)","v":0},{"$f":"IF(F23=1,比較対象_既存_燃料_融雪_RC!AB142,0)","v":0},null,null,null,null,null,null,null,null,null,16,0,{"$error":"#N/A"},{"$error":"#N/A"}]
[null,null,null,null,null,{"$f":"IF(AND($B$6=\"融雪\",$B$8=選択リスト設定!F4),1,0)","v":0},null,"融雪_電気","空冷HP",{"$f":"IF(F24=1,0,0)","v":0},{"$f":"IF(F24=1,0,0)","v":0},{"$f":"IF(F24=1,0,0)","v":0},0,{"$f":"IF(F24=1,0,0)","v":0},{"$f":"IF(F24=1,0,0)","v":0},{"$f":"IF(F24=1,0,0)","v":0},{"$f":"IF(F24=1,0,0)","v":0},null,null,null,null,null,null,null,null,null,17,0,{"$error":"#N/A"},{"$error":"#N/A"}]
[null,null,null,null,null,null,null,null,null,null,null,null,null,null,null,null,null,null,null,null,null,null,null,null,null,null,18,0,{"$error":"#N/A"},{"$error":"#N/A"}]
[null,null,null,null,null,"■補助金利用",null,null,null,null,null,null,null,null,null,null,null,null,null,null,null,null,null,null,null,null,19,0,{"$error":"#N/A"},{"$error":"#N/A"}]
[null,null,null,null,null,null,"項目","値","単位","備考",null,null,null,null,null,null,null,null,null,null,null,null,null,null,null,null,20,0,{"$error":"#N/A"},{"$error":"#N/A"}]
[null,null,null,null,null,null,"補助金の利用",{"$f":"入力シート!C127","v":"有り"},null,null,null,null,null,null,null,null,null,null,null,null,null,null,null,null,null,null,21,0,{"$error":"#N/A"},{"$error":"#N/A"}]
[null,null,null,null,null,null,"補助率",{"$f":"IF(H28=\"無し\",0,入力シート!C128)","v":"10分の5.5"},null,null,null,null,null,null,null,null,null,null,null,null,null,null,null,null,null,null,22,0,{"$error":"#N/A"},{"$error":"#N/A"}]
[null,null,null,null,null,null,"コストに乗じる数値",{"$f":"IF(ISERROR(VLOOKUP(H29,G34:I37,3,FALSE)),0,VLOOKUP(H29,G34:I37,3,FALSE))","v":0.44999999999999996},null,null,null,null,null,null,null,null,null,null,null,null,null,null,null,null,null,null,23,0,{"$error":"#N/A"},{"$error":"#N/A"}]
[null,null,null,null,null,null,null,null,null,null,null,null,null,null,null,null,null,null,null,null,null,null,null,null,null,null,24,0,{"$error":"#N/A"},{"$error":"#N/A"}]
[null,null,null,null,null,"・補助率数値",null,null,null,null,null,null,null,null,null,null,null,null,null,null,null,null,null,null,null,null,25,0,{"$error":"#N/A"},{"$error":"#N/A"}]
[null,null,null,null,null,null,"補助率","数値","コストに掛ける数値",null,null,null,null,null,null,null,null,null,null,null,null,null,null,null,null,null,26,0,{"$error":"#N/A"},{"$error":"#N/A"}]
[null,null,null,null,null,null,"3分の1",{"$f":"1/3","v":0.33333333333333331},{"$f":"1-H34","v":0.66666666666666674},null,null,null,null,null,null,null,null,null,null,null,null,null,null,null,null,null,27,0,{"$error":"#N/A"},{"$error":"#N/A"}]
[null,null,null,null,null,null,"2分の1",{"$f":"1/2","v":0.5},{"$f":"1-H35","v":0.5},null,null,null,null,null,null,null,null,null,null,null,null,null,null,null,null,null,28,0,{"$error":"#N/A"},{"$error":"#N/A"}]
[null,null,null,null,null,null,"3分の2",{"$f":"2/3","v":0.66666666666666663},0.33333333333333337,null,null,null,null,null,null,null,null,null,null,null,null,null,null,null,null,null,29,0,{"$error":"#N/A"},{"$error":"#N/A"}]
[null,null,null,null,null,null,"10分の5.5",{"$f":"5.5/10","v":0.55000000000000004},{"$f":"1-H37","v":0.44999999999999996},null,null,null,null,null,null,null,null,null,null,null,null,null,null,null,null,null,30,0,{"$error":"#N/A"},{"$error":"#N/A"}]
[]
[null,null,null,null,null,"■グラフ用",null,null,null,"ランニングコスト[千円/年]",null,"イニシャルコスト[千円]",null,null,"CO2排出量[tCO2/年]",null,null,null,null,null,null,null,null,null,null,null,null,null,null,null,null,null,null,null,null,null,"ランニングコスト[千円/年]",null,"イニシャルコスト[千円]",null,null,"CO2排出量[tCO2/年]",null,null,"ランニングコスト[千円/年]",null,"イニシャルコスト[千円]",null,null,"CO2排出量[tCO2/年]"]
[null,"維持管理費の考慮",null,null,"対象判定","対象判定\n結果\nグラフ\n表示用","システム","システム","分類","比較対象システム","下水熱利用システム\n（複合システム）","比較対象システム","下水熱利用システム\n（複合システム）\n（補助金無し）","下水熱利用システム\n（複合システム）\n（補助金有り）","比較対象システム","下水熱利用システム\n（複合システム）",null,null,null,null,null,null,null,null,null,null,null,null,null,null,null,null,null,null,null,null,"比較対象システム","下水熱利用システム\n（複合システム）","比較対象システム","下水熱利用システム\n（複合システム）\n（補助金無し）","下水熱利用システム\n（複合システム）\n（補助金有り）","比較対象システム","下水熱利用システム\n（複合システム）",null,"比較対象システム","下水熱利用システム\n（複合システム）","比較対象システム","下水熱利用システム\n（複合システム）\n（補助金無し）","下水熱利用システム\n（複合システム）\n（補助金有り）","比較対象システム","下水熱利用システム\n（複合システム）"]
[null,{"$f":"IF($B$13=\"有り\",0,1)","v":0},null,1,1,{"$f":"ABS(E41-1)","v":0},"下水熱複合","下水熱","熱源機",null,{"$f":"K7","v":{"$error":"#N/A"}},null,{"$f":"N7","v":{"$error":"#N/A"}},{"$f":"M41*$H$30","v":{"$error":"#N/A"}},null,{"$f":"P7","v":{"$error":"#N/A"}},null,null,null,null,null,null,null,null,null,null,null,null,null,null,null,null,null,null,null,null,null,"●K7",null,"●N7","●M41*$H$30",null,"●P7",null,null,10,null,10,10,null,10]
[null,null,null,2,null,null,"下水熱複合","下水熱","補機類",null,{"$f":"L7","v":{"$error":"#N/A"}},null,null,null,null,{"$f":"Q7","v":{"$error":"#N/A"}},null,null,null,null,null,null,null,null,null,null,null,null,null,null,null,null,null,null,null,null,null,"●L7",null,null,null,null,"●Q7",null,null,10,null,null,null,null,10]
[null,null,null,3,null,null,"下水熱複合","下水熱","維持管理費",null,{"$f":"M7","v":{"$error":"#N/A"}},null,null,null,null,"",null,null,null,null,null,null,null,null,null,null,null,null,null,null,null,null,null,null,null,null,null,"●M7",null,null,null,null,"",null,null,10,null,null,null,null,""]
[null,null,null,4,{"$f":"F8","v":0},{"$f":"ABS(E44-1)","v":1},"下水熱複合","空気熱","熱源機",null,{"$f":"K8","v":0},null,{"$f":"N8","v":0},{"$f":"M44","v":0},null,{"$f":"P8","v":0},null,null,null,null,null,null,null,null,null,null,null,null,null,null,null,null,null,null,null,null,null,"●K8",null,"●N8","●M44",null,"●P8",null,null,10,null,10,10,null,10]
[null,null,null,5,null,null,"下水熱複合","空気熱","補機類",null,{"$f":"L8","v":0},null,null,null,null,{"$f":"Q8","v":0},null,null,null,null,null,null,null,null,null,null,null,null,null,null,null,null,null,null,null,null,null,"●L8",null,null,null,null,"●Q8",null,null,10,null,null,null,null,10]
[null,null,null,6,null,null,"下水熱複合","空気熱","維持管理費",null,{"$f":"M8","v":0},null,null,null,null,"",null,null,null,null,null,null,null,null,null,null,null,null,null,null,null,null,null,null,null,null,null,"●M8",null,null,null,null,"",null,null,10,null,null,null,null,""]
[null,null,null,7,{"$f":"F9","v":0},{"$f":"ABS(E47-1)","v":1},"下水熱複合","太陽熱","熱源機",null,{"$f":"K9","v":0},null,{"$f":"N9","v":0},{"$f":"M47*$H$30","v":0},null,{"$f":"P9","v":0},null,null,null,null,null,null,null,null,null,null,null,null,null,null,null,null,null,null,null,null,null,"●K9",null,"●N9","●M47*$H$30",null,"●P9",null,null,10,null,10,10,null,10]
[null,null,null,8,null,null,"下水熱複合","太陽熱","補機類",null,{"$f":"L9","v":0},null,null,null,null,{"$f":"Q9","v":0},null,null,null,null,null,null,null,null,null,null,null,null,null,null,null,null,null,null,null,null,null,"●L9",null,null,null,null,"●Q9",null,null,10,null,null,null,null,10]
[null,null,null,9,null,null,"下水熱複合","太陽熱","維持管理費",null,{"$f":"M9","v":0},null,null,null,null,"",null,null,null,null,null,null,null,null,null,null,null,null,null,null,null,null,null,null,null,null,null,"●M9",null,null,null,null,"",null,null,10,null,null,null,null,""]
[null,null,null,10,{"$f":"F10","v":0},1,"下水熱複合","地中熱","熱源機",null,{"$f":"K10","v":0},null,{"$f":"N10","v":0},{"$f":"M50*$H$30","v":0},null,{"$f":"P10","v":0},null,null,null,null,null,null,null,null,null,null,null,null,null,null,null,null,null,null,null,null,null,"●K10",null,"●N10","●M50*$H$30",null,"●P10",null,null,10,null,10,10,null,10]
[null,null,null,11,null,null,"下水熱複合","地中熱","補機類",null,{"$f":"L10","v":0},null,null,null,null,{"$f":"Q10","v":0},null,null,null,null,null,null,null,null,null,null,null,null,null,null,null,null,null,null,null,null,null,"●L10",null,null,null,null,"●Q10",null,null,10,null,null,null,null,10]
[null,null,null,12,null,null,"下水熱複合","地中熱","維持管理費",null,{"$f":"M10","v":0},null,null,null,null,"",null,null,null,null,null,null,null,null,null,null,null,null,null,null,null,null,null,null,null,null,null,"●M10",null,null,null,null,"",null,null,10,null,null,null,null,""]
[null,null,null,13,{"$f":"F11","v":0},1,"下水熱複合","バイオマス熱","熱源機",null,{"$f":"K11","v":0},null,{"$f":"N11","v":0},{"$f":"M53*$H$30","v":0},null,{"$f":"P11","v":0},null,null,null,null,null,null,null,null,null,null,null,null,null,null,null,null,null,null,null,null,null,"●K11",null,"●N11","●M53*$H$30",null,"●P11",null,null,10,null,10,10,null,10]
[null,null,null,14,null,null,"下水熱複合","バイオマス熱","補機類",null,{"$f":"L11","v":0},null,null,null,null,{"$f":"Q11","v":0},null,null,null,null,null,null,null,null,null,null,null,null,null,null,null,null,null,null,null,null,null,"●L11",null,null,null,null,"●Q11",null,null,10,null,null,null,null,10]
[null,null,null,15,null,null,"下水熱複合","バイオマス熱","維持管理費",null,{"$f":"M11","v":0},null,null,null,null,"",null,null,null,null,null,null,null,null,null,null,null,null,null,null,null,null,null,null,null,null,null,"●M11",null,null,null,null,"",null,null,10,null,null,null,null,""]
[null,null,null,16,{"$f":"IF(AND(J12=0,N12=0,O12=0),0,1)","v":{"$error":"#N/A"}},{"$error":"#N/A"},"下水熱複合","既存利用(熱需要不足分)","熱源機",null,{"$f":"K12","v":{"$error":"#N/A"}},null,{"$f":"N12","v":{"$error":"#N/A"}},{"$f":"M56","v":{"$error":"#N/A"}},null,{"$f":"P12","v":{"$error":"#N/A"}},null,null,null,null,null,null,null,null,null,null,null,null,null,null,null,null,null,null,null,null,null,"●K12",null,"●N12","●M56",null,"●P12",null,null,10,null,10,10,null,10]
[null,null,null,17,null,null,"下水熱複合","既存利用(熱需要不足分)","補機類",null,{"$f":"L12","v":{"$error":"#N/A"}},null,null,null,null,{"$f":"Q12","v":{"$error":"#N/A"}},null,null,null,null,null,null,null,null,null,null,null,null,null,null,null,null,null,null,null,null,null,"●L12",null,null,null,null,"●Q12",null,null,10,null,null,null,null,10]
[null,null,null,18,null,null,"下水熱複合","既存利用(熱需要不足分)","維持管理費",null,{"$f":"M12","v":{"$error":"#N/A"}},null,null,null,null,"",null,null,null,null,null,null,null,null,null,null,null,null,null,null,null,null,null,null,null,null,null,"●M12",null,null,null,null,"",null,null,10,null,null,null,null,""]
[null,null,null,19,{"$f":"F19","v":0},1,"比較対象","給湯_燃料","熱源機",{"$f":"K19","v":0},null,{"$f":"N19","v":0},null,null,{"$f":"P19","v":0},null,null,null,null,null,null,null,null,null,null,null,null,null,null,null,null,null,null,null,null,null,"●K19",null,"●N19",null,null,"●P19",null,null,10,null,10,null,null,10]
[null,null,null,20,null,null,"比較対象","給湯_燃料","補機類",{"$f":"L19","v":0},null,null,null,null,{"$f":"Q19","v":0},null,null,null,null,null,null,null,null,null,null,null,null,null,null,null,null,null,null,null,null,null,"●L19",null,null,null,null,"●Q19",null,null,10,null,null,null,null,10]
[null,null,null,21,null,null,"比較対象","給湯_燃料","維持管理費",{"$f":"M19","v":0},null,null,null,null,"",null,null,null,null,null,null,null,null,null,null,null,null,null,null,null,null,null,null,null,null,null,"●M19",null,null,null,null,"",null,null,10,null,null,null,null,""]
[null,null,null,22,{"$f":"F20","v":0},1,"比較対象","給湯_電気","熱源機",{"$f":"K20","v":0},null,{"$f":"N20","v":0},null,null,{"$f":"P20","v":0},null,null,null,null,null,null,null,null,null,null,null,null,null,null,null,null,null,null,null,null,null,"●K20",null,"●N20",null,null,"●P20",null,null,10,null,10,null,null,10]
[null,null,null,23,null,null,"比較対象","給湯_電気","補機類",{"$f":"L20","v":0},null,null,null,null,{"$f":"Q20","v":0},null,null,null,null,null,null,null,null,null,null,null,null,null,null,null,null,null,null,null,null,null,"●L20",null,null,null,null,"●Q20",null,null,10,null,null,null,null,10]
[null,null,null,24,null,null,"比較対象","給湯_電気","維持管理費",{"$f":"M20","v":0},null,null,null,null,"",null,null,null,null,null,null,null,null,null,null,null,null,null,null,null,null,null,null,null,null,null,"●M20",null,null,null,null,"",null,null,10,null,null,null,null,""]
[null,null,null,25,{"$f":"F21","v":0},1,"比較対象","空調_燃料","熱源機",{"$f":"K21","v":0},null,{"$f":"N21","v":0},null,null,{"$f":"P21","v":0},null,null,null,null,null,null,null,null,null,null,null,null,null,null,null,null,null,null,null,null,null,"●K21",null,"●N21",null,null,"●P21",null,null,10,null,10,null,null,10]
[null,null,null,26,null,null,"比較対象","空調_燃料","補機類",{"$f":"L21","v":0},null,null,null,null,{"$f":"Q21","v":0},null,null,null,null,null,null,null,null,null,null,null,null,null,null,null,null,null,null,null,null,null,"●L21",null,null,null,null,"●Q21",null,null,10,null,null,null,null,10]
[null,null,null,27,null,null,"比較対象","空調_燃料","維持管理費",{"$f":"M21","v":0},null,null,null,null,"",null,null,null,null,null,null,null,null,null,null,null,null,null,null,null,null,null,null,null,null,null,"●M21",null,null,null,null,"",null,null,10,null,null,null,null,""]
[null,null,null,28,{"$f":"F22","v":0},1,"比較対象","空調_電気","熱源機",{"$f":"K22","v":0},null,{"$f":"N22","v":0},null,null,{"$f":"P22","v":0},null,null,null,null,null,null,null,null,null,null,null,null,null,null,null,null,null,null,null,null,null,"●K22",null,"●N22",null,null,"●P22",null,null,10,null,10,null,null,10]
[null,null,null,29,null,null,"比較対象","空調_電気","補機類",{"$f":"L22","v":0},null,null,null,null,{"$f":"Q22","v":0},null,null,null,null,null,null,null,null,null,null,null,null,null,null,null,null,null,null,null,null,null,"●L22",null,null,null,null,"●Q22",null,null,10,null,null,null,null,10]
[null,null,null,30,null,null,"比較対象","空調_電気","維持管理費",{"$f":"M22","v":0},null,null,null,null,"",null,null,null,null,null,null,null,null,null,null,null,null,null,null,null,null,null,null,null,null,null,"●M22",null,null,null,null,"",null,null,10,null,null,null,null,""]
[null,null,null,31,{"$f":"F23","v":0},1,"比較対象","融雪_燃料","熱源機",{"$f":"K23","v":0},null,{"$f":"N23","v":0},null,null,{"$f":"P23","v":0},null,null,null,null,null,null,null,null,null,null,null,null,null,null,null,null,null,null,null,null,null,"●K23",null,"●N23",null,null,"●P23",null,null,10,null,10,null,null,10]
[null,null,null,32,null,null,"比較対象","融雪_燃料","補機類",{"$f":"L23","v":0},null,null,null,null,{"$f":"Q23","v":0},null,null,null,null,null,null,null,null,null,null,null,null,null,null,null,null,null,null,null,null,null,"●L23",null,null,null,null,"●Q23",null,null,10,null,null,null,null,10]
[null,null,null,33,null,null,"比較対象","融雪_燃料","維持管理費",{"$f":"M23","v":0},null,null,null,null,"",null,null,null,null,null,null,null,null,null,null,null,null,null,null,null,null,null,null,null,null,null,"●M23",null,null,null,null,"",null,null,10,null,null,null,null,""]
[null,null,null,{"$f":"B74&C74","v":""},{"$f":"F24","v":0},1,null,null,null,null,null,null,null,null,""]

{"sheet":"結果","index":76,"n_rows":22,"n_cols":17,"rows_kept":22,"cut":false,"hidden":false,"merged":[[17,12,17,16],[18,16,19,16],[18,12,19,15],[4,1,4,2],[5,1,5,2],[6,1,6,2],[7,1,7,2],[8,1,8,2]]}
[]
[null,"下水熱利用可能性簡易検討ツール　検討結果"]
[]
[null,"■条件",null,null,null,"■月別の熱需要量と下水熱供給可能熱量",null,null,null,null,null,null,"■年間熱受給　熱利用割合"]
[null,"地域",null,{"$f":"入力シート!C7","v":0}]
[null,"熱利用用途",null,{"$f":"入力シート!C8","v":0}]
[null,"建物用途",null,{"$f":"IF(入力シート!C8=\"融雪\",\"-\",入力シート!C9)","v":0}]
[null,"下水熱利用システム",null,{"$f":"入力シート!C56","v":0}]
[null,"複合システムのエネ種",null,{"$f":"IF(入力シート!C68=\"\",\"\",入力シート!C68)","v":"利用しない"}]
[null,"エネルギー","電気",{"$f":"TEXT(E単価!H5,\"#####.0\")&\"円/kWh\"","v":"14.0円/kWh"}]
[null,"単価",{"$f":"IF(入力シート!C16=\"\",\"-\",入力シート!C16)","v":"-"},{"$f":"IF(入力シート!C16=\"\",\"-\",TEXT(VLOOKUP(C11,E単価!G6:I10,2,FALSE),\"######.0\")&VLOOKUP(C11,E単価!G6:I10,3,FALSE))","v":"-"}]
[]
[null,"■結果"]
[null,"投資回収年数",{"$f":"投資回収年数!W13","v":"-"},"年"]
[null,"(補助金利用)",{"$f":"IF(入力シート!C127=\"有り\",投資回収年数!W14,\"-\")","v":"-"},"年"]
[null,"CO2削減量",{"$f":"投資回収年数!Y9","v":{"$error":"#N/A"}},"tCO2/年"]
[null,"初期投資額",{"$f":"投資回収年数!W7","v":{"$error":"#N/A"}},"千円"]
[null,"(補助金利用)",{"$f":"IF(入力シート!C127=\"有り\",投資回収年数!X7,\"-\")","v":{"$error":"#N/A"}},"千円",null,null,null,null,null,null,null,null,{"$f":"マッチング!R32","v":{"$error":"#N/A"}}]
[null,"ﾗﾝﾆﾝｸﾞｺｽﾄ削減額",{"$f":"投資回収年数!V9","v":{"$error":"#N/A"}},"千円/年",null,null,null,null,null,null,null,null,"熱需要量≦下水熱利用可能量の場合の\n下水熱利用で賄う熱需要量の割合",null,null,null,{"$f":"IF(M18=\"熱需要量≦下水熱利用可能量\",入力シート!C109&\"%\",\"-\")","v":{"$error":"#N/A"}}]
[null,"※試算結果は想定条件によるシミュレーションの結果であるため、実際の金額、年数、CO2削減量との誤差を含みますのでご注意下さい。"]
[]
[null,"■ランニングコスト、イニシャルコスト、ライフサイクルコスト、CO2排出量"]